{"text_format":"1","workbook":"xlsx","n_sheets":17,"sheets":["Input","ESP Contributions","Inputs Allowed","Variables","Individual Calculations ","Illustration Detail 7%","Illustration Detail 6%","Illustration Detail 5%","Illustration Modelling","Projected Contributions","Current Plans","Executive Security Plan - ESP","ESP Program Cost","Current Plans (2)","Notes","Tables","Illustrations"],"not_rendered":{"charts":2,"images":0,"macros":1,"external_links":0,"defined_names":112,"comments":0,"pivot_tables":0},"unopened":[],"bounds":{"document_bytes":16777216,"sheet_cells":100000,"rows_first":2000,"rows_last":500,"rows_between":2000,"halvings":0,"cell_chars":16384,"cell_head_chars":4096},"cells_cut":0,"cells_raw":0,"read":"whole","date_system":"1900"}

{"sheet":"Input","index":0,"n_rows":56,"n_cols":63,"rows_kept":56,"cut":false,"hidden":false,"merged":[[7,8,7,10],[15,21,17,22],[26,21,26,22],[27,21,27,22],[24,19,24,20],[21,15,21,16],[23,15,23,16],[24,15,24,16],[21,19,21,20],[26,19,26,20],[27,19,27,20],[23,19,23,20],[24,21,24,22],[23,21,23,22],[0,1,0,41],[1,1,1,41],[6,8,6,10],[5,8,5,10],[20,15,20,16],[13,1,13,47],[15,19,17,20],[19,19,19,20],[20,19,20,20],[8,8,8,10],[5,20,5,24],[1,43,1,47],[3,3,4,10],[9,8,9,10],[3,15,4,24],[7,34,7,37],[3,30,4,37],[5,34,5,37],[6,34,6,37],[22,15,22,16],[15,15,17,16],[18,15,18,16],[19,15,19,16],[22,19,22,20],[19,21,19,22],[20,21,20,22],[21,21,21,22],[22,21,22,22]]}
[]
[null,"INPUTS",null,null,null,null,null,null,null,null,null,null,null,null,null,null,null,null,null,null,null,null,null,null,null,null,null,null,null,null,null,null,null,null,null,null,null,null,null,null,null,null,null,"CLICK THE BUTTON"]
[]
[null,null,null,"Input Name and Compensation",null,null,null,null,null,null,null,null,null,null,null,"Input Age and Retirement Parameters",null,null,null,null,null,null,null,null,null,null,null,null,null,null,"Input Contributions to Current Plans"]
[]
[null,null,null,"First Name",null,null,null,null,"John",null,null,null,null,null,null,"Start Year for Analysis",null,null,null,null,2012,null,null,null,null,null,null,null,null,null,"Contribution Method",null,null,null," % of Compensation"]
[null,null,null,"Last Name",null,null,null,null,"Smith",null,null,null,null,null,null,"Age",null,null,null,null,null,null,null,null,null,null,null,null,null,null,null,"% of Comp if used",null,null,0.15]
[null,null,null,"Salary",null,null,null,null,0,null,null,null,null,null,null,"Retirement Age",null,null,null,null,null,null,null,null,null,null,null,null,null,null,null,"$ Amount if used"]
[null,null,null,"Bonus (if deferrable)",null,null,null,null,0,null,null,null,null,null,null,"# of Benefit Payments"]
[null,null,null,"Compensation Growth Rate",null,null,null,null,0,null,null,null,null,null,null,"Expected Investment Return"]
[]
[]
[]
[null,"RESULTS - CURRENT PROGRAMS"]
[]
[null,null,null,null,null,null,null,null,null,null,null,null,null,null,null,{"$f":"TEXT(StartYr,\"0\")&\"\nContrib's\"","v":"2015\nContrib's"},null,null,null,"Annual\nAfter Tax Retirement Income",null,"Values from Last Set of Inputs"]
[]
[]
[null,null,null,"Your Target Contribution (based on Inputs)",null,null,null,null,null,null,null,null,null,null,null,{"$f":"IF(OR(TargetMethod1=1,TargetMethod2=1),'Individual Calculations '!R13,'Individual Calculations '!I13+'Individual Calculations '!J13+'Individual Calculations '!O13)","v":0}]
[null,null,null,"Step 1:  Contribute to 403(b) to Maximize Match",null,null,null,null,null,null,null,null,null,null,null,{"$f":"IF(OR(TargetMethod1=1,TargetMethod2=1),'Individual Calculations '!S13+'Individual Calculations '!T13,'Individual Calculations '!I13+'Individual Calculations '!J13)","v":0},null,null,null,{"$f":"-ROUND('Individual Calculations '!AD5,-2)","v":0},null,{"$f":"Variables!E40","v":41200},null,null,null,null,null,null,null,null,null,null,null,null,null,null,null,null,null,null,null,null,null,null,null,null,null,null,null,null," "]
[null,null,null,"Step 2:  Contribute Remaining Target to 457(b) - to IRS Limit",null,null,null,null,null,null,null,null,null,null,null,{"$f":"IF(OR(TargetMethod1=1,TargetMethod2=1),'Individual Calculations '!W13,'Individual Calculations '!O13)","v":0},null,null,null,{"$f":"-ROUND('Individual Calculations '!AS5,-2)","v":0},null,{"$f":"Variables!E41","v":20600}]
[null,null,null,"Step 3:  Excluded Contributions Invested After-Tax",null,null,null,null,null,null,null,null,null,null,null,{"$f":"P19-P20-P21","v":0},null,null,null,{"$f":"-ROUND('Individual Calculations '!BA4,-2)","v":0},null,{"$f":"Variables!E42","v":63800}]
[null,null,null,null,"  Your Total Contributions",null,null,null,null,null,null,null,null,null,null,{"$f":"SUM(P20:Q22)","v":0},null,null,null,{"$f":"SUM(T20:U22)","v":0},null,{"$f":"Variables!E43","v":125600}]
[null,null,null,"Employer Match on 403(b) Contribution",null,null,null,null,null,null,null,null,null,null,null,{"$f":"IF(OR(TargetMethod1=1,TargetMethod2=1),'Individual Calculations '!U13,'Individual Calculations '!K13)","v":0},null,null,null,{"$f":"-ROUND('Individual Calculations '!AK5,-2)","v":0},null,{"$f":"Variables!E44","v":34100}]
[null,null,null,null,"  TOTAL",null,null,null,null,null,null,null,null,null,null,{"$f":"P20+P21+P22+P24","v":0},null,null,null,{"$f":"T20+T21+T22+T24","v":0},null,{"$f":"Variables!E45","v":159700}]
[]
[null,null,null,null,null,null,null,null,null,null,null,null,null,null,null,null,null,null,"Pretax Equivalent==> ",{"$f":"ROUND(T25/(1-Variables!G22),-2)","v":0},null,{"$f":"Variables!E47","v":266200}]
[null,null,null,null,null,null,null,null,null,null,null,null,null,null,null,null,null,null,"As a % of Final Income==> ",{"$f":"IF('Individual Calculations '!G4=0,0,T27/'Individual Calculations '!G4)","v":0},null,{"$f":"Variables!E48","v":0.35197911981783281}]
[]
[]
[]
[null,null,null,null,null,null,null,null,null,null,null,null,null,null,null,null,null,null,null,null,null,null,null,null,null,null,null,null,null,null,null,null,null,null,null,null,null,null,null,null,null,null,null,null,null,null,null,null,null,null,null,null,null,null,null,"Last Age on Exhibits",null,90]
[null,null,null,null,null,null,null,null,null,null,null,null,null,null,null,null,null,null,null,null,null,null,null,null,null,null,null,null,null,null,null,null,null,null,null,null,null,null,null,null,null,null,null,null,null,null,null,null,null,null,null,null,null,null,null,"Set Rows",{"$f":"\"<=\"&TEXT((SetLastAge),\"0\")","v":"<=90"},"SetRows"]
[]
[null,null,null,null,null,null,null,null,null,null,null,null,null,null,null,null,null,null,null,null,null,null,null,null,null,null,null,null,null,null,null,null,null,null,null,null,null,null,null,null,null,null,null,null,null,null,null,null,null,null,null,null,null,null,null,null,null,{"$f":"-AnnRet403bAT-AnnRet403bERMatchAT","v":0},{"$f":"-AnnRet457bAT","v":0},{"$f":"-AnnRetATSavingsAT","v":0}]
[null,null,null,null,null,null,null,null,null,null,null,null,null,null,null,null,null,null,null,null,null,null,null,null,null,null,null,null,null,null,null,null,null,null,null,null,null,null,null,null,null,null,null,null,null,null,null,null,null,null,null,null,null,null,null,null,null,"403(b) Plan","457(b) Plan","After Tax\nSavings"]
[null,null,null,null,null,null,null,null,null,null,null,null,null,null,null,null,null,null,null,null,null,null,null,null,null,null,null,null,null,null,null,null,null,null,null,null,null,null,null,null,null,null,null,null,null,null,null,null,null,null,null,null,null,null,null,1,{"$f":"RetAge","v":65},{"$f":"IF($BD37<=BenPmtsYears,BF$35,0)","v":0},0,0,null,{"$f":"StartYr","v":2015},"CheckChg1"]
[null,null,null,null,null,null,null,null,null,null,null,null,null,null,null,null,null,null,null,null,null,null,null,null,null,null,null,null,null,null,null,null,null,null,null,null,null,null,null,null,null,null,null,null,null,null,null,null,null,null,null,null,null,null,null,{"$f":"BD37+1","v":2},null,0,0,0,null,{"$f":"Age","v":45},"CheckChg2"]
[null,null,null,null,null,null,null,null,null,null,null,null,null,null,null,null,null,null,null,null,null,null,null,null,null,null,null,null,null,null,null,null,null,null,null,null,null,null,null,null,null,null,null,null,null,null,null,null,null,null,null,null,null,null,null,{"$f":"BD38+1","v":3},null,0,0,0,null,{"$f":"RetAge","v":65},"CheckChg3"]
[null,null,null,null,null,null,null,null,null,null,null,null,null,null,null,null,null,null,null,null,null,null,null,null,null,null,null,null,null,null,null,null,null,null,null,null,null,null,null,null,null,null,null,null,null,null,null,null,null,null,null,null,null,null,null,4,null,0,0,0,null,{"$f":"BenPmtsYears","v":20},"CheckChg4"]
[null,null,null,null,null,null,null,null,null,null,null,null,null,null,null,null,null,null,null,null,null,null,null,null,null,null,null,null,null,null,null,null,null,null,null,null,null,null,null,null,null,null,null,null,null,null,null,null,null,null,null,null,null,null,null,5,null,0,0,0,null,{"$f":"AcctBalGrowthNum","v":2},"CheckChg5"]
[null,null,null,null,null,null,null,null,null,null,null,null,null,null,null,null,null,null,null,null,null,null,null,null,null,null,null,null,null,null,null,null,null,null,null,null,null,null,null,null,null,null,null,null,null,null,null,null,null,null,null,null,null,null,null,6,{"$f":"BE37+5","v":70},0,0,0]
[null,null,null,null,null,null,null,null,null,null,null,null,null,null,null,null,null,null,null,null,null,null,null,null,null,null,null,null,null,null,null,null,null,null,null,null,null,null,null,null,null,null,null,null,null,null,null,null,null,null,null,null,null,null,null,7,null,0,0,0]
[null,null,null,null,null,null,null,null,null,null,null,null,null,null,null,null,null,null,null,null,null,null,null,null,null,null,null,null,null,null,null,null,null,null,null,null,null,null,null,null,null,null,null,null,null,null,null,null,null,null,null,null,null,null,null,8,null,0,0,0]
[null,null,null,null,null,null,null,null,null,null,null,null,null,null,null,null,null,null,null,null,null,null,null,null,null,null,null,null,null,null,null,null,null,null,null,null,null,null,null,null,null,null,null,null,null,null,null,null,null,null,null,null,null,null,null,9,null,0,0,0]
[null,null,null,null,null,null,null,null,null,null,null,null,null,null,null,null,null,null,null,null,null,null,null,null,null,null,null,null,null,null,null,null,null,null,null,null,null,null,null,null,null,null,null,null,null,null,null,null,null,null,null,null,null,null,null,10,null,0,0,0]
[null,null,null,null,null,null,null,null,null,null,null,null,null,null,null,null,null,null,null,null,null,null,null,null,null,null,null,null,null,null,null,null,null,null,null,null,null,null,null,null,null,null,null,null,null,null,null,null,null,null,null,null,null,null,null,11,{"$f":"BE42+5","v":75},0,0,0]
[null,null,null,null,null,null,null,null,null,null,null,null,null,null,null,null,null,null,null,null,null,null,null,null,null,null,null,null,null,null,null,null,null,null,null,null,null,null,null,null,null,null,null,null,null,null,null,null,null,null,null,null,null,null,null,12,null,0,0,0]
[null,null,null,null,null,null,null,null,null,null,null,null,null,null,null,null,null,null,null,null,null,null,null,null,null,null,null,null,null,null,null,null,null,null,null,null,null,null,null,null,null,null,null,null,null,null,null,null,null,null,null,null,null,null,null,13,null,0,0,0]
[null,null,null,null,null,null,null,null,null,null,null,null,null,null,null,null,null,null,null,null,null,null,null,null,null,null,null,null,null,null,null,null,null,null,null,null,null,null,null,null,null,null,null,null,null,null,null,null,null,null,null,null,null,null,null,14,null,0,0,0]
[null,null,null,null,null,null,null,null,null,null,null,null,null,null,null,null,null,null,null,null,null,null,null,null,null,null,null,null,null,null,null,null,null,null,null,null,null,null,null,null,null,null,null,null,null,null,null,null,null,null,null,null,null,null,null,15,null,0,0,0]
[null,null,null,null,null,null,null,null,null,null,null,null,null,null,null,null,null,null,null,null,null,null,null,null,null,null,null,null,null,null,null,null,null,null,null,null,null,null,null,null,null,null,null,null,null,null,null,null,null,null,null,null,null,null,null,16,{"$f":"BE47+5","v":80},0,0,0]
[null,null,null,null,null,null,null,null,null,null,null,null,null,null,null,null,null,null,null,null,null,null,null,null,null,null,null,null,null,null,null,null,null,null,null,null,null,null,null,null,null,null,null,null,null,null,null,null,null,null,null,null,null,null,null,17,null,0,0,0]
[null,null,null,null,null,null,null,null,null,null,null,null,null,null,null,null,null,null,null,null,null,null,null,null,null,null,null,null,null,null,null,null,null,null,null,null,null,null,null,null,null,null,null,null,null,null,null,null,null,null,null,null,null,null,null,18,null,0,0,0]
[null,null,null,null,null,null,null,null,null,null,null,null,null,null,null,null,null,null,null,null,null,null,null,null,null,null,null,null,null,null,null,null,null,null,null,null,null,null,null,null,null,null,null,null,null,null,null,null,null,null,null,null,null,null,null,19,null,0,0,0]
[null,null,null,null,null,null,null,null,null,null,null,null,null,null,null,null,null,null,null,null,null,null,null,null,null,null,null,null,null,null,null,null,null,null,null,null,null,null,null,null,null,null,null,null,null,null,null,null,null,null,null,null,null,null,null,20,{"$f":"BE52+4","v":84},0,0,0]

{"sheet":"ESP Contributions","index":1,"n_rows":28,"n_cols":27,"rows_kept":28,"cut":false,"hidden":false,"merged":[[22,21,24,22],[25,21,25,22],[26,21,26,22],[27,17,27,18],[22,17,24,18],[22,19,24,20],[25,19,25,20],[26,19,26,20],[1,1,1,38],[13,1,13,38],[27,12,27,13],[21,26,21,36],[27,19,27,20],[25,7,25,8],[22,2,24,6],[22,7,24,8],[22,12,24,13],[25,12,25,13],[26,7,26,8],[26,12,26,13],[27,21,27,22],[21,17,21,22],[25,17,25,18],[26,17,26,18]]}
[]
[null,"THE  EXECUTIVE  SECURITY  PLAN"]
[]
[null,null,"Put explanatory text here:"]
[null,null,null,"-  Contributions to the 403(b) should be maximized:  account grows pretax, is protected from creditors, and receives a 50% match from the employer"]
[null,null,null,"-  Contributions to the 457(b) are pretax, but are subject to the claims of creditors in the event of bankruptcy - contributions to ESP are not subject to claims of creditors.  While after tax, the tax restoration loan from"]
[null,null,null,"       employer mimics pretax savings, potentially generating a comparable after tax retirement income"]
[null,null,null,"-  After tax contributions can be redirected to the ESP, and because of the tax restoration loan from the employer, would potentially generate greater after tax retirement income"]
[]
[null,null,null,"-  The ESP also provides a death benefit which may be available without medical underwriting, with certain limitations"]
[]
[]
[]
[null,"MODEL   YOUR   CONTRIBUTIONS   to   the   EXECUTIVE   SECURITY   PLAN   (ESP)"]
[]
[]
[]
[]
[]
[]
[]
[null,null,null,null,null,null,null,null,null,null,null,null,null,null,null,null,null,"After Tax Retirement Income",null,null,null,null,null,null,null,null,"ESP Provides the Following Death Benefit"]
[null,null,"Redirect Contributions to\nExecutive Security Plan",null,null,null,null,{"$f":"TEXT(StartYr,\"0\")&\"\nContrib's\"","v":"2015\nContrib's"},null,null,null,null,"Amount to Redirect to ESP",null,null,null,null,"Before\nRedirection",null,"After\nRedirection",null,"%\nChng"]
[]
[]
[null,null,"  Option 1: 457(b) Plan",null,null,null,null,{"$f":"Input!P21","v":0},null,null,null,null,0,null,null,null,null,{"$f":"-ROUND(AnnRetRedirected457bAT,-2)","v":0},null,{"$f":"ROUND(IF(RedirectedContribs=0,0,Redirected457b/RedirectedContribs*'Individual Calculations '!CL5),-2)","v":0},null,{"$f":"IF(R26=0,0,(T26-R26)/R26)","v":0}]
[null,null,"  Option 2: After Tax Savings",null,null,null,null,{"$f":"Input!P22","v":0},null,null,null,null,{"$f":"H27","v":0},null,null,null,null,{"$f":"-ROUND(AnnRetRedirectedATSavingsAT,-2)","v":0},null,{"$f":"ROUND(IF(RedirectedContribs=0,0,RedirectedAT/RedirectedContribs*'Individual Calculations '!CL5),-2)","v":0},null,{"$f":"IF(R27=0,0,(T27-R27)/R27)","v":0}]
[null,null,null,null,null,null,null,null,null,null,null,null,{"$f":"SUM(M26:N27)","v":0},null,null,null,null,{"$f":"R26+R27","v":0},null,{"$f":"T26+T27","v":0},null,{"$f":"IF(R28=0,0,(T28-R28)/R28)","v":0}]

{"sheet":"Inputs Allowed","index":2,"n_rows":70,"n_cols":28,"rows_kept":70,"cut":false,"hidden":true,"merged":[]}
[{"$f":"VLOOKUP(AgeNum,$B$4:$C$29,2,FALSE)","v":45},"Age",null,null,{"$f":"VLOOKUP(RetAgeNum,$F$4:$G$6,2,FALSE)","v":65},"RetAge",null,null,null,null,null,{"$f":"VLOOKUP(StartYrNum,$M$4:$N$13,2,FALSE)","v":2015},"StartYr",null,null,{"$f":"VLOOKUP(BenPmtsYearsNum,$Q$4:$R$5,2,FALSE)","v":20},"BenPmtsYears",null,null,{"$f":"VLOOKUP(AcctBalGrowthNum,$U$4:$V$6,2,FALSE)","v":0.06},"AcctBalGrowth"]
[16,"AgeNum",null,null,2,"RetAgeNum",null,null,null,null,null,5,"StartYrNum",null,null,2,"BenPmtsYearsNum",null,null,2,"AcctBalGrowthNum"]
[{"$f":"VLOOKUP(MAX(A4:A29),$A$4:$B$29,2,FALSE)","v":26},"AgeAllowed",null,null,3,"RetAgeAllowed",null,null,{"$f":"VLOOKUP(100,I4:J70,2,FALSE)","v":35},"DeathAgeAllow",null,{"$f":"VLOOKUP(2020,L4:M13,2,FALSE)","v":10},"StartYrAllowed",null,null,{"$f":"VLOOKUP(20,P4:Q13,2,FALSE)","v":2},"BenPmtsAllowed",null,null,{"$f":"VLOOKUP(0.07,T4:U6,2,FALSE)","v":3},"InvRetAllowed",null,null,3,"ContribStratAllowed",null,1,29600]
[30,1,{"$f":"A4","v":30},null,60,1,{"$f":"E4","v":60},null,{"$f":"RetAge+1","v":66},1,null,2011,1,{"$f":"L4","v":2011},null,10,1,{"$f":"P4","v":10},null,0.05,1,{"$f":"T4","v":0.05},null," % of Compensation",1,null,2,14800]
[{"$f":"A4+1","v":31},{"$f":"B4+1","v":2},{"$f":"A5","v":31},null,65,{"$f":"F4+1","v":2},{"$f":"E5","v":65},null,{"$f":"I4+1","v":67},{"$f":"J4+1","v":2},null,{"$f":"L4+1","v":2012},{"$f":"M4+1","v":2},{"$f":"L5","v":2012},null,20,{"$f":"Q4+1","v":2},{"$f":"P5","v":20},null,0.06,{"$f":"U4+1","v":2},{"$f":"T5","v":0.06},null," Flat Dollar Amount",{"$f":"Y4+1","v":2},null,3,69400]
[{"$f":"A5+1","v":32},3,32,null,70,{"$f":"F5+1","v":3},{"$f":"E6","v":70},null,68,3,null,2013,3,2013,null,null,null,null,null,7.0000000000000007E-2,{"$f":"U5+1","v":3},{"$f":"T6","v":7.0000000000000007E-2},null," Maximize IRS Limits",{"$f":"Y5+1","v":3},null,4,113800]
[33,4,33,null,null,null,null,null,69,4,null,2014,4,2014,null,null,null,null,null,null,null,null,null,null,null,null,5,24700]
[34,5,34,null,null,null,null,null,70,5,null,2015,5,2015,null,null,null,null,null,null,null,null,null,null,null,null,6,138500]
[35,6,35,null,null,null,null,null,71,6,null,2016,6,2016]
[36,7,36,null,null,null,null,null,72,7,null,2017,7,2017]
[37,8,37,null,null,null,null,null,73,8,null,2018,8,2018]
[38,9,38,null,null,null,null,null,74,9,null,2019,9,2019]
[39,10,39,null,null,null,null,null,75,10,null,2020,10,2020]
[40,11,40,null,null,null,null,null,76,11]
[41,12,41,null,null,null,null,null,77,12]
[42,13,42,null,null,null,null,null,78,13]
[43,14,43,null,null,null,null,null,79,14]
[44,15,44,null,null,null,null,null,80,15]
[45,16,45,null,null,null,null,null,81,16]
[46,17,46,null,null,null,null,null,82,17]
[47,18,47,null,null,null,null,null,83,18]
[{"$f":"A21+1","v":48},19,48,null,null,null,null,null,84,19]
[49,20,49,null,null,null,null,null,85,20]
[50,21,50,null,null,null,null,null,86,21]
[51,22,51,null,null,null,null,null,87,22]
[52,23,52,null,null,null,null,null,88,23]
[53,24,53,null,null,null,null,null,89,24]
[54,25,54,null,null,null,null,null,90,25]
[55,26,55,null,null,null,null,null,91,26]
[null,null,null,null,null,null,null,null,92,27]
[null,null,null,null,null,null,null,null,93,28]
[null,null,null,null,null,null,null,null,94,29]
[null,null,null,null,null,null,null,null,95,30]
[null,null,null,null,null,null,null,null,96,31]
[null,null,null,null,null,null,null,null,97,32]
[null,null,null,null,null,null,null,null,98,33]
[null,null,null,null,null,null,null,null,{"$f":"I36+1","v":99},{"$f":"J36+1","v":34}]
[null,null,null,null,null,null,null,null,100,35]
[null,null,null,null,null,null,null,null,101,36]
[null,null,null,null,null,null,null,null,102,37]
[null,null,null,null,null,null,null,null,103,38]
[null,null,null,null,null,null,null,null,104,39]
[null,null,null,null,null,null,null,null,105,40]
[null,null,null,null,null,null,null,null,106,41]
[null,null,null,null,null,null,null,null,107,42]
[null,null,null,null,null,null,null,null,108,43]
[null,null,null,null,null,null,null,null,109,44]
[null,null,null,null,null,null,null,null,110,45]
[null,null,null,null,null,null,null,null,111,46]
[null,null,null,null,null,null,null,null,112,47]
[null,null,null,null,null,null,null,null,113,48]
[null,null,null,null,null,null,null,null,114,49]
[null,null,null,null,null,null,null,null,115,50]
[null,null,null,null,null,null,null,null,116,51]
[null,null,null,null,null,null,null,null,117,52]
[null,null,null,null,null,null,null,null,118,53]
[null,null,null,null,null,null,null,null,119,54]
[null,null,null,null,null,null,null,null,120,55]
[null,null,null,null,null,null,null,null,121,56]
[null,null,null,null,null,null,null,null,122,57]
[null,null,null,null,null,null,null,null,123,58]
[null,null,null,null,null,null,null,null,124,59]
[null,null,null,null,null,null,null,null,125,60]
[null,null,null,null,null,null,null,null,126,61]
[null,null,null,null,null,null,null,null,127,62]
[null,null,null,null,null,null,null,null,128,63]
[null,null,null,null,null,null,null,null,129,64]
[null,null,null,null,null,null,null,null,130,65]
[null,null,null,null,null,null,null,null,131,66]
[null,null,null,null,null,null,null,null,132,67]

{"sheet":"Variables","index":3,"n_rows":48,"n_cols":9,"rows_kept":48,"cut":false,"hidden":true,"merged":[[19,1,19,5],[21,1,21,5]]}
[null,"Switches",null,null,null,null,1,"ESP - Var Prem","45 - Lincoln - Taxes - PSP Contributions tax at a flat rate - 40%"]
[null,"First Illustration to Use (without SD)",1,"IllusUsed",null,null,2,"SD - Var Prem","45 - Lincoln - Taxes -ESD Contributions = Plan "]
[null,"Second Illustration to Use (with SD)",2,"IllusUsed2",null,null,3,"ESP - Lvl Prem","45 - Lincoln - PSP Contributions 30k"]
[null,"Select Tax Table",1,"TaxRates, 1=Flat,2=Fluctuating",null,null,4,"SD - Lvl Prem","45 - Lincoln - Taxes -ESD Contributions = Plan based on 30k"]
[null,"Social Security Growth Rate",0.03,"SSBenGrowth"]
[null,"IRS Comp Limit Growth Rate",0.03,"IRSCompLimitGrowth"]
[null,"Section 415 Limit Index Growth",0.03,"Section415LimitGrowth"]
[null,"IRS Comp Limit Index Growth",0.03,"IRS401kLimitGrowth"]
[null,"Funding - Life Insurance Information/Data"]
[null,"Crediting Rate",7.0000000000000007E-2,"PolicyRate"]
[null,"Policy Name",{"$f":"Illustrations!A11","v":"Lincoln National - Variable UL"},"PolicyName"]
[null,"Entity Information/Data"]
[null,"Entity Name","Genesis","EntityName"]
[]
[]
[null,"Catch-up Age",null,null,null,null,50]
[null,"Blended Tax Rate - Mutual Funds",null,null,null,null,0.3]
[null,"Corporate Tax Rate",null,null,null,null,0]
[null,"Pretax Cost of Money (for NPV and Split Dollar Purposes",null,null,null,null,0.04,"CostOfMoney"]
[null,"Comp = Sal(1) or Sal+Bon(2)",null,null,null,null,2]
[null,"Matching ER Contribution (403b)",null,null,null,null,0.5]
[null,"Individual Tax Rate",null,null,null,null,0.4]
[null,"Death Age (> Ret Age)",null,null,null,null,{"$f":"MAX(85,RetAge+BenPmtsYears)","v":85}]
[]
[]
[null,{"$f":"IF(ContribMethod='Inputs Allowed'!X4,1,0)","v":1}," % of Compensation"]
[null,{"$f":"IF(ContribMethod='Inputs Allowed'!X5,1,0)","v":0}," Flat Dollar Amount"]
[null,{"$f":"IF(ContribMethod='Inputs Allowed'!X6,1,0)","v":0}," Maximize IRS Limits"]
[]
[]
[]
[null,null,{"$f":"\"\nAge \"&TEXT(Age,\"0\")","v":"\nAge 45"},{"$f":"VLOOKUP(Age,'Individual Calculations '!$CK$13:$CN$88,4,FALSE)/1000","v":0},"InitialDB"]
[null,null,{"$f":"\"\nAge \"&TEXT(RetAge-1,\"0\")","v":"\nAge 64"},{"$f":"VLOOKUP(RetAge-1,'Individual Calculations '!$CK$13:$CN$88,4,FALSE)/1000","v":0},"RetDB"]
[null,null,{"$f":"\"\nAge \"&TEXT(Death_Age,\"0\")&\"\n[w/ RetInc]\"","v":"\nAge 85\n[w/ RetInc]"},{"$f":"VLOOKUP(Death_Age,'Individual Calculations '!$CK$13:$CN$88,4,FALSE)/1000","v":0},"DeathDB"]
[null,null,{"$f":"\"\nAge \"&TEXT(Death_Age,\"0\")&\"\n[w/out RetInc]\"","v":"\nAge 85\n[w/out RetInc]"},{"$f":"RetDB*1.9","v":0},"DeathDBwRetInc"]
[]
[]
[null,null,null,null,"Previous Value",null,null,"Previous Value","Current Value"]
[null,"Your Target Contribution (based on Inputs)"]
[null,"Step 1:  Contribute to 403(b) to Maximize Match",null,null,41200,null,null,41200,{"$f":"Input!T20","v":0}]
[null,"Step 2:  Contribute Remaining Target to 457(b) - to IRS Limit",null,null,20600,null,null,20600,{"$f":"Input!T21","v":0}]
[null,"Step 3:  Excluded Contributions Invested After-Tax",null,null,63800,null,null,63800,{"$f":"Input!T22","v":0}]
[null,null,"  Your Total Contributions",null,125600,null,null,125600,{"$f":"Input!T23","v":0}]
[null,"Employer Match on 403(b) Contribution",null,null,34100,null,null,34100,{"$f":"Input!T24","v":0}]
[null,null,"  TOTAL",null,159700,null,null,159700,{"$f":"Input!T25","v":0}]
[]
[null,null,null,null,266200,null,null,266200,{"$f":"Input!T27","v":0}]
[null,null,null,null,0.35197911981783281,null,null,0.35197911981783281,{"$f":"Input!T28","v":0}]

{"sheet":"Individual Calculations ","index":4,"n_rows":88,"n_cols":105,"rows_kept":88,"cut":false,"hidden":true,"merged":[[10,8,10,13],[10,18,10,21],[10,23,10,24],[8,57,8,62],[8,4,8,6],[8,17,8,24],[8,71,8,91],[8,93,8,103],[8,8,8,15],[8,64,8,69],[8,26,8,31],[8,33,8,38],[8,41,8,46],[8,49,8,54]]}
[]
[null,null,null,null,null,null,null,null,null,null,null,null,null,null,null,null,null,null,null,null,null,null,null,null,null,null,null,null,"Balance at Retirement",{"$f":"INDEX(AF13:AF88,RetAge-1-Age+1)","v":0},null,null,null,null,null,"Balance at Retirement",{"$f":"INDEX(AM13:AM88,RetAge-1-Age+1)","v":0},null,null,null,null,null,null,"Balance at Retirement",{"$f":"INDEX(AU13:AU88,RetAge-1-Age+1)","v":0},null,null,null,null,null,null,"Balance at Retirement",{"$f":"INDEX(BC13:BC88,RetAge-1-Age+1)","v":0},null,null,null,null,null,null,"Balance at Retirement",{"$f":"INDEX(BK13:BK88,RetAge-1-Age+1)","v":0},null,null,null,null,null,"Balance at Retirement",{"$f":"INDEX(BR13:BR88,RetAge-1-Age+1)","v":0},null,null,null,null,null,null,null,null,null,null,null,null,null,null,null,null,null,null,null,null,null,null,null,null,null,null,"Pretax COM",{"$f":"CostOfMoney","v":0.04}]
[null,null,null,null,null,null,null,null,null,null,null,null,null,null,null,null,null,null,null,null,null,null,null,null,null,null,null,null,"Years for Ret. Benefit",{"$f":"RetDistYrs","v":20},null,null,null,null,null,"Years for Ret. Benefit",{"$f":"RetDistYrs","v":20},null,null,null,null,null,null,"Years for Ret. Benefit",{"$f":"RetDistYrs","v":20},null,null,null,null,null,null,"Years for Ret. Benefit",{"$f":"RetDistYrs","v":20},null,null,null,null,null,null,"Years for Ret. Benefit",{"$f":"RetDistYrs","v":20},null,null,null,null,null,"Years for Ret. Benefit",{"$f":"RetDistYrs","v":20},null,null,null,null,null,null,null,null,null,null,null,null,null,null,null,null,null,null,null,null,"Loan Repayment + Ret Benefit",{"$f":"VLOOKUP(RetAge,$CK$13:$CN$88,2,FALSE)","v":0},null,null,null,null,"Corporate Tax Rate",{"$f":"Corp_Tax_Rate","v":0}]
[null,null,null,null,null,"Final Income==>",{"$f":"VLOOKUP(RetAge-1,$C$13:$G$88,5,FALSE)","v":0},null,null,null,null,null,null,null,null,null,null,null,null,null,null,null,null,null,null,null,null,null,"Annual Ret. Benefit",{"$f":"PMT(AcctBalGrowth,AD3,AD2,,1)","v":0},"AnnRet403b",null,null,null,null,"Annual Ret. Benefit",{"$f":"PMT(AcctBalGrowth,AK3,AK2,,1)","v":0},"AnnRet403bERMatch",null,null,null,null,null,"Annual Ret. Benefit",{"$f":"PMT(AcctBalGrowth,AS3,AS2,,1)","v":0},"AnnRet457b",null,null,null,null,null,"Annual Ret. Benefit",{"$f":"PMT(AcctBalGrowth*(1-EEBlendedTaxRate),BA3,BA2,,1)","v":0},"AnnRetATSavingsAT",null,null,null,null,null,"Annual Ret. Benefit",{"$f":"PMT(AcctBalGrowth,BI3,BI2,,1)","v":0},"AnnRetRedirected457b",null,null,null,null,"Annual Ret. Benefit",{"$f":"PMT(AcctBalGrowth*(1-EEBlendedTaxRate),BP3,BP2,,1)","v":0},"AnnRetRedirectedATSavingsAT",null,null,null,null,null,null,null,null,null,null,null,null,null,null,null,null,null,null,null,"Loan Repayment",{"$f":"CL3-CL5","v":0},null,null,null,null,"After Tax COM",{"$f":"CR2*(1-$CR$3)","v":0.04}]
[null,null,null,null,null,null,null,null,null,null,null,null,null,null,null,null,null,null,null,null,null,null,null,null,null,null,null,null,"Avg Annual AT",{"$f":"SUM(AD13:AD88)/AD3","v":0},"AnnRet403bAT",null,null,null,null,"Avg Annual AT",{"$f":"SUM(AK13:AK88)/AK3","v":0},"AnnRet403bERMatchAT",null,null,null,null,null,"Avg Annual AT",{"$f":"SUM(AS13:AS88)/AS3","v":0},"AnnRet457bAT",null,null,null,null,null,null,null,null,null,null,null,null,null,"Avg Annual AT",{"$f":"SUM(BI13:BI88)/BI3","v":0},"AnnRetRedirected457bAT",null,null,null,null,null,null,null,null,null,null,null,null,null,null,null,null,null,null,null,null,null,null,null,null,null,null,"Ret Benefit",{"$f":"VLOOKUP(RetAge+1,$CK$13:$CN$88,2,FALSE)","v":0},null,null,null,null,"NPV Cost",{"$f":"NPV(CR4,CR13:CR88)","v":0},null,null,"NPV Cost",{"$f":"NPV($CR$4,CV13:CV88)","v":0},null,null,"NPV Benefit",{"$f":"NPV($CR$4,CZ13:CZ88)","v":0}]
[null,null,null,null,null,null,null,null,null,null,null,null,null,null,null,null,null,null,null,null,null,null,null,null,null,null,null,null,null,null,null,null,null,null,null,null,null,null,null,null,null,{"$f":"IF(MAX(AO13:AO88)=0,AP13,VLOOKUP(MAX(AO13:AO88),AO13:AP88,2,FALSE))","v":0},"<==Minimum Contribution",null,null,null,null,null,null,{"$f":"IF(MAX(AW13:AW88)=0,AX13,VLOOKUP(MAX(AW13:AW88),AW13:AX88,2,FALSE))","v":0},"<==Minimum Contribution",null,null,null,null,null,null,{"$f":"IF(MAX(BE13:BE88)=0,BF13,VLOOKUP(MAX(BE13:BE88),BE13:BF88,2,FALSE))","v":0},"<==Minimum Contribution",null,null,null,null,null,{"$f":"IF(MAX(BL13:BL88)=0,BM13,VLOOKUP(MAX(BL13:BL88),BL13:BM88,2,FALSE))","v":0},"<==Minimum Contribution",null,null,null,null,null,null,null,null,null,null,null,null,null,null,null,null,null,null,null,null,null,null,null,null,null,null,null,null,null,null,null,null,"As % of Comp",{"$f":"CR5/CV5","v":{"$error":"#DIV/0!"}},null,null,"Ben to Cost Ratio",{"$f":"CZ5/-CR5","v":{"$error":"#DIV/0!"}}]
[null,null,null,null,null,null,null,null,null,null,null,null,null,null,null,null,null,null,null,null,null,null,null,null,null,null,{"$f":"SUM(AA13:AA88)/(RetAge-Age)","v":0},"<==Average Contrib over Working Career",null,null,null,null,null,{"$f":"SUM(AH13:AH88)/(RetAge-Age)","v":0},"<==Average Contrib over Working Career",null,null,null,null,null,null,{"$f":"SUM(AP13:AP88)/(RetAge-Age)","v":0},"<==Average Contrib over Working Career",null,null,null,null,null,null,{"$f":"SUM(AX13:AX88)/(RetAge-Age)","v":0},"<==Average Contrib over Working Career",null,null,null,null,null,null,{"$f":"SUM(BF13:BF88)/(RetAge-Age)","v":0},"<==Average Contrib over Working Career",null,null,null,null,null,{"$f":"SUM(BM13:BM88)/(RetAge-Age)","v":0},"<==Average Contrib over Working Career"]
[null,null,null,null,-1,{"$f":"E8+-1","v":-2},{"$f":"F8+-1","v":-3},null,{"$f":"G8-1","v":-4},{"$f":"I8+-1","v":-5},-6,-7,-8,-9,-10,-11,null,{"$f":"P8-1","v":-12},{"$f":"R8-1","v":-13},{"$f":"S8-1","v":-14},-15,-16,-17,-18,-19,null,{"$f":"Y8-1","v":-20},{"$f":"AA8-1","v":-21},{"$f":"AB8-1","v":-22},{"$f":"AC8-1","v":-23},{"$f":"AD8-1","v":-24},{"$f":"AE8-1","v":-25},null,{"$f":"AF8-1","v":-26},{"$f":"AH8-1","v":-27},{"$f":"AI8-1","v":-28},{"$f":"AJ8-1","v":-29},{"$f":"AK8-1","v":-30},{"$f":"AL8-1","v":-31},null,null,{"$f":"AM8-1","v":-32},{"$f":"AP8-1","v":-33},{"$f":"AQ8-1","v":-34},{"$f":"AR8-1","v":-35},{"$f":"AS8-1","v":-36},{"$f":"AT8-1","v":-37},null,null,{"$f":"AU8-1","v":-38},{"$f":"AX8-1","v":-39},{"$f":"AY8-1","v":-40},{"$f":"AZ8-1","v":-41},{"$f":"BA8-1","v":-42},{"$f":"BB8-1","v":-43},null,null,{"$f":"BC8-1","v":-44},{"$f":"BF8-1","v":-45},{"$f":"BG8-1","v":-46},{"$f":"BH8-1","v":-47},{"$f":"BI8-1","v":-48},{"$f":"BJ8-1","v":-49},null,{"$f":"BK8-1","v":-50},{"$f":"BM8-1","v":-51},{"$f":"BN8-1","v":-52},{"$f":"BO8-1","v":-53},{"$f":"BP8-1","v":-54},{"$f":"BQ8-1","v":-55},null,{"$f":"BR8-1","v":-56},{"$f":"BT8-1","v":-57},{"$f":"BU8-1","v":-58},{"$f":"BV8-1","v":-59},{"$f":"BW8-1","v":-60},{"$f":"BX8-1","v":-61},null,{"$f":"BY8-1","v":-62},{"$f":"CA8-1","v":-63},{"$f":"CB8-1","v":-64},{"$f":"CC8-1","v":-65},null,{"$f":"CD8-1","v":-66},{"$f":"CF8-1","v":-67},{"$f":"CG8-1","v":-68},{"$f":"CH8-1","v":-69},null,{"$f":"CI8-1","v":-70},{"$f":"CK8-1","v":-71},{"$f":"CL8-1","v":-72},{"$f":"CM8-1","v":-73},null,{"$f":"CN8-1","v":-74},{"$f":"CP8-1","v":-75},-76,null,{"$f":"CR8-1","v":-77},{"$f":"CT8-1","v":-78},{"$f":"CU8-1","v":-79},null,{"$f":"CV8-1","v":-80},{"$f":"CX8-1","v":-81},{"$f":"CY8-1","v":-82}]
[null,null,null,null,"Compensation",null,null,null,"Contribution based on Maximum Allowable",null,null,null,null,null,null,null,null,"Contribution based on Target % or $ Amount",null,null,null,null,null,null,null,null,"403(b) - Executive Contributions Including Catch-Up",null,null,null,null,null,null,"403(b) - Employer Match",null,null,null,null,null,null,null,"457(b) - Executive Contributions",null,null,null,null,null,null,null,"Excluded Contributions - After Tax Savings",null,null,null,null,null,null,null,"Redirected 457(b) Contribs",null,null,null,null,null,null,"Redirected After Tax Savings",null,null,null,null,null,null,"Executive Security Plan with Tax Restoration Loan from Plan Sponsor",null,null,null,null,null,null,null,null,null,null,null,null,null,null,null,null,null,null,null,null,null,"Executive Security Plan without Tax Restoration"]
[]
[null,null,null,null,null,null,null,null,"403(b)",null,null,null,null,null,"457(b)","Total",null,null,"403(b)",null,null,null,"457(b)","Result"]
[null,"Year","Age",null,"Salary","Bonus",{"$f":"\"Benefit\nComp\n\"\n&IF(CompDefinition=1,\"(Salary)\",\"(Sal+Bon)\")","v":"Benefit\nComp\n(Sal+Bon)"},null,"Exec\nContrib","Age 50 Catch-Up","Hospital\nMatch","Total Before IRS Limit Check","IRS Limit on Contribs","Total Annual 403(b) Contribs","Exec\nContrib","Total Contribs",null,{"$f":"\"Target\nContrib\"&IF(TargetMethod1=1,\"\n(\"&TEXT(TargetContribPercent,\"0.0%\")&\")\",IF(TargetMethod2=1,\"\n(\"&TEXT(TargetContribDollarAmt,\"$0,000\")&\")\",\"\"))","v":"Target\nContrib\n(15.0%)"},"Exec\nContrib","Age 50 Catch-Up","Hospital\nMatch","Total Annual 403(b) Contribs","Exec\nContrib","Total Contribs\nto Hospital\nPlans","Excluded\nAmount",null,"Exec\nContrib\n(Incl\nCatch-Up)","Annual Ret. Benefit","Tax Rates Used","A/T Annual Ret. Benefit",{"$f":"\"Investment Earnings at \" &TEXT(AcctBalGrowth,\"0.00%\")","v":"Investment Earnings at 6.00%"},"EOY",null,"ER Match","Annual Ret. Benefit","Tax Rates Used","A/T Annual Ret. Benefit",{"$f":"\"Investment Earnings at \" &TEXT(AcctBalGrowth,\"0.00%\")","v":"Investment Earnings at 6.00%"},"EOY",null,"Min\nChk","Exec\nContribs","Annual Ret. Benefit","Tax Rates Used","A/T Annual Ret. Benefit",{"$f":"\"Investment Earnings at \" &TEXT(AcctBalGrowth,\"0.00%\")","v":"Investment Earnings at 6.00%"},"EOY",null,"Min\nChk","Excluded\nContribs","Tax Rates Used","After Tax\nSavings","Annual Ret. Benefit",{"$f":"\"Investment Earnings\n@ \"&TEXT(AcctBalGrowth,\"0.00%\")&\n\n\"\n(\"&TEXT(AcctBalGrowth*(1-EEBlendedTaxRate),\"0.00%\")&\n\"\nAfter Tax)\"","v":"Investment Earnings\n@ 6.00%\n(4.20%\nAfter Tax)"},"EOY",null,null,"Exec\nContribs","Annual Ret. Benefit","Tax Rates Used","A/T Annual Ret. Benefit",{"$f":"\"Investment Earnings at \" &TEXT(AcctBalGrowth,\"0.00%\")","v":"Investment Earnings at 6.00%"},"EOY",null,"Excluded\nContribs","Tax Rates Used","After Tax\nSavings","Annual Ret. Benefit",{"$f":"\"Investment Earnings\n@ \"&TEXT(AcctBalGrowth,\"0.00%\")&\n\n\"\n(\"&TEXT(AcctBalGrowth*(1-EEBlendedTaxRate),\"0.00%\")&\n\"\nAfter Tax)\"","v":"Investment Earnings\n@ 6.00%\n(4.20%\nAfter Tax)"},"EOY",null,"Redirected\nContribs","Income\nTax Rate","Income\nTax","Participant's After Tax Premium","Hospital\nPremium Loan","Total Premium",null,"Cum Hospital Loan","Loan Interest Rate","Participant's Imputed Interest Cost","Participant's Tax Cost on Imputed Interest",null,"Distribution to Repay Hospital Loan","Participant Retirement Benefit & Dth Benefit","Participant's\nCash\nValue","Participant's\nDeath\nBenefit",null,"Age","Net After-Tax Insurance Outlay","Net Cash Value","Net Death Benefit",null,"Annual\nSplit\nDollar\nLoan","Repayment","Cash Flow",null,"Exec's\nComp","Tax\nDeduction","After Tax\nExec's\nComp",null,"Exec's\nAfter Tax\nBenefit Before Redirect","Exec's\nAfter Tax\nBenefit Before Redirect","Increased\nBenefit"]
[1,{"$f":"StartYr","v":2015},{"$f":"Age","v":45},null,{"$f":"Salary","v":0},{"$f":"Bonus","v":0},{"$f":"IF(CompDefinition=1,E13,E13+F13)","v":0},null,{"$f":"IF($C13>=RetAge,0,VLOOKUP($B13,Tables!$A$10:$T$126,18,FALSE))","v":18000},{"$f":"IF($C13>=RetAge,0,IF(C13<CatchupAge,0,VLOOKUP($B13,Tables!$A$10:$T$126,20,FALSE)))","v":0},{"$f":"IF($C13>=RetAge,0,(I13+J13)*MachtingERCont)","v":9000},{"$f":"SUM(I13:K13)","v":27000},{"$f":"IF($C13>=RetAge,0,VLOOKUP($B13,Tables!$A$10:$T$126,16,FALSE))","v":53000},{"$f":"MIN(L13:M13)","v":27000},{"$f":"IF($C13>=RetAge,0,VLOOKUP($B13,Tables!$A$10:$T$126,18,FALSE))","v":18000},{"$f":"N13+O13","v":45000},null,{"$f":"IF($C13>=RetAge,0,IF(TargetMethod1=1,TargetContribPercent*G13,IF(TargetMethod2=1,TargetContribDollarAmt,0)))","v":0},{"$f":"MIN($R13,I13)","v":0},{"$f":"MIN($R13-S13,J13)","v":0},{"$f":"IF($C13>=RetAge,0,(S13+T13)*MachtingERCont)","v":0},{"$f":"SUM(S13:U13)","v":0},{"$f":"MIN(R13-S13-T13,O13)","v":0},{"$f":"V13+W13","v":0},{"$f":"MAX(0,R13-S13-T13-W13)","v":0},null,{"$f":"IF(TargetMethod3=1,I13+J13,S13+T13)","v":0},{"$f":"IF($C13<RetAge,0,IF($C13<RetAge+RetDistYrs,AnnRet403b,0))","v":0},{"$f":"CHOOSE(TaxRates,Tables!Z56,Tables!AA56)","v":0.4},{"$f":"AB13*(1-AC13)","v":0},{"$f":"(AA13+AB13)*AcctBalGrowth","v":0},{"$f":"AA13+AB13+AE13","v":0},null,{"$f":"IF(TargetMethod3=1,K13,U13)","v":0},{"$f":"IF($C13<RetAge,0,IF($C13<RetAge+RetDistYrs,AnnRet403bERMatch,0))","v":0},{"$f":"CHOOSE(TaxRates,Tables!Z56,Tables!AA56)","v":0.4},{"$f":"AI13*(1-AJ13)","v":0},{"$f":"(AH13+AI13)*AcctBalGrowth","v":0},{"$f":"AH13+AI13+AL13","v":0},null,0,{"$f":"IF(TargetMethod3=1,O13,W13)","v":0},{"$f":"IF($C13<RetAge,0,IF($C13<RetAge+RetDistYrs,AnnRet457b,0))","v":0},{"$f":"CHOOSE(TaxRates,Tables!Z56,Tables!AA56)","v":0.4},{"$f":"AQ13*(1-AR13)","v":0},{"$f":"(AP13+AQ13)*AcctBalGrowth","v":0},{"$f":"AP13+AQ13+AT13","v":0},null,0,{"$f":"IF(TargetMethod3=1,0,Y13)","v":0},{"$f":"CHOOSE(TaxRates,Tables!Z56,Tables!AA56)","v":0.4},{"$f":"AX13*(1-AY13)","v":0},{"$f":"IF($C13<RetAge,0,IF($C13<RetAge+RetDistYrs,AnnRetATSavingsAT,0))","v":0},{"$f":"(AZ13+BA13)*AcctBalGrowth*(1-EEBlendedTaxRate)","v":0},{"$f":"AZ13+BA13+BB13","v":0},null,null,{"$f":"IF($C13>=RetAge,0,Redirected457b)","v":0},{"$f":"IF($C13<RetAge,0,IF($C13<RetAge+RetDistYrs,AnnRetRedirected457b,0))","v":0},{"$f":"CHOOSE(TaxRates,Tables!Z56,Tables!AA56)","v":0.4},{"$f":"BG13*(1-BH13)","v":0},{"$f":"(BF13+BG13)*AcctBalGrowth","v":0},{"$f":"BF13+BG13+BJ13","v":0},null,{"$f":"IF($C13>=RetAge,0,RedirectedAT)","v":0},{"$f":"CHOOSE(TaxRates,Tables!Z56,Tables!AA56)","v":0.4},{"$f":"BM13*(1-BN13)","v":0},{"$f":"IF($C13<RetAge,0,IF($C13<RetAge+RetDistYrs,AnnRetRedirectedATSavingsAT,0))","v":0},{"$f":"(BO13+BP13)*AcctBalGrowth*(1-EEBlendedTaxRate)","v":0},{"$f":"BO13+BP13+BQ13","v":0},null,{"$f":"IF($C13>=RetAge,0,RedirectedContribs)","v":0},{"$f":"CHOOSE(TaxRates,Tables!Z56,Tables!AA56)","v":0.4},{"$f":"-BT13*BU13","v":0},{"$f":"BT13+BV13","v":0},{"$f":"-BV13","v":0},{"$f":"BW13+BX13","v":0},null,{"$f":"BX13","v":0},5.8999999999999999E-3,{"$f":"CB13*CA13","v":0},{"$f":"CC13*-BU13","v":0},null,{"$f":"IF(C13=RetAge,$CL$4,0)","v":0},{"$f":"IF(CL13>0,CL13-CF13,0)+IF($C13=Death_Age,CN13,0)","v":0},{"$f":"IF(C13<Death_Age,CM13-CA13,0)","v":0},{"$f":"IF(C13<Death_Age,CN13-CA13,0)","v":0},null,{"$f":"'Illustration Modelling'!K16","v":45},{"$f":"'Illustration Modelling'!M16","v":0},{"$f":"'Illustration Modelling'!O16","v":0},{"$f":"'Illustration Modelling'!P16","v":0},null,{"$f":"-BX13","v":0},{"$f":"CF13","v":0},{"$f":"CP13+CQ13","v":0},null,{"$f":"G13","v":0},{"$f":"Corp_Tax_Rate","v":0},{"$f":"CT13*(1-CU13)","v":0},null,{"$f":"-(BI13+BP13)","v":0},{"$f":"CG13","v":0},{"$f":"CY13-CX13","v":0}]
[{"$f":"A13+1","v":2},2016,46,null,{"$f":"IF($C14>=RetAge,0,E13*(1+CompGrowthRate))","v":0},{"$f":"IF($C14>=RetAge,0,F13*(1+CompGrowthRate))","v":0},0,null,{"$f":"IF($C14>=RetAge,0,VLOOKUP($B14,Tables!$A$10:$T$126,18,FALSE))","v":18500},{"$f":"IF($C14>=RetAge,0,IF(C14<CatchupAge,0,VLOOKUP($B14,Tables!$A$10:$T$126,20,FALSE)))","v":0},9250,{"$f":"SUM(I14:K14)","v":27750},{"$f":"IF($C14>=RetAge,0,VLOOKUP($B14,Tables!$A$10:$T$126,16,FALSE))","v":54000},{"$f":"MIN(L14:M14)","v":27750},{"$f":"IF($C14>=RetAge,0,VLOOKUP($B14,Tables!$A$10:$T$126,18,FALSE))","v":18500},{"$f":"N14+O14","v":46250},null,0,{"$f":"MIN($R14,I14)","v":0},{"$f":"MIN($R14-S14,J14)","v":0},0,{"$f":"SUM(S14:U14)","v":0},{"$f":"MIN(R14-S14-T14,O14)","v":0},{"$f":"V14+W14","v":0},{"$f":"MAX(0,R14-S14-T14-W14)","v":0},null,0,0,{"$f":"CHOOSE(TaxRates,Tables!Z57,Tables!AA57)","v":0.4},{"$f":"AB14*(1-AC14)","v":0},{"$f":"(AA14+AB14+AF13)*AcctBalGrowth","v":0},{"$f":"AA14+AB14+AE14+AF13","v":0},null,0,0,{"$f":"CHOOSE(TaxRates,Tables!Z57,Tables!AA57)","v":0.4},{"$f":"AI14*(1-AJ14)","v":0},{"$f":"(AH14+AI14+AM13)*AcctBalGrowth","v":0},{"$f":"AH14+AI14+AL14+AM13","v":0},null,{"$f":"IF(C14>=RetAge,0,IF(AP14<MIN($AP$13:AP13),MAX($AO$13:AO13)+1,0))","v":0},0,0,{"$f":"CHOOSE(TaxRates,Tables!Z57,Tables!AA57)","v":0.4},{"$f":"AQ14*(1-AR14)","v":0},{"$f":"(AP14+AQ14+AU13)*AcctBalGrowth","v":0},{"$f":"AP14+AQ14+AT14+AU13","v":0},null,{"$f":"IF(C14>=RetAge,0,IF(AX14<MIN($AX$13:AX13),MAX($AW$13:AW13)+1,0))","v":0},0,{"$f":"CHOOSE(TaxRates,Tables!Z57,Tables!AA57)","v":0.4},{"$f":"AX14*(1-AY14)","v":0},0,{"$f":"(AZ14+BA14+BC13)*AcctBalGrowth*(1-EEBlendedTaxRate)","v":0},{"$f":"AZ14+BA14+BB14+BC13","v":0},null,null,0,0,{"$f":"CHOOSE(TaxRates,Tables!Z57,Tables!AA57)","v":0.4},{"$f":"BG14*(1-BH14)","v":0},{"$f":"(BF14+BG14+BK13)*AcctBalGrowth","v":0},{"$f":"BF14+BG14+BJ14+BK13","v":0},null,0,{"$f":"CHOOSE(TaxRates,Tables!Z57,Tables!AA57)","v":0.4},{"$f":"BM14*(1-BN14)","v":0},0,{"$f":"(BO14+BP14+BR13)*AcctBalGrowth*(1-EEBlendedTaxRate)","v":0},{"$f":"BO14+BP14+BQ14+BR13","v":0},null,0,{"$f":"CHOOSE(TaxRates,Tables!Z57,Tables!AA57)","v":0.4},{"$f":"-BT14*BU14","v":0},{"$f":"BT14+BV14","v":0},{"$f":"-BV14","v":0},{"$f":"BW14+BX14","v":0},null,{"$f":"CA13+BX14-CF14","v":0},{"$f":"MIN(0.025,CB13+0.01)","v":1.5900000000000001E-2},{"$f":"CB14*CA14","v":0},{"$f":"CC14*-BU14","v":0},null,0,0,0,0,null,{"$f":"'Illustration Modelling'!K17","v":46},{"$f":"'Illustration Modelling'!M17","v":0},{"$f":"'Illustration Modelling'!O17","v":0},{"$f":"'Illustration Modelling'!P17","v":0},null,{"$f":"-BX14","v":0},{"$f":"CF14","v":0},{"$f":"CP14+CQ14","v":0},null,{"$f":"G14","v":0},0,{"$f":"CT14*(1-CU14)","v":0},null,{"$f":"-(BI14+BP14)","v":0},{"$f":"CG14","v":0},{"$f":"CY14-CX14","v":0}]
[3,2017,47,null,0,0,0,null,{"$f":"IF($C15>=RetAge,0,VLOOKUP($B15,Tables!$A$10:$T$126,18,FALSE))","v":19000},{"$f":"IF($C15>=RetAge,0,IF(C15<CatchupAge,0,VLOOKUP($B15,Tables!$A$10:$T$126,20,FALSE)))","v":0},9500,28500,{"$f":"IF($C15>=RetAge,0,VLOOKUP($B15,Tables!$A$10:$T$126,16,FALSE))","v":56000},28500,{"$f":"IF($C15>=RetAge,0,VLOOKUP($B15,Tables!$A$10:$T$126,18,FALSE))","v":19000},47500,null,0,0,0,0,0,0,0,0,null,0,0,{"$f":"CHOOSE(TaxRates,Tables!Z58,Tables!AA58)","v":0.4},0,0,{"$f":"AA15+AB15+AE15+AF14","v":0},null,0,0,{"$f":"CHOOSE(TaxRates,Tables!Z58,Tables!AA58)","v":0.4},0,0,{"$f":"AH15+AI15+AL15+AM14","v":0},null,{"$f":"IF(C15>=RetAge,0,IF(AP15<MIN($AP$13:AP14),MAX($AO$13:AO14)+1,0))","v":0},0,0,{"$f":"CHOOSE(TaxRates,Tables!Z58,Tables!AA58)","v":0.4},0,0,{"$f":"AP15+AQ15+AT15+AU14","v":0},null,{"$f":"IF(C15>=RetAge,0,IF(AX15<MIN($AX$13:AX14),MAX($AW$13:AW14)+1,0))","v":0},0,{"$f":"CHOOSE(TaxRates,Tables!Z58,Tables!AA58)","v":0.4},0,0,0,{"$f":"AZ15+BA15+BB15+BC14","v":0},null,null,0,0,{"$f":"CHOOSE(TaxRates,Tables!Z58,Tables!AA58)","v":0.4},0,0,{"$f":"BF15+BG15+BJ15+BK14","v":0},null,0,{"$f":"CHOOSE(TaxRates,Tables!Z58,Tables!AA58)","v":0.4},0,0,0,{"$f":"BO15+BP15+BQ15+BR14","v":0},null,0,{"$f":"CHOOSE(TaxRates,Tables!Z58,Tables!AA58)","v":0.4},0,0,0,0,null,{"$f":"CA14+BX15-CF15","v":0},{"$f":"MIN(0.025,CB14+0.01)","v":2.5000000000000001E-2},0,0,null,0,0,0,0,null,{"$f":"'Illustration Modelling'!K18","v":47},{"$f":"'Illustration Modelling'!M18","v":0},{"$f":"'Illustration Modelling'!O18","v":0},{"$f":"'Illustration Modelling'!P18","v":0},null,0,0,0,null,0,0,0,null,0,0,0]
[4,2018,48,null,0,0,0,null,{"$f":"IF($C16>=RetAge,0,VLOOKUP($B16,Tables!$A$10:$T$126,18,FALSE))","v":19500},{"$f":"IF($C16>=RetAge,0,IF(C16<CatchupAge,0,VLOOKUP($B16,Tables!$A$10:$T$126,20,FALSE)))","v":0},9750,29250,{"$f":"IF($C16>=RetAge,0,VLOOKUP($B16,Tables!$A$10:$T$126,16,FALSE))","v":57000},29250,{"$f":"IF($C16>=RetAge,0,VLOOKUP($B16,Tables!$A$10:$T$126,18,FALSE))","v":19500},48750,null,0,0,0,0,0,0,0,0,null,0,0,{"$f":"CHOOSE(TaxRates,Tables!Z59,Tables!AA59)","v":0.4},0,0,0,null,0,0,{"$f":"CHOOSE(TaxRates,Tables!Z59,Tables!AA59)","v":0.4},0,0,0,null,{"$f":"IF(C16>=RetAge,0,IF(AP16<MIN($AP$13:AP15),MAX($AO$13:AO15)+1,0))","v":0},0,0,{"$f":"CHOOSE(TaxRates,Tables!Z59,Tables!AA59)","v":0.4},0,0,0,null,{"$f":"IF(C16>=RetAge,0,IF(AX16<MIN($AX$13:AX15),MAX($AW$13:AW15)+1,0))","v":0},0,{"$f":"CHOOSE(TaxRates,Tables!Z59,Tables!AA59)","v":0.4},0,0,0,0,null,null,0,0,{"$f":"CHOOSE(TaxRates,Tables!Z59,Tables!AA59)","v":0.4},0,0,0,null,0,{"$f":"CHOOSE(TaxRates,Tables!Z59,Tables!AA59)","v":0.4},0,0,0,0,null,0,{"$f":"CHOOSE(TaxRates,Tables!Z59,Tables!AA59)","v":0.4},0,0,0,0,null,0,2.5000000000000001E-2,0,0,null,0,0,0,0,null,{"$f":"'Illustration Modelling'!K19","v":48},{"$f":"'Illustration Modelling'!M19","v":0},{"$f":"'Illustration Modelling'!O19","v":0},{"$f":"'Illustration Modelling'!P19","v":0},null,0,0,0,null,0,0,0,null,0,0,0]
[5,2019,49,null,0,0,0,null,{"$f":"IF($C17>=RetAge,0,VLOOKUP($B17,Tables!$A$10:$T$126,18,FALSE))","v":20000},{"$f":"IF($C17>=RetAge,0,IF(C17<CatchupAge,0,VLOOKUP($B17,Tables!$A$10:$T$126,20,FALSE)))","v":0},10000,30000,{"$f":"IF($C17>=RetAge,0,VLOOKUP($B17,Tables!$A$10:$T$126,16,FALSE))","v":59000},30000,{"$f":"IF($C17>=RetAge,0,VLOOKUP($B17,Tables!$A$10:$T$126,18,FALSE))","v":20000},50000,null,0,0,0,0,0,0,0,0,null,0,0,{"$f":"CHOOSE(TaxRates,Tables!Z60,Tables!AA60)","v":0.4},0,0,0,null,0,0,{"$f":"CHOOSE(TaxRates,Tables!Z60,Tables!AA60)","v":0.4},0,0,0,null,{"$f":"IF(C17>=RetAge,0,IF(AP17<MIN($AP$13:AP16),MAX($AO$13:AO16)+1,0))","v":0},0,0,{"$f":"CHOOSE(TaxRates,Tables!Z60,Tables!AA60)","v":0.4},0,0,0,null,{"$f":"IF(C17>=RetAge,0,IF(AX17<MIN($AX$13:AX16),MAX($AW$13:AW16)+1,0))","v":0},0,{"$f":"CHOOSE(TaxRates,Tables!Z60,Tables!AA60)","v":0.4},0,0,0,0,null,null,0,0,{"$f":"CHOOSE(TaxRates,Tables!Z60,Tables!AA60)","v":0.4},0,0,0,null,0,{"$f":"CHOOSE(TaxRates,Tables!Z60,Tables!AA60)","v":0.4},0,0,0,0,null,0,{"$f":"CHOOSE(TaxRates,Tables!Z60,Tables!AA60)","v":0.4},0,0,0,0,null,0,2.5000000000000001E-2,0,0,null,0,0,0,0,null,{"$f":"'Illustration Modelling'!K20","v":49},{"$f":"'Illustration Modelling'!M20","v":0},{"$f":"'Illustration Modelling'!O20","v":0},{"$f":"'Illustration Modelling'!P20","v":0},null,0,0,0,null,0,0,0,null,0,0,0]
[6,2020,50,null,0,0,0,null,{"$f":"IF($C18>=RetAge,0,VLOOKUP($B18,Tables!$A$10:$T$126,18,FALSE))","v":20500},{"$f":"IF($C18>=RetAge,0,IF(C18<CatchupAge,0,VLOOKUP($B18,Tables!$A$10:$T$126,20,FALSE)))","v":6500},13500,40500,{"$f":"IF($C18>=RetAge,0,VLOOKUP($B18,Tables!$A$10:$T$126,16,FALSE))","v":61000},40500,{"$f":"IF($C18>=RetAge,0,VLOOKUP($B18,Tables!$A$10:$T$126,18,FALSE))","v":20500},61000,null,0,0,0,0,0,0,0,0,null,0,0,{"$f":"CHOOSE(TaxRates,Tables!Z61,Tables!AA61)","v":0.4},0,0,0,null,0,0,{"$f":"CHOOSE(TaxRates,Tables!Z61,Tables!AA61)","v":0.4},0,0,0,null,{"$f":"IF(C18>=RetAge,0,IF(AP18<MIN($AP$13:AP17),MAX($AO$13:AO17)+1,0))","v":0},0,0,{"$f":"CHOOSE(TaxRates,Tables!Z61,Tables!AA61)","v":0.4},0,0,0,null,{"$f":"IF(C18>=RetAge,0,IF(AX18<MIN($AX$13:AX17),MAX($AW$13:AW17)+1,0))","v":0},0,{"$f":"CHOOSE(TaxRates,Tables!Z61,Tables!AA61)","v":0.4},0,0,0,0,null,null,0,0,{"$f":"CHOOSE(TaxRates,Tables!Z61,Tables!AA61)","v":0.4},0,0,0,null,0,{"$f":"CHOOSE(TaxRates,Tables!Z61,Tables!AA61)","v":0.4},0,0,0,0,null,0,{"$f":"CHOOSE(TaxRates,Tables!Z61,Tables!AA61)","v":0.4},0,0,0,0,null,0,2.5000000000000001E-2,0,0,null,0,0,0,0,null,{"$f":"'Illustration Modelling'!K21","v":50},{"$f":"'Illustration Modelling'!M21","v":0},{"$f":"'Illustration Modelling'!O21","v":0},{"$f":"'Illustration Modelling'!P21","v":0},null,0,0,0,null,0,0,0,null,0,0,0]
[7,2021,51,null,0,0,0,null,{"$f":"IF($C19>=RetAge,0,VLOOKUP($B19,Tables!$A$10:$T$126,18,FALSE))","v":21000},{"$f":"IF($C19>=RetAge,0,IF(C19<CatchupAge,0,VLOOKUP($B19,Tables!$A$10:$T$126,20,FALSE)))","v":7000},14000,42000,{"$f":"IF($C19>=RetAge,0,VLOOKUP($B19,Tables!$A$10:$T$126,16,FALSE))","v":63000},42000,{"$f":"IF($C19>=RetAge,0,VLOOKUP($B19,Tables!$A$10:$T$126,18,FALSE))","v":21000},63000,null,0,0,0,0,0,0,0,0,null,0,0,{"$f":"CHOOSE(TaxRates,Tables!Z62,Tables!AA62)","v":0.4},0,0,0,null,0,0,{"$f":"CHOOSE(TaxRates,Tables!Z62,Tables!AA62)","v":0.4},0,0,0,null,{"$f":"IF(C19>=RetAge,0,IF(AP19<MIN($AP$13:AP18),MAX($AO$13:AO18)+1,0))","v":0},0,0,{"$f":"CHOOSE(TaxRates,Tables!Z62,Tables!AA62)","v":0.4},0,0,0,null,{"$f":"IF(C19>=RetAge,0,IF(AX19<MIN($AX$13:AX18),MAX($AW$13:AW18)+1,0))","v":0},0,{"$f":"CHOOSE(TaxRates,Tables!Z62,Tables!AA62)","v":0.4},0,0,0,0,null,null,0,0,{"$f":"CHOOSE(TaxRates,Tables!Z62,Tables!AA62)","v":0.4},0,0,0,null,0,{"$f":"CHOOSE(TaxRates,Tables!Z62,Tables!AA62)","v":0.4},0,0,0,0,null,0,{"$f":"CHOOSE(TaxRates,Tables!Z62,Tables!AA62)","v":0.4},0,0,0,0,null,0,2.5000000000000001E-2,0,0,null,0,0,0,0,null,{"$f":"'Illustration Modelling'!K22","v":51},{"$f":"'Illustration Modelling'!M22","v":0},{"$f":"'Illustration Modelling'!O22","v":0},{"$f":"'Illustration Modelling'!P22","v":0},null,0,0,0,null,0,0,0,null,0,0,0]
[8,2022,52,null,0,0,0,null,{"$f":"IF($C20>=RetAge,0,VLOOKUP($B20,Tables!$A$10:$T$126,18,FALSE))","v":22000},{"$f":"IF($C20>=RetAge,0,IF(C20<CatchupAge,0,VLOOKUP($B20,Tables!$A$10:$T$126,20,FALSE)))","v":7000},14500,43500,{"$f":"IF($C20>=RetAge,0,VLOOKUP($B20,Tables!$A$10:$T$126,16,FALSE))","v":65000},43500,{"$f":"IF($C20>=RetAge,0,VLOOKUP($B20,Tables!$A$10:$T$126,18,FALSE))","v":22000},65500,null,0,0,0,0,0,0,0,0,null,0,0,{"$f":"CHOOSE(TaxRates,Tables!Z63,Tables!AA63)","v":0.4},0,0,0,null,0,0,{"$f":"CHOOSE(TaxRates,Tables!Z63,Tables!AA63)","v":0.4},0,0,0,null,{"$f":"IF(C20>=RetAge,0,IF(AP20<MIN($AP$13:AP19),MAX($AO$13:AO19)+1,0))","v":0},0,0,{"$f":"CHOOSE(TaxRates,Tables!Z63,Tables!AA63)","v":0.4},0,0,0,null,{"$f":"IF(C20>=RetAge,0,IF(AX20<MIN($AX$13:AX19),MAX($AW$13:AW19)+1,0))","v":0},0,{"$f":"CHOOSE(TaxRates,Tables!Z63,Tables!AA63)","v":0.4},0,0,0,0,null,null,0,0,{"$f":"CHOOSE(TaxRates,Tables!Z63,Tables!AA63)","v":0.4},0,0,0,null,0,{"$f":"CHOOSE(TaxRates,Tables!Z63,Tables!AA63)","v":0.4},0,0,0,0,null,0,{"$f":"CHOOSE(TaxRates,Tables!Z63,Tables!AA63)","v":0.4},0,0,0,0,null,0,2.5000000000000001E-2,0,0,null,0,0,0,0,null,{"$f":"'Illustration Modelling'!K23","v":52},{"$f":"'Illustration Modelling'!M23","v":0},{"$f":"'Illustration Modelling'!O23","v":0},{"$f":"'Illustration Modelling'!P23","v":0},null,0,0,0,null,0,0,0,null,0,0,0]
[9,2023,53,null,0,0,0,null,{"$f":"IF($C21>=RetAge,0,VLOOKUP($B21,Tables!$A$10:$T$126,18,FALSE))","v":22500},{"$f":"IF($C21>=RetAge,0,IF(C21<CatchupAge,0,VLOOKUP($B21,Tables!$A$10:$T$126,20,FALSE)))","v":7500},15000,45000,{"$f":"IF($C21>=RetAge,0,VLOOKUP($B21,Tables!$A$10:$T$126,16,FALSE))","v":67000},45000,{"$f":"IF($C21>=RetAge,0,VLOOKUP($B21,Tables!$A$10:$T$126,18,FALSE))","v":22500},67500,null,0,0,0,0,0,0,0,0,null,0,0,{"$f":"CHOOSE(TaxRates,Tables!Z64,Tables!AA64)","v":0.4},0,0,0,null,0,0,{"$f":"CHOOSE(TaxRates,Tables!Z64,Tables!AA64)","v":0.4},0,0,0,null,{"$f":"IF(C21>=RetAge,0,IF(AP21<MIN($AP$13:AP20),MAX($AO$13:AO20)+1,0))","v":0},0,0,{"$f":"CHOOSE(TaxRates,Tables!Z64,Tables!AA64)","v":0.4},0,0,0,null,{"$f":"IF(C21>=RetAge,0,IF(AX21<MIN($AX$13:AX20),MAX($AW$13:AW20)+1,0))","v":0},0,{"$f":"CHOOSE(TaxRates,Tables!Z64,Tables!AA64)","v":0.4},0,0,0,0,null,null,0,0,{"$f":"CHOOSE(TaxRates,Tables!Z64,Tables!AA64)","v":0.4},0,0,0,null,0,{"$f":"CHOOSE(TaxRates,Tables!Z64,Tables!AA64)","v":0.4},0,0,0,0,null,0,{"$f":"CHOOSE(TaxRates,Tables!Z64,Tables!AA64)","v":0.4},0,0,0,0,null,0,2.5000000000000001E-2,0,0,null,0,0,0,0,null,{"$f":"'Illustration Modelling'!K24","v":53},{"$f":"'Illustration Modelling'!M24","v":0},{"$f":"'Illustration Modelling'!O24","v":0},{"$f":"'Illustration Modelling'!P24","v":0},null,0,0,0,null,0,0,0,null,0,0,0]
[10,2024,54,null,0,0,0,null,{"$f":"IF($C22>=RetAge,0,VLOOKUP($B22,Tables!$A$10:$T$126,18,FALSE))","v":23000},{"$f":"IF($C22>=RetAge,0,IF(C22<CatchupAge,0,VLOOKUP($B22,Tables!$A$10:$T$126,20,FALSE)))","v":7500},15250,45750,{"$f":"IF($C22>=RetAge,0,VLOOKUP($B22,Tables!$A$10:$T$126,16,FALSE))","v":69000},45750,{"$f":"IF($C22>=RetAge,0,VLOOKUP($B22,Tables!$A$10:$T$126,18,FALSE))","v":23000},68750,null,0,0,0,0,0,0,0,0,null,0,0,{"$f":"CHOOSE(TaxRates,Tables!Z65,Tables!AA65)","v":0.4},0,0,0,null,0,0,{"$f":"CHOOSE(TaxRates,Tables!Z65,Tables!AA65)","v":0.4},0,0,0,null,{"$f":"IF(C22>=RetAge,0,IF(AP22<MIN($AP$13:AP21),MAX($AO$13:AO21)+1,0))","v":0},0,0,{"$f":"CHOOSE(TaxRates,Tables!Z65,Tables!AA65)","v":0.4},0,0,0,null,{"$f":"IF(C22>=RetAge,0,IF(AX22<MIN($AX$13:AX21),MAX($AW$13:AW21)+1,0))","v":0},0,{"$f":"CHOOSE(TaxRates,Tables!Z65,Tables!AA65)","v":0.4},0,0,0,0,null,null,0,0,{"$f":"CHOOSE(TaxRates,Tables!Z65,Tables!AA65)","v":0.4},0,0,0,null,0,{"$f":"CHOOSE(TaxRates,Tables!Z65,Tables!AA65)","v":0.4},0,0,0,0,null,0,{"$f":"CHOOSE(TaxRates,Tables!Z65,Tables!AA65)","v":0.4},0,0,0,0,null,0,2.5000000000000001E-2,0,0,null,0,0,0,0,null,{"$f":"'Illustration Modelling'!K25","v":54},{"$f":"'Illustration Modelling'!M25","v":0},{"$f":"'Illustration Modelling'!O25","v":0},{"$f":"'Illustration Modelling'!P25","v":0},null,0,0,0,null,0,0,0,null,0,0,0]
[11,2025,55,null,0,0,0,null,{"$f":"IF($C23>=RetAge,0,VLOOKUP($B23,Tables!$A$10:$T$126,18,FALSE))","v":24000},{"$f":"IF($C23>=RetAge,0,IF(C23<CatchupAge,0,VLOOKUP($B23,Tables!$A$10:$T$126,20,FALSE)))","v":8000},16000,48000,{"$f":"IF($C23>=RetAge,0,VLOOKUP($B23,Tables!$A$10:$T$126,16,FALSE))","v":71000},48000,{"$f":"IF($C23>=RetAge,0,VLOOKUP($B23,Tables!$A$10:$T$126,18,FALSE))","v":24000},72000,null,0,0,0,0,0,0,0,0,null,0,0,{"$f":"CHOOSE(TaxRates,Tables!Z66,Tables!AA66)","v":0.4},0,0,0,null,0,0,{"$f":"CHOOSE(TaxRates,Tables!Z66,Tables!AA66)","v":0.4},0,0,0,null,{"$f":"IF(C23>=RetAge,0,IF(AP23<MIN($AP$13:AP22),MAX($AO$13:AO22)+1,0))","v":0},0,0,{"$f":"CHOOSE(TaxRates,Tables!Z66,Tables!AA66)","v":0.4},0,0,0,null,{"$f":"IF(C23>=RetAge,0,IF(AX23<MIN($AX$13:AX22),MAX($AW$13:AW22)+1,0))","v":0},0,{"$f":"CHOOSE(TaxRates,Tables!Z66,Tables!AA66)","v":0.4},0,0,0,0,null,null,0,0,{"$f":"CHOOSE(TaxRates,Tables!Z66,Tables!AA66)","v":0.4},0,0,0,null,0,{"$f":"CHOOSE(TaxRates,Tables!Z66,Tables!AA66)","v":0.4},0,0,0,0,null,0,{"$f":"CHOOSE(TaxRates,Tables!Z66,Tables!AA66)","v":0.4},0,0,0,0,null,0,2.5000000000000001E-2,0,0,null,0,0,0,0,null,{"$f":"'Illustration Modelling'!K26","v":55},{"$f":"'Illustration Modelling'!M26","v":0},{"$f":"'Illustration Modelling'!O26","v":0},{"$f":"'Illustration Modelling'!P26","v":0},null,0,0,0,null,0,0,0,null,0,0,0]
[12,2026,56,null,0,0,0,null,{"$f":"IF($C24>=RetAge,0,VLOOKUP($B24,Tables!$A$10:$T$126,18,FALSE))","v":24500},{"$f":"IF($C24>=RetAge,0,IF(C24<CatchupAge,0,VLOOKUP($B24,Tables!$A$10:$T$126,20,FALSE)))","v":8000},16250,48750,{"$f":"IF($C24>=RetAge,0,VLOOKUP($B24,Tables!$A$10:$T$126,16,FALSE))","v":73000},48750,{"$f":"IF($C24>=RetAge,0,VLOOKUP($B24,Tables!$A$10:$T$126,18,FALSE))","v":24500},73250,null,0,0,0,0,0,0,0,0,null,0,0,{"$f":"CHOOSE(TaxRates,Tables!Z67,Tables!AA67)","v":0.4},0,0,0,null,0,0,{"$f":"CHOOSE(TaxRates,Tables!Z67,Tables!AA67)","v":0.4},0,0,0,null,{"$f":"IF(C24>=RetAge,0,IF(AP24<MIN($AP$13:AP23),MAX($AO$13:AO23)+1,0))","v":0},0,0,{"$f":"CHOOSE(TaxRates,Tables!Z67,Tables!AA67)","v":0.4},0,0,0,null,{"$f":"IF(C24>=RetAge,0,IF(AX24<MIN($AX$13:AX23),MAX($AW$13:AW23)+1,0))","v":0},0,{"$f":"CHOOSE(TaxRates,Tables!Z67,Tables!AA67)","v":0.4},0,0,0,0,null,null,0,0,{"$f":"CHOOSE(TaxRates,Tables!Z67,Tables!AA67)","v":0.4},0,0,0,null,0,{"$f":"CHOOSE(TaxRates,Tables!Z67,Tables!AA67)","v":0.4},0,0,0,0,null,0,{"$f":"CHOOSE(TaxRates,Tables!Z67,Tables!AA67)","v":0.4},0,0,0,0,null,0,2.5000000000000001E-2,0,0,null,0,0,0,0,null,{"$f":"'Illustration Modelling'!K27","v":56},{"$f":"'Illustration Modelling'!M27","v":0},{"$f":"'Illustration Modelling'!O27","v":0},{"$f":"'Illustration Modelling'!P27","v":0},null,0,0,0,null,0,0,0,null,0,0,0]
[13,2027,57,null,0,0,0,null,{"$f":"IF($C25>=RetAge,0,VLOOKUP($B25,Tables!$A$10:$T$126,18,FALSE))","v":25500},{"$f":"IF($C25>=RetAge,0,IF(C25<CatchupAge,0,VLOOKUP($B25,Tables!$A$10:$T$126,20,FALSE)))","v":8500},17000,51000,{"$f":"IF($C25>=RetAge,0,VLOOKUP($B25,Tables!$A$10:$T$126,16,FALSE))","v":75000},51000,{"$f":"IF($C25>=RetAge,0,VLOOKUP($B25,Tables!$A$10:$T$126,18,FALSE))","v":25500},76500,null,0,0,0,0,0,0,0,0,null,0,0,{"$f":"CHOOSE(TaxRates,Tables!Z68,Tables!AA68)","v":0.4},0,0,0,null,0,0,{"$f":"CHOOSE(TaxRates,Tables!Z68,Tables!AA68)","v":0.4},0,0,0,null,{"$f":"IF(C25>=RetAge,0,IF(AP25<MIN($AP$13:AP24),MAX($AO$13:AO24)+1,0))","v":0},0,0,{"$f":"CHOOSE(TaxRates,Tables!Z68,Tables!AA68)","v":0.4},0,0,0,null,{"$f":"IF(C25>=RetAge,0,IF(AX25<MIN($AX$13:AX24),MAX($AW$13:AW24)+1,0))","v":0},0,{"$f":"CHOOSE(TaxRates,Tables!Z68,Tables!AA68)","v":0.4},0,0,0,0,null,null,0,0,{"$f":"CHOOSE(TaxRates,Tables!Z68,Tables!AA68)","v":0.4},0,0,0,null,0,{"$f":"CHOOSE(TaxRates,Tables!Z68,Tables!AA68)","v":0.4},0,0,0,0,null,0,{"$f":"CHOOSE(TaxRates,Tables!Z68,Tables!AA68)","v":0.4},0,0,0,0,null,0,2.5000000000000001E-2,0,0,null,0,0,0,0,null,{"$f":"'Illustration Modelling'!K28","v":57},{"$f":"'Illustration Modelling'!M28","v":0},{"$f":"'Illustration Modelling'!O28","v":0},{"$f":"'Illustration Modelling'!P28","v":0},null,0,0,0,null,0,0,0,null,0,0,0]
[14,2028,58,null,0,0,0,null,{"$f":"IF($C26>=RetAge,0,VLOOKUP($B26,Tables!$A$10:$T$126,18,FALSE))","v":26000},{"$f":"IF($C26>=RetAge,0,IF(C26<CatchupAge,0,VLOOKUP($B26,Tables!$A$10:$T$126,20,FALSE)))","v":8500},17250,51750,{"$f":"IF($C26>=RetAge,0,VLOOKUP($B26,Tables!$A$10:$T$126,16,FALSE))","v":77000},51750,{"$f":"IF($C26>=RetAge,0,VLOOKUP($B26,Tables!$A$10:$T$126,18,FALSE))","v":26000},77750,null,0,0,0,0,0,0,0,0,null,0,0,{"$f":"CHOOSE(TaxRates,Tables!Z69,Tables!AA69)","v":0.4},0,0,0,null,0,0,{"$f":"CHOOSE(TaxRates,Tables!Z69,Tables!AA69)","v":0.4},0,0,0,null,{"$f":"IF(C26>=RetAge,0,IF(AP26<MIN($AP$13:AP25),MAX($AO$13:AO25)+1,0))","v":0},0,0,{"$f":"CHOOSE(TaxRates,Tables!Z69,Tables!AA69)","v":0.4},0,0,0,null,{"$f":"IF(C26>=RetAge,0,IF(AX26<MIN($AX$13:AX25),MAX($AW$13:AW25)+1,0))","v":0},0,{"$f":"CHOOSE(TaxRates,Tables!Z69,Tables!AA69)","v":0.4},0,0,0,0,null,null,0,0,{"$f":"CHOOSE(TaxRates,Tables!Z69,Tables!AA69)","v":0.4},0,0,0,null,0,{"$f":"CHOOSE(TaxRates,Tables!Z69,Tables!AA69)","v":0.4},0,0,0,0,null,0,{"$f":"CHOOSE(TaxRates,Tables!Z69,Tables!AA69)","v":0.4},0,0,0,0,null,0,2.5000000000000001E-2,0,0,null,0,0,0,0,null,{"$f":"'Illustration Modelling'!K29","v":58},{"$f":"'Illustration Modelling'!M29","v":0},{"$f":"'Illustration Modelling'!O29","v":0},{"$f":"'Illustration Modelling'!P29","v":0},null,0,0,0,null,0,0,0,null,0,0,0]
[15,2029,59,null,0,0,0,null,{"$f":"IF($C27>=RetAge,0,VLOOKUP($B27,Tables!$A$10:$T$126,18,FALSE))","v":27000},{"$f":"IF($C27>=RetAge,0,IF(C27<CatchupAge,0,VLOOKUP($B27,Tables!$A$10:$T$126,20,FALSE)))","v":9000},18000,54000,{"$f":"IF($C27>=RetAge,0,VLOOKUP($B27,Tables!$A$10:$T$126,16,FALSE))","v":80000},54000,{"$f":"IF($C27>=RetAge,0,VLOOKUP($B27,Tables!$A$10:$T$126,18,FALSE))","v":27000},81000,null,0,0,0,0,0,0,0,0,null,0,0,{"$f":"CHOOSE(TaxRates,Tables!Z70,Tables!AA70)","v":0.4},0,0,0,null,0,0,{"$f":"CHOOSE(TaxRates,Tables!Z70,Tables!AA70)","v":0.4},0,0,0,null,{"$f":"IF(C27>=RetAge,0,IF(AP27<MIN($AP$13:AP26),MAX($AO$13:AO26)+1,0))","v":0},0,0,{"$f":"CHOOSE(TaxRates,Tables!Z70,Tables!AA70)","v":0.4},0,0,0,null,{"$f":"IF(C27>=RetAge,0,IF(AX27<MIN($AX$13:AX26),MAX($AW$13:AW26)+1,0))","v":0},0,{"$f":"CHOOSE(TaxRates,Tables!Z70,Tables!AA70)","v":0.4},0,0,0,0,null,null,0,0,{"$f":"CHOOSE(TaxRates,Tables!Z70,Tables!AA70)","v":0.4},0,0,0,null,0,{"$f":"CHOOSE(TaxRates,Tables!Z70,Tables!AA70)","v":0.4},0,0,0,0,null,0,{"$f":"CHOOSE(TaxRates,Tables!Z70,Tables!AA70)","v":0.4},0,0,0,0,null,0,2.5000000000000001E-2,0,0,null,0,0,0,0,null,{"$f":"'Illustration Modelling'!K30","v":59},{"$f":"'Illustration Modelling'!M30","v":0},{"$f":"'Illustration Modelling'!O30","v":0},{"$f":"'Illustration Modelling'!P30","v":0},null,0,0,0,null,0,0,0,null,0,0,0]
[16,2030,60,null,0,0,0,null,{"$f":"IF($C28>=RetAge,0,VLOOKUP($B28,Tables!$A$10:$T$126,18,FALSE))","v":28000},{"$f":"IF($C28>=RetAge,0,IF(C28<CatchupAge,0,VLOOKUP($B28,Tables!$A$10:$T$126,20,FALSE)))","v":9000},18500,55500,{"$f":"IF($C28>=RetAge,0,VLOOKUP($B28,Tables!$A$10:$T$126,16,FALSE))","v":82000},55500,{"$f":"IF($C28>=RetAge,0,VLOOKUP($B28,Tables!$A$10:$T$126,18,FALSE))","v":28000},83500,null,0,0,0,0,0,0,0,0,null,0,0,{"$f":"CHOOSE(TaxRates,Tables!Z71,Tables!AA71)","v":0.4},0,0,0,null,0,0,{"$f":"CHOOSE(TaxRates,Tables!Z71,Tables!AA71)","v":0.4},0,0,0,null,{"$f":"IF(C28>=RetAge,0,IF(AP28<MIN($AP$13:AP27),MAX($AO$13:AO27)+1,0))","v":0},0,0,{"$f":"CHOOSE(TaxRates,Tables!Z71,Tables!AA71)","v":0.4},0,0,0,null,{"$f":"IF(C28>=RetAge,0,IF(AX28<MIN($AX$13:AX27),MAX($AW$13:AW27)+1,0))","v":0},0,{"$f":"CHOOSE(TaxRates,Tables!Z71,Tables!AA71)","v":0.4},0,0,0,0,null,null,0,0,{"$f":"CHOOSE(TaxRates,Tables!Z71,Tables!AA71)","v":0.4},0,0,0,null,0,{"$f":"CHOOSE(TaxRates,Tables!Z71,Tables!AA71)","v":0.4},0,0,0,0,null,0,{"$f":"CHOOSE(TaxRates,Tables!Z71,Tables!AA71)","v":0.4},0,0,0,0,null,0,2.5000000000000001E-2,0,0,null,0,0,0,0,null,{"$f":"'Illustration Modelling'!K31","v":60},{"$f":"'Illustration Modelling'!M31","v":0},{"$f":"'Illustration Modelling'!O31","v":0},{"$f":"'Illustration Modelling'!P31","v":0},null,0,0,0,null,0,0,0,null,0,0,0]
[17,2031,61,null,0,0,0,null,{"$f":"IF($C29>=RetAge,0,VLOOKUP($B29,Tables!$A$10:$T$126,18,FALSE))","v":28500},{"$f":"IF($C29>=RetAge,0,IF(C29<CatchupAge,0,VLOOKUP($B29,Tables!$A$10:$T$126,20,FALSE)))","v":9500},19000,57000,{"$f":"IF($C29>=RetAge,0,VLOOKUP($B29,Tables!$A$10:$T$126,16,FALSE))","v":85000},57000,{"$f":"IF($C29>=RetAge,0,VLOOKUP($B29,Tables!$A$10:$T$126,18,FALSE))","v":28500},85500,null,0,0,0,0,0,0,0,0,null,0,0,{"$f":"CHOOSE(TaxRates,Tables!Z72,Tables!AA72)","v":0.4},0,0,0,null,0,0,{"$f":"CHOOSE(TaxRates,Tables!Z72,Tables!AA72)","v":0.4},0,0,0,null,{"$f":"IF(C29>=RetAge,0,IF(AP29<MIN($AP$13:AP28),MAX($AO$13:AO28)+1,0))","v":0},0,0,{"$f":"CHOOSE(TaxRates,Tables!Z72,Tables!AA72)","v":0.4},0,0,0,null,{"$f":"IF(C29>=RetAge,0,IF(AX29<MIN($AX$13:AX28),MAX($AW$13:AW28)+1,0))","v":0},0,{"$f":"CHOOSE(TaxRates,Tables!Z72,Tables!AA72)","v":0.4},0,0,0,0,null,null,0,0,{"$f":"CHOOSE(TaxRates,Tables!Z72,Tables!AA72)","v":0.4},0,0,0,null,0,{"$f":"CHOOSE(TaxRates,Tables!Z72,Tables!AA72)","v":0.4},0,0,0,0,null,0,{"$f":"CHOOSE(TaxRates,Tables!Z72,Tables!AA72)","v":0.4},0,0,0,0,null,0,2.5000000000000001E-2,0,0,null,0,0,0,0,null,{"$f":"'Illustration Modelling'!K32","v":61},{"$f":"'Illustration Modelling'!M32","v":0},{"$f":"'Illustration Modelling'!O32","v":0},{"$f":"'Illustration Modelling'!P32","v":0},null,0,0,0,null,0,0,0,null,0,0,0]
[{"$f":"A29+1","v":18},2032,62,null,0,0,0,null,{"$f":"IF($C30>=RetAge,0,VLOOKUP($B30,Tables!$A$10:$T$126,18,FALSE))","v":29500},{"$f":"IF($C30>=RetAge,0,IF(C30<CatchupAge,0,VLOOKUP($B30,Tables!$A$10:$T$126,20,FALSE)))","v":9500},19500,58500,{"$f":"IF($C30>=RetAge,0,VLOOKUP($B30,Tables!$A$10:$T$126,16,FALSE))","v":87000},58500,{"$f":"IF($C30>=RetAge,0,VLOOKUP($B30,Tables!$A$10:$T$126,18,FALSE))","v":29500},88000,null,0,0,0,0,0,0,0,0,null,0,0,{"$f":"CHOOSE(TaxRates,Tables!Z73,Tables!AA73)","v":0.4},0,0,0,null,0,0,{"$f":"CHOOSE(TaxRates,Tables!Z73,Tables!AA73)","v":0.4},0,0,0,null,{"$f":"IF(C30>=RetAge,0,IF(AP30<MIN($AP$13:AP29),MAX($AO$13:AO29)+1,0))","v":0},0,0,{"$f":"CHOOSE(TaxRates,Tables!Z73,Tables!AA73)","v":0.4},0,0,0,null,{"$f":"IF(C30>=RetAge,0,IF(AX30<MIN($AX$13:AX29),MAX($AW$13:AW29)+1,0))","v":0},0,{"$f":"CHOOSE(TaxRates,Tables!Z73,Tables!AA73)","v":0.4},0,0,0,0,null,null,0,0,{"$f":"CHOOSE(TaxRates,Tables!Z73,Tables!AA73)","v":0.4},0,0,0,null,0,{"$f":"CHOOSE(TaxRates,Tables!Z73,Tables!AA73)","v":0.4},0,0,0,0,null,0,{"$f":"CHOOSE(TaxRates,Tables!Z73,Tables!AA73)","v":0.4},0,0,0,0,null,0,2.5000000000000001E-2,0,0,null,0,0,0,0,null,{"$f":"'Illustration Modelling'!K33","v":62},{"$f":"'Illustration Modelling'!M33","v":0},{"$f":"'Illustration Modelling'!O33","v":0},{"$f":"'Illustration Modelling'!P33","v":0},null,0,0,0,null,0,0,0,null,0,0,0]
[19,2033,63,null,0,0,0,null,{"$f":"IF($C31>=RetAge,0,VLOOKUP($B31,Tables!$A$10:$T$126,18,FALSE))","v":30500},{"$f":"IF($C31>=RetAge,0,IF(C31<CatchupAge,0,VLOOKUP($B31,Tables!$A$10:$T$126,20,FALSE)))","v":10000},20250,60750,{"$f":"IF($C31>=RetAge,0,VLOOKUP($B31,Tables!$A$10:$T$126,16,FALSE))","v":90000},60750,{"$f":"IF($C31>=RetAge,0,VLOOKUP($B31,Tables!$A$10:$T$126,18,FALSE))","v":30500},91250,null,0,0,0,0,0,0,0,0,null,0,0,{"$f":"CHOOSE(TaxRates,Tables!Z74,Tables!AA74)","v":0.4},0,0,0,null,0,0,{"$f":"CHOOSE(TaxRates,Tables!Z74,Tables!AA74)","v":0.4},0,0,0,null,{"$f":"IF(C31>=RetAge,0,IF(AP31<MIN($AP$13:AP30),MAX($AO$13:AO30)+1,0))","v":0},0,0,{"$f":"CHOOSE(TaxRates,Tables!Z74,Tables!AA74)","v":0.4},0,0,0,null,{"$f":"IF(C31>=RetAge,0,IF(AX31<MIN($AX$13:AX30),MAX($AW$13:AW30)+1,0))","v":0},0,{"$f":"CHOOSE(TaxRates,Tables!Z74,Tables!AA74)","v":0.4},0,0,0,0,null,null,0,0,{"$f":"CHOOSE(TaxRates,Tables!Z74,Tables!AA74)","v":0.4},0,0,0,null,0,{"$f":"CHOOSE(TaxRates,Tables!Z74,Tables!AA74)","v":0.4},0,0,0,0,null,0,{"$f":"CHOOSE(TaxRates,Tables!Z74,Tables!AA74)","v":0.4},0,0,0,0,null,0,2.5000000000000001E-2,0,0,null,0,0,0,0,null,{"$f":"'Illustration Modelling'!K34","v":63},{"$f":"'Illustration Modelling'!M34","v":0},{"$f":"'Illustration Modelling'!O34","v":0},{"$f":"'Illustration Modelling'!P34","v":0},null,0,0,0,null,0,0,0,null,0,0,0]
[20,2034,64,null,0,0,0,null,{"$f":"IF($C32>=RetAge,0,VLOOKUP($B32,Tables!$A$10:$T$126,18,FALSE))","v":31500},{"$f":"IF($C32>=RetAge,0,IF(C32<CatchupAge,0,VLOOKUP($B32,Tables!$A$10:$T$126,20,FALSE)))","v":10500},21000,63000,{"$f":"IF($C32>=RetAge,0,VLOOKUP($B32,Tables!$A$10:$T$126,16,FALSE))","v":92000},63000,{"$f":"IF($C32>=RetAge,0,VLOOKUP($B32,Tables!$A$10:$T$126,18,FALSE))","v":31500},94500,null,0,0,0,0,0,0,0,0,null,0,0,{"$f":"CHOOSE(TaxRates,Tables!Z75,Tables!AA75)","v":0.4},0,0,0,null,0,0,{"$f":"CHOOSE(TaxRates,Tables!Z75,Tables!AA75)","v":0.4},0,0,0,null,{"$f":"IF(C32>=RetAge,0,IF(AP32<MIN($AP$13:AP31),MAX($AO$13:AO31)+1,0))","v":0},0,0,{"$f":"CHOOSE(TaxRates,Tables!Z75,Tables!AA75)","v":0.4},0,0,0,null,{"$f":"IF(C32>=RetAge,0,IF(AX32<MIN($AX$13:AX31),MAX($AW$13:AW31)+1,0))","v":0},0,{"$f":"CHOOSE(TaxRates,Tables!Z75,Tables!AA75)","v":0.4},0,0,0,0,null,null,0,0,{"$f":"CHOOSE(TaxRates,Tables!Z75,Tables!AA75)","v":0.4},0,0,0,null,0,{"$f":"CHOOSE(TaxRates,Tables!Z75,Tables!AA75)","v":0.4},0,0,0,0,null,0,{"$f":"CHOOSE(TaxRates,Tables!Z75,Tables!AA75)","v":0.4},0,0,0,0,null,0,2.5000000000000001E-2,0,0,null,0,0,0,0,null,{"$f":"'Illustration Modelling'!K35","v":64},{"$f":"'Illustration Modelling'!M35","v":0},{"$f":"'Illustration Modelling'!O35","v":0},{"$f":"'Illustration Modelling'!P35","v":0},null,0,0,0,null,0,0,0,null,0,0,0]
[21,2035,65,null,0,0,0,null,{"$f":"IF($C33>=RetAge,0,VLOOKUP($B33,Tables!$A$10:$T$126,18,FALSE))","v":0},{"$f":"IF($C33>=RetAge,0,IF(C33<CatchupAge,0,VLOOKUP($B33,Tables!$A$10:$T$126,20,FALSE)))","v":0},0,0,{"$f":"IF($C33>=RetAge,0,VLOOKUP($B33,Tables!$A$10:$T$126,16,FALSE))","v":0},0,{"$f":"IF($C33>=RetAge,0,VLOOKUP($B33,Tables!$A$10:$T$126,18,FALSE))","v":0},0,null,0,0,0,0,0,0,0,0,null,0,0,{"$f":"CHOOSE(TaxRates,Tables!Z76,Tables!AA76)","v":0.4},0,0,0,null,0,0,{"$f":"CHOOSE(TaxRates,Tables!Z76,Tables!AA76)","v":0.4},0,0,0,null,{"$f":"IF(C33>=RetAge,0,IF(AP33<MIN($AP$13:AP32),MAX($AO$13:AO32)+1,0))","v":0},0,0,{"$f":"CHOOSE(TaxRates,Tables!Z76,Tables!AA76)","v":0.4},0,0,0,null,{"$f":"IF(C33>=RetAge,0,IF(AX33<MIN($AX$13:AX32),MAX($AW$13:AW32)+1,0))","v":0},0,{"$f":"CHOOSE(TaxRates,Tables!Z76,Tables!AA76)","v":0.4},0,0,0,0,null,null,0,0,{"$f":"CHOOSE(TaxRates,Tables!Z76,Tables!AA76)","v":0.4},0,0,0,null,0,{"$f":"CHOOSE(TaxRates,Tables!Z76,Tables!AA76)","v":0.4},0,0,0,0,null,0,{"$f":"CHOOSE(TaxRates,Tables!Z76,Tables!AA76)","v":0.4},0,0,0,0,null,0,2.5000000000000001E-2,0,0,null,0,0,0,0,null,{"$f":"'Illustration Modelling'!K36","v":65},{"$f":"'Illustration Modelling'!M36","v":0},{"$f":"'Illustration Modelling'!O36","v":0},{"$f":"'Illustration Modelling'!P36","v":0},null,0,0,0,null,0,0,0,null,0,0,0,{"$f":"RetAge","v":65}]
[22,2036,66,null,0,0,0,null,{"$f":"IF($C34>=RetAge,0,VLOOKUP($B34,Tables!$A$10:$T$126,18,FALSE))","v":0},{"$f":"IF($C34>=RetAge,0,IF(C34<CatchupAge,0,VLOOKUP($B34,Tables!$A$10:$T$126,20,FALSE)))","v":0},0,0,{"$f":"IF($C34>=RetAge,0,VLOOKUP($B34,Tables!$A$10:$T$126,16,FALSE))","v":0},0,{"$f":"IF($C34>=RetAge,0,VLOOKUP($B34,Tables!$A$10:$T$126,18,FALSE))","v":0},0,null,0,0,0,0,0,0,0,0,null,0,0,{"$f":"CHOOSE(TaxRates,Tables!Z77,Tables!AA77)","v":0.4},0,0,0,null,0,0,{"$f":"CHOOSE(TaxRates,Tables!Z77,Tables!AA77)","v":0.4},0,0,0,null,{"$f":"IF(C34>=RetAge,0,IF(AP34<MIN($AP$13:AP33),MAX($AO$13:AO33)+1,0))","v":0},0,0,{"$f":"CHOOSE(TaxRates,Tables!Z77,Tables!AA77)","v":0.4},0,0,0,null,{"$f":"IF(C34>=RetAge,0,IF(AX34<MIN($AX$13:AX33),MAX($AW$13:AW33)+1,0))","v":0},0,{"$f":"CHOOSE(TaxRates,Tables!Z77,Tables!AA77)","v":0.4},0,0,0,0,null,null,0,0,{"$f":"CHOOSE(TaxRates,Tables!Z77,Tables!AA77)","v":0.4},0,0,0,null,0,{"$f":"CHOOSE(TaxRates,Tables!Z77,Tables!AA77)","v":0.4},0,0,0,0,null,0,{"$f":"CHOOSE(TaxRates,Tables!Z77,Tables!AA77)","v":0.4},0,0,0,0,null,0,2.5000000000000001E-2,0,0,null,0,0,0,0,null,{"$f":"'Illustration Modelling'!K37","v":66},{"$f":"'Illustration Modelling'!M37","v":0},{"$f":"'Illustration Modelling'!O37","v":0},{"$f":"'Illustration Modelling'!P37","v":0},null,0,0,0,null,0,0,0,null,0,0,0]
[23,2037,67,null,0,0,0,null,{"$f":"IF($C35>=RetAge,0,VLOOKUP($B35,Tables!$A$10:$T$126,18,FALSE))","v":0},{"$f":"IF($C35>=RetAge,0,IF(C35<CatchupAge,0,VLOOKUP($B35,Tables!$A$10:$T$126,20,FALSE)))","v":0},0,0,{"$f":"IF($C35>=RetAge,0,VLOOKUP($B35,Tables!$A$10:$T$126,16,FALSE))","v":0},0,{"$f":"IF($C35>=RetAge,0,VLOOKUP($B35,Tables!$A$10:$T$126,18,FALSE))","v":0},0,null,0,0,0,0,0,0,0,0,null,0,0,{"$f":"CHOOSE(TaxRates,Tables!Z78,Tables!AA78)","v":0.4},0,0,0,null,0,0,{"$f":"CHOOSE(TaxRates,Tables!Z78,Tables!AA78)","v":0.4},0,0,0,null,{"$f":"IF(C35>=RetAge,0,IF(AP35<MIN($AP$13:AP34),MAX($AO$13:AO34)+1,0))","v":0},0,0,{"$f":"CHOOSE(TaxRates,Tables!Z78,Tables!AA78)","v":0.4},0,0,0,null,{"$f":"IF(C35>=RetAge,0,IF(AX35<MIN($AX$13:AX34),MAX($AW$13:AW34)+1,0))","v":0},0,{"$f":"CHOOSE(TaxRates,Tables!Z78,Tables!AA78)","v":0.4},0,0,0,0,null,null,0,0,{"$f":"CHOOSE(TaxRates,Tables!Z78,Tables!AA78)","v":0.4},0,0,0,null,0,{"$f":"CHOOSE(TaxRates,Tables!Z78,Tables!AA78)","v":0.4},0,0,0,0,null,0,{"$f":"CHOOSE(TaxRates,Tables!Z78,Tables!AA78)","v":0.4},0,0,0,0,null,0,2.5000000000000001E-2,0,0,null,0,0,0,0,null,{"$f":"'Illustration Modelling'!K38","v":67},{"$f":"'Illustration Modelling'!M38","v":0},{"$f":"'Illustration Modelling'!O38","v":0},{"$f":"'Illustration Modelling'!P38","v":0},null,0,0,0,null,0,0,0,null,0,0,0]
[24,2038,68,null,0,0,0,null,{"$f":"IF($C36>=RetAge,0,VLOOKUP($B36,Tables!$A$10:$T$126,18,FALSE))","v":0},{"$f":"IF($C36>=RetAge,0,IF(C36<CatchupAge,0,VLOOKUP($B36,Tables!$A$10:$T$126,20,FALSE)))","v":0},0,0,{"$f":"IF($C36>=RetAge,0,VLOOKUP($B36,Tables!$A$10:$T$126,16,FALSE))","v":0},0,{"$f":"IF($C36>=RetAge,0,VLOOKUP($B36,Tables!$A$10:$T$126,18,FALSE))","v":0},0,null,0,0,0,0,0,0,0,0,null,0,0,{"$f":"CHOOSE(TaxRates,Tables!Z79,Tables!AA79)","v":0.4},0,0,0,null,0,0,{"$f":"CHOOSE(TaxRates,Tables!Z79,Tables!AA79)","v":0.4},0,0,0,null,{"$f":"IF(C36>=RetAge,0,IF(AP36<MIN($AP$13:AP35),MAX($AO$13:AO35)+1,0))","v":0},0,0,{"$f":"CHOOSE(TaxRates,Tables!Z79,Tables!AA79)","v":0.4},0,0,0,null,{"$f":"IF(C36>=RetAge,0,IF(AX36<MIN($AX$13:AX35),MAX($AW$13:AW35)+1,0))","v":0},0,{"$f":"CHOOSE(TaxRates,Tables!Z79,Tables!AA79)","v":0.4},0,0,0,0,null,null,0,0,{"$f":"CHOOSE(TaxRates,Tables!Z79,Tables!AA79)","v":0.4},0,0,0,null,0,{"$f":"CHOOSE(TaxRates,Tables!Z79,Tables!AA79)","v":0.4},0,0,0,0,null,0,{"$f":"CHOOSE(TaxRates,Tables!Z79,Tables!AA79)","v":0.4},0,0,0,0,null,0,2.5000000000000001E-2,0,0,null,0,0,0,0,null,{"$f":"'Illustration Modelling'!K39","v":68},{"$f":"'Illustration Modelling'!M39","v":0},{"$f":"'Illustration Modelling'!O39","v":0},{"$f":"'Illustration Modelling'!P39","v":0},null,0,0,0,null,0,0,0,null,0,0,0]
[25,2039,69,null,0,0,0,null,{"$f":"IF($C37>=RetAge,0,VLOOKUP($B37,Tables!$A$10:$T$126,18,FALSE))","v":0},{"$f":"IF($C37>=RetAge,0,IF(C37<CatchupAge,0,VLOOKUP($B37,Tables!$A$10:$T$126,20,FALSE)))","v":0},0,0,{"$f":"IF($C37>=RetAge,0,VLOOKUP($B37,Tables!$A$10:$T$126,16,FALSE))","v":0},0,{"$f":"IF($C37>=RetAge,0,VLOOKUP($B37,Tables!$A$10:$T$126,18,FALSE))","v":0},0,null,0,0,0,0,0,0,0,0,null,0,0,{"$f":"CHOOSE(TaxRates,Tables!Z80,Tables!AA80)","v":0.4},0,0,0,null,0,0,{"$f":"CHOOSE(TaxRates,Tables!Z80,Tables!AA80)","v":0.4},0,0,0,null,{"$f":"IF(C37>=RetAge,0,IF(AP37<MIN($AP$13:AP36),MAX($AO$13:AO36)+1,0))","v":0},0,0,{"$f":"CHOOSE(TaxRates,Tables!Z80,Tables!AA80)","v":0.4},0,0,0,null,{"$f":"IF(C37>=RetAge,0,IF(AX37<MIN($AX$13:AX36),MAX($AW$13:AW36)+1,0))","v":0},0,{"$f":"CHOOSE(TaxRates,Tables!Z80,Tables!AA80)","v":0.4},0,0,0,0,null,null,0,0,{"$f":"CHOOSE(TaxRates,Tables!Z80,Tables!AA80)","v":0.4},0,0,0,null,0,{"$f":"CHOOSE(TaxRates,Tables!Z80,Tables!AA80)","v":0.4},0,0,0,0,null,0,{"$f":"CHOOSE(TaxRates,Tables!Z80,Tables!AA80)","v":0.4},0,0,0,0,null,0,2.5000000000000001E-2,0,0,null,0,0,0,0,null,{"$f":"'Illustration Modelling'!K40","v":69},{"$f":"'Illustration Modelling'!M40","v":0},{"$f":"'Illustration Modelling'!O40","v":0},{"$f":"'Illustration Modelling'!P40","v":0},null,0,0,0,null,0,0,0,null,0,0,0]
[26,2040,70,null,0,0,0,null,{"$f":"IF($C38>=RetAge,0,VLOOKUP($B38,Tables!$A$10:$T$126,18,FALSE))","v":0},{"$f":"IF($C38>=RetAge,0,IF(C38<CatchupAge,0,VLOOKUP($B38,Tables!$A$10:$T$126,20,FALSE)))","v":0},0,0,{"$f":"IF($C38>=RetAge,0,VLOOKUP($B38,Tables!$A$10:$T$126,16,FALSE))","v":0},0,{"$f":"IF($C38>=RetAge,0,VLOOKUP($B38,Tables!$A$10:$T$126,18,FALSE))","v":0},0,null,0,0,0,0,0,0,0,0,null,0,0,{"$f":"CHOOSE(TaxRates,Tables!Z81,Tables!AA81)","v":0.4},0,0,0,null,0,0,{"$f":"CHOOSE(TaxRates,Tables!Z81,Tables!AA81)","v":0.4},0,0,0,null,{"$f":"IF(C38>=RetAge,0,IF(AP38<MIN($AP$13:AP37),MAX($AO$13:AO37)+1,0))","v":0},0,0,{"$f":"CHOOSE(TaxRates,Tables!Z81,Tables!AA81)","v":0.4},0,0,0,null,{"$f":"IF(C38>=RetAge,0,IF(AX38<MIN($AX$13:AX37),MAX($AW$13:AW37)+1,0))","v":0},0,{"$f":"CHOOSE(TaxRates,Tables!Z81,Tables!AA81)","v":0.4},0,0,0,0,null,null,0,0,{"$f":"CHOOSE(TaxRates,Tables!Z81,Tables!AA81)","v":0.4},0,0,0,null,0,{"$f":"CHOOSE(TaxRates,Tables!Z81,Tables!AA81)","v":0.4},0,0,0,0,null,0,{"$f":"CHOOSE(TaxRates,Tables!Z81,Tables!AA81)","v":0.4},0,0,0,0,null,0,2.5000000000000001E-2,0,0,null,0,0,0,0,null,{"$f":"'Illustration Modelling'!K41","v":70},{"$f":"'Illustration Modelling'!M41","v":0},{"$f":"'Illustration Modelling'!O41","v":0},{"$f":"'Illustration Modelling'!P41","v":0},null,0,0,0,null,0,0,0,null,0,0,0]
[27,2041,71,null,0,0,0,null,{"$f":"IF($C39>=RetAge,0,VLOOKUP($B39,Tables!$A$10:$T$126,18,FALSE))","v":0},{"$f":"IF($C39>=RetAge,0,IF(C39<CatchupAge,0,VLOOKUP($B39,Tables!$A$10:$T$126,20,FALSE)))","v":0},0,0,{"$f":"IF($C39>=RetAge,0,VLOOKUP($B39,Tables!$A$10:$T$126,16,FALSE))","v":0},0,{"$f":"IF($C39>=RetAge,0,VLOOKUP($B39,Tables!$A$10:$T$126,18,FALSE))","v":0},0,null,0,0,0,0,0,0,0,0,null,0,0,{"$f":"CHOOSE(TaxRates,Tables!Z82,Tables!AA82)","v":0.4},0,0,0,null,0,0,{"$f":"CHOOSE(TaxRates,Tables!Z82,Tables!AA82)","v":0.4},0,0,0,null,{"$f":"IF(C39>=RetAge,0,IF(AP39<MIN($AP$13:AP38),MAX($AO$13:AO38)+1,0))","v":0},0,0,{"$f":"CHOOSE(TaxRates,Tables!Z82,Tables!AA82)","v":0.4},0,0,0,null,{"$f":"IF(C39>=RetAge,0,IF(AX39<MIN($AX$13:AX38),MAX($AW$13:AW38)+1,0))","v":0},0,{"$f":"CHOOSE(TaxRates,Tables!Z82,Tables!AA82)","v":0.4},0,0,0,0,null,null,0,0,{"$f":"CHOOSE(TaxRates,Tables!Z82,Tables!AA82)","v":0.4},0,0,0,null,0,{"$f":"CHOOSE(TaxRates,Tables!Z82,Tables!AA82)","v":0.4},0,0,0,0,null,0,{"$f":"CHOOSE(TaxRates,Tables!Z82,Tables!AA82)","v":0.4},0,0,0,0,null,0,2.5000000000000001E-2,0,0,null,0,0,0,0,null,{"$f":"'Illustration Modelling'!K42","v":71},{"$f":"'Illustration Modelling'!M42","v":0},{"$f":"'Illustration Modelling'!O42","v":0},{"$f":"'Illustration Modelling'!P42","v":0},null,0,0,0,null,0,0,0,null,0,0,0]
[28,2042,72,null,0,0,0,null,{"$f":"IF($C40>=RetAge,0,VLOOKUP($B40,Tables!$A$10:$T$126,18,FALSE))","v":0},{"$f":"IF($C40>=RetAge,0,IF(C40<CatchupAge,0,VLOOKUP($B40,Tables!$A$10:$T$126,20,FALSE)))","v":0},0,0,{"$f":"IF($C40>=RetAge,0,VLOOKUP($B40,Tables!$A$10:$T$126,16,FALSE))","v":0},0,{"$f":"IF($C40>=RetAge,0,VLOOKUP($B40,Tables!$A$10:$T$126,18,FALSE))","v":0},0,null,0,0,0,0,0,0,0,0,null,0,0,{"$f":"CHOOSE(TaxRates,Tables!Z83,Tables!AA83)","v":0.4},0,0,0,null,0,0,{"$f":"CHOOSE(TaxRates,Tables!Z83,Tables!AA83)","v":0.4},0,0,0,null,{"$f":"IF(C40>=RetAge,0,IF(AP40<MIN($AP$13:AP39),MAX($AO$13:AO39)+1,0))","v":0},0,0,{"$f":"CHOOSE(TaxRates,Tables!Z83,Tables!AA83)","v":0.4},0,0,0,null,{"$f":"IF(C40>=RetAge,0,IF(AX40<MIN($AX$13:AX39),MAX($AW$13:AW39)+1,0))","v":0},0,{"$f":"CHOOSE(TaxRates,Tables!Z83,Tables!AA83)","v":0.4},0,0,0,0,null,null,0,0,{"$f":"CHOOSE(TaxRates,Tables!Z83,Tables!AA83)","v":0.4},0,0,0,null,0,{"$f":"CHOOSE(TaxRates,Tables!Z83,Tables!AA83)","v":0.4},0,0,0,0,null,0,{"$f":"CHOOSE(TaxRates,Tables!Z83,Tables!AA83)","v":0.4},0,0,0,0,null,0,2.5000000000000001E-2,0,0,null,0,0,0,0,null,{"$f":"'Illustration Modelling'!K43","v":72},{"$f":"'Illustration Modelling'!M43","v":0},{"$f":"'Illustration Modelling'!O43","v":0},{"$f":"'Illustration Modelling'!P43","v":0},null,0,0,0,null,0,0,0,null,0,0,0]
[29,2043,73,null,0,0,0,null,{"$f":"IF($C41>=RetAge,0,VLOOKUP($B41,Tables!$A$10:$T$126,18,FALSE))","v":0},{"$f":"IF($C41>=RetAge,0,IF(C41<CatchupAge,0,VLOOKUP($B41,Tables!$A$10:$T$126,20,FALSE)))","v":0},0,0,{"$f":"IF($C41>=RetAge,0,VLOOKUP($B41,Tables!$A$10:$T$126,16,FALSE))","v":0},0,{"$f":"IF($C41>=RetAge,0,VLOOKUP($B41,Tables!$A$10:$T$126,18,FALSE))","v":0},0,null,0,0,0,0,0,0,0,0,null,0,0,{"$f":"CHOOSE(TaxRates,Tables!Z84,Tables!AA84)","v":0.4},0,0,0,null,0,0,{"$f":"CHOOSE(TaxRates,Tables!Z84,Tables!AA84)","v":0.4},0,0,0,null,{"$f":"IF(C41>=RetAge,0,IF(AP41<MIN($AP$13:AP40),MAX($AO$13:AO40)+1,0))","v":0},0,0,{"$f":"CHOOSE(TaxRates,Tables!Z84,Tables!AA84)","v":0.4},0,0,0,null,{"$f":"IF(C41>=RetAge,0,IF(AX41<MIN($AX$13:AX40),MAX($AW$13:AW40)+1,0))","v":0},0,{"$f":"CHOOSE(TaxRates,Tables!Z84,Tables!AA84)","v":0.4},0,0,0,0,null,null,0,0,{"$f":"CHOOSE(TaxRates,Tables!Z84,Tables!AA84)","v":0.4},0,0,0,null,0,{"$f":"CHOOSE(TaxRates,Tables!Z84,Tables!AA84)","v":0.4},0,0,0,0,null,0,{"$f":"CHOOSE(TaxRates,Tables!Z84,Tables!AA84)","v":0.4},0,0,0,0,null,0,2.5000000000000001E-2,0,0,null,0,0,0,0,null,{"$f":"'Illustration Modelling'!K44","v":73},{"$f":"'Illustration Modelling'!M44","v":0},{"$f":"'Illustration Modelling'!O44","v":0},{"$f":"'Illustration Modelling'!P44","v":0},null,0,0,0,null,0,0,0,null,0,0,0]
[30,2044,74,null,0,0,0,null,{"$f":"IF($C42>=RetAge,0,VLOOKUP($B42,Tables!$A$10:$T$126,18,FALSE))","v":0},{"$f":"IF($C42>=RetAge,0,IF(C42<CatchupAge,0,VLOOKUP($B42,Tables!$A$10:$T$126,20,FALSE)))","v":0},0,0,{"$f":"IF($C42>=RetAge,0,VLOOKUP($B42,Tables!$A$10:$T$126,16,FALSE))","v":0},0,{"$f":"IF($C42>=RetAge,0,VLOOKUP($B42,Tables!$A$10:$T$126,18,FALSE))","v":0},0,null,0,0,0,0,0,0,0,0,null,0,0,{"$f":"CHOOSE(TaxRates,Tables!Z85,Tables!AA85)","v":0.4},0,0,0,null,0,0,{"$f":"CHOOSE(TaxRates,Tables!Z85,Tables!AA85)","v":0.4},0,0,0,null,{"$f":"IF(C42>=RetAge,0,IF(AP42<MIN($AP$13:AP41),MAX($AO$13:AO41)+1,0))","v":0},0,0,{"$f":"CHOOSE(TaxRates,Tables!Z85,Tables!AA85)","v":0.4},0,0,0,null,{"$f":"IF(C42>=RetAge,0,IF(AX42<MIN($AX$13:AX41),MAX($AW$13:AW41)+1,0))","v":0},0,{"$f":"CHOOSE(TaxRates,Tables!Z85,Tables!AA85)","v":0.4},0,0,0,0,null,null,0,0,{"$f":"CHOOSE(TaxRates,Tables!Z85,Tables!AA85)","v":0.4},0,0,0,null,0,{"$f":"CHOOSE(TaxRates,Tables!Z85,Tables!AA85)","v":0.4},0,0,0,0,null,0,{"$f":"CHOOSE(TaxRates,Tables!Z85,Tables!AA85)","v":0.4},0,0,0,0,null,0,2.5000000000000001E-2,0,0,null,0,0,0,0,null,{"$f":"'Illustration Modelling'!K45","v":74},{"$f":"'Illustration Modelling'!M45","v":0},{"$f":"'Illustration Modelling'!O45","v":0},{"$f":"'Illustration Modelling'!P45","v":0},null,0,0,0,null,0,0,0,null,0,0,0]
[31,2045,75,null,0,0,0,null,{"$f":"IF($C43>=RetAge,0,VLOOKUP($B43,Tables!$A$10:$T$126,18,FALSE))","v":0},{"$f":"IF($C43>=RetAge,0,IF(C43<CatchupAge,0,VLOOKUP($B43,Tables!$A$10:$T$126,20,FALSE)))","v":0},0,0,{"$f":"IF($C43>=RetAge,0,VLOOKUP($B43,Tables!$A$10:$T$126,16,FALSE))","v":0},0,{"$f":"IF($C43>=RetAge,0,VLOOKUP($B43,Tables!$A$10:$T$126,18,FALSE))","v":0},0,null,0,0,0,0,0,0,0,0,null,0,0,{"$f":"CHOOSE(TaxRates,Tables!Z86,Tables!AA86)","v":0.4},0,0,0,null,0,0,{"$f":"CHOOSE(TaxRates,Tables!Z86,Tables!AA86)","v":0.4},0,0,0,null,{"$f":"IF(C43>=RetAge,0,IF(AP43<MIN($AP$13:AP42),MAX($AO$13:AO42)+1,0))","v":0},0,0,{"$f":"CHOOSE(TaxRates,Tables!Z86,Tables!AA86)","v":0.4},0,0,0,null,{"$f":"IF(C43>=RetAge,0,IF(AX43<MIN($AX$13:AX42),MAX($AW$13:AW42)+1,0))","v":0},0,{"$f":"CHOOSE(TaxRates,Tables!Z86,Tables!AA86)","v":0.4},0,0,0,0,null,null,0,0,{"$f":"CHOOSE(TaxRates,Tables!Z86,Tables!AA86)","v":0.4},0,0,0,null,0,{"$f":"CHOOSE(TaxRates,Tables!Z86,Tables!AA86)","v":0.4},0,0,0,0,null,0,{"$f":"CHOOSE(TaxRates,Tables!Z86,Tables!AA86)","v":0.4},0,0,0,0,null,0,2.5000000000000001E-2,0,0,null,0,0,0,0,null,{"$f":"'Illustration Modelling'!K46","v":75},{"$f":"'Illustration Modelling'!M46","v":0},{"$f":"'Illustration Modelling'!O46","v":0},{"$f":"'Illustration Modelling'!P46","v":0},null,0,0,0,null,0,0,0,null,0,0,0]
[32,2046,76,null,0,0,0,null,{"$f":"IF($C44>=RetAge,0,VLOOKUP($B44,Tables!$A$10:$T$126,18,FALSE))","v":0},{"$f":"IF($C44>=RetAge,0,IF(C44<CatchupAge,0,VLOOKUP($B44,Tables!$A$10:$T$126,20,FALSE)))","v":0},0,0,{"$f":"IF($C44>=RetAge,0,VLOOKUP($B44,Tables!$A$10:$T$126,16,FALSE))","v":0},0,{"$f":"IF($C44>=RetAge,0,VLOOKUP($B44,Tables!$A$10:$T$126,18,FALSE))","v":0},0,null,0,0,0,0,0,0,0,0,null,0,0,{"$f":"CHOOSE(TaxRates,Tables!Z87,Tables!AA87)","v":0.4},0,0,0,null,0,0,{"$f":"CHOOSE(TaxRates,Tables!Z87,Tables!AA87)","v":0.4},0,0,0,null,{"$f":"IF(C44>=RetAge,0,IF(AP44<MIN($AP$13:AP43),MAX($AO$13:AO43)+1,0))","v":0},0,0,{"$f":"CHOOSE(TaxRates,Tables!Z87,Tables!AA87)","v":0.4},0,0,0,null,{"$f":"IF(C44>=RetAge,0,IF(AX44<MIN($AX$13:AX43),MAX($AW$13:AW43)+1,0))","v":0},0,{"$f":"CHOOSE(TaxRates,Tables!Z87,Tables!AA87)","v":0.4},0,0,0,0,null,null,0,0,{"$f":"CHOOSE(TaxRates,Tables!Z87,Tables!AA87)","v":0.4},0,0,0,null,0,{"$f":"CHOOSE(TaxRates,Tables!Z87,Tables!AA87)","v":0.4},0,0,0,0,null,0,{"$f":"CHOOSE(TaxRates,Tables!Z87,Tables!AA87)","v":0.4},0,0,0,0,null,0,2.5000000000000001E-2,0,0,null,0,0,0,0,null,{"$f":"'Illustration Modelling'!K47","v":76},{"$f":"'Illustration Modelling'!M47","v":0},{"$f":"'Illustration Modelling'!O47","v":0},{"$f":"'Illustration Modelling'!P47","v":0},null,0,0,0,null,0,0,0,null,0,0,0]
[33,2047,77,null,0,0,0,null,{"$f":"IF($C45>=RetAge,0,VLOOKUP($B45,Tables!$A$10:$T$126,18,FALSE))","v":0},{"$f":"IF($C45>=RetAge,0,IF(C45<CatchupAge,0,VLOOKUP($B45,Tables!$A$10:$T$126,20,FALSE)))","v":0},{"$f":"IF($C45>=RetAge,0,(I45+J45)*MachtingERCont)","v":0},0,{"$f":"IF($C45>=RetAge,0,VLOOKUP($B45,Tables!$A$10:$T$126,16,FALSE))","v":0},0,{"$f":"IF($C45>=RetAge,0,VLOOKUP($B45,Tables!$A$10:$T$126,18,FALSE))","v":0},0,null,{"$f":"IF($C45>=RetAge,0,IF(TargetMethod1=1,TargetContribPercent*G45,IF(TargetMethod2=1,TargetContribDollarAmt,0)))","v":0},0,0,{"$f":"IF($C45>=RetAge,0,(S45+T45)*MachtingERCont)","v":0},0,0,0,0,null,{"$f":"IF(TargetMethod3=1,I45+J45,S45+T45)","v":0},{"$f":"IF($C45<RetAge,0,IF($C45<RetAge+RetDistYrs,AnnRet403b,0))","v":0},{"$f":"CHOOSE(TaxRates,Tables!Z88,Tables!AA88)","v":0.4},0,0,0,null,{"$f":"IF(TargetMethod3=1,K45,U45)","v":0},{"$f":"IF($C45<RetAge,0,IF($C45<RetAge+RetDistYrs,AnnRet403bERMatch,0))","v":0},{"$f":"CHOOSE(TaxRates,Tables!Z88,Tables!AA88)","v":0.4},0,0,0,null,{"$f":"IF(C45>=RetAge,0,IF(AP45<MIN($AP$13:AP44),MAX($AO$13:AO44)+1,0))","v":0},{"$f":"IF(TargetMethod3=1,O45,W45)","v":0},{"$f":"IF($C45<RetAge,0,IF($C45<RetAge+RetDistYrs,AnnRet457b,0))","v":0},{"$f":"CHOOSE(TaxRates,Tables!Z88,Tables!AA88)","v":0.4},0,0,0,null,{"$f":"IF(C45>=RetAge,0,IF(AX45<MIN($AX$13:AX44),MAX($AW$13:AW44)+1,0))","v":0},{"$f":"IF(TargetMethod3=1,0,Y45)","v":0},{"$f":"CHOOSE(TaxRates,Tables!Z88,Tables!AA88)","v":0.4},0,{"$f":"IF($C45<RetAge,0,IF($C45<RetAge+RetDistYrs,AnnRetATSavingsAT,0))","v":0},0,0,null,null,{"$f":"IF($C45>=RetAge,0,Redirected457b)","v":0},{"$f":"IF($C45<RetAge,0,IF($C45<RetAge+RetDistYrs,AnnRetRedirected457b,0))","v":0},{"$f":"CHOOSE(TaxRates,Tables!Z88,Tables!AA88)","v":0.4},0,0,0,null,{"$f":"IF($C45>=RetAge,0,RedirectedAT)","v":0},{"$f":"CHOOSE(TaxRates,Tables!Z88,Tables!AA88)","v":0.4},0,{"$f":"IF($C45<RetAge,0,IF($C45<RetAge+RetDistYrs,AnnRetRedirectedATSavingsAT,0))","v":0},0,0,null,{"$f":"IF($C45>=RetAge,0,RedirectedContribs)","v":0},{"$f":"CHOOSE(TaxRates,Tables!Z88,Tables!AA88)","v":0.4},0,0,0,0,null,0,2.5000000000000001E-2,0,0,null,{"$f":"IF(C45=RetAge,$CL$4,0)","v":0},{"$f":"IF(CL45>0,CL45-CF45,0)+IF($C45=Death_Age,CN45,0)","v":0},{"$f":"IF(C45<Death_Age,CM45-CA45,0)","v":0},{"$f":"IF(C45<Death_Age,CN45-CA45,0)","v":0},null,{"$f":"'Illustration Modelling'!K48","v":77},{"$f":"'Illustration Modelling'!M48","v":0},{"$f":"'Illustration Modelling'!O48","v":0},{"$f":"'Illustration Modelling'!P48","v":0},null,0,0,0,null,0,{"$f":"Corp_Tax_Rate","v":0},0,null,0,0,0]
[{"$f":"A45+1","v":34},2048,78,null,{"$f":"IF($C46>=RetAge,0,E45*(1+CompGrowthRate))","v":0},{"$f":"IF($C46>=RetAge,0,F45*(1+CompGrowthRate))","v":0},0,null,{"$f":"IF($C46>=RetAge,0,VLOOKUP($B46,Tables!$A$10:$T$126,18,FALSE))","v":0},{"$f":"IF($C46>=RetAge,0,IF(C46<CatchupAge,0,VLOOKUP($B46,Tables!$A$10:$T$126,20,FALSE)))","v":0},0,0,{"$f":"IF($C46>=RetAge,0,VLOOKUP($B46,Tables!$A$10:$T$126,16,FALSE))","v":0},0,{"$f":"IF($C46>=RetAge,0,VLOOKUP($B46,Tables!$A$10:$T$126,18,FALSE))","v":0},0,null,0,0,0,0,0,0,0,0,null,0,0,{"$f":"CHOOSE(TaxRates,Tables!Z89,Tables!AA89)","v":0.4},0,{"$f":"(AA46+AB46+AF45)*AcctBalGrowth","v":0},0,null,0,0,{"$f":"CHOOSE(TaxRates,Tables!Z89,Tables!AA89)","v":0.4},0,{"$f":"(AH46+AI46+AM45)*AcctBalGrowth","v":0},0,null,{"$f":"IF(C46>=RetAge,0,IF(AP46<MIN($AP$13:AP45),MAX($AO$13:AO45)+1,0))","v":0},0,0,{"$f":"CHOOSE(TaxRates,Tables!Z89,Tables!AA89)","v":0.4},0,{"$f":"(AP46+AQ46+AU45)*AcctBalGrowth","v":0},0,null,{"$f":"IF(C46>=RetAge,0,IF(AX46<MIN($AX$13:AX45),MAX($AW$13:AW45)+1,0))","v":0},0,{"$f":"CHOOSE(TaxRates,Tables!Z89,Tables!AA89)","v":0.4},0,0,{"$f":"(AZ46+BA46+BC45)*AcctBalGrowth*(1-EEBlendedTaxRate)","v":0},0,null,null,0,0,{"$f":"CHOOSE(TaxRates,Tables!Z89,Tables!AA89)","v":0.4},0,0,0,null,0,{"$f":"CHOOSE(TaxRates,Tables!Z89,Tables!AA89)","v":0.4},0,0,0,0,null,0,{"$f":"CHOOSE(TaxRates,Tables!Z89,Tables!AA89)","v":0.4},0,0,0,0,null,0,2.5000000000000001E-2,0,0,null,0,0,0,0,null,{"$f":"'Illustration Modelling'!K49","v":78},{"$f":"'Illustration Modelling'!M49","v":0},{"$f":"'Illustration Modelling'!O49","v":0},{"$f":"'Illustration Modelling'!P49","v":0},null,0,0,0,null,0,0,0,null,0,0,0]
[35,2049,79,null,0,0,0,null,{"$f":"IF($C47>=RetAge,0,VLOOKUP($B47,Tables!$A$10:$T$126,18,FALSE))","v":0},{"$f":"IF($C47>=RetAge,0,IF(C47<CatchupAge,0,VLOOKUP($B47,Tables!$A$10:$T$126,20,FALSE)))","v":0},0,0,{"$f":"IF($C47>=RetAge,0,VLOOKUP($B47,Tables!$A$10:$T$126,16,FALSE))","v":0},0,{"$f":"IF($C47>=RetAge,0,VLOOKUP($B47,Tables!$A$10:$T$126,18,FALSE))","v":0},0,null,0,0,0,0,0,0,0,0,null,0,0,{"$f":"CHOOSE(TaxRates,Tables!Z90,Tables!AA90)","v":0.4},0,0,0,null,0,0,{"$f":"CHOOSE(TaxRates,Tables!Z90,Tables!AA90)","v":0.4},0,0,0,null,{"$f":"IF(C47>=RetAge,0,IF(AP47<MIN($AP$13:AP46),MAX($AO$13:AO46)+1,0))","v":0},0,0,{"$f":"CHOOSE(TaxRates,Tables!Z90,Tables!AA90)","v":0.4},0,0,0,null,{"$f":"IF(C47>=RetAge,0,IF(AX47<MIN($AX$13:AX46),MAX($AW$13:AW46)+1,0))","v":0},0,{"$f":"CHOOSE(TaxRates,Tables!Z90,Tables!AA90)","v":0.4},0,0,0,0,null,null,0,0,{"$f":"CHOOSE(TaxRates,Tables!Z90,Tables!AA90)","v":0.4},0,0,0,null,0,{"$f":"CHOOSE(TaxRates,Tables!Z90,Tables!AA90)","v":0.4},0,0,0,0,null,0,{"$f":"CHOOSE(TaxRates,Tables!Z90,Tables!AA90)","v":0.4},0,0,0,0,null,0,2.5000000000000001E-2,0,0,null,0,0,0,0,null,{"$f":"'Illustration Modelling'!K50","v":79},{"$f":"'Illustration Modelling'!M50","v":0},{"$f":"'Illustration Modelling'!O50","v":0},{"$f":"'Illustration Modelling'!P50","v":0},null,0,0,0,null,0,0,0,null,0,0,0]
[36,2050,80,null,0,0,0,null,{"$f":"IF($C48>=RetAge,0,VLOOKUP($B48,Tables!$A$10:$T$126,18,FALSE))","v":0},{"$f":"IF($C48>=RetAge,0,IF(C48<CatchupAge,0,VLOOKUP($B48,Tables!$A$10:$T$126,20,FALSE)))","v":0},0,0,{"$f":"IF($C48>=RetAge,0,VLOOKUP($B48,Tables!$A$10:$T$126,16,FALSE))","v":0},0,{"$f":"IF($C48>=RetAge,0,VLOOKUP($B48,Tables!$A$10:$T$126,18,FALSE))","v":0},0,null,0,0,0,0,0,0,0,0,null,0,0,{"$f":"CHOOSE(TaxRates,Tables!Z91,Tables!AA91)","v":0.4},0,0,0,null,0,0,{"$f":"CHOOSE(TaxRates,Tables!Z91,Tables!AA91)","v":0.4},0,0,0,null,{"$f":"IF(C48>=RetAge,0,IF(AP48<MIN($AP$13:AP47),MAX($AO$13:AO47)+1,0))","v":0},0,0,{"$f":"CHOOSE(TaxRates,Tables!Z91,Tables!AA91)","v":0.4},0,0,0,null,{"$f":"IF(C48>=RetAge,0,IF(AX48<MIN($AX$13:AX47),MAX($AW$13:AW47)+1,0))","v":0},0,{"$f":"CHOOSE(TaxRates,Tables!Z91,Tables!AA91)","v":0.4},0,0,0,0,null,null,0,0,{"$f":"CHOOSE(TaxRates,Tables!Z91,Tables!AA91)","v":0.4},0,0,0,null,0,{"$f":"CHOOSE(TaxRates,Tables!Z91,Tables!AA91)","v":0.4},0,0,0,0,null,0,{"$f":"CHOOSE(TaxRates,Tables!Z91,Tables!AA91)","v":0.4},0,0,0,0,null,0,2.5000000000000001E-2,0,0,null,0,0,0,0,null,{"$f":"'Illustration Modelling'!K51","v":80},{"$f":"'Illustration Modelling'!M51","v":0},{"$f":"'Illustration Modelling'!O51","v":0},{"$f":"'Illustration Modelling'!P51","v":0},null,0,0,0,null,0,0,0,null,0,0,0]
[37,2051,81,null,0,0,0,null,{"$f":"IF($C49>=RetAge,0,VLOOKUP($B49,Tables!$A$10:$T$126,18,FALSE))","v":0},{"$f":"IF($C49>=RetAge,0,IF(C49<CatchupAge,0,VLOOKUP($B49,Tables!$A$10:$T$126,20,FALSE)))","v":0},0,0,{"$f":"IF($C49>=RetAge,0,VLOOKUP($B49,Tables!$A$10:$T$126,16,FALSE))","v":0},0,{"$f":"IF($C49>=RetAge,0,VLOOKUP($B49,Tables!$A$10:$T$126,18,FALSE))","v":0},0,null,0,0,0,0,0,0,0,0,null,0,0,{"$f":"CHOOSE(TaxRates,Tables!Z92,Tables!AA92)","v":0.4},0,0,0,null,0,0,{"$f":"CHOOSE(TaxRates,Tables!Z92,Tables!AA92)","v":0.4},0,0,0,null,{"$f":"IF(C49>=RetAge,0,IF(AP49<MIN($AP$13:AP48),MAX($AO$13:AO48)+1,0))","v":0},0,0,{"$f":"CHOOSE(TaxRates,Tables!Z92,Tables!AA92)","v":0.4},0,0,0,null,{"$f":"IF(C49>=RetAge,0,IF(AX49<MIN($AX$13:AX48),MAX($AW$13:AW48)+1,0))","v":0},0,{"$f":"CHOOSE(TaxRates,Tables!Z92,Tables!AA92)","v":0.4},0,0,0,0,null,null,0,0,{"$f":"CHOOSE(TaxRates,Tables!Z92,Tables!AA92)","v":0.4},0,0,0,null,0,{"$f":"CHOOSE(TaxRates,Tables!Z92,Tables!AA92)","v":0.4},0,0,0,0,null,0,{"$f":"CHOOSE(TaxRates,Tables!Z92,Tables!AA92)","v":0.4},0,0,0,0,null,0,2.5000000000000001E-2,0,0,null,0,0,0,0,null,{"$f":"'Illustration Modelling'!K52","v":81},{"$f":"'Illustration Modelling'!M52","v":0},{"$f":"'Illustration Modelling'!O52","v":0},{"$f":"'Illustration Modelling'!P52","v":0},null,0,0,0,null,0,0,0,null,0,0,0]
[38,2052,82,null,0,0,0,null,{"$f":"IF($C50>=RetAge,0,VLOOKUP($B50,Tables!$A$10:$T$126,18,FALSE))","v":0},{"$f":"IF($C50>=RetAge,0,IF(C50<CatchupAge,0,VLOOKUP($B50,Tables!$A$10:$T$126,20,FALSE)))","v":0},0,0,{"$f":"IF($C50>=RetAge,0,VLOOKUP($B50,Tables!$A$10:$T$126,16,FALSE))","v":0},0,{"$f":"IF($C50>=RetAge,0,VLOOKUP($B50,Tables!$A$10:$T$126,18,FALSE))","v":0},0,null,0,0,0,0,0,0,0,0,null,0,0,{"$f":"CHOOSE(TaxRates,Tables!Z93,Tables!AA93)","v":0.4},0,0,0,null,0,0,{"$f":"CHOOSE(TaxRates,Tables!Z93,Tables!AA93)","v":0.4},0,0,0,null,{"$f":"IF(C50>=RetAge,0,IF(AP50<MIN($AP$13:AP49),MAX($AO$13:AO49)+1,0))","v":0},0,0,{"$f":"CHOOSE(TaxRates,Tables!Z93,Tables!AA93)","v":0.4},0,0,0,null,{"$f":"IF(C50>=RetAge,0,IF(AX50<MIN($AX$13:AX49),MAX($AW$13:AW49)+1,0))","v":0},0,{"$f":"CHOOSE(TaxRates,Tables!Z93,Tables!AA93)","v":0.4},0,0,0,0,null,null,0,0,{"$f":"CHOOSE(TaxRates,Tables!Z93,Tables!AA93)","v":0.4},0,0,0,null,0,{"$f":"CHOOSE(TaxRates,Tables!Z93,Tables!AA93)","v":0.4},0,0,0,0,null,0,{"$f":"CHOOSE(TaxRates,Tables!Z93,Tables!AA93)","v":0.4},0,0,0,0,null,0,2.5000000000000001E-2,0,0,null,0,0,0,0,null,{"$f":"'Illustration Modelling'!K53","v":82},{"$f":"'Illustration Modelling'!M53","v":0},{"$f":"'Illustration Modelling'!O53","v":0},{"$f":"'Illustration Modelling'!P53","v":0},null,0,0,0,null,0,0,0,null,0,0,0]
[39,2053,83,null,0,0,0,null,{"$f":"IF($C51>=RetAge,0,VLOOKUP($B51,Tables!$A$10:$T$126,18,FALSE))","v":0},{"$f":"IF($C51>=RetAge,0,IF(C51<CatchupAge,0,VLOOKUP($B51,Tables!$A$10:$T$126,20,FALSE)))","v":0},0,0,{"$f":"IF($C51>=RetAge,0,VLOOKUP($B51,Tables!$A$10:$T$126,16,FALSE))","v":0},0,{"$f":"IF($C51>=RetAge,0,VLOOKUP($B51,Tables!$A$10:$T$126,18,FALSE))","v":0},0,null,0,0,0,0,0,0,0,0,null,0,0,{"$f":"CHOOSE(TaxRates,Tables!Z94,Tables!AA94)","v":0.4},0,0,0,null,0,0,{"$f":"CHOOSE(TaxRates,Tables!Z94,Tables!AA94)","v":0.4},0,0,0,null,{"$f":"IF(C51>=RetAge,0,IF(AP51<MIN($AP$13:AP50),MAX($AO$13:AO50)+1,0))","v":0},0,0,{"$f":"CHOOSE(TaxRates,Tables!Z94,Tables!AA94)","v":0.4},0,0,0,null,{"$f":"IF(C51>=RetAge,0,IF(AX51<MIN($AX$13:AX50),MAX($AW$13:AW50)+1,0))","v":0},0,{"$f":"CHOOSE(TaxRates,Tables!Z94,Tables!AA94)","v":0.4},0,0,0,0,null,null,0,0,{"$f":"CHOOSE(TaxRates,Tables!Z94,Tables!AA94)","v":0.4},0,0,0,null,0,{"$f":"CHOOSE(TaxRates,Tables!Z94,Tables!AA94)","v":0.4},0,0,0,0,null,0,{"$f":"CHOOSE(TaxRates,Tables!Z94,Tables!AA94)","v":0.4},0,0,0,0,null,0,2.5000000000000001E-2,0,0,null,0,0,0,0,null,{"$f":"'Illustration Modelling'!K54","v":83},{"$f":"'Illustration Modelling'!M54","v":0},{"$f":"'Illustration Modelling'!O54","v":0},{"$f":"'Illustration Modelling'!P54","v":0},null,0,0,0,null,0,0,0,null,0,0,0]
[40,2054,84,null,0,0,0,null,{"$f":"IF($C52>=RetAge,0,VLOOKUP($B52,Tables!$A$10:$T$126,18,FALSE))","v":0},{"$f":"IF($C52>=RetAge,0,IF(C52<CatchupAge,0,VLOOKUP($B52,Tables!$A$10:$T$126,20,FALSE)))","v":0},0,0,{"$f":"IF($C52>=RetAge,0,VLOOKUP($B52,Tables!$A$10:$T$126,16,FALSE))","v":0},0,{"$f":"IF($C52>=RetAge,0,VLOOKUP($B52,Tables!$A$10:$T$126,18,FALSE))","v":0},0,null,0,0,0,0,0,0,0,0,null,0,0,{"$f":"CHOOSE(TaxRates,Tables!Z95,Tables!AA95)","v":0.4},0,0,0,null,0,0,{"$f":"CHOOSE(TaxRates,Tables!Z95,Tables!AA95)","v":0.4},0,0,0,null,{"$f":"IF(C52>=RetAge,0,IF(AP52<MIN($AP$13:AP51),MAX($AO$13:AO51)+1,0))","v":0},0,0,{"$f":"CHOOSE(TaxRates,Tables!Z95,Tables!AA95)","v":0.4},0,0,0,null,{"$f":"IF(C52>=RetAge,0,IF(AX52<MIN($AX$13:AX51),MAX($AW$13:AW51)+1,0))","v":0},0,{"$f":"CHOOSE(TaxRates,Tables!Z95,Tables!AA95)","v":0.4},0,0,0,0,null,null,0,0,{"$f":"CHOOSE(TaxRates,Tables!Z95,Tables!AA95)","v":0.4},0,0,0,null,0,{"$f":"CHOOSE(TaxRates,Tables!Z95,Tables!AA95)","v":0.4},0,0,0,0,null,0,{"$f":"CHOOSE(TaxRates,Tables!Z95,Tables!AA95)","v":0.4},0,0,0,0,null,0,2.5000000000000001E-2,0,0,null,0,0,0,0,null,{"$f":"'Illustration Modelling'!K55","v":84},{"$f":"'Illustration Modelling'!M55","v":0},{"$f":"'Illustration Modelling'!O55","v":0},{"$f":"'Illustration Modelling'!P55","v":0},null,0,0,0,null,0,0,0,null,0,0,0]
[41,2055,85,null,0,0,0,null,{"$f":"IF($C53>=RetAge,0,VLOOKUP($B53,Tables!$A$10:$T$126,18,FALSE))","v":0},{"$f":"IF($C53>=RetAge,0,IF(C53<CatchupAge,0,VLOOKUP($B53,Tables!$A$10:$T$126,20,FALSE)))","v":0},0,0,{"$f":"IF($C53>=RetAge,0,VLOOKUP($B53,Tables!$A$10:$T$126,16,FALSE))","v":0},0,{"$f":"IF($C53>=RetAge,0,VLOOKUP($B53,Tables!$A$10:$T$126,18,FALSE))","v":0},0,null,0,0,0,0,0,0,0,0,null,0,0,{"$f":"CHOOSE(TaxRates,Tables!Z96,Tables!AA96)","v":0.4},0,0,0,null,0,0,{"$f":"CHOOSE(TaxRates,Tables!Z96,Tables!AA96)","v":0.4},0,0,0,null,{"$f":"IF(C53>=RetAge,0,IF(AP53<MIN($AP$13:AP52),MAX($AO$13:AO52)+1,0))","v":0},0,0,{"$f":"CHOOSE(TaxRates,Tables!Z96,Tables!AA96)","v":0.4},0,0,0,null,{"$f":"IF(C53>=RetAge,0,IF(AX53<MIN($AX$13:AX52),MAX($AW$13:AW52)+1,0))","v":0},0,{"$f":"CHOOSE(TaxRates,Tables!Z96,Tables!AA96)","v":0.4},0,0,0,0,null,null,0,0,{"$f":"CHOOSE(TaxRates,Tables!Z96,Tables!AA96)","v":0.4},0,0,0,null,0,{"$f":"CHOOSE(TaxRates,Tables!Z96,Tables!AA96)","v":0.4},0,0,0,0,null,0,{"$f":"CHOOSE(TaxRates,Tables!Z96,Tables!AA96)","v":0.4},0,0,0,0,null,0,2.5000000000000001E-2,0,0,null,0,0,0,0,null,{"$f":"'Illustration Modelling'!K56","v":85},{"$f":"'Illustration Modelling'!M56","v":0},{"$f":"'Illustration Modelling'!O56","v":0},{"$f":"'Illustration Modelling'!P56","v":0},null,0,0,0,null,0,0,0,null,0,0,0]
[42,2056,86,null,0,0,0,null,{"$f":"IF($C54>=RetAge,0,VLOOKUP($B54,Tables!$A$10:$T$126,18,FALSE))","v":0},{"$f":"IF($C54>=RetAge,0,IF(C54<CatchupAge,0,VLOOKUP($B54,Tables!$A$10:$T$126,20,FALSE)))","v":0},0,0,{"$f":"IF($C54>=RetAge,0,VLOOKUP($B54,Tables!$A$10:$T$126,16,FALSE))","v":0},0,{"$f":"IF($C54>=RetAge,0,VLOOKUP($B54,Tables!$A$10:$T$126,18,FALSE))","v":0},0,null,0,0,0,0,0,0,0,0,null,0,0,{"$f":"CHOOSE(TaxRates,Tables!Z97,Tables!AA97)","v":0.4},0,0,0,null,0,0,{"$f":"CHOOSE(TaxRates,Tables!Z97,Tables!AA97)","v":0.4},0,0,0,null,{"$f":"IF(C54>=RetAge,0,IF(AP54<MIN($AP$13:AP53),MAX($AO$13:AO53)+1,0))","v":0},0,0,{"$f":"CHOOSE(TaxRates,Tables!Z97,Tables!AA97)","v":0.4},0,0,0,null,{"$f":"IF(C54>=RetAge,0,IF(AX54<MIN($AX$13:AX53),MAX($AW$13:AW53)+1,0))","v":0},0,{"$f":"CHOOSE(TaxRates,Tables!Z97,Tables!AA97)","v":0.4},0,0,0,0,null,null,0,0,{"$f":"CHOOSE(TaxRates,Tables!Z97,Tables!AA97)","v":0.4},0,0,0,null,0,{"$f":"CHOOSE(TaxRates,Tables!Z97,Tables!AA97)","v":0.4},0,0,0,0,null,0,{"$f":"CHOOSE(TaxRates,Tables!Z97,Tables!AA97)","v":0.4},0,0,0,0,null,0,2.5000000000000001E-2,0,0,null,0,0,0,0,null,{"$f":"'Illustration Modelling'!K57","v":86},{"$f":"'Illustration Modelling'!M57","v":0},{"$f":"'Illustration Modelling'!O57","v":0},{"$f":"'Illustration Modelling'!P57","v":0},null,0,0,0,null,0,0,0,null,0,0,0]
[43,2057,87,null,0,0,0,null,{"$f":"IF($C55>=RetAge,0,VLOOKUP($B55,Tables!$A$10:$T$126,18,FALSE))","v":0},{"$f":"IF($C55>=RetAge,0,IF(C55<CatchupAge,0,VLOOKUP($B55,Tables!$A$10:$T$126,20,FALSE)))","v":0},0,0,{"$f":"IF($C55>=RetAge,0,VLOOKUP($B55,Tables!$A$10:$T$126,16,FALSE))","v":0},0,{"$f":"IF($C55>=RetAge,0,VLOOKUP($B55,Tables!$A$10:$T$126,18,FALSE))","v":0},0,null,0,0,0,0,0,0,0,0,null,0,0,{"$f":"CHOOSE(TaxRates,Tables!Z98,Tables!AA98)","v":0.4},0,0,0,null,0,0,{"$f":"CHOOSE(TaxRates,Tables!Z98,Tables!AA98)","v":0.4},0,0,0,null,{"$f":"IF(C55>=RetAge,0,IF(AP55<MIN($AP$13:AP54),MAX($AO$13:AO54)+1,0))","v":0},0,0,{"$f":"CHOOSE(TaxRates,Tables!Z98,Tables!AA98)","v":0.4},0,0,0,null,{"$f":"IF(C55>=RetAge,0,IF(AX55<MIN($AX$13:AX54),MAX($AW$13:AW54)+1,0))","v":0},0,{"$f":"CHOOSE(TaxRates,Tables!Z98,Tables!AA98)","v":0.4},0,0,0,0,null,null,0,0,{"$f":"CHOOSE(TaxRates,Tables!Z98,Tables!AA98)","v":0.4},0,0,0,null,0,{"$f":"CHOOSE(TaxRates,Tables!Z98,Tables!AA98)","v":0.4},0,0,0,0,null,0,{"$f":"CHOOSE(TaxRates,Tables!Z98,Tables!AA98)","v":0.4},0,0,0,0,null,0,2.5000000000000001E-2,0,0,null,0,0,0,0,null,{"$f":"'Illustration Modelling'!K58","v":87},{"$f":"'Illustration Modelling'!M58","v":0},{"$f":"'Illustration Modelling'!O58","v":0},{"$f":"'Illustration Modelling'!P58","v":0},null,0,0,0,null,0,0,0,null,0,0,0]
[44,2058,88,null,0,0,0,null,{"$f":"IF($C56>=RetAge,0,VLOOKUP($B56,Tables!$A$10:$T$126,18,FALSE))","v":0},{"$f":"IF($C56>=RetAge,0,IF(C56<CatchupAge,0,VLOOKUP($B56,Tables!$A$10:$T$126,20,FALSE)))","v":0},0,0,{"$f":"IF($C56>=RetAge,0,VLOOKUP($B56,Tables!$A$10:$T$126,16,FALSE))","v":0},0,{"$f":"IF($C56>=RetAge,0,VLOOKUP($B56,Tables!$A$10:$T$126,18,FALSE))","v":0},0,null,0,0,0,0,0,0,0,0,null,0,0,{"$f":"CHOOSE(TaxRates,Tables!Z99,Tables!AA99)","v":0.4},0,0,0,null,0,0,{"$f":"CHOOSE(TaxRates,Tables!Z99,Tables!AA99)","v":0.4},0,0,0,null,{"$f":"IF(C56>=RetAge,0,IF(AP56<MIN($AP$13:AP55),MAX($AO$13:AO55)+1,0))","v":0},0,0,{"$f":"CHOOSE(TaxRates,Tables!Z99,Tables!AA99)","v":0.4},0,0,0,null,{"$f":"IF(C56>=RetAge,0,IF(AX56<MIN($AX$13:AX55),MAX($AW$13:AW55)+1,0))","v":0},0,{"$f":"CHOOSE(TaxRates,Tables!Z99,Tables!AA99)","v":0.4},0,0,0,0,null,null,0,0,{"$f":"CHOOSE(TaxRates,Tables!Z99,Tables!AA99)","v":0.4},0,0,0,null,0,{"$f":"CHOOSE(TaxRates,Tables!Z99,Tables!AA99)","v":0.4},0,0,0,0,null,0,{"$f":"CHOOSE(TaxRates,Tables!Z99,Tables!AA99)","v":0.4},0,0,0,0,null,0,2.5000000000000001E-2,0,0,null,0,0,0,0,null,{"$f":"'Illustration Modelling'!K59","v":88},{"$f":"'Illustration Modelling'!M59","v":0},{"$f":"'Illustration Modelling'!O59","v":0},{"$f":"'Illustration Modelling'!P59","v":0},null,0,0,0,null,0,0,0,null,0,0,0]
[45,2059,89,null,0,0,0,null,{"$f":"IF($C57>=RetAge,0,VLOOKUP($B57,Tables!$A$10:$T$126,18,FALSE))","v":0},{"$f":"IF($C57>=RetAge,0,IF(C57<CatchupAge,0,VLOOKUP($B57,Tables!$A$10:$T$126,20,FALSE)))","v":0},0,0,{"$f":"IF($C57>=RetAge,0,VLOOKUP($B57,Tables!$A$10:$T$126,16,FALSE))","v":0},0,{"$f":"IF($C57>=RetAge,0,VLOOKUP($B57,Tables!$A$10:$T$126,18,FALSE))","v":0},0,null,0,0,0,0,0,0,0,0,null,0,0,{"$f":"CHOOSE(TaxRates,Tables!Z100,Tables!AA100)","v":0.4},0,0,0,null,0,0,{"$f":"CHOOSE(TaxRates,Tables!Z100,Tables!AA100)","v":0.4},0,0,0,null,{"$f":"IF(C57>=RetAge,0,IF(AP57<MIN($AP$13:AP56),MAX($AO$13:AO56)+1,0))","v":0},0,0,{"$f":"CHOOSE(TaxRates,Tables!Z100,Tables!AA100)","v":0.4},0,0,0,null,{"$f":"IF(C57>=RetAge,0,IF(AX57<MIN($AX$13:AX56),MAX($AW$13:AW56)+1,0))","v":0},0,{"$f":"CHOOSE(TaxRates,Tables!Z100,Tables!AA100)","v":0.4},0,0,0,0,null,null,0,0,{"$f":"CHOOSE(TaxRates,Tables!Z100,Tables!AA100)","v":0.4},0,0,0,null,0,{"$f":"CHOOSE(TaxRates,Tables!Z100,Tables!AA100)","v":0.4},0,0,0,0,null,0,{"$f":"CHOOSE(TaxRates,Tables!Z100,Tables!AA100)","v":0.4},0,0,0,0,null,0,2.5000000000000001E-2,0,0,null,0,0,0,0,null,{"$f":"'Illustration Modelling'!K60","v":89},{"$f":"'Illustration Modelling'!M60","v":0},{"$f":"'Illustration Modelling'!O60","v":0},{"$f":"'Illustration Modelling'!P60","v":0},null,0,0,0,null,0,0,0,null,0,0,0]
[46,2060,90,null,0,0,0,null,{"$f":"IF($C58>=RetAge,0,VLOOKUP($B58,Tables!$A$10:$T$126,18,FALSE))","v":0},{"$f":"IF($C58>=RetAge,0,IF(C58<CatchupAge,0,VLOOKUP($B58,Tables!$A$10:$T$126,20,FALSE)))","v":0},0,0,{"$f":"IF($C58>=RetAge,0,VLOOKUP($B58,Tables!$A$10:$T$126,16,FALSE))","v":0},0,{"$f":"IF($C58>=RetAge,0,VLOOKUP($B58,Tables!$A$10:$T$126,18,FALSE))","v":0},0,null,0,0,0,0,0,0,0,0,null,0,0,{"$f":"CHOOSE(TaxRates,Tables!Z101,Tables!AA101)","v":0.4},0,0,0,null,0,0,{"$f":"CHOOSE(TaxRates,Tables!Z101,Tables!AA101)","v":0.4},0,0,0,null,{"$f":"IF(C58>=RetAge,0,IF(AP58<MIN($AP$13:AP57),MAX($AO$13:AO57)+1,0))","v":0},0,0,{"$f":"CHOOSE(TaxRates,Tables!Z101,Tables!AA101)","v":0.4},0,0,0,null,{"$f":"IF(C58>=RetAge,0,IF(AX58<MIN($AX$13:AX57),MAX($AW$13:AW57)+1,0))","v":0},0,{"$f":"CHOOSE(TaxRates,Tables!Z101,Tables!AA101)","v":0.4},0,0,0,0,null,null,0,0,{"$f":"CHOOSE(TaxRates,Tables!Z101,Tables!AA101)","v":0.4},0,0,0,null,0,{"$f":"CHOOSE(TaxRates,Tables!Z101,Tables!AA101)","v":0.4},0,0,0,0,null,0,{"$f":"CHOOSE(TaxRates,Tables!Z101,Tables!AA101)","v":0.4},0,0,0,0,null,0,2.5000000000000001E-2,0,0,null,0,0,0,0,null,{"$f":"'Illustration Modelling'!K61","v":90},{"$f":"'Illustration Modelling'!M61","v":0},{"$f":"'Illustration Modelling'!O61","v":0},{"$f":"'Illustration Modelling'!P61","v":0},null,0,0,0,null,0,0,0,null,0,0,0]
[47,2061,91,null,0,0,0,null,{"$f":"IF($C59>=RetAge,0,VLOOKUP($B59,Tables!$A$10:$T$126,18,FALSE))","v":0},{"$f":"IF($C59>=RetAge,0,IF(C59<CatchupAge,0,VLOOKUP($B59,Tables!$A$10:$T$126,20,FALSE)))","v":0},0,0,{"$f":"IF($C59>=RetAge,0,VLOOKUP($B59,Tables!$A$10:$T$126,16,FALSE))","v":0},0,{"$f":"IF($C59>=RetAge,0,VLOOKUP($B59,Tables!$A$10:$T$126,18,FALSE))","v":0},0,null,0,0,0,0,0,0,0,0,null,0,0,{"$f":"CHOOSE(TaxRates,Tables!Z102,Tables!AA102)","v":0.4},0,0,0,null,0,0,{"$f":"CHOOSE(TaxRates,Tables!Z102,Tables!AA102)","v":0.4},0,0,0,null,{"$f":"IF(C59>=RetAge,0,IF(AP59<MIN($AP$13:AP58),MAX($AO$13:AO58)+1,0))","v":0},0,0,{"$f":"CHOOSE(TaxRates,Tables!Z102,Tables!AA102)","v":0.4},0,0,0,null,{"$f":"IF(C59>=RetAge,0,IF(AX59<MIN($AX$13:AX58),MAX($AW$13:AW58)+1,0))","v":0},0,{"$f":"CHOOSE(TaxRates,Tables!Z102,Tables!AA102)","v":0.4},0,0,0,0,null,null,0,0,{"$f":"CHOOSE(TaxRates,Tables!Z102,Tables!AA102)","v":0.4},0,0,0,null,0,{"$f":"CHOOSE(TaxRates,Tables!Z102,Tables!AA102)","v":0.4},0,0,0,0,null,0,{"$f":"CHOOSE(TaxRates,Tables!Z102,Tables!AA102)","v":0.4},0,0,0,0,null,0,2.5000000000000001E-2,0,0,null,0,0,0,0,null,{"$f":"'Illustration Modelling'!K62","v":91},{"$f":"'Illustration Modelling'!M62","v":0},{"$f":"'Illustration Modelling'!O62","v":0},{"$f":"'Illustration Modelling'!P62","v":0},null,0,0,0,null,0,0,0,null,0,0,0]
[48,2062,92,null,0,0,0,null,{"$f":"IF($C60>=RetAge,0,VLOOKUP($B60,Tables!$A$10:$T$126,18,FALSE))","v":0},{"$f":"IF($C60>=RetAge,0,IF(C60<CatchupAge,0,VLOOKUP($B60,Tables!$A$10:$T$126,20,FALSE)))","v":0},0,0,{"$f":"IF($C60>=RetAge,0,VLOOKUP($B60,Tables!$A$10:$T$126,16,FALSE))","v":0},0,{"$f":"IF($C60>=RetAge,0,VLOOKUP($B60,Tables!$A$10:$T$126,18,FALSE))","v":0},0,null,0,0,0,0,0,0,0,0,null,0,0,{"$f":"CHOOSE(TaxRates,Tables!Z103,Tables!AA103)","v":0.4},0,0,0,null,0,0,{"$f":"CHOOSE(TaxRates,Tables!Z103,Tables!AA103)","v":0.4},0,0,0,null,{"$f":"IF(C60>=RetAge,0,IF(AP60<MIN($AP$13:AP59),MAX($AO$13:AO59)+1,0))","v":0},0,0,{"$f":"CHOOSE(TaxRates,Tables!Z103,Tables!AA103)","v":0.4},0,0,0,null,{"$f":"IF(C60>=RetAge,0,IF(AX60<MIN($AX$13:AX59),MAX($AW$13:AW59)+1,0))","v":0},0,{"$f":"CHOOSE(TaxRates,Tables!Z103,Tables!AA103)","v":0.4},0,0,0,0,null,null,0,0,{"$f":"CHOOSE(TaxRates,Tables!Z103,Tables!AA103)","v":0.4},0,0,0,null,0,{"$f":"CHOOSE(TaxRates,Tables!Z103,Tables!AA103)","v":0.4},0,0,0,0,null,0,{"$f":"CHOOSE(TaxRates,Tables!Z103,Tables!AA103)","v":0.4},0,0,0,0,null,0,2.5000000000000001E-2,0,0,null,0,0,0,0,null,{"$f":"'Illustration Modelling'!K63","v":92},{"$f":"'Illustration Modelling'!M63","v":0},{"$f":"'Illustration Modelling'!O63","v":0},{"$f":"'Illustration Modelling'!P63","v":0},null,0,0,0,null,0,0,0,null,0,0,0]
[49,2063,93,null,0,0,0,null,{"$f":"IF($C61>=RetAge,0,VLOOKUP($B61,Tables!$A$10:$T$126,18,FALSE))","v":0},{"$f":"IF($C61>=RetAge,0,IF(C61<CatchupAge,0,VLOOKUP($B61,Tables!$A$10:$T$126,20,FALSE)))","v":0},0,0,{"$f":"IF($C61>=RetAge,0,VLOOKUP($B61,Tables!$A$10:$T$126,16,FALSE))","v":0},0,{"$f":"IF($C61>=RetAge,0,VLOOKUP($B61,Tables!$A$10:$T$126,18,FALSE))","v":0},0,null,0,0,0,0,0,0,0,0,null,0,0,{"$f":"CHOOSE(TaxRates,Tables!Z104,Tables!AA104)","v":0.4},0,0,0,null,0,0,{"$f":"CHOOSE(TaxRates,Tables!Z104,Tables!AA104)","v":0.4},0,0,0,null,{"$f":"IF(C61>=RetAge,0,IF(AP61<MIN($AP$13:AP60),MAX($AO$13:AO60)+1,0))","v":0},0,0,{"$f":"CHOOSE(TaxRates,Tables!Z104,Tables!AA104)","v":0.4},0,0,0,null,{"$f":"IF(C61>=RetAge,0,IF(AX61<MIN($AX$13:AX60),MAX($AW$13:AW60)+1,0))","v":0},0,{"$f":"CHOOSE(TaxRates,Tables!Z104,Tables!AA104)","v":0.4},0,0,0,0,null,null,0,0,{"$f":"CHOOSE(TaxRates,Tables!Z104,Tables!AA104)","v":0.4},0,0,0,null,0,{"$f":"CHOOSE(TaxRates,Tables!Z104,Tables!AA104)","v":0.4},0,0,0,0,null,0,{"$f":"CHOOSE(TaxRates,Tables!Z104,Tables!AA104)","v":0.4},0,0,0,0,null,0,2.5000000000000001E-2,0,0,null,0,0,0,0,null,{"$f":"'Illustration Modelling'!K64","v":93},{"$f":"'Illustration Modelling'!M64","v":0},{"$f":"'Illustration Modelling'!O64","v":0},{"$f":"'Illustration Modelling'!P64","v":0},null,0,0,0,null,0,0,0,null,0,0,0]
[{"$f":"A61+1","v":50},2064,94,null,0,0,0,null,{"$f":"IF($C62>=RetAge,0,VLOOKUP($B62,Tables!$A$10:$T$126,18,FALSE))","v":0},{"$f":"IF($C62>=RetAge,0,IF(C62<CatchupAge,0,VLOOKUP($B62,Tables!$A$10:$T$126,20,FALSE)))","v":0},0,0,{"$f":"IF($C62>=RetAge,0,VLOOKUP($B62,Tables!$A$10:$T$126,16,FALSE))","v":0},0,{"$f":"IF($C62>=RetAge,0,VLOOKUP($B62,Tables!$A$10:$T$126,18,FALSE))","v":0},0,null,0,0,0,0,0,0,0,0,null,0,0,{"$f":"CHOOSE(TaxRates,Tables!Z105,Tables!AA105)","v":0.4},0,0,0,null,0,0,{"$f":"CHOOSE(TaxRates,Tables!Z105,Tables!AA105)","v":0.4},0,0,0,null,{"$f":"IF(C62>=RetAge,0,IF(AP62<MIN($AP$13:AP61),MAX($AO$13:AO61)+1,0))","v":0},0,0,{"$f":"CHOOSE(TaxRates,Tables!Z105,Tables!AA105)","v":0.4},0,0,0,null,{"$f":"IF(C62>=RetAge,0,IF(AX62<MIN($AX$13:AX61),MAX($AW$13:AW61)+1,0))","v":0},0,{"$f":"CHOOSE(TaxRates,Tables!Z105,Tables!AA105)","v":0.4},0,0,0,0,null,null,0,0,{"$f":"CHOOSE(TaxRates,Tables!Z105,Tables!AA105)","v":0.4},0,0,0,null,0,{"$f":"CHOOSE(TaxRates,Tables!Z105,Tables!AA105)","v":0.4},0,0,0,0,null,0,{"$f":"CHOOSE(TaxRates,Tables!Z105,Tables!AA105)","v":0.4},0,0,0,0,null,0,2.5000000000000001E-2,0,0,null,0,0,0,0,null,{"$f":"'Illustration Modelling'!K65","v":94},{"$f":"'Illustration Modelling'!M65","v":0},{"$f":"'Illustration Modelling'!O65","v":0},{"$f":"'Illustration Modelling'!P65","v":0},null,0,0,0,null,0,0,0,null,0,0,0]
[51,2065,95,null,0,0,0,null,{"$f":"IF($C63>=RetAge,0,VLOOKUP($B63,Tables!$A$10:$T$126,18,FALSE))","v":0},{"$f":"IF($C63>=RetAge,0,IF(C63<CatchupAge,0,VLOOKUP($B63,Tables!$A$10:$T$126,20,FALSE)))","v":0},0,0,{"$f":"IF($C63>=RetAge,0,VLOOKUP($B63,Tables!$A$10:$T$126,16,FALSE))","v":0},0,{"$f":"IF($C63>=RetAge,0,VLOOKUP($B63,Tables!$A$10:$T$126,18,FALSE))","v":0},0,null,0,0,0,0,0,0,0,0,null,0,0,{"$f":"CHOOSE(TaxRates,Tables!Z106,Tables!AA106)","v":0.4},0,0,0,null,0,0,{"$f":"CHOOSE(TaxRates,Tables!Z106,Tables!AA106)","v":0.4},0,0,0,null,{"$f":"IF(C63>=RetAge,0,IF(AP63<MIN($AP$13:AP62),MAX($AO$13:AO62)+1,0))","v":0},0,0,{"$f":"CHOOSE(TaxRates,Tables!Z106,Tables!AA106)","v":0.4},0,0,0,null,{"$f":"IF(C63>=RetAge,0,IF(AX63<MIN($AX$13:AX62),MAX($AW$13:AW62)+1,0))","v":0},0,{"$f":"CHOOSE(TaxRates,Tables!Z106,Tables!AA106)","v":0.4},0,0,0,0,null,null,0,0,{"$f":"CHOOSE(TaxRates,Tables!Z106,Tables!AA106)","v":0.4},0,0,0,null,0,{"$f":"CHOOSE(TaxRates,Tables!Z106,Tables!AA106)","v":0.4},0,0,0,0,null,0,{"$f":"CHOOSE(TaxRates,Tables!Z106,Tables!AA106)","v":0.4},0,0,0,0,null,0,2.5000000000000001E-2,0,0,null,0,0,0,0,null,{"$f":"'Illustration Modelling'!K66","v":95},{"$f":"'Illustration Modelling'!M66","v":0},{"$f":"'Illustration Modelling'!O66","v":0},{"$f":"'Illustration Modelling'!P66","v":0},null,0,0,0,null,0,0,0,null,0,0,0]
[52,2066,96,null,0,0,0,null,{"$f":"IF($C64>=RetAge,0,VLOOKUP($B64,Tables!$A$10:$T$126,18,FALSE))","v":0},{"$f":"IF($C64>=RetAge,0,IF(C64<CatchupAge,0,VLOOKUP($B64,Tables!$A$10:$T$126,20,FALSE)))","v":0},0,0,{"$f":"IF($C64>=RetAge,0,VLOOKUP($B64,Tables!$A$10:$T$126,16,FALSE))","v":0},0,{"$f":"IF($C64>=RetAge,0,VLOOKUP($B64,Tables!$A$10:$T$126,18,FALSE))","v":0},0,null,0,0,0,0,0,0,0,0,null,0,0,{"$f":"CHOOSE(TaxRates,Tables!Z107,Tables!AA107)","v":0.4},0,0,0,null,0,0,{"$f":"CHOOSE(TaxRates,Tables!Z107,Tables!AA107)","v":0.4},0,0,0,null,{"$f":"IF(C64>=RetAge,0,IF(AP64<MIN($AP$13:AP63),MAX($AO$13:AO63)+1,0))","v":0},0,0,{"$f":"CHOOSE(TaxRates,Tables!Z107,Tables!AA107)","v":0.4},0,0,0,null,{"$f":"IF(C64>=RetAge,0,IF(AX64<MIN($AX$13:AX63),MAX($AW$13:AW63)+1,0))","v":0},0,{"$f":"CHOOSE(TaxRates,Tables!Z107,Tables!AA107)","v":0.4},0,0,0,0,null,null,0,0,{"$f":"CHOOSE(TaxRates,Tables!Z107,Tables!AA107)","v":0.4},0,0,0,null,0,{"$f":"CHOOSE(TaxRates,Tables!Z107,Tables!AA107)","v":0.4},0,0,0,0,null,0,{"$f":"CHOOSE(TaxRates,Tables!Z107,Tables!AA107)","v":0.4},0,0,0,0,null,0,2.5000000000000001E-2,0,0,null,0,0,0,0,null,{"$f":"'Illustration Modelling'!K67","v":96},{"$f":"'Illustration Modelling'!M67","v":0},{"$f":"'Illustration Modelling'!O67","v":0},{"$f":"'Illustration Modelling'!P67","v":0},null,0,0,0,null,0,0,0,null,0,0,0]
[53,2067,97,null,0,0,0,null,{"$f":"IF($C65>=RetAge,0,VLOOKUP($B65,Tables!$A$10:$T$126,18,FALSE))","v":0},{"$f":"IF($C65>=RetAge,0,IF(C65<CatchupAge,0,VLOOKUP($B65,Tables!$A$10:$T$126,20,FALSE)))","v":0},0,0,{"$f":"IF($C65>=RetAge,0,VLOOKUP($B65,Tables!$A$10:$T$126,16,FALSE))","v":0},0,{"$f":"IF($C65>=RetAge,0,VLOOKUP($B65,Tables!$A$10:$T$126,18,FALSE))","v":0},0,null,0,0,0,0,0,0,0,0,null,0,0,{"$f":"CHOOSE(TaxRates,Tables!Z108,Tables!AA108)","v":0.4},0,0,0,null,0,0,{"$f":"CHOOSE(TaxRates,Tables!Z108,Tables!AA108)","v":0.4},0,0,0,null,{"$f":"IF(C65>=RetAge,0,IF(AP65<MIN($AP$13:AP64),MAX($AO$13:AO64)+1,0))","v":0},0,0,{"$f":"CHOOSE(TaxRates,Tables!Z108,Tables!AA108)","v":0.4},0,0,0,null,{"$f":"IF(C65>=RetAge,0,IF(AX65<MIN($AX$13:AX64),MAX($AW$13:AW64)+1,0))","v":0},0,{"$f":"CHOOSE(TaxRates,Tables!Z108,Tables!AA108)","v":0.4},0,0,0,0,null,null,0,0,{"$f":"CHOOSE(TaxRates,Tables!Z108,Tables!AA108)","v":0.4},0,0,0,null,0,{"$f":"CHOOSE(TaxRates,Tables!Z108,Tables!AA108)","v":0.4},0,0,0,0,null,0,{"$f":"CHOOSE(TaxRates,Tables!Z108,Tables!AA108)","v":0.4},0,0,0,0,null,0,2.5000000000000001E-2,0,0,null,0,0,0,0,null,{"$f":"'Illustration Modelling'!K68","v":97},{"$f":"'Illustration Modelling'!M68","v":0},{"$f":"'Illustration Modelling'!O68","v":0},{"$f":"'Illustration Modelling'!P68","v":0},null,0,0,0,null,0,0,0,null,0,0,0]
[54,2068,98,null,0,0,0,null,{"$f":"IF($C66>=RetAge,0,VLOOKUP($B66,Tables!$A$10:$T$126,18,FALSE))","v":0},{"$f":"IF($C66>=RetAge,0,IF(C66<CatchupAge,0,VLOOKUP($B66,Tables!$A$10:$T$126,20,FALSE)))","v":0},0,0,{"$f":"IF($C66>=RetAge,0,VLOOKUP($B66,Tables!$A$10:$T$126,16,FALSE))","v":0},0,{"$f":"IF($C66>=RetAge,0,VLOOKUP($B66,Tables!$A$10:$T$126,18,FALSE))","v":0},0,null,0,0,0,0,0,0,0,0,null,0,0,{"$f":"CHOOSE(TaxRates,Tables!Z109,Tables!AA109)","v":0.4},0,0,0,null,0,0,{"$f":"CHOOSE(TaxRates,Tables!Z109,Tables!AA109)","v":0.4},0,0,0,null,{"$f":"IF(C66>=RetAge,0,IF(AP66<MIN($AP$13:AP65),MAX($AO$13:AO65)+1,0))","v":0},0,0,{"$f":"CHOOSE(TaxRates,Tables!Z109,Tables!AA109)","v":0.4},0,0,0,null,{"$f":"IF(C66>=RetAge,0,IF(AX66<MIN($AX$13:AX65),MAX($AW$13:AW65)+1,0))","v":0},0,{"$f":"CHOOSE(TaxRates,Tables!Z109,Tables!AA109)","v":0.4},0,0,0,0,null,null,0,0,{"$f":"CHOOSE(TaxRates,Tables!Z109,Tables!AA109)","v":0.4},0,0,0,null,0,{"$f":"CHOOSE(TaxRates,Tables!Z109,Tables!AA109)","v":0.4},0,0,0,0,null,0,{"$f":"CHOOSE(TaxRates,Tables!Z109,Tables!AA109)","v":0.4},0,0,0,0,null,0,2.5000000000000001E-2,0,0,null,0,0,0,0,null,{"$f":"'Illustration Modelling'!K69","v":98},{"$f":"'Illustration Modelling'!M69","v":0},{"$f":"'Illustration Modelling'!O69","v":0},{"$f":"'Illustration Modelling'!P69","v":0},null,0,0,0,null,0,0,0,null,0,0,0]
[55,2069,99,null,0,0,0,null,{"$f":"IF($C67>=RetAge,0,VLOOKUP($B67,Tables!$A$10:$T$126,18,FALSE))","v":0},{"$f":"IF($C67>=RetAge,0,IF(C67<CatchupAge,0,VLOOKUP($B67,Tables!$A$10:$T$126,20,FALSE)))","v":0},0,0,{"$f":"IF($C67>=RetAge,0,VLOOKUP($B67,Tables!$A$10:$T$126,16,FALSE))","v":0},0,{"$f":"IF($C67>=RetAge,0,VLOOKUP($B67,Tables!$A$10:$T$126,18,FALSE))","v":0},0,null,0,0,0,0,0,0,0,0,null,0,0,{"$f":"CHOOSE(TaxRates,Tables!Z110,Tables!AA110)","v":0.4},0,0,0,null,0,0,{"$f":"CHOOSE(TaxRates,Tables!Z110,Tables!AA110)","v":0.4},0,0,0,null,{"$f":"IF(C67>=RetAge,0,IF(AP67<MIN($AP$13:AP66),MAX($AO$13:AO66)+1,0))","v":0},0,0,{"$f":"CHOOSE(TaxRates,Tables!Z110,Tables!AA110)","v":0.4},0,0,0,null,{"$f":"IF(C67>=RetAge,0,IF(AX67<MIN($AX$13:AX66),MAX($AW$13:AW66)+1,0))","v":0},0,{"$f":"CHOOSE(TaxRates,Tables!Z110,Tables!AA110)","v":0.4},0,0,0,0,null,null,0,0,{"$f":"CHOOSE(TaxRates,Tables!Z110,Tables!AA110)","v":0.4},0,0,0,null,0,{"$f":"CHOOSE(TaxRates,Tables!Z110,Tables!AA110)","v":0.4},0,0,0,0,null,0,{"$f":"CHOOSE(TaxRates,Tables!Z110,Tables!AA110)","v":0.4},0,0,0,0,null,0,2.5000000000000001E-2,0,0,null,0,0,0,0,null,{"$f":"'Illustration Modelling'!K70","v":99},{"$f":"'Illustration Modelling'!M70","v":0},{"$f":"'Illustration Modelling'!O70","v":0},{"$f":"'Illustration Modelling'!P70","v":0},null,0,0,0,null,0,0,0,null,0,0,0]
[56,2070,100,null,0,0,0,null,{"$f":"IF($C68>=RetAge,0,VLOOKUP($B68,Tables!$A$10:$T$126,18,FALSE))","v":0},{"$f":"IF($C68>=RetAge,0,IF(C68<CatchupAge,0,VLOOKUP($B68,Tables!$A$10:$T$126,20,FALSE)))","v":0},0,0,{"$f":"IF($C68>=RetAge,0,VLOOKUP($B68,Tables!$A$10:$T$126,16,FALSE))","v":0},0,{"$f":"IF($C68>=RetAge,0,VLOOKUP($B68,Tables!$A$10:$T$126,18,FALSE))","v":0},0,null,0,0,0,0,0,0,0,0,null,0,0,{"$f":"CHOOSE(TaxRates,Tables!Z111,Tables!AA111)","v":0.4},0,0,0,null,0,0,{"$f":"CHOOSE(TaxRates,Tables!Z111,Tables!AA111)","v":0.4},0,0,0,null,{"$f":"IF(C68>=RetAge,0,IF(AP68<MIN($AP$13:AP67),MAX($AO$13:AO67)+1,0))","v":0},0,0,{"$f":"CHOOSE(TaxRates,Tables!Z111,Tables!AA111)","v":0.4},0,0,0,null,{"$f":"IF(C68>=RetAge,0,IF(AX68<MIN($AX$13:AX67),MAX($AW$13:AW67)+1,0))","v":0},0,{"$f":"CHOOSE(TaxRates,Tables!Z111,Tables!AA111)","v":0.4},0,0,0,0,null,null,0,0,{"$f":"CHOOSE(TaxRates,Tables!Z111,Tables!AA111)","v":0.4},0,0,0,null,0,{"$f":"CHOOSE(TaxRates,Tables!Z111,Tables!AA111)","v":0.4},0,0,0,0,null,0,{"$f":"CHOOSE(TaxRates,Tables!Z111,Tables!AA111)","v":0.4},0,0,0,0,null,0,2.5000000000000001E-2,0,0,null,0,0,0,0,null,{"$f":"'Illustration Modelling'!K71","v":100},{"$f":"'Illustration Modelling'!M71","v":0},{"$f":"'Illustration Modelling'!O71","v":0},{"$f":"'Illustration Modelling'!P71","v":0},null,0,0,0,null,0,0,0,null,0,0,0]
[57,2071,101,null,0,0,0,null,{"$f":"IF($C69>=RetAge,0,VLOOKUP($B69,Tables!$A$10:$T$126,18,FALSE))","v":0},{"$f":"IF($C69>=RetAge,0,IF(C69<CatchupAge,0,VLOOKUP($B69,Tables!$A$10:$T$126,20,FALSE)))","v":0},0,0,{"$f":"IF($C69>=RetAge,0,VLOOKUP($B69,Tables!$A$10:$T$126,16,FALSE))","v":0},0,{"$f":"IF($C69>=RetAge,0,VLOOKUP($B69,Tables!$A$10:$T$126,18,FALSE))","v":0},0,null,0,0,0,0,0,0,0,0,null,0,0,{"$f":"CHOOSE(TaxRates,Tables!Z112,Tables!AA112)","v":0.4},0,0,0,null,0,0,{"$f":"CHOOSE(TaxRates,Tables!Z112,Tables!AA112)","v":0.4},0,0,0,null,{"$f":"IF(C69>=RetAge,0,IF(AP69<MIN($AP$13:AP68),MAX($AO$13:AO68)+1,0))","v":0},0,0,{"$f":"CHOOSE(TaxRates,Tables!Z112,Tables!AA112)","v":0.4},0,0,0,null,{"$f":"IF(C69>=RetAge,0,IF(AX69<MIN($AX$13:AX68),MAX($AW$13:AW68)+1,0))","v":0},0,{"$f":"CHOOSE(TaxRates,Tables!Z112,Tables!AA112)","v":0.4},0,0,0,0,null,null,0,0,{"$f":"CHOOSE(TaxRates,Tables!Z112,Tables!AA112)","v":0.4},0,0,0,null,0,{"$f":"CHOOSE(TaxRates,Tables!Z112,Tables!AA112)","v":0.4},0,0,0,0,null,0,{"$f":"CHOOSE(TaxRates,Tables!Z112,Tables!AA112)","v":0.4},0,0,0,0,null,0,2.5000000000000001E-2,0,0,null,0,0,0,0,null,{"$f":"'Illustration Modelling'!K72","v":101},{"$f":"'Illustration Modelling'!M72","v":0},{"$f":"'Illustration Modelling'!O72","v":0},{"$f":"'Illustration Modelling'!P72","v":0},null,0,0,0,null,0,0,0,null,0,0,0]
[58,2072,102,null,0,0,0,null,{"$f":"IF($C70>=RetAge,0,VLOOKUP($B70,Tables!$A$10:$T$126,18,FALSE))","v":0},{"$f":"IF($C70>=RetAge,0,IF(C70<CatchupAge,0,VLOOKUP($B70,Tables!$A$10:$T$126,20,FALSE)))","v":0},0,0,{"$f":"IF($C70>=RetAge,0,VLOOKUP($B70,Tables!$A$10:$T$126,16,FALSE))","v":0},0,{"$f":"IF($C70>=RetAge,0,VLOOKUP($B70,Tables!$A$10:$T$126,18,FALSE))","v":0},0,null,0,0,0,0,0,0,0,0,null,0,0,{"$f":"CHOOSE(TaxRates,Tables!Z113,Tables!AA113)","v":0.4},0,0,0,null,0,0,{"$f":"CHOOSE(TaxRates,Tables!Z113,Tables!AA113)","v":0.4},0,0,0,null,{"$f":"IF(C70>=RetAge,0,IF(AP70<MIN($AP$13:AP69),MAX($AO$13:AO69)+1,0))","v":0},0,0,{"$f":"CHOOSE(TaxRates,Tables!Z113,Tables!AA113)","v":0.4},0,0,0,null,{"$f":"IF(C70>=RetAge,0,IF(AX70<MIN($AX$13:AX69),MAX($AW$13:AW69)+1,0))","v":0},0,{"$f":"CHOOSE(TaxRates,Tables!Z113,Tables!AA113)","v":0.4},0,0,0,0,null,null,0,0,{"$f":"CHOOSE(TaxRates,Tables!Z113,Tables!AA113)","v":0.4},0,0,0,null,0,{"$f":"CHOOSE(TaxRates,Tables!Z113,Tables!AA113)","v":0.4},0,0,0,0,null,0,{"$f":"CHOOSE(TaxRates,Tables!Z113,Tables!AA113)","v":0.4},0,0,0,0,null,0,2.5000000000000001E-2,0,0,null,0,0,0,0,null,{"$f":"'Illustration Modelling'!K73","v":102},{"$f":"'Illustration Modelling'!M73","v":0},{"$f":"'Illustration Modelling'!O73","v":0},{"$f":"'Illustration Modelling'!P73","v":0},null,0,0,0,null,0,0,0,null,0,0,0]
[59,2073,103,null,0,0,0,null,{"$f":"IF($C71>=RetAge,0,VLOOKUP($B71,Tables!$A$10:$T$126,18,FALSE))","v":0},{"$f":"IF($C71>=RetAge,0,IF(C71<CatchupAge,0,VLOOKUP($B71,Tables!$A$10:$T$126,20,FALSE)))","v":0},0,0,{"$f":"IF($C71>=RetAge,0,VLOOKUP($B71,Tables!$A$10:$T$126,16,FALSE))","v":0},0,{"$f":"IF($C71>=RetAge,0,VLOOKUP($B71,Tables!$A$10:$T$126,18,FALSE))","v":0},0,null,0,0,0,0,0,0,0,0,null,0,0,{"$f":"CHOOSE(TaxRates,Tables!Z114,Tables!AA114)","v":0.4},0,0,0,null,0,0,{"$f":"CHOOSE(TaxRates,Tables!Z114,Tables!AA114)","v":0.4},0,0,0,null,{"$f":"IF(C71>=RetAge,0,IF(AP71<MIN($AP$13:AP70),MAX($AO$13:AO70)+1,0))","v":0},0,0,{"$f":"CHOOSE(TaxRates,Tables!Z114,Tables!AA114)","v":0.4},0,0,0,null,{"$f":"IF(C71>=RetAge,0,IF(AX71<MIN($AX$13:AX70),MAX($AW$13:AW70)+1,0))","v":0},0,{"$f":"CHOOSE(TaxRates,Tables!Z114,Tables!AA114)","v":0.4},0,0,0,0,null,null,0,0,{"$f":"CHOOSE(TaxRates,Tables!Z114,Tables!AA114)","v":0.4},0,0,0,null,0,{"$f":"CHOOSE(TaxRates,Tables!Z114,Tables!AA114)","v":0.4},0,0,0,0,null,0,{"$f":"CHOOSE(TaxRates,Tables!Z114,Tables!AA114)","v":0.4},0,0,0,0,null,0,2.5000000000000001E-2,0,0,null,0,0,0,0,null,{"$f":"'Illustration Modelling'!K74","v":103},{"$f":"'Illustration Modelling'!M74","v":0},{"$f":"'Illustration Modelling'!O74","v":0},{"$f":"'Illustration Modelling'!P74","v":0},null,0,0,0,null,0,0,0,null,0,0,0]
[60,2074,104,null,0,0,0,null,{"$f":"IF($C72>=RetAge,0,VLOOKUP($B72,Tables!$A$10:$T$126,18,FALSE))","v":0},{"$f":"IF($C72>=RetAge,0,IF(C72<CatchupAge,0,VLOOKUP($B72,Tables!$A$10:$T$126,20,FALSE)))","v":0},0,0,{"$f":"IF($C72>=RetAge,0,VLOOKUP($B72,Tables!$A$10:$T$126,16,FALSE))","v":0},0,{"$f":"IF($C72>=RetAge,0,VLOOKUP($B72,Tables!$A$10:$T$126,18,FALSE))","v":0},0,null,0,0,0,0,0,0,0,0,null,0,0,{"$f":"CHOOSE(TaxRates,Tables!Z115,Tables!AA115)","v":0.4},0,0,0,null,0,0,{"$f":"CHOOSE(TaxRates,Tables!Z115,Tables!AA115)","v":0.4},0,0,0,null,{"$f":"IF(C72>=RetAge,0,IF(AP72<MIN($AP$13:AP71),MAX($AO$13:AO71)+1,0))","v":0},0,0,{"$f":"CHOOSE(TaxRates,Tables!Z115,Tables!AA115)","v":0.4},0,0,0,null,{"$f":"IF(C72>=RetAge,0,IF(AX72<MIN($AX$13:AX71),MAX($AW$13:AW71)+1,0))","v":0},0,{"$f":"CHOOSE(TaxRates,Tables!Z115,Tables!AA115)","v":0.4},0,0,0,0,null,null,0,0,{"$f":"CHOOSE(TaxRates,Tables!Z115,Tables!AA115)","v":0.4},0,0,0,null,0,{"$f":"CHOOSE(TaxRates,Tables!Z115,Tables!AA115)","v":0.4},0,0,0,0,null,0,{"$f":"CHOOSE(TaxRates,Tables!Z115,Tables!AA115)","v":0.4},0,0,0,0,null,0,2.5000000000000001E-2,0,0,null,0,0,0,0,null,{"$f":"'Illustration Modelling'!K75","v":104},{"$f":"'Illustration Modelling'!M75","v":0},{"$f":"'Illustration Modelling'!O75","v":0},{"$f":"'Illustration Modelling'!P75","v":0},null,0,0,0,null,0,0,0,null,0,0,0]
[61,2075,105,null,0,0,0,null,{"$f":"IF($C73>=RetAge,0,VLOOKUP($B73,Tables!$A$10:$T$126,18,FALSE))","v":0},{"$f":"IF($C73>=RetAge,0,IF(C73<CatchupAge,0,VLOOKUP($B73,Tables!$A$10:$T$126,20,FALSE)))","v":0},0,0,{"$f":"IF($C73>=RetAge,0,VLOOKUP($B73,Tables!$A$10:$T$126,16,FALSE))","v":0},0,{"$f":"IF($C73>=RetAge,0,VLOOKUP($B73,Tables!$A$10:$T$126,18,FALSE))","v":0},0,null,0,0,0,0,0,0,0,0,null,0,0,{"$f":"CHOOSE(TaxRates,Tables!Z116,Tables!AA116)","v":0.4},0,0,0,null,0,0,{"$f":"CHOOSE(TaxRates,Tables!Z116,Tables!AA116)","v":0.4},0,0,0,null,{"$f":"IF(C73>=RetAge,0,IF(AP73<MIN($AP$13:AP72),MAX($AO$13:AO72)+1,0))","v":0},0,0,{"$f":"CHOOSE(TaxRates,Tables!Z116,Tables!AA116)","v":0.4},0,0,0,null,{"$f":"IF(C73>=RetAge,0,IF(AX73<MIN($AX$13:AX72),MAX($AW$13:AW72)+1,0))","v":0},0,{"$f":"CHOOSE(TaxRates,Tables!Z116,Tables!AA116)","v":0.4},0,0,0,0,null,null,0,0,{"$f":"CHOOSE(TaxRates,Tables!Z116,Tables!AA116)","v":0.4},0,0,0,null,0,{"$f":"CHOOSE(TaxRates,Tables!Z116,Tables!AA116)","v":0.4},0,0,0,0,null,0,{"$f":"CHOOSE(TaxRates,Tables!Z116,Tables!AA116)","v":0.4},0,0,0,0,null,0,2.5000000000000001E-2,0,0,null,0,0,0,0,null,{"$f":"'Illustration Modelling'!K76","v":105},{"$f":"'Illustration Modelling'!M76","v":0},{"$f":"'Illustration Modelling'!O76","v":0},{"$f":"'Illustration Modelling'!P76","v":0},null,0,0,0,null,0,0,0,null,0,0,0]
[62,2076,106,null,0,0,0,null,{"$f":"IF($C74>=RetAge,0,VLOOKUP($B74,Tables!$A$10:$T$126,18,FALSE))","v":0},{"$f":"IF($C74>=RetAge,0,IF(C74<CatchupAge,0,VLOOKUP($B74,Tables!$A$10:$T$126,20,FALSE)))","v":0},0,0,{"$f":"IF($C74>=RetAge,0,VLOOKUP($B74,Tables!$A$10:$T$126,16,FALSE))","v":0},0,{"$f":"IF($C74>=RetAge,0,VLOOKUP($B74,Tables!$A$10:$T$126,18,FALSE))","v":0},0,null,0,0,0,0,0,0,0,0,null,0,0,{"$f":"CHOOSE(TaxRates,Tables!Z117,Tables!AA117)","v":0.4},0,0,0,null,0,0,{"$f":"CHOOSE(TaxRates,Tables!Z117,Tables!AA117)","v":0.4},0,0,0,null,{"$f":"IF(C74>=RetAge,0,IF(AP74<MIN($AP$13:AP73),MAX($AO$13:AO73)+1,0))","v":0},0,0,{"$f":"CHOOSE(TaxRates,Tables!Z117,Tables!AA117)","v":0.4},0,0,0,null,{"$f":"IF(C74>=RetAge,0,IF(AX74<MIN($AX$13:AX73),MAX($AW$13:AW73)+1,0))","v":0},0,{"$f":"CHOOSE(TaxRates,Tables!Z117,Tables!AA117)","v":0.4},0,0,0,0,null,null,0,0,{"$f":"CHOOSE(TaxRates,Tables!Z117,Tables!AA117)","v":0.4},0,0,0,null,0,{"$f":"CHOOSE(TaxRates,Tables!Z117,Tables!AA117)","v":0.4},0,0,0,0,null,0,{"$f":"CHOOSE(TaxRates,Tables!Z117,Tables!AA117)","v":0.4},0,0,0,0,null,0,2.5000000000000001E-2,0,0,null,0,0,0,0,null,{"$f":"'Illustration Modelling'!K77","v":106},{"$f":"'Illustration Modelling'!M77","v":0},{"$f":"'Illustration Modelling'!O77","v":0},{"$f":"'Illustration Modelling'!P77","v":0},null,0,0,0,null,0,0,0,null,0,0,0]
[63,2077,107,null,0,0,0,null,{"$f":"IF($C75>=RetAge,0,VLOOKUP($B75,Tables!$A$10:$T$126,18,FALSE))","v":0},{"$f":"IF($C75>=RetAge,0,IF(C75<CatchupAge,0,VLOOKUP($B75,Tables!$A$10:$T$126,20,FALSE)))","v":0},0,0,{"$f":"IF($C75>=RetAge,0,VLOOKUP($B75,Tables!$A$10:$T$126,16,FALSE))","v":0},0,{"$f":"IF($C75>=RetAge,0,VLOOKUP($B75,Tables!$A$10:$T$126,18,FALSE))","v":0},0,null,0,0,0,0,0,0,0,0,null,0,0,{"$f":"CHOOSE(TaxRates,Tables!Z118,Tables!AA118)","v":0.4},0,0,0,null,0,0,{"$f":"CHOOSE(TaxRates,Tables!Z118,Tables!AA118)","v":0.4},0,0,0,null,{"$f":"IF(C75>=RetAge,0,IF(AP75<MIN($AP$13:AP74),MAX($AO$13:AO74)+1,0))","v":0},0,0,{"$f":"CHOOSE(TaxRates,Tables!Z118,Tables!AA118)","v":0.4},0,0,0,null,{"$f":"IF(C75>=RetAge,0,IF(AX75<MIN($AX$13:AX74),MAX($AW$13:AW74)+1,0))","v":0},0,{"$f":"CHOOSE(TaxRates,Tables!Z118,Tables!AA118)","v":0.4},0,0,0,0,null,null,0,0,{"$f":"CHOOSE(TaxRates,Tables!Z118,Tables!AA118)","v":0.4},0,0,0,null,0,{"$f":"CHOOSE(TaxRates,Tables!Z118,Tables!AA118)","v":0.4},0,0,0,0,null,0,{"$f":"CHOOSE(TaxRates,Tables!Z118,Tables!AA118)","v":0.4},0,0,0,0,null,0,2.5000000000000001E-2,0,0,null,0,0,0,0,null,{"$f":"'Illustration Modelling'!K78","v":107},{"$f":"'Illustration Modelling'!M78","v":0},{"$f":"'Illustration Modelling'!O78","v":0},{"$f":"'Illustration Modelling'!P78","v":0},null,0,0,0,null,0,0,0,null,0,0,0]
[64,2078,108,null,0,0,0,null,{"$f":"IF($C76>=RetAge,0,VLOOKUP($B76,Tables!$A$10:$T$126,18,FALSE))","v":0},{"$f":"IF($C76>=RetAge,0,IF(C76<CatchupAge,0,VLOOKUP($B76,Tables!$A$10:$T$126,20,FALSE)))","v":0},0,0,{"$f":"IF($C76>=RetAge,0,VLOOKUP($B76,Tables!$A$10:$T$126,16,FALSE))","v":0},0,{"$f":"IF($C76>=RetAge,0,VLOOKUP($B76,Tables!$A$10:$T$126,18,FALSE))","v":0},0,null,0,0,0,0,0,0,0,0,null,0,0,{"$f":"CHOOSE(TaxRates,Tables!Z119,Tables!AA119)","v":0.4},0,0,0,null,0,0,{"$f":"CHOOSE(TaxRates,Tables!Z119,Tables!AA119)","v":0.4},0,0,0,null,{"$f":"IF(C76>=RetAge,0,IF(AP76<MIN($AP$13:AP75),MAX($AO$13:AO75)+1,0))","v":0},0,0,{"$f":"CHOOSE(TaxRates,Tables!Z119,Tables!AA119)","v":0.4},0,0,0,null,{"$f":"IF(C76>=RetAge,0,IF(AX76<MIN($AX$13:AX75),MAX($AW$13:AW75)+1,0))","v":0},0,{"$f":"CHOOSE(TaxRates,Tables!Z119,Tables!AA119)","v":0.4},0,0,0,0,null,null,0,0,{"$f":"CHOOSE(TaxRates,Tables!Z119,Tables!AA119)","v":0.4},0,0,0,null,0,{"$f":"CHOOSE(TaxRates,Tables!Z119,Tables!AA119)","v":0.4},0,0,0,0,null,0,{"$f":"CHOOSE(TaxRates,Tables!Z119,Tables!AA119)","v":0.4},0,0,0,0,null,0,2.5000000000000001E-2,0,0,null,0,0,0,0,null,{"$f":"'Illustration Modelling'!K79","v":108},{"$f":"'Illustration Modelling'!M79","v":0},{"$f":"'Illustration Modelling'!O79","v":0},{"$f":"'Illustration Modelling'!P79","v":0},null,0,0,0,null,0,0,0,null,0,0,0]
[65,2079,109,null,0,0,{"$f":"IF(CompDefinition=1,E77,E77+F77)","v":0},null,{"$f":"IF($C77>=RetAge,0,VLOOKUP($B77,Tables!$A$10:$T$126,18,FALSE))","v":0},{"$f":"IF($C77>=RetAge,0,IF(C77<CatchupAge,0,VLOOKUP($B77,Tables!$A$10:$T$126,20,FALSE)))","v":0},{"$f":"IF($C77>=RetAge,0,(I77+J77)*MachtingERCont)","v":0},0,{"$f":"IF($C77>=RetAge,0,VLOOKUP($B77,Tables!$A$10:$T$126,16,FALSE))","v":0},0,{"$f":"IF($C77>=RetAge,0,VLOOKUP($B77,Tables!$A$10:$T$126,18,FALSE))","v":0},0,null,{"$f":"IF($C77>=RetAge,0,IF(TargetMethod1=1,TargetContribPercent*G77,IF(TargetMethod2=1,TargetContribDollarAmt,0)))","v":0},0,0,{"$f":"IF($C77>=RetAge,0,(S77+T77)*MachtingERCont)","v":0},0,0,0,0,null,{"$f":"IF(TargetMethod3=1,I77+J77,S77+T77)","v":0},{"$f":"IF($C77<RetAge,0,IF($C77<RetAge+RetDistYrs,AnnRet403b,0))","v":0},{"$f":"CHOOSE(TaxRates,Tables!Z120,Tables!AA120)","v":0.4},0,0,0,null,{"$f":"IF(TargetMethod3=1,K77,U77)","v":0},{"$f":"IF($C77<RetAge,0,IF($C77<RetAge+RetDistYrs,AnnRet403bERMatch,0))","v":0},{"$f":"CHOOSE(TaxRates,Tables!Z120,Tables!AA120)","v":0.4},0,0,0,null,{"$f":"IF(C77>=RetAge,0,IF(AP77<MIN($AP$13:AP76),MAX($AO$13:AO76)+1,0))","v":0},{"$f":"IF(TargetMethod3=1,O77,W77)","v":0},{"$f":"IF($C77<RetAge,0,IF($C77<RetAge+RetDistYrs,AnnRet457b,0))","v":0},{"$f":"CHOOSE(TaxRates,Tables!Z120,Tables!AA120)","v":0.4},0,0,0,null,{"$f":"IF(C77>=RetAge,0,IF(AX77<MIN($AX$13:AX76),MAX($AW$13:AW76)+1,0))","v":0},{"$f":"IF(TargetMethod3=1,0,Y77)","v":0},{"$f":"CHOOSE(TaxRates,Tables!Z120,Tables!AA120)","v":0.4},0,{"$f":"IF($C77<RetAge,0,IF($C77<RetAge+RetDistYrs,AnnRetATSavingsAT,0))","v":0},0,0,null,null,{"$f":"IF($C77>=RetAge,0,Redirected457b)","v":0},{"$f":"IF($C77<RetAge,0,IF($C77<RetAge+RetDistYrs,AnnRetRedirected457b,0))","v":0},{"$f":"CHOOSE(TaxRates,Tables!Z120,Tables!AA120)","v":0.4},0,0,0,null,{"$f":"IF($C77>=RetAge,0,RedirectedAT)","v":0},{"$f":"CHOOSE(TaxRates,Tables!Z120,Tables!AA120)","v":0.4},0,{"$f":"IF($C77<RetAge,0,IF($C77<RetAge+RetDistYrs,AnnRetRedirectedATSavingsAT,0))","v":0},0,0,null,{"$f":"IF($C77>=RetAge,0,RedirectedContribs)","v":0},{"$f":"CHOOSE(TaxRates,Tables!Z120,Tables!AA120)","v":0.4},0,0,0,0,null,0,2.5000000000000001E-2,0,0,null,{"$f":"IF(C77=RetAge,$CL$4,0)","v":0},{"$f":"IF(CL77>0,CL77-CF77,0)+IF($C77=Death_Age,CN77,0)","v":0},{"$f":"IF(C77<Death_Age,CM77-CA77,0)","v":0},{"$f":"IF(C77<Death_Age,CN77-CA77,0)","v":0},null,{"$f":"'Illustration Modelling'!K80","v":109},{"$f":"'Illustration Modelling'!M80","v":0},{"$f":"'Illustration Modelling'!O80","v":0},{"$f":"'Illustration Modelling'!P80","v":0},null,0,0,0,null,0,{"$f":"Corp_Tax_Rate","v":0},0,null,0,0,0]
[{"$f":"A77+1","v":66},2080,110,null,{"$f":"IF($C78>=RetAge,0,E77*(1+CompGrowthRate))","v":0},{"$f":"IF($C78>=RetAge,0,F77*(1+CompGrowthRate))","v":0},0,null,{"$f":"IF($C78>=RetAge,0,VLOOKUP($B78,Tables!$A$10:$T$126,18,FALSE))","v":0},{"$f":"IF($C78>=RetAge,0,IF(C78<CatchupAge,0,VLOOKUP($B78,Tables!$A$10:$T$126,20,FALSE)))","v":0},0,{"$f":"SUM(I78:K78)","v":0},{"$f":"IF($C78>=RetAge,0,VLOOKUP($B78,Tables!$A$10:$T$126,16,FALSE))","v":0},{"$f":"MIN(L78:M78)","v":0},{"$f":"IF($C78>=RetAge,0,VLOOKUP($B78,Tables!$A$10:$T$126,18,FALSE))","v":0},{"$f":"N78+O78","v":0},null,0,{"$f":"MIN($R78,I78)","v":0},{"$f":"MIN($R78-S78,J78)","v":0},0,{"$f":"SUM(S78:U78)","v":0},{"$f":"MIN(R78-S78-T78,O78)","v":0},{"$f":"V78+W78","v":0},{"$f":"MAX(0,R78-S78-T78-W78)","v":0},null,0,0,{"$f":"CHOOSE(TaxRates,Tables!Z121,Tables!AA121)","v":0.4},{"$f":"AB78*(1-AC78)","v":0},{"$f":"(AA78+AB78+AF77)*AcctBalGrowth","v":0},0,null,0,0,{"$f":"CHOOSE(TaxRates,Tables!Z121,Tables!AA121)","v":0.4},{"$f":"AI78*(1-AJ78)","v":0},{"$f":"(AH78+AI78+AM77)*AcctBalGrowth","v":0},0,null,{"$f":"IF(C78>=RetAge,0,IF(AP78<MIN($AP$13:AP77),MAX($AO$13:AO77)+1,0))","v":0},0,0,{"$f":"CHOOSE(TaxRates,Tables!Z121,Tables!AA121)","v":0.4},{"$f":"AQ78*(1-AR78)","v":0},{"$f":"(AP78+AQ78+AU77)*AcctBalGrowth","v":0},0,null,{"$f":"IF(C78>=RetAge,0,IF(AX78<MIN($AX$13:AX77),MAX($AW$13:AW77)+1,0))","v":0},0,{"$f":"CHOOSE(TaxRates,Tables!Z121,Tables!AA121)","v":0.4},{"$f":"AX78*(1-AY78)","v":0},0,{"$f":"(AZ78+BA78+BC77)*AcctBalGrowth*(1-EEBlendedTaxRate)","v":0},0,null,null,0,0,{"$f":"CHOOSE(TaxRates,Tables!Z121,Tables!AA121)","v":0.4},{"$f":"BG78*(1-BH78)","v":0},{"$f":"(BF78+BG78+BK77)*AcctBalGrowth","v":0},0,null,0,{"$f":"CHOOSE(TaxRates,Tables!Z121,Tables!AA121)","v":0.4},{"$f":"BM78*(1-BN78)","v":0},0,{"$f":"(BO78+BP78+BR77)*AcctBalGrowth*(1-EEBlendedTaxRate)","v":0},0,null,0,{"$f":"CHOOSE(TaxRates,Tables!Z121,Tables!AA121)","v":0.4},{"$f":"-BT78*BU78","v":0},{"$f":"BT78+BV78","v":0},{"$f":"-BV78","v":0},{"$f":"BW78+BX78","v":0},null,0,2.5000000000000001E-2,{"$f":"CB78*CA78","v":0},{"$f":"CC78*-BU78","v":0},null,0,0,0,0,null,{"$f":"'Illustration Modelling'!K81","v":110},{"$f":"'Illustration Modelling'!M81","v":0},{"$f":"'Illustration Modelling'!O81","v":0},{"$f":"'Illustration Modelling'!P81","v":0},null,{"$f":"-BX78","v":0},{"$f":"CF78","v":0},{"$f":"CP78+CQ78","v":0},null,{"$f":"G78","v":0},0,{"$f":"CT78*(1-CU78)","v":0},null,{"$f":"-(BI78+BP78)","v":0},{"$f":"CG78","v":0},{"$f":"CY78-CX78","v":0}]
[67,2081,111,null,0,0,0,null,{"$f":"IF($C79>=RetAge,0,VLOOKUP($B79,Tables!$A$10:$T$126,18,FALSE))","v":0},{"$f":"IF($C79>=RetAge,0,IF(C79<CatchupAge,0,VLOOKUP($B79,Tables!$A$10:$T$126,20,FALSE)))","v":0},0,0,{"$f":"IF($C79>=RetAge,0,VLOOKUP($B79,Tables!$A$10:$T$126,16,FALSE))","v":0},0,{"$f":"IF($C79>=RetAge,0,VLOOKUP($B79,Tables!$A$10:$T$126,18,FALSE))","v":0},0,null,0,0,0,0,0,0,0,0,null,0,0,{"$f":"CHOOSE(TaxRates,Tables!Z122,Tables!AA122)","v":0.4},0,0,{"$f":"AA79+AB79+AE79+AF78","v":0},null,0,0,{"$f":"CHOOSE(TaxRates,Tables!Z122,Tables!AA122)","v":0.4},0,0,{"$f":"AH79+AI79+AL79+AM78","v":0},null,{"$f":"IF(C79>=RetAge,0,IF(AP79<MIN($AP$13:AP78),MAX($AO$13:AO78)+1,0))","v":0},0,0,{"$f":"CHOOSE(TaxRates,Tables!Z122,Tables!AA122)","v":0.4},0,0,{"$f":"AP79+AQ79+AT79+AU78","v":0},null,{"$f":"IF(C79>=RetAge,0,IF(AX79<MIN($AX$13:AX78),MAX($AW$13:AW78)+1,0))","v":0},0,{"$f":"CHOOSE(TaxRates,Tables!Z122,Tables!AA122)","v":0.4},0,0,0,{"$f":"AZ79+BA79+BB79+BC78","v":0},null,null,0,0,{"$f":"CHOOSE(TaxRates,Tables!Z122,Tables!AA122)","v":0.4},0,0,{"$f":"BF79+BG79+BJ79+BK78","v":0},null,0,{"$f":"CHOOSE(TaxRates,Tables!Z122,Tables!AA122)","v":0.4},0,0,0,{"$f":"BO79+BP79+BQ79+BR78","v":0},null,0,{"$f":"CHOOSE(TaxRates,Tables!Z122,Tables!AA122)","v":0.4},0,0,0,0,null,{"$f":"CA78+BX79-CF79","v":0},{"$f":"MIN(0.025,CB78+0.01)","v":2.5000000000000001E-2},0,0,null,0,0,0,0,null,{"$f":"'Illustration Modelling'!K82","v":111},{"$f":"'Illustration Modelling'!M82","v":0},{"$f":"'Illustration Modelling'!O82","v":0},{"$f":"'Illustration Modelling'!P82","v":0},null,0,0,0,null,0,0,0,null,0,0,0]
[68,2082,112,null,0,0,0,null,{"$f":"IF($C80>=RetAge,0,VLOOKUP($B80,Tables!$A$10:$T$126,18,FALSE))","v":0},{"$f":"IF($C80>=RetAge,0,IF(C80<CatchupAge,0,VLOOKUP($B80,Tables!$A$10:$T$126,20,FALSE)))","v":0},0,0,{"$f":"IF($C80>=RetAge,0,VLOOKUP($B80,Tables!$A$10:$T$126,16,FALSE))","v":0},0,{"$f":"IF($C80>=RetAge,0,VLOOKUP($B80,Tables!$A$10:$T$126,18,FALSE))","v":0},0,null,0,0,0,0,0,0,0,0,null,0,0,{"$f":"CHOOSE(TaxRates,Tables!Z123,Tables!AA123)","v":0.4},0,0,0,null,0,0,{"$f":"CHOOSE(TaxRates,Tables!Z123,Tables!AA123)","v":0.4},0,0,0,null,{"$f":"IF(C80>=RetAge,0,IF(AP80<MIN($AP$13:AP79),MAX($AO$13:AO79)+1,0))","v":0},0,0,{"$f":"CHOOSE(TaxRates,Tables!Z123,Tables!AA123)","v":0.4},0,0,0,null,{"$f":"IF(C80>=RetAge,0,IF(AX80<MIN($AX$13:AX79),MAX($AW$13:AW79)+1,0))","v":0},0,{"$f":"CHOOSE(TaxRates,Tables!Z123,Tables!AA123)","v":0.4},0,0,0,0,null,null,0,0,{"$f":"CHOOSE(TaxRates,Tables!Z123,Tables!AA123)","v":0.4},0,0,0,null,0,{"$f":"CHOOSE(TaxRates,Tables!Z123,Tables!AA123)","v":0.4},0,0,0,0,null,0,{"$f":"CHOOSE(TaxRates,Tables!Z123,Tables!AA123)","v":0.4},0,0,0,0,null,0,2.5000000000000001E-2,0,0,null,0,0,0,0,null,{"$f":"'Illustration Modelling'!K83","v":112},{"$f":"'Illustration Modelling'!M83","v":0},{"$f":"'Illustration Modelling'!O83","v":0},{"$f":"'Illustration Modelling'!P83","v":0},null,0,0,0,null,0,0,0,null,0,0,0]
[69,2083,113,null,0,0,0,null,{"$f":"IF($C81>=RetAge,0,VLOOKUP($B81,Tables!$A$10:$T$126,18,FALSE))","v":0},{"$f":"IF($C81>=RetAge,0,IF(C81<CatchupAge,0,VLOOKUP($B81,Tables!$A$10:$T$126,20,FALSE)))","v":0},0,0,{"$f":"IF($C81>=RetAge,0,VLOOKUP($B81,Tables!$A$10:$T$126,16,FALSE))","v":0},0,{"$f":"IF($C81>=RetAge,0,VLOOKUP($B81,Tables!$A$10:$T$126,18,FALSE))","v":0},0,null,0,0,0,0,0,0,0,0,null,0,0,{"$f":"CHOOSE(TaxRates,Tables!Z124,Tables!AA124)","v":0.4},0,0,0,null,0,0,{"$f":"CHOOSE(TaxRates,Tables!Z124,Tables!AA124)","v":0.4},0,0,0,null,{"$f":"IF(C81>=RetAge,0,IF(AP81<MIN($AP$13:AP80),MAX($AO$13:AO80)+1,0))","v":0},0,0,{"$f":"CHOOSE(TaxRates,Tables!Z124,Tables!AA124)","v":0.4},0,0,0,null,{"$f":"IF(C81>=RetAge,0,IF(AX81<MIN($AX$13:AX80),MAX($AW$13:AW80)+1,0))","v":0},0,{"$f":"CHOOSE(TaxRates,Tables!Z124,Tables!AA124)","v":0.4},0,0,0,0,null,null,0,0,{"$f":"CHOOSE(TaxRates,Tables!Z124,Tables!AA124)","v":0.4},0,0,0,null,0,{"$f":"CHOOSE(TaxRates,Tables!Z124,Tables!AA124)","v":0.4},0,0,0,0,null,0,{"$f":"CHOOSE(TaxRates,Tables!Z124,Tables!AA124)","v":0.4},0,0,0,0,null,0,2.5000000000000001E-2,0,0,null,0,0,0,0,null,{"$f":"'Illustration Modelling'!K84","v":113},{"$f":"'Illustration Modelling'!M84","v":0},{"$f":"'Illustration Modelling'!O84","v":0},{"$f":"'Illustration Modelling'!P84","v":0},null,0,0,0,null,0,0,0,null,0,0,0]
[70,2084,114,null,0,0,0,null,{"$f":"IF($C82>=RetAge,0,VLOOKUP($B82,Tables!$A$10:$T$126,18,FALSE))","v":0},{"$f":"IF($C82>=RetAge,0,IF(C82<CatchupAge,0,VLOOKUP($B82,Tables!$A$10:$T$126,20,FALSE)))","v":0},0,0,{"$f":"IF($C82>=RetAge,0,VLOOKUP($B82,Tables!$A$10:$T$126,16,FALSE))","v":0},0,{"$f":"IF($C82>=RetAge,0,VLOOKUP($B82,Tables!$A$10:$T$126,18,FALSE))","v":0},0,null,0,0,0,0,0,0,0,0,null,0,0,{"$f":"CHOOSE(TaxRates,Tables!Z125,Tables!AA125)","v":0.4},0,0,0,null,0,0,{"$f":"CHOOSE(TaxRates,Tables!Z125,Tables!AA125)","v":0.4},0,0,0,null,{"$f":"IF(C82>=RetAge,0,IF(AP82<MIN($AP$13:AP81),MAX($AO$13:AO81)+1,0))","v":0},0,0,{"$f":"CHOOSE(TaxRates,Tables!Z125,Tables!AA125)","v":0.4},0,0,0,null,{"$f":"IF(C82>=RetAge,0,IF(AX82<MIN($AX$13:AX81),MAX($AW$13:AW81)+1,0))","v":0},0,{"$f":"CHOOSE(TaxRates,Tables!Z125,Tables!AA125)","v":0.4},0,0,0,0,null,null,0,0,{"$f":"CHOOSE(TaxRates,Tables!Z125,Tables!AA125)","v":0.4},0,0,0,null,0,{"$f":"CHOOSE(TaxRates,Tables!Z125,Tables!AA125)","v":0.4},0,0,0,0,null,0,{"$f":"CHOOSE(TaxRates,Tables!Z125,Tables!AA125)","v":0.4},0,0,0,0,null,0,2.5000000000000001E-2,0,0,null,0,0,0,0,null,{"$f":"'Illustration Modelling'!K85","v":114},{"$f":"'Illustration Modelling'!M85","v":0},{"$f":"'Illustration Modelling'!O85","v":0},{"$f":"'Illustration Modelling'!P85","v":0},null,0,0,0,null,0,0,0,null,0,0,0]
[71,2085,115,null,0,0,0,null,{"$f":"IF($C83>=RetAge,0,VLOOKUP($B83,Tables!$A$10:$T$126,18,FALSE))","v":0},{"$f":"IF($C83>=RetAge,0,IF(C83<CatchupAge,0,VLOOKUP($B83,Tables!$A$10:$T$126,20,FALSE)))","v":0},0,0,{"$f":"IF($C83>=RetAge,0,VLOOKUP($B83,Tables!$A$10:$T$126,16,FALSE))","v":0},0,{"$f":"IF($C83>=RetAge,0,VLOOKUP($B83,Tables!$A$10:$T$126,18,FALSE))","v":0},0,null,0,0,0,0,0,0,0,0,null,0,0,{"$f":"CHOOSE(TaxRates,Tables!Z126,Tables!AA126)","v":0.4},0,0,0,null,0,0,{"$f":"CHOOSE(TaxRates,Tables!Z126,Tables!AA126)","v":0.4},0,0,0,null,{"$f":"IF(C83>=RetAge,0,IF(AP83<MIN($AP$13:AP82),MAX($AO$13:AO82)+1,0))","v":0},0,0,{"$f":"CHOOSE(TaxRates,Tables!Z126,Tables!AA126)","v":0.4},0,0,0,null,{"$f":"IF(C83>=RetAge,0,IF(AX83<MIN($AX$13:AX82),MAX($AW$13:AW82)+1,0))","v":0},0,{"$f":"CHOOSE(TaxRates,Tables!Z126,Tables!AA126)","v":0.4},0,0,0,0,null,null,0,0,{"$f":"CHOOSE(TaxRates,Tables!Z126,Tables!AA126)","v":0.4},0,0,0,null,0,{"$f":"CHOOSE(TaxRates,Tables!Z126,Tables!AA126)","v":0.4},0,0,0,0,null,0,{"$f":"CHOOSE(TaxRates,Tables!Z126,Tables!AA126)","v":0.4},0,0,0,0,null,0,2.5000000000000001E-2,0,0,null,0,0,0,0,null,{"$f":"'Illustration Modelling'!K86","v":0},{"$f":"'Illustration Modelling'!M86","v":0},{"$f":"'Illustration Modelling'!O86","v":0},{"$f":"'Illustration Modelling'!P86","v":0},null,0,0,0,null,0,0,0,null,0,0,0]
[72,2086,116,null,0,0,0,null,{"$f":"IF($C84>=RetAge,0,VLOOKUP($B84,Tables!$A$10:$T$126,18,FALSE))","v":0},{"$f":"IF($C84>=RetAge,0,IF(C84<CatchupAge,0,VLOOKUP($B84,Tables!$A$10:$T$126,20,FALSE)))","v":0},0,0,{"$f":"IF($C84>=RetAge,0,VLOOKUP($B84,Tables!$A$10:$T$126,16,FALSE))","v":0},0,{"$f":"IF($C84>=RetAge,0,VLOOKUP($B84,Tables!$A$10:$T$126,18,FALSE))","v":0},0,null,0,0,0,0,0,0,0,0,null,0,0,{"$f":"CHOOSE(TaxRates,Tables!Z127,Tables!AA127)","v":0.4},0,0,0,null,0,0,{"$f":"CHOOSE(TaxRates,Tables!Z127,Tables!AA127)","v":0.4},0,0,0,null,{"$f":"IF(C84>=RetAge,0,IF(AP84<MIN($AP$13:AP83),MAX($AO$13:AO83)+1,0))","v":0},0,0,{"$f":"CHOOSE(TaxRates,Tables!Z127,Tables!AA127)","v":0.4},0,0,0,null,{"$f":"IF(C84>=RetAge,0,IF(AX84<MIN($AX$13:AX83),MAX($AW$13:AW83)+1,0))","v":0},0,{"$f":"CHOOSE(TaxRates,Tables!Z127,Tables!AA127)","v":0.4},0,0,0,0,null,null,0,0,{"$f":"CHOOSE(TaxRates,Tables!Z127,Tables!AA127)","v":0.4},0,0,0,null,0,{"$f":"CHOOSE(TaxRates,Tables!Z127,Tables!AA127)","v":0.4},0,0,0,0,null,0,{"$f":"CHOOSE(TaxRates,Tables!Z127,Tables!AA127)","v":0.4},0,0,0,0,null,0,2.5000000000000001E-2,0,0,null,0,0,0,0,null,{"$f":"'Illustration Modelling'!K87","v":0},{"$f":"'Illustration Modelling'!M87","v":0},{"$f":"'Illustration Modelling'!O87","v":0},{"$f":"'Illustration Modelling'!P87","v":0},null,0,0,0,null,0,0,0,null,0,0,0]
[73,2087,117,null,0,0,0,null,{"$f":"IF($C85>=RetAge,0,VLOOKUP($B85,Tables!$A$10:$T$126,18,FALSE))","v":0},{"$f":"IF($C85>=RetAge,0,IF(C85<CatchupAge,0,VLOOKUP($B85,Tables!$A$10:$T$126,20,FALSE)))","v":0},0,0,{"$f":"IF($C85>=RetAge,0,VLOOKUP($B85,Tables!$A$10:$T$126,16,FALSE))","v":0},0,{"$f":"IF($C85>=RetAge,0,VLOOKUP($B85,Tables!$A$10:$T$126,18,FALSE))","v":0},0,null,0,0,0,0,0,0,0,0,null,0,0,{"$f":"CHOOSE(TaxRates,Tables!Z128,Tables!AA128)","v":0.4},0,0,0,null,0,0,{"$f":"CHOOSE(TaxRates,Tables!Z128,Tables!AA128)","v":0.4},0,0,0,null,{"$f":"IF(C85>=RetAge,0,IF(AP85<MIN($AP$13:AP84),MAX($AO$13:AO84)+1,0))","v":0},0,0,{"$f":"CHOOSE(TaxRates,Tables!Z128,Tables!AA128)","v":0.4},0,0,0,null,{"$f":"IF(C85>=RetAge,0,IF(AX85<MIN($AX$13:AX84),MAX($AW$13:AW84)+1,0))","v":0},0,{"$f":"CHOOSE(TaxRates,Tables!Z128,Tables!AA128)","v":0.4},0,0,0,0,null,null,0,0,{"$f":"CHOOSE(TaxRates,Tables!Z128,Tables!AA128)","v":0.4},0,0,0,null,0,{"$f":"CHOOSE(TaxRates,Tables!Z128,Tables!AA128)","v":0.4},0,0,0,0,null,0,{"$f":"CHOOSE(TaxRates,Tables!Z128,Tables!AA128)","v":0.4},0,0,0,0,null,0,2.5000000000000001E-2,0,0,null,0,0,0,0,null,{"$f":"'Illustration Modelling'!K88","v":0},{"$f":"'Illustration Modelling'!M88","v":0},{"$f":"'Illustration Modelling'!O88","v":0},{"$f":"'Illustration Modelling'!P88","v":0},null,0,0,0,null,0,0,0,null,0,0,0]
[74,2088,118,null,0,0,0,null,{"$f":"IF($C86>=RetAge,0,VLOOKUP($B86,Tables!$A$10:$T$126,18,FALSE))","v":0},{"$f":"IF($C86>=RetAge,0,IF(C86<CatchupAge,0,VLOOKUP($B86,Tables!$A$10:$T$126,20,FALSE)))","v":0},0,0,{"$f":"IF($C86>=RetAge,0,VLOOKUP($B86,Tables!$A$10:$T$126,16,FALSE))","v":0},0,{"$f":"IF($C86>=RetAge,0,VLOOKUP($B86,Tables!$A$10:$T$126,18,FALSE))","v":0},0,null,0,0,0,0,0,0,0,0,null,0,0,{"$f":"CHOOSE(TaxRates,Tables!Z129,Tables!AA129)","v":0.4},0,0,0,null,0,0,{"$f":"CHOOSE(TaxRates,Tables!Z129,Tables!AA129)","v":0.4},0,0,0,null,{"$f":"IF(C86>=RetAge,0,IF(AP86<MIN($AP$13:AP85),MAX($AO$13:AO85)+1,0))","v":0},0,0,{"$f":"CHOOSE(TaxRates,Tables!Z129,Tables!AA129)","v":0.4},0,0,0,null,{"$f":"IF(C86>=RetAge,0,IF(AX86<MIN($AX$13:AX85),MAX($AW$13:AW85)+1,0))","v":0},0,{"$f":"CHOOSE(TaxRates,Tables!Z129,Tables!AA129)","v":0.4},0,0,0,0,null,null,0,0,{"$f":"CHOOSE(TaxRates,Tables!Z129,Tables!AA129)","v":0.4},0,0,0,null,0,{"$f":"CHOOSE(TaxRates,Tables!Z129,Tables!AA129)","v":0.4},0,0,0,0,null,0,{"$f":"CHOOSE(TaxRates,Tables!Z129,Tables!AA129)","v":0.4},0,0,0,0,null,0,2.5000000000000001E-2,0,0,null,0,0,0,0,null,{"$f":"'Illustration Modelling'!K89","v":0},{"$f":"'Illustration Modelling'!M89","v":0},{"$f":"'Illustration Modelling'!O89","v":0},{"$f":"'Illustration Modelling'!P89","v":0},null,0,0,0,null,0,0,0,null,0,0,0]
[75,2089,119,null,0,0,0,null,{"$f":"IF($C87>=RetAge,0,VLOOKUP($B87,Tables!$A$10:$T$126,18,FALSE))","v":0},{"$f":"IF($C87>=RetAge,0,IF(C87<CatchupAge,0,VLOOKUP($B87,Tables!$A$10:$T$126,20,FALSE)))","v":0},0,0,{"$f":"IF($C87>=RetAge,0,VLOOKUP($B87,Tables!$A$10:$T$126,16,FALSE))","v":0},0,{"$f":"IF($C87>=RetAge,0,VLOOKUP($B87,Tables!$A$10:$T$126,18,FALSE))","v":0},0,null,0,0,0,0,0,0,0,0,null,0,0,{"$f":"CHOOSE(TaxRates,Tables!Z130,Tables!AA130)","v":0.4},0,0,0,null,0,0,{"$f":"CHOOSE(TaxRates,Tables!Z130,Tables!AA130)","v":0.4},0,0,0,null,{"$f":"IF(C87>=RetAge,0,IF(AP87<MIN($AP$13:AP86),MAX($AO$13:AO86)+1,0))","v":0},0,0,{"$f":"CHOOSE(TaxRates,Tables!Z130,Tables!AA130)","v":0.4},0,0,0,null,{"$f":"IF(C87>=RetAge,0,IF(AX87<MIN($AX$13:AX86),MAX($AW$13:AW86)+1,0))","v":0},0,{"$f":"CHOOSE(TaxRates,Tables!Z130,Tables!AA130)","v":0.4},0,0,0,0,null,null,0,0,{"$f":"CHOOSE(TaxRates,Tables!Z130,Tables!AA130)","v":0.4},0,0,0,null,0,{"$f":"CHOOSE(TaxRates,Tables!Z130,Tables!AA130)","v":0.4},0,0,0,0,null,0,{"$f":"CHOOSE(TaxRates,Tables!Z130,Tables!AA130)","v":0.4},0,0,0,0,null,0,2.5000000000000001E-2,0,0,null,0,0,0,0,null,{"$f":"'Illustration Modelling'!K90","v":0},{"$f":"'Illustration Modelling'!M90","v":0},{"$f":"'Illustration Modelling'!O90","v":0},{"$f":"'Illustration Modelling'!P90","v":0},null,0,0,0,null,0,0,0,null,0,0,0]
[76,2090,120,null,0,0,0,null,{"$f":"IF($C88>=RetAge,0,VLOOKUP($B88,Tables!$A$10:$T$126,18,FALSE))","v":0},{"$f":"IF($C88>=RetAge,0,IF(C88<CatchupAge,0,VLOOKUP($B88,Tables!$A$10:$T$126,20,FALSE)))","v":0},0,0,{"$f":"IF($C88>=RetAge,0,VLOOKUP($B88,Tables!$A$10:$T$126,16,FALSE))","v":0},0,{"$f":"IF($C88>=RetAge,0,VLOOKUP($B88,Tables!$A$10:$T$126,18,FALSE))","v":0},0,null,0,0,0,0,0,0,0,0,null,0,0,{"$f":"CHOOSE(TaxRates,Tables!Z131,Tables!AA131)","v":0.4},0,0,0,null,0,0,{"$f":"CHOOSE(TaxRates,Tables!Z131,Tables!AA131)","v":0.4},0,0,0,null,{"$f":"IF(C88>=RetAge,0,IF(AP88<MIN($AP$13:AP87),MAX($AO$13:AO87)+1,0))","v":0},0,0,{"$f":"CHOOSE(TaxRates,Tables!Z131,Tables!AA131)","v":0.4},0,0,0,null,{"$f":"IF(C88>=RetAge,0,IF(AX88<MIN($AX$13:AX87),MAX($AW$13:AW87)+1,0))","v":0},0,{"$f":"CHOOSE(TaxRates,Tables!Z131,Tables!AA131)","v":0.4},0,0,0,0,null,null,0,0,{"$f":"CHOOSE(TaxRates,Tables!Z131,Tables!AA131)","v":0.4},0,0,0,null,0,{"$f":"CHOOSE(TaxRates,Tables!Z131,Tables!AA131)","v":0.4},0,0,0,0,null,0,{"$f":"CHOOSE(TaxRates,Tables!Z131,Tables!AA131)","v":0.4},0,0,0,0,null,0,2.5000000000000001E-2,0,0,null,0,0,0,0,null,{"$f":"'Illustration Modelling'!K91","v":0},{"$f":"'Illustration Modelling'!M91","v":0},{"$f":"'Illustration Modelling'!O91","v":0},{"$f":"'Illustration Modelling'!P91","v":0},null,0,0,0,null,0,0,0,null,0,0,0]

{"sheet":"Illustration Detail 7%","index":5,"n_rows":1609,"n_cols":312,"rows_kept":562,"cut":true,"hidden":true,"merged":[],"bounds":{"rows_first":250,"rows_last":62,"rows_between":250,"halvings":3}}
["A30 P 60 10 Wdwl 60","A30 P 60 10SDWdwl 60","A30 P 60 20 Wdwl 60","A30 P 60 20SDWdwl 60","A30 P 65 10 Wdwl 65","A30 P 65 10SDWdwl 65","A30 P 65 20 Wdwl 65","A30 P 65 20SDWdwl 65","A30 P 70 10 Wdwl 70","A30 P 70 10SDWdwl 70","A30 P 70 20 Wdwl 70","A30 P 70 20SDWdwl 70","A31 P 60 10 Wdwl 60","A31 P 60 10SDWdwl 60","A31 P 60 20 Wdwl 60","A31 P 60 20SDWdwl 60","A31 P 65 10 Wdwl 65","A31 P 65 10SDWdwl 65","A31 P 65 20 Wdwl 65","A31 P 65 20SDWdwl 65","A31 P 70 10 Wdwl 70","A31 P 70 10SDWdwl 70","A31 P 70 20 Wdwl 70","A31 P 70 20SDWdwl 70","A32 P 60 10 Wdwl 60","A32 P 60 10SDWdwl 60","A32 P 60 20 Wdwl 60","A32 P 60 20SDWdwl 60","A32 P 65 10 Wdwl 65","A32 P 65 10SDWdwl 65","A32 P 65 20 Wdwl 65","A32 P 65 20SDWdwl 65","A32 P 70 10 Wdwl 70","A32 P 70 10SDWdwl 70","A32 P 70 20 Wdwl 70","A32 P 70 20SDWdwl 70","A33 P 60 10 Wdwl 60","A33 P 60 10SDWdwl 60","A33 P 60 20 Wdwl 60","A33 P 60 20SDWdwl 60","A33 P 65 10 Wdwl 65","A33 P 65 10SDWdwl 65","A33 P 65 20 Wdwl 65","A33 P 65 20SDWdwl 65","A33 P 70 10 Wdwl 70","A33 P 70 10SDWdwl 70","A33 P 70 20 Wdwl 70","A33 P 70 20SDWdwl 70","A34 P 60 10 Wdwl 60","A34 P 60 10SDWdwl 60","A34 P 60 20 Wdwl 60","A34 P 60 20SDWdwl 60","A34 P 65 10 Wdwl 65","A34 P 65 10SDWdwl 65","A34 P 65 20 Wdwl 65","A34 P 65 20SDWdwl 65","A34 P 70 10 Wdwl 70","A34 P 70 10SDWdwl 70","A34 P 70 20 Wdwl 70","A34 P 70 20SDWdwl 70","A35 P 60 10 Wdwl 60","A35 P 60 10SDWdwl 60","A35 P 60 20 Wdwl 60","A35 P 60 20SDWdwl 60","A35 P 65 10 Wdwl 65","A35 P 65 10SDWdwl 65","A35 P 65 20 Wdwl 65","A35 P 65 20SDWdwl 65","A35 P 70 10 Wdwl 70","A35 P 70 10SDWdwl 70","A35 P 70 20 Wdwl 70","A35 P 70 20SDWdwl 70","A36 P 60 10 Wdwl 60","A36 P 60 10SDWdwl 60","A36 P 60 20 Wdwl 60","A36 P 60 20SDWdwl 60","A36 P 65 10 Wdwl 65","A36 P 65 10SDWdwl 65","A36 P 65 20 Wdwl 65","A36 P 65 20SDWdwl 65","A36 P 70 10 Wdwl 70","A36 P 70 10SDWdwl 70","A36 P 70 20 Wdwl 70","A36 P 70 20SDWdwl 70","A37 P 60 10 Wdwl 60","A37 P 60 10SDWdwl 60","A37 P 60 20 Wdwl 60","A37 P 60 20SDWdwl 60","A37 P 65 10 Wdwl 65","A37 P 65 10SDWdwl 65","A37 P 65 20 Wdwl 65","A37 P 65 20SDWdwl 65","A37 P 70 10 Wdwl 70","A37 P 70 10SDWdwl 70","A37 P 70 20 Wdwl 70","A37 P 70 20SDWdwl 70","A38 P 60 10 Wdwl 60","A38 P 60 10SDWdwl 60","A38 P 60 20 Wdwl 60","A38 P 60 20SDWdwl 60","A38 P 65 10 Wdwl 65","A38 P 65 10SDWdwl 65","A38 P 65 20 Wdwl 65","A38 P 65 20SDWdwl 65","A38 P 70 10 Wdwl 70","A38 P 70 10SDWdwl 70","A38 P 70 20 Wdwl 70","A38 P 70 20SDWdwl 70","A39 P 60 10 Wdwl 60","A39 P 60 10SDWdwl 60","A39 P 60 20 Wdwl 60","A39 P 60 20SDWdwl 60","A39 P 65 10 Wdwl 65","A39 P 65 10SDWdwl 65","A39 P 65 20 Wdwl 65","A39 P 65 20SDWdwl 65","A39 P 70 10 Wdwl 70","A39 P 70 10SDWdwl 70","A39 P 70 20 Wdwl 70","A39 P 70 20SDWdwl 70","A40 P 60 10 Wdwl 60","A40 P 60 10SDWdwl 60","A40 P 60 20 Wdwl 60","A40 P 60 20SDWdwl 60","A40 P 65 10 Wdwl 65","A40 P 65 10SDWdwl 65","A40 P 65 20 Wdwl 65","A40 P 65 20SDWdwl 65","A40 P 70 10 Wdwl 70","A40 P 70 10SDWdwl 70","A40 P 70 20 Wdwl 70","A40 P 70 20SDWdwl 70","A41 P 60 10 Wdwl 60","A41 P 60 10SDWdwl 60","A41 P 60 20 Wdwl 60","A41 P 60 20SDWdwl 60","A41 P 65 10 Wdwl 65","A41 P 65 10SDWdwl 65","A41 P 65 20 Wdwl 65","A41 P 65 20SDWdwl 65","A41 P 70 10 Wdwl 70","A41 P 70 10SDWdwl 70","A41 P 70 20 Wdwl 70","A41 P 70 20SDWdwl 70","A42 P 60 10 Wdwl 60","A42 P 60 10SDWdwl 60","A42 P 60 20 Wdwl 60","A42 P 60 20SDWdwl 60","A42 P 65 10 Wdwl 65","A42 P 65 10SDWdwl 65","A42 P 65 20 Wdwl 65","A42 P 65 20SDWdwl 65","A42 P 70 10 Wdwl 70","A42 P 70 10SDWdwl 70","A42 P 70 20 Wdwl 70","A42 P 70 20SDWdwl 70","A43 P 60 10 Wdwl 60","A43 P 60 10SDWdwl 60","A43 P 60 20 Wdwl 60","A43 P 60 20SDWdwl 60","A43 P 65 10 Wdwl 65","A43 P 65 10SDWdwl 65","A43 P 65 20 Wdwl 65","A43 P 65 20SDWdwl 65","A43 P 70 10 Wdwl 70","A43 P 70 10SDWdwl 70","A43 P 70 20 Wdwl 70","A43 P 70 20SDWdwl 70","A44 P 60 10 Wdwl 60","A44 P 60 10SDWdwl 60","A44 P 60 20 Wdwl 60","A44 P 60 20SDWdwl 60","A44 P 65 10 Wdwl 65","A44 P 65 10SDWdwl 65","A44 P 65 20 Wdwl 65","A44 P 65 20SDWdwl 65","A44 P 70 10 Wdwl 70","A44 P 70 10SDWdwl 70","A44 P 70 20 Wdwl 70","A44 P 70 20SDWdwl 70","A45 P 60 10 Wdwl 60","A45 P 60 10SDWdwl 60","A45 P 60 20 Wdwl 60","A45 P 60 20SDWdwl 60","A45 P 65 10 Wdwl 65","A45 P 65 10SDWdwl 65","A45 P 65 20 Wdwl 65","A45 P 65 20SDWdwl 65","A45 P 70 10 Wdwl 70","A45 P 70 10SDWdwl 70","A45 P 70 20 Wdwl 70","A45 P 70 20SDWdwl 70","A46 P 60 10 Wdwl 60","A46 P 60 10SDWdwl 60","A46 P 60 20 Wdwl 60","A46 P 60 20SDWdwl 60","A46 P 65 10 Wdwl 65","A46 P 65 10SDWdwl 65","A46 P 65 20 Wdwl 65","A46 P 65 20SDWdwl 65","A46 P 70 10 Wdwl 70","A46 P 70 10SDWdwl 70","A46 P 70 20 Wdwl 70","A46 P 70 20SDWdwl 70","A47 P 60 10 Wdwl 60","A47 P 60 10SDWdwl 60","A47 P 60 20 Wdwl 60","A47 P 60 20SDWdwl 60","A47 P 65 10 Wdwl 65","A47 P 65 10SDWdwl 65","A47 P 65 20 Wdwl 65","A47 P 65 20SDWdwl 65","A47 P 70 10 Wdwl 70","A47 P 70 10SDWdwl 70","A47 P 70 20 Wdwl 70","A47 P 70 20SDWdwl 70","A48 P 60 10 Wdwl 60","A48 P 60 10SDWdwl 60","A48 P 60 20 Wdwl 60","A48 P 60 20SDWdwl 60","A48 P 65 10 Wdwl 65","A48 P 65 10SDWdwl 65","A48 P 65 20 Wdwl 65","A48 P 65 20SDWdwl 65","A48 P 70 10 Wdwl 70","A48 P 70 10SDWdwl 70","A48 P 70 20 Wdwl 70","A48 P 70 20SDWdwl 70","A49 P 60 10 Wdwl 60","A49 P 60 10SDWdwl 60","A49 P 60 20 Wdwl 60","A49 P 60 20SDWdwl 60","A49 P 65 10 Wdwl 65","A49 P 65 10SDWdwl 65","A49 P 65 20 Wdwl 65","A49 P 65 20SDWdwl 65","A49 P 70 10 Wdwl 70","A49 P 70 10SDWdwl 70","A49 P 70 20 Wdwl 70","A49 P 70 20SDWdwl 70","A50 P 60 10 Wdwl 60","A50 P 60 10SDWdwl 60","A50 P 60 20 Wdwl 60","A50 P 60 20SDWdwl 60","A50 P 65 10 Wdwl 65","A50 P 65 10SDWdwl 65","A50 P 65 20 Wdwl 65","A50 P 65 20SDWdwl 65","A50 P 70 10 Wdwl 70","A50 P 70 10SDWdwl 70","A50 P 70 20 Wdwl 70","A50 P 70 20SDWdwl 70","A51 P 60 10 Wdwl 60","A51 P 60 10SDWdwl 60","A51 P 60 20 Wdwl 60","A51 P 60 20SDWdwl 60","A51 P 65 10 Wdwl 65","A51 P 65 10SDWdwl 65","A51 P 65 20 Wdwl 65","A51 P 65 20SDWdwl 65","A51 P 70 10 Wdwl 70","A51 P 70 10SDWdwl 70","A51 P 70 20 Wdwl 70","A51 P 70 20SDWdwl 70","A52 P 60 10 Wdwl 60","A52 P 60 10SDWdwl 60","A52 P 60 20 Wdwl 60","A52 P 60 20SDWdwl 60","A52 P 65 10 Wdwl 65","A52 P 65 10SDWdwl 65","A52 P 65 20 Wdwl 65","A52 P 65 20SDWdwl 65","A52 P 70 10 Wdwl 70","A52 P 70 10SDWdwl 70","A52 P 70 20 Wdwl 70","A52 P 70 20SDWdwl 70","A53 P 60 10 Wdwl 60","A53 P 60 10SDWdwl 60","A53 P 60 20 Wdwl 60","A53 P 60 20SDWdwl 60","A53 P 65 10 Wdwl 65","A53 P 65 10SDWdwl 65","A53 P 65 20 Wdwl 65","A53 P 65 20SDWdwl 65","A53 P 70 10 Wdwl 70","A53 P 70 10SDWdwl 70","A53 P 70 20 Wdwl 70","A53 P 70 20SDWdwl 70","A54 P 60 10 Wdwl 60","A54 P 60 10SDWdwl 60","A54 P 60 20 Wdwl 60","A54 P 60 20SDWdwl 60","A54 P 65 10 Wdwl 65","A54 P 65 10SDWdwl 65","A54 P 65 20 Wdwl 65","A54 P 65 20SDWdwl 65","A54 P 70 10 Wdwl 70","A54 P 70 10SDWdwl 70","A54 P 70 20 Wdwl 70","A54 P 70 20SDWdwl 70","A55 P 60 10 Wdwl 60","A55 P 60 10SDWdwl 60","A55 P 60 20 Wdwl 60","A55 P 60 20SDWdwl 60","A55 P 65 10 Wdwl 65","A55 P 65 10SDWdwl 65","A55 P 65 20 Wdwl 65","A55 P 65 20SDWdwl 65","A55 P 70 10 Wdwl 70","A55 P 70 10SDWdwl 70","A55 P 70 20 Wdwl 70","A55 P 70 20SDWdwl 70"]
[]
["Attained","Attained","Attained","Attained","Attained","Attained","Attained","Attained","Attained","Attained","Attained","Attained","Attained","Attained","Attained","Attained","Attained","Attained","Attained","Attained","Attained","Attained","Attained","Attained","Attained","Attained","Attained","Attained","Attained","Attained","Attained","Attained","Attained","Attained","Attained","Attained","Attained","Attained","Attained","Attained","Attained","Attained","Attained","Attained","Attained","Attained","Attained","Attained","Attained","Attained","Attained","Attained","Attained","Attained","Attained","Attained","Attained","Attained","Attained","Attained","Attained","Attained","Attained","Attained","Attained","Attained","Attained","Attained","Attained","Attained","Attained","Attained","Attained","Attained","Attained","Attained","Attained","Attained","Attained","Attained","Attained","Attained","Attained","Attained","Attained","Attained","Attained","Attained","Attained","Attained","Attained","Attained","Attained","Attained","Attained","Attained","Attained","Attained","Attained","Attained","Attained","Attained","Attained","Attained","Attained","Attained","Attained","Attained","Attained","Attained","Attained","Attained","Attained","Attained","Attained","Attained","Attained","Attained","Attained","Attained","Attained","Attained","Attained","Attained","Attained","Attained","Attained","Attained","Attained","Attained","Attained","Attained","Attained","Attained","Attained","Attained","Attained","Attained","Attained","Attained","Attained","Attained","Attained","Attained","Attained","Attained","Attained","Attained","Attained","Attained","Attained","Attained","Attained","Attained","Attained","Attained","Attained","Attained","Attained","Attained","Attained","Attained","Attained","Attained","Attained","Attained","Attained","Attained","Attained","Attained","Attained","Attained","Attained","Attained","Attained","Attained","Attained","Attained","Attained","Attained","Attained","Attained","Attained","Attained","Attained","Attained","Attained","Attained","Attained","Attained","Attained","Attained","Attained","Attained","Attained","Attained","Attained","Attained","Attained","Attained","Attained","Attained","Attained","Attained","Attained","Attained","Attained","Attained","Attained","Attained","Attained","Attained","Attained","Attained","Attained","Attained","Attained","Attained","Attained","Attained","Attained","Attained","Attained","Attained","Attained","Attained","Attained","Attained","Attained","Attained","Attained","Attained","Attained","Attained","Attained","Attained","Attained","Attained","Attained","Attained","Attained","Attained","Attained","Attained","Attained","Attained","Attained","Attained","Attained","Attained","Attained","Attained","Attained","Attained","Attained","Attained","Attained","Attained","Attained","Attained","Attained","Attained","Attained","Attained","Attained","Attained","Attained","Attained","Attained","Attained","Attained","Attained","Attained","Attained","Attained","Attained","Attained","Attained","Attained","Attained","Attained","Attained","Attained","Attained","Attained","Attained","Attained","Attained","Attained","Attained","Attained","Attained","Attained","Attained","Attained","Attained","Attained","Attained","Attained","Attained","Attained","Attained","Attained","Attained","Attained","Attained","Attained","Attained","Attained","Attained","Attained","Attained"]
["Age","Age","Age","Age","Age","Age","Age","Age","Age","Age","Age","Age","Age","Age","Age","Age","Age","Age","Age","Age","Age","Age","Age","Age","Age","Age","Age","Age","Age","Age","Age","Age","Age","Age","Age","Age","Age","Age","Age","Age","Age","Age","Age","Age","Age","Age","Age","Age","Age","Age","Age","Age","Age","Age","Age","Age","Age","Age","Age","Age","Age","Age","Age","Age","Age","Age","Age","Age","Age","Age","Age","Age","Age","Age","Age","Age","Age","Age","Age","Age","Age","Age","Age","Age","Age","Age","Age","Age","Age","Age","Age","Age","Age","Age","Age","Age","Age","Age","Age","Age","Age","Age","Age","Age","Age","Age","Age","Age","Age","Age","Age","Age","Age","Age","Age","Age","Age","Age","Age","Age","Age","Age","Age","Age","Age","Age","Age","Age","Age","Age","Age","Age","Age","Age","Age","Age","Age","Age","Age","Age","Age","Age","Age","Age","Age","Age","Age","Age","Age","Age","Age","Age","Age","Age","Age","Age","Age","Age","Age","Age","Age","Age","Age","Age","Age","Age","Age","Age","Age","Age","Age","Age","Age","Age","Age","Age","Age","Age","Age","Age","Age","Age","Age","Age","Age","Age","Age","Age","Age","Age","Age","Age","Age","Age","Age","Age","Age","Age","Age","Age","Age","Age","Age","Age","Age","Age","Age","Age","Age","Age","Age","Age","Age","Age","Age","Age","Age","Age","Age","Age","Age","Age","Age","Age","Age","Age","Age","Age","Age","Age","Age","Age","Age","Age","Age","Age","Age","Age","Age","Age","Age","Age","Age","Age","Age","Age","Age","Age","Age","Age","Age","Age","Age","Age","Age","Age","Age","Age","Age","Age","Age","Age","Age","Age","Age","Age","Age","Age","Age","Age","Age","Age","Age","Age","Age","Age","Age","Age","Age","Age","Age","Age","Age","Age","Age","Age","Age","Age","Age","Age","Age","Age","Age","Age","Age","Age","Age","Age","Age","Age","Age","Age","Age","Age","Age","Age","Age","Age","Age","Age","Age","Age"]
[30,30,30,30,30,30,30,30,30,30,30,30,31,31,31,31,31,31,31,31,31,31,31,31,32,32,32,32,32,32,32,32,32,32,32,32,33,33,33,33,33,33,33,33,33,33,33,33,34,34,34,34,34,34,34,34,34,34,34,34,35,35,35,35,35,35,35,35,35,35,35,35,36,36,36,36,36,36,36,36,36,36,36,36,37,37,37,37,37,37,37,37,37,37,37,37,38,38,38,38,38,38,38,38,38,38,38,38,39,39,39,39,39,39,39,39,39,39,39,39,40,40,40,40,40,40,40,40,40,40,40,40,41,41,41,41,41,41,41,41,41,41,41,41,42,42,42,42,42,42,42,42,42,42,42,42,43,43,43,43,43,43,43,43,43,43,43,43,44,44,44,44,44,44,44,44,44,44,44,44,45,45,45,45,45,45,45,45,45,45,45,45,46,46,46,46,46,46,46,46,46,46,46,46,47,47,47,47,47,47,47,47,47,47,47,47,48,48,48,48,48,48,48,48,48,48,48,48,49,49,49,49,49,49,49,49,49,49,49,49,50,50,50,50,50,50,50,50,50,50,50,50,51,51,51,51,51,51,51,51,51,51,51,51,52,52,52,52,52,52,52,52,52,52,52,52,53,53,53,53,53,53,53,53,53,53,53,53,54,54,54,54,54,54,54,54,54,54,54,54,55,55,55,55,55,55,55,55,55,55,55,55]
[31,31,31,31,31,31,31,31,31,31,31,31,32,32,32,32,32,32,32,32,32,32,32,32,33,33,33,33,33,33,33,33,33,33,33,33,34,34,34,34,34,34,34,34,34,34,34,34,35,35,35,35,35,35,35,35,35,35,35,35,36,36,36,36,36,36,36,36,36,36,36,36,37,37,37,37,37,37,37,37,37,37,37,37,38,38,38,38,38,38,38,38,38,38,38,38,39,39,39,39,39,39,39,39,39,39,39,39,40,40,40,40,40,40,40,40,40,40,40,40,41,41,41,41,41,41,41,41,41,41,41,41,42,42,42,42,42,42,42,42,42,42,42,42,43,43,43,43,43,43,43,43,43,43,43,43,44,44,44,44,44,44,44,44,44,44,44,44,45,45,45,45,45,45,45,45,45,45,45,45,46,46,46,46,46,46,46,46,46,46,46,46,47,47,47,47,47,47,47,47,47,47,47,47,48,48,48,48,48,48,48,48,48,48,48,48,49,49,49,49,49,49,49,49,49,49,49,49,50,50,50,50,50,50,50,50,50,50,50,50,51,51,51,51,51,51,51,51,51,51,51,51,52,52,52,52,52,52,52,52,52,52,52,52,53,53,53,53,53,53,53,53,53,53,53,53,54,54,54,54,54,54,54,54,54,54,54,54,55,55,55,55,55,55,55,55,55,55,55,55,56,56,56,56,56,56,56,56,56,56,56,56]
[32,32,32,32,32,32,32,32,32,32,32,32,33,33,33,33,33,33,33,33,33,33,33,33,34,34,34,34,34,34,34,34,34,34,34,34,35,35,35,35,35,35,35,35,35,35,35,35,36,36,36,36,36,36,36,36,36,36,36,36,37,37,37,37,37,37,37,37,37,37,37,37,38,38,38,38,38,38,38,38,38,38,38,38,39,39,39,39,39,39,39,39,39,39,39,39,40,40,40,40,40,40,40,40,40,40,40,40,41,41,41,41,41,41,41,41,41,41,41,41,42,42,42,42,42,42,42,42,42,42,42,42,43,43,43,43,43,43,43,43,43,43,43,43,44,44,44,44,44,44,44,44,44,44,44,44,45,45,45,45,45,45,45,45,45,45,45,45,46,46,46,46,46,46,46,46,46,46,46,46,47,47,47,47,47,47,47,47,47,47,47,47,48,48,48,48,48,48,48,48,48,48,48,48,49,49,49,49,49,49,49,49,49,49,49,49,50,50,50,50,50,50,50,50,50,50,50,50,51,51,51,51,51,51,51,51,51,51,51,51,52,52,52,52,52,52,52,52,52,52,52,52,53,53,53,53,53,53,53,53,53,53,53,53,54,54,54,54,54,54,54,54,54,54,54,54,55,55,55,55,55,55,55,55,55,55,55,55,56,56,56,56,56,56,56,56,56,56,56,56,57,57,57,57,57,57,57,57,57,57,57,57]
[33,33,33,33,33,33,33,33,33,33,33,33,34,34,34,34,34,34,34,34,34,34,34,34,35,35,35,35,35,35,35,35,35,35,35,35,36,36,36,36,36,36,36,36,36,36,36,36,37,37,37,37,37,37,37,37,37,37,37,37,38,38,38,38,38,38,38,38,38,38,38,38,39,39,39,39,39,39,39,39,39,39,39,39,40,40,40,40,40,40,40,40,40,40,40,40,41,41,41,41,41,41,41,41,41,41,41,41,42,42,42,42,42,42,42,42,42,42,42,42,43,43,43,43,43,43,43,43,43,43,43,43,44,44,44,44,44,44,44,44,44,44,44,44,45,45,45,45,45,45,45,45,45,45,45,45,46,46,46,46,46,46,46,46,46,46,46,46,47,47,47,47,47,47,47,47,47,47,47,47,48,48,48,48,48,48,48,48,48,48,48,48,49,49,49,49,49,49,49,49,49,49,49,49,50,50,50,50,50,50,50,50,50,50,50,50,51,51,51,51,51,51,51,51,51,51,51,51,52,52,52,52,52,52,52,52,52,52,52,52,53,53,53,53,53,53,53,53,53,53,53,53,54,54,54,54,54,54,54,54,54,54,54,54,55,55,55,55,55,55,55,55,55,55,55,55,56,56,56,56,56,56,56,56,56,56,56,56,57,57,57,57,57,57,57,57,57,57,57,57,58,58,58,58,58,58,58,58,58,58,58,58]
[34,34,34,34,34,34,34,34,34,34,34,34,35,35,35,35,35,35,35,35,35,35,35,35,36,36,36,36,36,36,36,36,36,36,36,36,37,37,37,37,37,37,37,37,37,37,37,37,38,38,38,38,38,38,38,38,38,38,38,38,39,39,39,39,39,39,39,39,39,39,39,39,40,40,40,40,40,40,40,40,40,40,40,40,41,41,41,41,41,41,41,41,41,41,41,41,42,42,42,42,42,42,42,42,42,42,42,42,43,43,43,43,43,43,43,43,43,43,43,43,44,44,44,44,44,44,44,44,44,44,44,44,45,45,45,45,45,45,45,45,45,45,45,45,46,46,46,46,46,46,46,46,46,46,46,46,47,47,47,47,47,47,47,47,47,47,47,47,48,48,48,48,48,48,48,48,48,48,48,48,49,49,49,49,49,49,49,49,49,49,49,49,50,50,50,50,50,50,50,50,50,50,50,50,51,51,51,51,51,51,51,51,51,51,51,51,52,52,52,52,52,52,52,52,52,52,52,52,53,53,53,53,53,53,53,53,53,53,53,53,54,54,54,54,54,54,54,54,54,54,54,54,55,55,55,55,55,55,55,55,55,55,55,55,56,56,56,56,56,56,56,56,56,56,56,56,57,57,57,57,57,57,57,57,57,57,57,57,58,58,58,58,58,58,58,58,58,58,58,58,59,59,59,59,59,59,59,59,59,59,59,59]
[35,35,35,35,35,35,35,35,35,35,35,35,36,36,36,36,36,36,36,36,36,36,36,36,37,37,37,37,37,37,37,37,37,37,37,37,38,38,38,38,38,38,38,38,38,38,38,38,39,39,39,39,39,39,39,39,39,39,39,39,40,40,40,40,40,40,40,40,40,40,40,40,41,41,41,41,41,41,41,41,41,41,41,41,42,42,42,42,42,42,42,42,42,42,42,42,43,43,43,43,43,43,43,43,43,43,43,43,44,44,44,44,44,44,44,44,44,44,44,44,45,45,45,45,45,45,45,45,45,45,45,45,46,46,46,46,46,46,46,46,46,46,46,46,47,47,47,47,47,47,47,47,47,47,47,47,48,48,48,48,48,48,48,48,48,48,48,48,49,49,49,49,49,49,49,49,49,49,49,49,50,50,50,50,50,50,50,50,50,50,50,50,51,51,51,51,51,51,51,51,51,51,51,51,52,52,52,52,52,52,52,52,52,52,52,52,53,53,53,53,53,53,53,53,53,53,53,53,54,54,54,54,54,54,54,54,54,54,54,54,55,55,55,55,55,55,55,55,55,55,55,55,56,56,56,56,56,56,56,56,56,56,56,56,57,57,57,57,57,57,57,57,57,57,57,57,58,58,58,58,58,58,58,58,58,58,58,58,59,59,59,59,59,59,59,59,59,59,59,59,60,60,60,60,60,60,60,60,60,60,60,60]
[36,36,36,36,36,36,36,36,36,36,36,36,37,37,37,37,37,37,37,37,37,37,37,37,38,38,38,38,38,38,38,38,38,38,38,38,39,39,39,39,39,39,39,39,39,39,39,39,40,40,40,40,40,40,40,40,40,40,40,40,41,41,41,41,41,41,41,41,41,41,41,41,42,42,42,42,42,42,42,42,42,42,42,42,43,43,43,43,43,43,43,43,43,43,43,43,44,44,44,44,44,44,44,44,44,44,44,44,45,45,45,45,45,45,45,45,45,45,45,45,46,46,46,46,46,46,46,46,46,46,46,46,47,47,47,47,47,47,47,47,47,47,47,47,48,48,48,48,48,48,48,48,48,48,48,48,49,49,49,49,49,49,49,49,49,49,49,49,50,50,50,50,50,50,50,50,50,50,50,50,51,51,51,51,51,51,51,51,51,51,51,51,52,52,52,52,52,52,52,52,52,52,52,52,53,53,53,53,53,53,53,53,53,53,53,53,54,54,54,54,54,54,54,54,54,54,54,54,55,55,55,55,55,55,55,55,55,55,55,55,56,56,56,56,56,56,56,56,56,56,56,56,57,57,57,57,57,57,57,57,57,57,57,57,58,58,58,58,58,58,58,58,58,58,58,58,59,59,59,59,59,59,59,59,59,59,59,59,60,60,60,60,60,60,60,60,60,60,60,60,61,61,61,61,61,61,61,61,61,61,61,61]
[37,37,37,37,37,37,37,37,37,37,37,37,38,38,38,38,38,38,38,38,38,38,38,38,39,39,39,39,39,39,39,39,39,39,39,39,40,40,40,40,40,40,40,40,40,40,40,40,41,41,41,41,41,41,41,41,41,41,41,41,42,42,42,42,42,42,42,42,42,42,42,42,43,43,43,43,43,43,43,43,43,43,43,43,44,44,44,44,44,44,44,44,44,44,44,44,45,45,45,45,45,45,45,45,45,45,45,45,46,46,46,46,46,46,46,46,46,46,46,46,47,47,47,47,47,47,47,47,47,47,47,47,48,48,48,48,48,48,48,48,48,48,48,48,49,49,49,49,49,49,49,49,49,49,49,49,50,50,50,50,50,50,50,50,50,50,50,50,51,51,51,51,51,51,51,51,51,51,51,51,52,52,52,52,52,52,52,52,52,52,52,52,53,53,53,53,53,53,53,53,53,53,53,53,54,54,54,54,54,54,54,54,54,54,54,54,55,55,55,55,55,55,55,55,55,55,55,55,56,56,56,56,56,56,56,56,56,56,56,56,57,57,57,57,57,57,57,57,57,57,57,57,58,58,58,58,58,58,58,58,58,58,58,58,59,59,59,59,59,59,59,59,59,59,59,59,60,60,60,60,60,60,60,60,60,60,60,60,61,61,61,61,61,61,61,61,61,61,61,61,62,62,62,62,62,62,62,62,62,62,62,62]
[38,38,38,38,38,38,38,38,38,38,38,38,39,39,39,39,39,39,39,39,39,39,39,39,40,40,40,40,40,40,40,40,40,40,40,40,41,41,41,41,41,41,41,41,41,41,41,41,42,42,42,42,42,42,42,42,42,42,42,42,43,43,43,43,43,43,43,43,43,43,43,43,44,44,44,44,44,44,44,44,44,44,44,44,45,45,45,45,45,45,45,45,45,45,45,45,46,46,46,46,46,46,46,46,46,46,46,46,47,47,47,47,47,47,47,47,47,47,47,47,48,48,48,48,48,48,48,48,48,48,48,48,49,49,49,49,49,49,49,49,49,49,49,49,50,50,50,50,50,50,50,50,50,50,50,50,51,51,51,51,51,51,51,51,51,51,51,51,52,52,52,52,52,52,52,52,52,52,52,52,53,53,53,53,53,53,53,53,53,53,53,53,54,54,54,54,54,54,54,54,54,54,54,54,55,55,55,55,55,55,55,55,55,55,55,55,56,56,56,56,56,56,56,56,56,56,56,56,57,57,57,57,57,57,57,57,57,57,57,57,58,58,58,58,58,58,58,58,58,58,58,58,59,59,59,59,59,59,59,59,59,59,59,59,60,60,60,60,60,60,60,60,60,60,60,60,61,61,61,61,61,61,61,61,61,61,61,61,62,62,62,62,62,62,62,62,62,62,62,62,63,63,63,63,63,63,63,63,63,63,63,63]
[39,39,39,39,39,39,39,39,39,39,39,39,40,40,40,40,40,40,40,40,40,40,40,40,41,41,41,41,41,41,41,41,41,41,41,41,42,42,42,42,42,42,42,42,42,42,42,42,43,43,43,43,43,43,43,43,43,43,43,43,44,44,44,44,44,44,44,44,44,44,44,44,45,45,45,45,45,45,45,45,45,45,45,45,46,46,46,46,46,46,46,46,46,46,46,46,47,47,47,47,47,47,47,47,47,47,47,47,48,48,48,48,48,48,48,48,48,48,48,48,49,49,49,49,49,49,49,49,49,49,49,49,50,50,50,50,50,50,50,50,50,50,50,50,51,51,51,51,51,51,51,51,51,51,51,51,52,52,52,52,52,52,52,52,52,52,52,52,53,53,53,53,53,53,53,53,53,53,53,53,54,54,54,54,54,54,54,54,54,54,54,54,55,55,55,55,55,55,55,55,55,55,55,55,56,56,56,56,56,56,56,56,56,56,56,56,57,57,57,57,57,57,57,57,57,57,57,57,58,58,58,58,58,58,58,58,58,58,58,58,59,59,59,59,59,59,59,59,59,59,59,59,60,60,60,60,60,60,60,60,60,60,60,60,61,61,61,61,61,61,61,61,61,61,61,61,62,62,62,62,62,62,62,62,62,62,62,62,63,63,63,63,63,63,63,63,63,63,63,63,64,64,64,64,64,64,64,64,64,64,64,64]
[40,40,40,40,40,40,40,40,40,40,40,40,41,41,41,41,41,41,41,41,41,41,41,41,42,42,42,42,42,42,42,42,42,42,42,42,43,43,43,43,43,43,43,43,43,43,43,43,44,44,44,44,44,44,44,44,44,44,44,44,45,45,45,45,45,45,45,45,45,45,45,45,46,46,46,46,46,46,46,46,46,46,46,46,47,47,47,47,47,47,47,47,47,47,47,47,48,48,48,48,48,48,48,48,48,48,48,48,49,49,49,49,49,49,49,49,49,49,49,49,50,50,50,50,50,50,50,50,50,50,50,50,51,51,51,51,51,51,51,51,51,51,51,51,52,52,52,52,52,52,52,52,52,52,52,52,53,53,53,53,53,53,53,53,53,53,53,53,54,54,54,54,54,54,54,54,54,54,54,54,55,55,55,55,55,55,55,55,55,55,55,55,56,56,56,56,56,56,56,56,56,56,56,56,57,57,57,57,57,57,57,57,57,57,57,57,58,58,58,58,58,58,58,58,58,58,58,58,59,59,59,59,59,59,59,59,59,59,59,59,60,60,60,60,60,60,60,60,60,60,60,60,61,61,61,61,61,61,61,61,61,61,61,61,62,62,62,62,62,62,62,62,62,62,62,62,63,63,63,63,63,63,63,63,63,63,63,63,64,64,64,64,64,64,64,64,64,64,64,64,65,65,65,65,65,65,65,65,65,65,65,65]
[41,41,41,41,41,41,41,41,41,41,41,41,42,42,42,42,42,42,42,42,42,42,42,42,43,43,43,43,43,43,43,43,43,43,43,43,44,44,44,44,44,44,44,44,44,44,44,44,45,45,45,45,45,45,45,45,45,45,45,45,46,46,46,46,46,46,46,46,46,46,46,46,47,47,47,47,47,47,47,47,47,47,47,47,48,48,48,48,48,48,48,48,48,48,48,48,49,49,49,49,49,49,49,49,49,49,49,49,50,50,50,50,50,50,50,50,50,50,50,50,51,51,51,51,51,51,51,51,51,51,51,51,52,52,52,52,52,52,52,52,52,52,52,52,53,53,53,53,53,53,53,53,53,53,53,53,54,54,54,54,54,54,54,54,54,54,54,54,55,55,55,55,55,55,55,55,55,55,55,55,56,56,56,56,56,56,56,56,56,56,56,56,57,57,57,57,57,57,57,57,57,57,57,57,58,58,58,58,58,58,58,58,58,58,58,58,59,59,59,59,59,59,59,59,59,59,59,59,60,60,60,60,60,60,60,60,60,60,60,60,61,61,61,61,61,61,61,61,61,61,61,61,62,62,62,62,62,62,62,62,62,62,62,62,63,63,63,63,63,63,63,63,63,63,63,63,64,64,64,64,64,64,64,64,64,64,64,64,65,65,65,65,65,65,65,65,65,65,65,65,66,66,66,66,66,66,66,66,66,66,66,66]
[42,42,42,42,42,42,42,42,42,42,42,42,43,43,43,43,43,43,43,43,43,43,43,43,44,44,44,44,44,44,44,44,44,44,44,44,45,45,45,45,45,45,45,45,45,45,45,45,46,46,46,46,46,46,46,46,46,46,46,46,47,47,47,47,47,47,47,47,47,47,47,47,48,48,48,48,48,48,48,48,48,48,48,48,49,49,49,49,49,49,49,49,49,49,49,49,50,50,50,50,50,50,50,50,50,50,50,50,51,51,51,51,51,51,51,51,51,51,51,51,52,52,52,52,52,52,52,52,52,52,52,52,53,53,53,53,53,53,53,53,53,53,53,53,54,54,54,54,54,54,54,54,54,54,54,54,55,55,55,55,55,55,55,55,55,55,55,55,56,56,56,56,56,56,56,56,56,56,56,56,57,57,57,57,57,57,57,57,57,57,57,57,58,58,58,58,58,58,58,58,58,58,58,58,59,59,59,59,59,59,59,59,59,59,59,59,60,60,60,60,60,60,60,60,60,60,60,60,61,61,61,61,61,61,61,61,61,61,61,61,62,62,62,62,62,62,62,62,62,62,62,62,63,63,63,63,63,63,63,63,63,63,63,63,64,64,64,64,64,64,64,64,64,64,64,64,65,65,65,65,65,65,65,65,65,65,65,65,66,66,66,66,66,66,66,66,66,66,66,66,67,67,67,67,67,67,67,67,67,67,67,67]
[43,43,43,43,43,43,43,43,43,43,43,43,44,44,44,44,44,44,44,44,44,44,44,44,45,45,45,45,45,45,45,45,45,45,45,45,46,46,46,46,46,46,46,46,46,46,46,46,47,47,47,47,47,47,47,47,47,47,47,47,48,48,48,48,48,48,48,48,48,48,48,48,49,49,49,49,49,49,49,49,49,49,49,49,50,50,50,50,50,50,50,50,50,50,50,50,51,51,51,51,51,51,51,51,51,51,51,51,52,52,52,52,52,52,52,52,52,52,52,52,53,53,53,53,53,53,53,53,53,53,53,53,54,54,54,54,54,54,54,54,54,54,54,54,55,55,55,55,55,55,55,55,55,55,55,55,56,56,56,56,56,56,56,56,56,56,56,56,57,57,57,57,57,57,57,57,57,57,57,57,58,58,58,58,58,58,58,58,58,58,58,58,59,59,59,59,59,59,59,59,59,59,59,59,60,60,60,60,60,60,60,60,60,60,60,60,61,61,61,61,61,61,61,61,61,61,61,61,62,62,62,62,62,62,62,62,62,62,62,62,63,63,63,63,63,63,63,63,63,63,63,63,64,64,64,64,64,64,64,64,64,64,64,64,65,65,65,65,65,65,65,65,65,65,65,65,66,66,66,66,66,66,66,66,66,66,66,66,67,67,67,67,67,67,67,67,67,67,67,67,68,68,68,68,68,68,68,68,68,68,68,68]
[44,44,44,44,44,44,44,44,44,44,44,44,45,45,45,45,45,45,45,45,45,45,45,45,46,46,46,46,46,46,46,46,46,46,46,46,47,47,47,47,47,47,47,47,47,47,47,47,48,48,48,48,48,48,48,48,48,48,48,48,49,49,49,49,49,49,49,49,49,49,49,49,50,50,50,50,50,50,50,50,50,50,50,50,51,51,51,51,51,51,51,51,51,51,51,51,52,52,52,52,52,52,52,52,52,52,52,52,53,53,53,53,53,53,53,53,53,53,53,53,54,54,54,54,54,54,54,54,54,54,54,54,55,55,55,55,55,55,55,55,55,55,55,55,56,56,56,56,56,56,56,56,56,56,56,56,57,57,57,57,57,57,57,57,57,57,57,57,58,58,58,58,58,58,58,58,58,58,58,58,59,59,59,59,59,59,59,59,59,59,59,59,60,60,60,60,60,60,60,60,60,60,60,60,61,61,61,61,61,61,61,61,61,61,61,61,62,62,62,62,62,62,62,62,62,62,62,62,63,63,63,63,63,63,63,63,63,63,63,63,64,64,64,64,64,64,64,64,64,64,64,64,65,65,65,65,65,65,65,65,65,65,65,65,66,66,66,66,66,66,66,66,66,66,66,66,67,67,67,67,67,67,67,67,67,67,67,67,68,68,68,68,68,68,68,68,68,68,68,68,69,69,69,69,69,69,69,69,69,69,69,69]
[45,45,45,45,45,45,45,45,45,45,45,45,46,46,46,46,46,46,46,46,46,46,46,46,47,47,47,47,47,47,47,47,47,47,47,47,48,48,48,48,48,48,48,48,48,48,48,48,49,49,49,49,49,49,49,49,49,49,49,49,50,50,50,50,50,50,50,50,50,50,50,50,51,51,51,51,51,51,51,51,51,51,51,51,52,52,52,52,52,52,52,52,52,52,52,52,53,53,53,53,53,53,53,53,53,53,53,53,54,54,54,54,54,54,54,54,54,54,54,54,55,55,55,55,55,55,55,55,55,55,55,55,56,56,56,56,56,56,56,56,56,56,56,56,57,57,57,57,57,57,57,57,57,57,57,57,58,58,58,58,58,58,58,58,58,58,58,58,59,59,59,59,59,59,59,59,59,59,59,59,60,60,60,60,60,60,60,60,60,60,60,60,61,61,61,61,61,61,61,61,61,61,61,61,62,62,62,62,62,62,62,62,62,62,62,62,63,63,63,63,63,63,63,63,63,63,63,63,64,64,64,64,64,64,64,64,64,64,64,64,65,65,65,65,65,65,65,65,65,65,65,65,66,66,66,66,66,66,66,66,66,66,66,66,67,67,67,67,67,67,67,67,67,67,67,67,68,68,68,68,68,68,68,68,68,68,68,68,69,69,69,69,69,69,69,69,69,69,69,69,70,70,70,70,70,70,70,70,70,70,70,70]
[46,46,46,46,46,46,46,46,46,46,46,46,47,47,47,47,47,47,47,47,47,47,47,47,48,48,48,48,48,48,48,48,48,48,48,48,49,49,49,49,49,49,49,49,49,49,49,49,50,50,50,50,50,50,50,50,50,50,50,50,51,51,51,51,51,51,51,51,51,51,51,51,52,52,52,52,52,52,52,52,52,52,52,52,53,53,53,53,53,53,53,53,53,53,53,53,54,54,54,54,54,54,54,54,54,54,54,54,55,55,55,55,55,55,55,55,55,55,55,55,56,56,56,56,56,56,56,56,56,56,56,56,57,57,57,57,57,57,57,57,57,57,57,57,58,58,58,58,58,58,58,58,58,58,58,58,59,59,59,59,59,59,59,59,59,59,59,59,60,60,60,60,60,60,60,60,60,60,60,60,61,61,61,61,61,61,61,61,61,61,61,61,62,62,62,62,62,62,62,62,62,62,62,62,63,63,63,63,63,63,63,63,63,63,63,63,64,64,64,64,64,64,64,64,64,64,64,64,65,65,65,65,65,65,65,65,65,65,65,65,66,66,66,66,66,66,66,66,66,66,66,66,67,67,67,67,67,67,67,67,67,67,67,67,68,68,68,68,68,68,68,68,68,68,68,68,69,69,69,69,69,69,69,69,69,69,69,69,70,70,70,70,70,70,70,70,70,70,70,70,71,71,71,71,71,71,71,71,71,71,71,71]
[47,47,47,47,47,47,47,47,47,47,47,47,48,48,48,48,48,48,48,48,48,48,48,48,49,49,49,49,49,49,49,49,49,49,49,49,50,50,50,50,50,50,50,50,50,50,50,50,51,51,51,51,51,51,51,51,51,51,51,51,52,52,52,52,52,52,52,52,52,52,52,52,53,53,53,53,53,53,53,53,53,53,53,53,54,54,54,54,54,54,54,54,54,54,54,54,55,55,55,55,55,55,55,55,55,55,55,55,56,56,56,56,56,56,56,56,56,56,56,56,57,57,57,57,57,57,57,57,57,57,57,57,58,58,58,58,58,58,58,58,58,58,58,58,59,59,59,59,59,59,59,59,59,59,59,59,60,60,60,60,60,60,60,60,60,60,60,60,61,61,61,61,61,61,61,61,61,61,61,61,62,62,62,62,62,62,62,62,62,62,62,62,63,63,63,63,63,63,63,63,63,63,63,63,64,64,64,64,64,64,64,64,64,64,64,64,65,65,65,65,65,65,65,65,65,65,65,65,66,66,66,66,66,66,66,66,66,66,66,66,67,67,67,67,67,67,67,67,67,67,67,67,68,68,68,68,68,68,68,68,68,68,68,68,69,69,69,69,69,69,69,69,69,69,69,69,70,70,70,70,70,70,70,70,70,70,70,70,71,71,71,71,71,71,71,71,71,71,71,71,72,72,72,72,72,72,72,72,72,72,72,72]
[48,48,48,48,48,48,48,48,48,48,48,48,49,49,49,49,49,49,49,49,49,49,49,49,50,50,50,50,50,50,50,50,50,50,50,50,51,51,51,51,51,51,51,51,51,51,51,51,52,52,52,52,52,52,52,52,52,52,52,52,53,53,53,53,53,53,53,53,53,53,53,53,54,54,54,54,54,54,54,54,54,54,54,54,55,55,55,55,55,55,55,55,55,55,55,55,56,56,56,56,56,56,56,56,56,56,56,56,57,57,57,57,57,57,57,57,57,57,57,57,58,58,58,58,58,58,58,58,58,58,58,58,59,59,59,59,59,59,59,59,59,59,59,59,60,60,60,60,60,60,60,60,60,60,60,60,61,61,61,61,61,61,61,61,61,61,61,61,62,62,62,62,62,62,62,62,62,62,62,62,63,63,63,63,63,63,63,63,63,63,63,63,64,64,64,64,64,64,64,64,64,64,64,64,65,65,65,65,65,65,65,65,65,65,65,65,66,66,66,66,66,66,66,66,66,66,66,66,67,67,67,67,67,67,67,67,67,67,67,67,68,68,68,68,68,68,68,68,68,68,68,68,69,69,69,69,69,69,69,69,69,69,69,69,70,70,70,70,70,70,70,70,70,70,70,70,71,71,71,71,71,71,71,71,71,71,71,71,72,72,72,72,72,72,72,72,72,72,72,72,73,73,73,73,73,73,73,73,73,73,73,73]
[49,49,49,49,49,49,49,49,49,49,49,49,50,50,50,50,50,50,50,50,50,50,50,50,51,51,51,51,51,51,51,51,51,51,51,51,52,52,52,52,52,52,52,52,52,52,52,52,53,53,53,53,53,53,53,53,53,53,53,53,54,54,54,54,54,54,54,54,54,54,54,54,55,55,55,55,55,55,55,55,55,55,55,55,56,56,56,56,56,56,56,56,56,56,56,56,57,57,57,57,57,57,57,57,57,57,57,57,58,58,58,58,58,58,58,58,58,58,58,58,59,59,59,59,59,59,59,59,59,59,59,59,60,60,60,60,60,60,60,60,60,60,60,60,61,61,61,61,61,61,61,61,61,61,61,61,62,62,62,62,62,62,62,62,62,62,62,62,63,63,63,63,63,63,63,63,63,63,63,63,64,64,64,64,64,64,64,64,64,64,64,64,65,65,65,65,65,65,65,65,65,65,65,65,66,66,66,66,66,66,66,66,66,66,66,66,67,67,67,67,67,67,67,67,67,67,67,67,68,68,68,68,68,68,68,68,68,68,68,68,69,69,69,69,69,69,69,69,69,69,69,69,70,70,70,70,70,70,70,70,70,70,70,70,71,71,71,71,71,71,71,71,71,71,71,71,72,72,72,72,72,72,72,72,72,72,72,72,73,73,73,73,73,73,73,73,73,73,73,73,74,74,74,74,74,74,74,74,74,74,74,74]
[50,50,50,50,50,50,50,50,50,50,50,50,51,51,51,51,51,51,51,51,51,51,51,51,52,52,52,52,52,52,52,52,52,52,52,52,53,53,53,53,53,53,53,53,53,53,53,53,54,54,54,54,54,54,54,54,54,54,54,54,55,55,55,55,55,55,55,55,55,55,55,55,56,56,56,56,56,56,56,56,56,56,56,56,57,57,57,57,57,57,57,57,57,57,57,57,58,58,58,58,58,58,58,58,58,58,58,58,59,59,59,59,59,59,59,59,59,59,59,59,60,60,60,60,60,60,60,60,60,60,60,60,61,61,61,61,61,61,61,61,61,61,61,61,62,62,62,62,62,62,62,62,62,62,62,62,63,63,63,63,63,63,63,63,63,63,63,63,64,64,64,64,64,64,64,64,64,64,64,64,65,65,65,65,65,65,65,65,65,65,65,65,66,66,66,66,66,66,66,66,66,66,66,66,67,67,67,67,67,67,67,67,67,67,67,67,68,68,68,68,68,68,68,68,68,68,68,68,69,69,69,69,69,69,69,69,69,69,69,69,70,70,70,70,70,70,70,70,70,70,70,70,71,71,71,71,71,71,71,71,71,71,71,71,72,72,72,72,72,72,72,72,72,72,72,72,73,73,73,73,73,73,73,73,73,73,73,73,74,74,74,74,74,74,74,74,74,74,74,74,75,75,75,75,75,75,75,75,75,75,75,75]
[51,51,51,51,51,51,51,51,51,51,51,51,52,52,52,52,52,52,52,52,52,52,52,52,53,53,53,53,53,53,53,53,53,53,53,53,54,54,54,54,54,54,54,54,54,54,54,54,55,55,55,55,55,55,55,55,55,55,55,55,56,56,56,56,56,56,56,56,56,56,56,56,57,57,57,57,57,57,57,57,57,57,57,57,58,58,58,58,58,58,58,58,58,58,58,58,59,59,59,59,59,59,59,59,59,59,59,59,60,60,60,60,60,60,60,60,60,60,60,60,61,61,61,61,61,61,61,61,61,61,61,61,62,62,62,62,62,62,62,62,62,62,62,62,63,63,63,63,63,63,63,63,63,63,63,63,64,64,64,64,64,64,64,64,64,64,64,64,65,65,65,65,65,65,65,65,65,65,65,65,66,66,66,66,66,66,66,66,66,66,66,66,67,67,67,67,67,67,67,67,67,67,67,67,68,68,68,68,68,68,68,68,68,68,68,68,69,69,69,69,69,69,69,69,69,69,69,69,70,70,70,70,70,70,70,70,70,70,70,70,71,71,71,71,71,71,71,71,71,71,71,71,72,72,72,72,72,72,72,72,72,72,72,72,73,73,73,73,73,73,73,73,73,73,73,73,74,74,74,74,74,74,74,74,74,74,74,74,75,75,75,75,75,75,75,75,75,75,75,75,76,76,76,76,76,76,76,76,76,76,76,76]
[52,52,52,52,52,52,52,52,52,52,52,52,53,53,53,53,53,53,53,53,53,53,53,53,54,54,54,54,54,54,54,54,54,54,54,54,55,55,55,55,55,55,55,55,55,55,55,55,56,56,56,56,56,56,56,56,56,56,56,56,57,57,57,57,57,57,57,57,57,57,57,57,58,58,58,58,58,58,58,58,58,58,58,58,59,59,59,59,59,59,59,59,59,59,59,59,60,60,60,60,60,60,60,60,60,60,60,60,61,61,61,61,61,61,61,61,61,61,61,61,62,62,62,62,62,62,62,62,62,62,62,62,63,63,63,63,63,63,63,63,63,63,63,63,64,64,64,64,64,64,64,64,64,64,64,64,65,65,65,65,65,65,65,65,65,65,65,65,66,66,66,66,66,66,66,66,66,66,66,66,67,67,67,67,67,67,67,67,67,67,67,67,68,68,68,68,68,68,68,68,68,68,68,68,69,69,69,69,69,69,69,69,69,69,69,69,70,70,70,70,70,70,70,70,70,70,70,70,71,71,71,71,71,71,71,71,71,71,71,71,72,72,72,72,72,72,72,72,72,72,72,72,73,73,73,73,73,73,73,73,73,73,73,73,74,74,74,74,74,74,74,74,74,74,74,74,75,75,75,75,75,75,75,75,75,75,75,75,76,76,76,76,76,76,76,76,76,76,76,76,77,77,77,77,77,77,77,77,77,77,77,77]
[53,53,53,53,53,53,53,53,53,53,53,53,54,54,54,54,54,54,54,54,54,54,54,54,55,55,55,55,55,55,55,55,55,55,55,55,56,56,56,56,56,56,56,56,56,56,56,56,57,57,57,57,57,57,57,57,57,57,57,57,58,58,58,58,58,58,58,58,58,58,58,58,59,59,59,59,59,59,59,59,59,59,59,59,60,60,60,60,60,60,60,60,60,60,60,60,61,61,61,61,61,61,61,61,61,61,61,61,62,62,62,62,62,62,62,62,62,62,62,62,63,63,63,63,63,63,63,63,63,63,63,63,64,64,64,64,64,64,64,64,64,64,64,64,65,65,65,65,65,65,65,65,65,65,65,65,66,66,66,66,66,66,66,66,66,66,66,66,67,67,67,67,67,67,67,67,67,67,67,67,68,68,68,68,68,68,68,68,68,68,68,68,69,69,69,69,69,69,69,69,69,69,69,69,70,70,70,70,70,70,70,70,70,70,70,70,71,71,71,71,71,71,71,71,71,71,71,71,72,72,72,72,72,72,72,72,72,72,72,72,73,73,73,73,73,73,73,73,73,73,73,73,74,74,74,74,74,74,74,74,74,74,74,74,75,75,75,75,75,75,75,75,75,75,75,75,76,76,76,76,76,76,76,76,76,76,76,76,77,77,77,77,77,77,77,77,77,77,77,77,78,78,78,78,78,78,78,78,78,78,78,78]
[54,54,54,54,54,54,54,54,54,54,54,54,55,55,55,55,55,55,55,55,55,55,55,55,56,56,56,56,56,56,56,56,56,56,56,56,57,57,57,57,57,57,57,57,57,57,57,57,58,58,58,58,58,58,58,58,58,58,58,58,59,59,59,59,59,59,59,59,59,59,59,59,60,60,60,60,60,60,60,60,60,60,60,60,61,61,61,61,61,61,61,61,61,61,61,61,62,62,62,62,62,62,62,62,62,62,62,62,63,63,63,63,63,63,63,63,63,63,63,63,64,64,64,64,64,64,64,64,64,64,64,64,65,65,65,65,65,65,65,65,65,65,65,65,66,66,66,66,66,66,66,66,66,66,66,66,67,67,67,67,67,67,67,67,67,67,67,67,68,68,68,68,68,68,68,68,68,68,68,68,69,69,69,69,69,69,69,69,69,69,69,69,70,70,70,70,70,70,70,70,70,70,70,70,71,71,71,71,71,71,71,71,71,71,71,71,72,72,72,72,72,72,72,72,72,72,72,72,73,73,73,73,73,73,73,73,73,73,73,73,74,74,74,74,74,74,74,74,74,74,74,74,75,75,75,75,75,75,75,75,75,75,75,75,76,76,76,76,76,76,76,76,76,76,76,76,77,77,77,77,77,77,77,77,77,77,77,77,78,78,78,78,78,78,78,78,78,78,78,78,79,79,79,79,79,79,79,79,79,79,79,79]
[55,55,55,55,55,55,55,55,55,55,55,55,56,56,56,56,56,56,56,56,56,56,56,56,57,57,57,57,57,57,57,57,57,57,57,57,58,58,58,58,58,58,58,58,58,58,58,58,59,59,59,59,59,59,59,59,59,59,59,59,60,60,60,60,60,60,60,60,60,60,60,60,61,61,61,61,61,61,61,61,61,61,61,61,62,62,62,62,62,62,62,62,62,62,62,62,63,63,63,63,63,63,63,63,63,63,63,63,64,64,64,64,64,64,64,64,64,64,64,64,65,65,65,65,65,65,65,65,65,65,65,65,66,66,66,66,66,66,66,66,66,66,66,66,67,67,67,67,67,67,67,67,67,67,67,67,68,68,68,68,68,68,68,68,68,68,68,68,69,69,69,69,69,69,69,69,69,69,69,69,70,70,70,70,70,70,70,70,70,70,70,70,71,71,71,71,71,71,71,71,71,71,71,71,72,72,72,72,72,72,72,72,72,72,72,72,73,73,73,73,73,73,73,73,73,73,73,73,74,74,74,74,74,74,74,74,74,74,74,74,75,75,75,75,75,75,75,75,75,75,75,75,76,76,76,76,76,76,76,76,76,76,76,76,77,77,77,77,77,77,77,77,77,77,77,77,78,78,78,78,78,78,78,78,78,78,78,78,79,79,79,79,79,79,79,79,79,79,79,79,80,80,80,80,80,80,80,80,80,80,80,80]
[56,56,56,56,56,56,56,56,56,56,56,56,57,57,57,57,57,57,57,57,57,57,57,57,58,58,58,58,58,58,58,58,58,58,58,58,59,59,59,59,59,59,59,59,59,59,59,59,60,60,60,60,60,60,60,60,60,60,60,60,61,61,61,61,61,61,61,61,61,61,61,61,62,62,62,62,62,62,62,62,62,62,62,62,63,63,63,63,63,63,63,63,63,63,63,63,64,64,64,64,64,64,64,64,64,64,64,64,65,65,65,65,65,65,65,65,65,65,65,65,66,66,66,66,66,66,66,66,66,66,66,66,67,67,67,67,67,67,67,67,67,67,67,67,68,68,68,68,68,68,68,68,68,68,68,68,69,69,69,69,69,69,69,69,69,69,69,69,70,70,70,70,70,70,70,70,70,70,70,70,71,71,71,71,71,71,71,71,71,71,71,71,72,72,72,72,72,72,72,72,72,72,72,72,73,73,73,73,73,73,73,73,73,73,73,73,74,74,74,74,74,74,74,74,74,74,74,74,75,75,75,75,75,75,75,75,75,75,75,75,76,76,76,76,76,76,76,76,76,76,76,76,77,77,77,77,77,77,77,77,77,77,77,77,78,78,78,78,78,78,78,78,78,78,78,78,79,79,79,79,79,79,79,79,79,79,79,79,80,80,80,80,80,80,80,80,80,80,80,80,81,81,81,81,81,81,81,81,81,81,81,81]
[57,57,57,57,57,57,57,57,57,57,57,57,58,58,58,58,58,58,58,58,58,58,58,58,59,59,59,59,59,59,59,59,59,59,59,59,60,60,60,60,60,60,60,60,60,60,60,60,61,61,61,61,61,61,61,61,61,61,61,61,62,62,62,62,62,62,62,62,62,62,62,62,63,63,63,63,63,63,63,63,63,63,63,63,64,64,64,64,64,64,64,64,64,64,64,64,65,65,65,65,65,65,65,65,65,65,65,65,66,66,66,66,66,66,66,66,66,66,66,66,67,67,67,67,67,67,67,67,67,67,67,67,68,68,68,68,68,68,68,68,68,68,68,68,69,69,69,69,69,69,69,69,69,69,69,69,70,70,70,70,70,70,70,70,70,70,70,70,71,71,71,71,71,71,71,71,71,71,71,71,72,72,72,72,72,72,72,72,72,72,72,72,73,73,73,73,73,73,73,73,73,73,73,73,74,74,74,74,74,74,74,74,74,74,74,74,75,75,75,75,75,75,75,75,75,75,75,75,76,76,76,76,76,76,76,76,76,76,76,76,77,77,77,77,77,77,77,77,77,77,77,77,78,78,78,78,78,78,78,78,78,78,78,78,79,79,79,79,79,79,79,79,79,79,79,79,80,80,80,80,80,80,80,80,80,80,80,80,81,81,81,81,81,81,81,81,81,81,81,81,82,82,82,82,82,82,82,82,82,82,82,82]
[58,58,58,58,58,58,58,58,58,58,58,58,59,59,59,59,59,59,59,59,59,59,59,59,60,60,60,60,60,60,60,60,60,60,60,60,61,61,61,61,61,61,61,61,61,61,61,61,62,62,62,62,62,62,62,62,62,62,62,62,63,63,63,63,63,63,63,63,63,63,63,63,64,64,64,64,64,64,64,64,64,64,64,64,65,65,65,65,65,65,65,65,65,65,65,65,66,66,66,66,66,66,66,66,66,66,66,66,67,67,67,67,67,67,67,67,67,67,67,67,68,68,68,68,68,68,68,68,68,68,68,68,69,69,69,69,69,69,69,69,69,69,69,69,70,70,70,70,70,70,70,70,70,70,70,70,71,71,71,71,71,71,71,71,71,71,71,71,72,72,72,72,72,72,72,72,72,72,72,72,73,73,73,73,73,73,73,73,73,73,73,73,74,74,74,74,74,74,74,74,74,74,74,74,75,75,75,75,75,75,75,75,75,75,75,75,76,76,76,76,76,76,76,76,76,76,76,76,77,77,77,77,77,77,77,77,77,77,77,77,78,78,78,78,78,78,78,78,78,78,78,78,79,79,79,79,79,79,79,79,79,79,79,79,80,80,80,80,80,80,80,80,80,80,80,80,81,81,81,81,81,81,81,81,81,81,81,81,82,82,82,82,82,82,82,82,82,82,82,82,83,83,83,83,83,83,83,83,83,83,83,83]
[59,59,59,59,59,59,59,59,59,59,59,59,60,60,60,60,60,60,60,60,60,60,60,60,61,61,61,61,61,61,61,61,61,61,61,61,62,62,62,62,62,62,62,62,62,62,62,62,63,63,63,63,63,63,63,63,63,63,63,63,64,64,64,64,64,64,64,64,64,64,64,64,65,65,65,65,65,65,65,65,65,65,65,65,66,66,66,66,66,66,66,66,66,66,66,66,67,67,67,67,67,67,67,67,67,67,67,67,68,68,68,68,68,68,68,68,68,68,68,68,69,69,69,69,69,69,69,69,69,69,69,69,70,70,70,70,70,70,70,70,70,70,70,70,71,71,71,71,71,71,71,71,71,71,71,71,72,72,72,72,72,72,72,72,72,72,72,72,73,73,73,73,73,73,73,73,73,73,73,73,74,74,74,74,74,74,74,74,74,74,74,74,75,75,75,75,75,75,75,75,75,75,75,75,76,76,76,76,76,76,76,76,76,76,76,76,77,77,77,77,77,77,77,77,77,77,77,77,78,78,78,78,78,78,78,78,78,78,78,78,79,79,79,79,79,79,79,79,79,79,79,79,80,80,80,80,80,80,80,80,80,80,80,80,81,81,81,81,81,81,81,81,81,81,81,81,82,82,82,82,82,82,82,82,82,82,82,82,83,83,83,83,83,83,83,83,83,83,83,83,84,84,84,84,84,84,84,84,84,84,84,84]
[60,60,60,60,60,60,60,60,60,60,60,60,61,61,61,61,61,61,61,61,61,61,61,61,62,62,62,62,62,62,62,62,62,62,62,62,63,63,63,63,63,63,63,63,63,63,63,63,64,64,64,64,64,64,64,64,64,64,64,64,65,65,65,65,65,65,65,65,65,65,65,65,66,66,66,66,66,66,66,66,66,66,66,66,67,67,67,67,67,67,67,67,67,67,67,67,68,68,68,68,68,68,68,68,68,68,68,68,69,69,69,69,69,69,69,69,69,69,69,69,70,70,70,70,70,70,70,70,70,70,70,70,71,71,71,71,71,71,71,71,71,71,71,71,72,72,72,72,72,72,72,72,72,72,72,72,73,73,73,73,73,73,73,73,73,73,73,73,74,74,74,74,74,74,74,74,74,74,74,74,75,75,75,75,75,75,75,75,75,75,75,75,76,76,76,76,76,76,76,76,76,76,76,76,77,77,77,77,77,77,77,77,77,77,77,77,78,78,78,78,78,78,78,78,78,78,78,78,79,79,79,79,79,79,79,79,79,79,79,79,80,80,80,80,80,80,80,80,80,80,80,80,81,81,81,81,81,81,81,81,81,81,81,81,82,82,82,82,82,82,82,82,82,82,82,82,83,83,83,83,83,83,83,83,83,83,83,83,84,84,84,84,84,84,84,84,84,84,84,84,85,85,85,85,85,85,85,85,85,85,85,85]
[61,61,61,61,61,61,61,61,61,61,61,61,62,62,62,62,62,62,62,62,62,62,62,62,63,63,63,63,63,63,63,63,63,63,63,63,64,64,64,64,64,64,64,64,64,64,64,64,65,65,65,65,65,65,65,65,65,65,65,65,66,66,66,66,66,66,66,66,66,66,66,66,67,67,67,67,67,67,67,67,67,67,67,67,68,68,68,68,68,68,68,68,68,68,68,68,69,69,69,69,69,69,69,69,69,69,69,69,70,70,70,70,70,70,70,70,70,70,70,70,71,71,71,71,71,71,71,71,71,71,71,71,72,72,72,72,72,72,72,72,72,72,72,72,73,73,73,73,73,73,73,73,73,73,73,73,74,74,74,74,74,74,74,74,74,74,74,74,75,75,75,75,75,75,75,75,75,75,75,75,76,76,76,76,76,76,76,76,76,76,76,76,77,77,77,77,77,77,77,77,77,77,77,77,78,78,78,78,78,78,78,78,78,78,78,78,79,79,79,79,79,79,79,79,79,79,79,79,80,80,80,80,80,80,80,80,80,80,80,80,81,81,81,81,81,81,81,81,81,81,81,81,82,82,82,82,82,82,82,82,82,82,82,82,83,83,83,83,83,83,83,83,83,83,83,83,84,84,84,84,84,84,84,84,84,84,84,84,85,85,85,85,85,85,85,85,85,85,85,85,86,86,86,86,86,86,86,86,86,86,86,86]
[62,62,62,62,62,62,62,62,62,62,62,62,63,63,63,63,63,63,63,63,63,63,63,63,64,64,64,64,64,64,64,64,64,64,64,64,65,65,65,65,65,65,65,65,65,65,65,65,66,66,66,66,66,66,66,66,66,66,66,66,67,67,67,67,67,67,67,67,67,67,67,67,68,68,68,68,68,68,68,68,68,68,68,68,69,69,69,69,69,69,69,69,69,69,69,69,70,70,70,70,70,70,70,70,70,70,70,70,71,71,71,71,71,71,71,71,71,71,71,71,72,72,72,72,72,72,72,72,72,72,72,72,73,73,73,73,73,73,73,73,73,73,73,73,74,74,74,74,74,74,74,74,74,74,74,74,75,75,75,75,75,75,75,75,75,75,75,75,76,76,76,76,76,76,76,76,76,76,76,76,77,77,77,77,77,77,77,77,77,77,77,77,78,78,78,78,78,78,78,78,78,78,78,78,79,79,79,79,79,79,79,79,79,79,79,79,80,80,80,80,80,80,80,80,80,80,80,80,81,81,81,81,81,81,81,81,81,81,81,81,82,82,82,82,82,82,82,82,82,82,82,82,83,83,83,83,83,83,83,83,83,83,83,83,84,84,84,84,84,84,84,84,84,84,84,84,85,85,85,85,85,85,85,85,85,85,85,85,86,86,86,86,86,86,86,86,86,86,86,86,87,87,87,87,87,87,87,87,87,87,87,87]
[63,63,63,63,63,63,63,63,63,63,63,63,64,64,64,64,64,64,64,64,64,64,64,64,65,65,65,65,65,65,65,65,65,65,65,65,66,66,66,66,66,66,66,66,66,66,66,66,67,67,67,67,67,67,67,67,67,67,67,67,68,68,68,68,68,68,68,68,68,68,68,68,69,69,69,69,69,69,69,69,69,69,69,69,70,70,70,70,70,70,70,70,70,70,70,70,71,71,71,71,71,71,71,71,71,71,71,71,72,72,72,72,72,72,72,72,72,72,72,72,73,73,73,73,73,73,73,73,73,73,73,73,74,74,74,74,74,74,74,74,74,74,74,74,75,75,75,75,75,75,75,75,75,75,75,75,76,76,76,76,76,76,76,76,76,76,76,76,77,77,77,77,77,77,77,77,77,77,77,77,78,78,78,78,78,78,78,78,78,78,78,78,79,79,79,79,79,79,79,79,79,79,79,79,80,80,80,80,80,80,80,80,80,80,80,80,81,81,81,81,81,81,81,81,81,81,81,81,82,82,82,82,82,82,82,82,82,82,82,82,83,83,83,83,83,83,83,83,83,83,83,83,84,84,84,84,84,84,84,84,84,84,84,84,85,85,85,85,85,85,85,85,85,85,85,85,86,86,86,86,86,86,86,86,86,86,86,86,87,87,87,87,87,87,87,87,87,87,87,87,88,88,88,88,88,88,88,88,88,88,88,88]
[64,64,64,64,64,64,64,64,64,64,64,64,65,65,65,65,65,65,65,65,65,65,65,65,66,66,66,66,66,66,66,66,66,66,66,66,67,67,67,67,67,67,67,67,67,67,67,67,68,68,68,68,68,68,68,68,68,68,68,68,69,69,69,69,69,69,69,69,69,69,69,69,70,70,70,70,70,70,70,70,70,70,70,70,71,71,71,71,71,71,71,71,71,71,71,71,72,72,72,72,72,72,72,72,72,72,72,72,73,73,73,73,73,73,73,73,73,73,73,73,74,74,74,74,74,74,74,74,74,74,74,74,75,75,75,75,75,75,75,75,75,75,75,75,76,76,76,76,76,76,76,76,76,76,76,76,77,77,77,77,77,77,77,77,77,77,77,77,78,78,78,78,78,78,78,78,78,78,78,78,79,79,79,79,79,79,79,79,79,79,79,79,80,80,80,80,80,80,80,80,80,80,80,80,81,81,81,81,81,81,81,81,81,81,81,81,82,82,82,82,82,82,82,82,82,82,82,82,83,83,83,83,83,83,83,83,83,83,83,83,84,84,84,84,84,84,84,84,84,84,84,84,85,85,85,85,85,85,85,85,85,85,85,85,86,86,86,86,86,86,86,86,86,86,86,86,87,87,87,87,87,87,87,87,87,87,87,87,88,88,88,88,88,88,88,88,88,88,88,88,89,89,89,89,89,89,89,89,89,89,89,89]
[65,65,65,65,65,65,65,65,65,65,65,65,66,66,66,66,66,66,66,66,66,66,66,66,67,67,67,67,67,67,67,67,67,67,67,67,68,68,68,68,68,68,68,68,68,68,68,68,69,69,69,69,69,69,69,69,69,69,69,69,70,70,70,70,70,70,70,70,70,70,70,70,71,71,71,71,71,71,71,71,71,71,71,71,72,72,72,72,72,72,72,72,72,72,72,72,73,73,73,73,73,73,73,73,73,73,73,73,74,74,74,74,74,74,74,74,74,74,74,74,75,75,75,75,75,75,75,75,75,75,75,75,76,76,76,76,76,76,76,76,76,76,76,76,77,77,77,77,77,77,77,77,77,77,77,77,78,78,78,78,78,78,78,78,78,78,78,78,79,79,79,79,79,79,79,79,79,79,79,79,80,80,80,80,80,80,80,80,80,80,80,80,81,81,81,81,81,81,81,81,81,81,81,81,82,82,82,82,82,82,82,82,82,82,82,82,83,83,83,83,83,83,83,83,83,83,83,83,84,84,84,84,84,84,84,84,84,84,84,84,85,85,85,85,85,85,85,85,85,85,85,85,86,86,86,86,86,86,86,86,86,86,86,86,87,87,87,87,87,87,87,87,87,87,87,87,88,88,88,88,88,88,88,88,88,88,88,88,89,89,89,89,89,89,89,89,89,89,89,89,90,90,90,90,90,90,90,90,90,90,90,90]
[66,66,66,66,66,66,66,66,66,66,66,66,67,67,67,67,67,67,67,67,67,67,67,67,68,68,68,68,68,68,68,68,68,68,68,68,69,69,69,69,69,69,69,69,69,69,69,69,70,70,70,70,70,70,70,70,70,70,70,70,71,71,71,71,71,71,71,71,71,71,71,71,72,72,72,72,72,72,72,72,72,72,72,72,73,73,73,73,73,73,73,73,73,73,73,73,74,74,74,74,74,74,74,74,74,74,74,74,75,75,75,75,75,75,75,75,75,75,75,75,76,76,76,76,76,76,76,76,76,76,76,76,77,77,77,77,77,77,77,77,77,77,77,77,78,78,78,78,78,78,78,78,78,78,78,78,79,79,79,79,79,79,79,79,79,79,79,79,80,80,80,80,80,80,80,80,80,80,80,80,81,81,81,81,81,81,81,81,81,81,81,81,82,82,82,82,82,82,82,82,82,82,82,82,83,83,83,83,83,83,83,83,83,83,83,83,84,84,84,84,84,84,84,84,84,84,84,84,85,85,85,85,85,85,85,85,85,85,85,85,86,86,86,86,86,86,86,86,86,86,86,86,87,87,87,87,87,87,87,87,87,87,87,87,88,88,88,88,88,88,88,88,88,88,88,88,89,89,89,89,89,89,89,89,89,89,89,89,90,90,90,90,90,90,90,90,90,90,90,90,91,91,91,91,91,91,91,91,91,91,91,91]
[67,67,67,67,67,67,67,67,67,67,67,67,68,68,68,68,68,68,68,68,68,68,68,68,69,69,69,69,69,69,69,69,69,69,69,69,70,70,70,70,70,70,70,70,70,70,70,70,71,71,71,71,71,71,71,71,71,71,71,71,72,72,72,72,72,72,72,72,72,72,72,72,73,73,73,73,73,73,73,73,73,73,73,73,74,74,74,74,74,74,74,74,74,74,74,74,75,75,75,75,75,75,75,75,75,75,75,75,76,76,76,76,76,76,76,76,76,76,76,76,77,77,77,77,77,77,77,77,77,77,77,77,78,78,78,78,78,78,78,78,78,78,78,78,79,79,79,79,79,79,79,79,79,79,79,79,80,80,80,80,80,80,80,80,80,80,80,80,81,81,81,81,81,81,81,81,81,81,81,81,82,82,82,82,82,82,82,82,82,82,82,82,83,83,83,83,83,83,83,83,83,83,83,83,84,84,84,84,84,84,84,84,84,84,84,84,85,85,85,85,85,85,85,85,85,85,85,85,86,86,86,86,86,86,86,86,86,86,86,86,87,87,87,87,87,87,87,87,87,87,87,87,88,88,88,88,88,88,88,88,88,88,88,88,89,89,89,89,89,89,89,89,89,89,89,89,90,90,90,90,90,90,90,90,90,90,90,90,91,91,91,91,91,91,91,91,91,91,91,91,92,92,92,92,92,92,92,92,92,92,92,92]
[68,68,68,68,68,68,68,68,68,68,68,68,69,69,69,69,69,69,69,69,69,69,69,69,70,70,70,70,70,70,70,70,70,70,70,70,71,71,71,71,71,71,71,71,71,71,71,71,72,72,72,72,72,72,72,72,72,72,72,72,73,73,73,73,73,73,73,73,73,73,73,73,74,74,74,74,74,74,74,74,74,74,74,74,75,75,75,75,75,75,75,75,75,75,75,75,76,76,76,76,76,76,76,76,76,76,76,76,77,77,77,77,77,77,77,77,77,77,77,77,78,78,78,78,78,78,78,78,78,78,78,78,79,79,79,79,79,79,79,79,79,79,79,79,80,80,80,80,80,80,80,80,80,80,80,80,81,81,81,81,81,81,81,81,81,81,81,81,82,82,82,82,82,82,82,82,82,82,82,82,83,83,83,83,83,83,83,83,83,83,83,83,84,84,84,84,84,84,84,84,84,84,84,84,85,85,85,85,85,85,85,85,85,85,85,85,86,86,86,86,86,86,86,86,86,86,86,86,87,87,87,87,87,87,87,87,87,87,87,87,88,88,88,88,88,88,88,88,88,88,88,88,89,89,89,89,89,89,89,89,89,89,89,89,90,90,90,90,90,90,90,90,90,90,90,90,91,91,91,91,91,91,91,91,91,91,91,91,92,92,92,92,92,92,92,92,92,92,92,92,93,93,93,93,93,93,93,93,93,93,93,93]
[69,69,69,69,69,69,69,69,69,69,69,69,70,70,70,70,70,70,70,70,70,70,70,70,71,71,71,71,71,71,71,71,71,71,71,71,72,72,72,72,72,72,72,72,72,72,72,72,73,73,73,73,73,73,73,73,73,73,73,73,74,74,74,74,74,74,74,74,74,74,74,74,75,75,75,75,75,75,75,75,75,75,75,75,76,76,76,76,76,76,76,76,76,76,76,76,77,77,77,77,77,77,77,77,77,77,77,77,78,78,78,78,78,78,78,78,78,78,78,78,79,79,79,79,79,79,79,79,79,79,79,79,80,80,80,80,80,80,80,80,80,80,80,80,81,81,81,81,81,81,81,81,81,81,81,81,82,82,82,82,82,82,82,82,82,82,82,82,83,83,83,83,83,83,83,83,83,83,83,83,84,84,84,84,84,84,84,84,84,84,84,84,85,85,85,85,85,85,85,85,85,85,85,85,86,86,86,86,86,86,86,86,86,86,86,86,87,87,87,87,87,87,87,87,87,87,87,87,88,88,88,88,88,88,88,88,88,88,88,88,89,89,89,89,89,89,89,89,89,89,89,89,90,90,90,90,90,90,90,90,90,90,90,90,91,91,91,91,91,91,91,91,91,91,91,91,92,92,92,92,92,92,92,92,92,92,92,92,93,93,93,93,93,93,93,93,93,93,93,93,94,94,94,94,94,94,94,94,94,94,94,94]
[70,70,70,70,70,70,70,70,70,70,70,70,71,71,71,71,71,71,71,71,71,71,71,71,72,72,72,72,72,72,72,72,72,72,72,72,73,73,73,73,73,73,73,73,73,73,73,73,74,74,74,74,74,74,74,74,74,74,74,74,75,75,75,75,75,75,75,75,75,75,75,75,76,76,76,76,76,76,76,76,76,76,76,76,77,77,77,77,77,77,77,77,77,77,77,77,78,78,78,78,78,78,78,78,78,78,78,78,79,79,79,79,79,79,79,79,79,79,79,79,80,80,80,80,80,80,80,80,80,80,80,80,81,81,81,81,81,81,81,81,81,81,81,81,82,82,82,82,82,82,82,82,82,82,82,82,83,83,83,83,83,83,83,83,83,83,83,83,84,84,84,84,84,84,84,84,84,84,84,84,85,85,85,85,85,85,85,85,85,85,85,85,86,86,86,86,86,86,86,86,86,86,86,86,87,87,87,87,87,87,87,87,87,87,87,87,88,88,88,88,88,88,88,88,88,88,88,88,89,89,89,89,89,89,89,89,89,89,89,89,90,90,90,90,90,90,90,90,90,90,90,90,91,91,91,91,91,91,91,91,91,91,91,91,92,92,92,92,92,92,92,92,92,92,92,92,93,93,93,93,93,93,93,93,93,93,93,93,94,94,94,94,94,94,94,94,94,94,94,94,95,95,95,95,95,95,95,95,95,95,95,95]
[71,71,71,71,71,71,71,71,71,71,71,71,72,72,72,72,72,72,72,72,72,72,72,72,73,73,73,73,73,73,73,73,73,73,73,73,74,74,74,74,74,74,74,74,74,74,74,74,75,75,75,75,75,75,75,75,75,75,75,75,76,76,76,76,76,76,76,76,76,76,76,76,77,77,77,77,77,77,77,77,77,77,77,77,78,78,78,78,78,78,78,78,78,78,78,78,79,79,79,79,79,79,79,79,79,79,79,79,80,80,80,80,80,80,80,80,80,80,80,80,81,81,81,81,81,81,81,81,81,81,81,81,82,82,82,82,82,82,82,82,82,82,82,82,83,83,83,83,83,83,83,83,83,83,83,83,84,84,84,84,84,84,84,84,84,84,84,84,85,85,85,85,85,85,85,85,85,85,85,85,86,86,86,86,86,86,86,86,86,86,86,86,87,87,87,87,87,87,87,87,87,87,87,87,88,88,88,88,88,88,88,88,88,88,88,88,89,89,89,89,89,89,89,89,89,89,89,89,90,90,90,90,90,90,90,90,90,90,90,90,91,91,91,91,91,91,91,91,91,91,91,91,92,92,92,92,92,92,92,92,92,92,92,92,93,93,93,93,93,93,93,93,93,93,93,93,94,94,94,94,94,94,94,94,94,94,94,94,95,95,95,95,95,95,95,95,95,95,95,95,96,96,96,96,96,96,96,96,96,96,96,96]
[72,72,72,72,72,72,72,72,72,72,72,72,73,73,73,73,73,73,73,73,73,73,73,73,74,74,74,74,74,74,74,74,74,74,74,74,75,75,75,75,75,75,75,75,75,75,75,75,76,76,76,76,76,76,76,76,76,76,76,76,77,77,77,77,77,77,77,77,77,77,77,77,78,78,78,78,78,78,78,78,78,78,78,78,79,79,79,79,79,79,79,79,79,79,79,79,80,80,80,80,80,80,80,80,80,80,80,80,81,81,81,81,81,81,81,81,81,81,81,81,82,82,82,82,82,82,82,82,82,82,82,82,83,83,83,83,83,83,83,83,83,83,83,83,84,84,84,84,84,84,84,84,84,84,84,84,85,85,85,85,85,85,85,85,85,85,85,85,86,86,86,86,86,86,86,86,86,86,86,86,87,87,87,87,87,87,87,87,87,87,87,87,88,88,88,88,88,88,88,88,88,88,88,88,89,89,89,89,89,89,89,89,89,89,89,89,90,90,90,90,90,90,90,90,90,90,90,90,91,91,91,91,91,91,91,91,91,91,91,91,92,92,92,92,92,92,92,92,92,92,92,92,93,93,93,93,93,93,93,93,93,93,93,93,94,94,94,94,94,94,94,94,94,94,94,94,95,95,95,95,95,95,95,95,95,95,95,95,96,96,96,96,96,96,96,96,96,96,96,96,97,97,97,97,97,97,97,97,97,97,97,97]
[73,73,73,73,73,73,73,73,73,73,73,73,74,74,74,74,74,74,74,74,74,74,74,74,75,75,75,75,75,75,75,75,75,75,75,75,76,76,76,76,76,76,76,76,76,76,76,76,77,77,77,77,77,77,77,77,77,77,77,77,78,78,78,78,78,78,78,78,78,78,78,78,79,79,79,79,79,79,79,79,79,79,79,79,80,80,80,80,80,80,80,80,80,80,80,80,81,81,81,81,81,81,81,81,81,81,81,81,82,82,82,82,82,82,82,82,82,82,82,82,83,83,83,83,83,83,83,83,83,83,83,83,84,84,84,84,84,84,84,84,84,84,84,84,85,85,85,85,85,85,85,85,85,85,85,85,86,86,86,86,86,86,86,86,86,86,86,86,87,87,87,87,87,87,87,87,87,87,87,87,88,88,88,88,88,88,88,88,88,88,88,88,89,89,89,89,89,89,89,89,89,89,89,89,90,90,90,90,90,90,90,90,90,90,90,90,91,91,91,91,91,91,91,91,91,91,91,91,92,92,92,92,92,92,92,92,92,92,92,92,93,93,93,93,93,93,93,93,93,93,93,93,94,94,94,94,94,94,94,94,94,94,94,94,95,95,95,95,95,95,95,95,95,95,95,95,96,96,96,96,96,96,96,96,96,96,96,96,97,97,97,97,97,97,97,97,97,97,97,97,98,98,98,98,98,98,98,98,98,98,98,98]
[74,74,74,74,74,74,74,74,74,74,74,74,75,75,75,75,75,75,75,75,75,75,75,75,76,76,76,76,76,76,76,76,76,76,76,76,77,77,77,77,77,77,77,77,77,77,77,77,78,78,78,78,78,78,78,78,78,78,78,78,79,79,79,79,79,79,79,79,79,79,79,79,80,80,80,80,80,80,80,80,80,80,80,80,81,81,81,81,81,81,81,81,81,81,81,81,82,82,82,82,82,82,82,82,82,82,82,82,83,83,83,83,83,83,83,83,83,83,83,83,84,84,84,84,84,84,84,84,84,84,84,84,85,85,85,85,85,85,85,85,85,85,85,85,86,86,86,86,86,86,86,86,86,86,86,86,87,87,87,87,87,87,87,87,87,87,87,87,88,88,88,88,88,88,88,88,88,88,88,88,89,89,89,89,89,89,89,89,89,89,89,89,90,90,90,90,90,90,90,90,90,90,90,90,91,91,91,91,91,91,91,91,91,91,91,91,92,92,92,92,92,92,92,92,92,92,92,92,93,93,93,93,93,93,93,93,93,93,93,93,94,94,94,94,94,94,94,94,94,94,94,94,95,95,95,95,95,95,95,95,95,95,95,95,96,96,96,96,96,96,96,96,96,96,96,96,97,97,97,97,97,97,97,97,97,97,97,97,98,98,98,98,98,98,98,98,98,98,98,98,99,99,99,99,99,99,99,99,99,99,99,99]
[75,75,75,75,75,75,75,75,75,75,75,75,76,76,76,76,76,76,76,76,76,76,76,76,77,77,77,77,77,77,77,77,77,77,77,77,78,78,78,78,78,78,78,78,78,78,78,78,79,79,79,79,79,79,79,79,79,79,79,79,80,80,80,80,80,80,80,80,80,80,80,80,81,81,81,81,81,81,81,81,81,81,81,81,82,82,82,82,82,82,82,82,82,82,82,82,83,83,83,83,83,83,83,83,83,83,83,83,84,84,84,84,84,84,84,84,84,84,84,84,85,85,85,85,85,85,85,85,85,85,85,85,86,86,86,86,86,86,86,86,86,86,86,86,87,87,87,87,87,87,87,87,87,87,87,87,88,88,88,88,88,88,88,88,88,88,88,88,89,89,89,89,89,89,89,89,89,89,89,89,90,90,90,90,90,90,90,90,90,90,90,90,91,91,91,91,91,91,91,91,91,91,91,91,92,92,92,92,92,92,92,92,92,92,92,92,93,93,93,93,93,93,93,93,93,93,93,93,94,94,94,94,94,94,94,94,94,94,94,94,95,95,95,95,95,95,95,95,95,95,95,95,96,96,96,96,96,96,96,96,96,96,96,96,97,97,97,97,97,97,97,97,97,97,97,97,98,98,98,98,98,98,98,98,98,98,98,98,99,99,99,99,99,99,99,99,99,99,99,99,100,100,100,100,100,100,100,100,100,100,100,100]
[76,76,76,76,76,76,76,76,76,76,76,76,77,77,77,77,77,77,77,77,77,77,77,77,78,78,78,78,78,78,78,78,78,78,78,78,79,79,79,79,79,79,79,79,79,79,79,79,80,80,80,80,80,80,80,80,80,80,80,80,81,81,81,81,81,81,81,81,81,81,81,81,82,82,82,82,82,82,82,82,82,82,82,82,83,83,83,83,83,83,83,83,83,83,83,83,84,84,84,84,84,84,84,84,84,84,84,84,85,85,85,85,85,85,85,85,85,85,85,85,86,86,86,86,86,86,86,86,86,86,86,86,87,87,87,87,87,87,87,87,87,87,87,87,88,88,88,88,88,88,88,88,88,88,88,88,89,89,89,89,89,89,89,89,89,89,89,89,90,90,90,90,90,90,90,90,90,90,90,90,91,91,91,91,91,91,91,91,91,91,91,91,92,92,92,92,92,92,92,92,92,92,92,92,93,93,93,93,93,93,93,93,93,93,93,93,94,94,94,94,94,94,94,94,94,94,94,94,95,95,95,95,95,95,95,95,95,95,95,95,96,96,96,96,96,96,96,96,96,96,96,96,97,97,97,97,97,97,97,97,97,97,97,97,98,98,98,98,98,98,98,98,98,98,98,98,99,99,99,99,99,99,99,99,99,99,99,99,0,0,0,0,100,100,100,100,100,100,100,100,0,0,0,0,101,101,101,101,101,101,101,101]
[77,77,77,77,77,77,77,77,77,77,77,77,78,78,78,78,78,78,78,78,78,78,78,78,79,79,79,79,79,79,79,79,79,79,79,79,80,80,80,80,80,80,80,80,80,80,80,80,81,81,81,81,81,81,81,81,81,81,81,81,82,82,82,82,82,82,82,82,82,82,82,82,83,83,83,83,83,83,83,83,83,83,83,83,84,84,84,84,84,84,84,84,84,84,84,84,85,85,85,85,85,85,85,85,85,85,85,85,86,86,86,86,86,86,86,86,86,86,86,86,87,87,87,87,87,87,87,87,87,87,87,87,88,88,88,88,88,88,88,88,88,88,88,88,89,89,89,89,89,89,89,89,89,89,89,89,90,90,90,90,90,90,90,90,90,90,90,90,91,91,91,91,91,91,91,91,91,91,91,91,92,92,92,92,92,92,92,92,92,92,92,92,93,93,93,93,93,93,93,93,93,93,93,93,94,94,94,94,94,94,94,94,94,94,94,94,95,95,95,95,95,95,95,95,95,95,95,95,96,96,96,96,96,96,96,96,96,96,96,96,97,97,97,97,97,97,97,97,97,97,97,97,98,98,98,98,98,98,98,98,98,98,98,98,99,99,99,99,99,99,99,99,99,99,99,99,100,100,100,100,100,100,100,100,100,100,100,100,0,0,0,0,101,101,101,101,101,101,101,101,0,0,0,0,102,102,102,102,102,102,102,102]
[78,78,78,78,78,78,78,78,78,78,78,78,79,79,79,79,79,79,79,79,79,79,79,79,80,80,80,80,80,80,80,80,80,80,80,80,81,81,81,81,81,81,81,81,81,81,81,81,82,82,82,82,82,82,82,82,82,82,82,82,83,83,83,83,83,83,83,83,83,83,83,83,84,84,84,84,84,84,84,84,84,84,84,84,85,85,85,85,85,85,85,85,85,85,85,85,86,86,86,86,86,86,86,86,86,86,86,86,87,87,87,87,87,87,87,87,87,87,87,87,88,88,88,88,88,88,88,88,88,88,88,88,89,89,89,89,89,89,89,89,89,89,89,89,90,90,90,90,90,90,90,90,90,90,90,90,91,91,91,91,91,91,91,91,91,91,91,91,92,92,92,92,92,92,92,92,92,92,92,92,93,93,93,93,93,93,93,93,93,93,93,93,94,94,94,94,94,94,94,94,94,94,94,94,95,95,95,95,95,95,95,95,95,95,95,95,96,96,96,96,96,96,96,96,96,96,96,96,97,97,97,97,97,97,97,97,97,97,97,97,98,98,98,98,98,98,98,98,98,98,98,98,99,99,99,99,99,99,99,99,99,99,99,99,100,100,100,100,100,100,100,100,100,100,100,100,101,101,101,101,101,101,101,101,101,101,101,101,0,0,0,0,102,102,102,102,102,102,102,102,0,0,0,0,103,103,103,103,103,103,103,103]
[79,79,79,79,79,79,79,79,79,79,79,79,80,80,80,80,80,80,80,80,80,80,80,80,81,81,81,81,81,81,81,81,81,81,81,81,82,82,82,82,82,82,82,82,82,82,82,82,83,83,83,83,83,83,83,83,83,83,83,83,84,84,84,84,84,84,84,84,84,84,84,84,85,85,85,85,85,85,85,85,85,85,85,85,86,86,86,86,86,86,86,86,86,86,86,86,87,87,87,87,87,87,87,87,87,87,87,87,88,88,88,88,88,88,88,88,88,88,88,88,89,89,89,89,89,89,89,89,89,89,89,89,90,90,90,90,90,90,90,90,90,90,90,90,91,91,91,91,91,91,91,91,91,91,91,91,92,92,92,92,92,92,92,92,92,92,92,92,93,93,93,93,93,93,93,93,93,93,93,93,94,94,94,94,94,94,94,94,94,94,94,94,95,95,95,95,95,95,95,95,95,95,95,95,96,96,96,96,96,96,96,96,96,96,96,96,97,97,97,97,97,97,97,97,97,97,97,97,98,98,98,98,98,98,98,98,98,98,98,98,99,99,99,99,99,99,99,99,99,99,99,99,100,100,100,100,100,100,100,100,100,100,100,100,101,101,101,101,101,101,101,101,101,101,101,101,102,102,102,102,102,102,102,102,102,102,102,102,0,0,0,0,103,103,103,103,103,103,103,103,0,0,0,0,104,104,104,104,104,104,104,104]
[80,80,80,80,80,80,80,80,80,80,80,80,81,81,81,81,81,81,81,81,81,81,81,81,82,82,82,82,82,82,82,82,82,82,82,82,83,83,83,83,83,83,83,83,83,83,83,83,84,84,84,84,84,84,84,84,84,84,84,84,85,85,85,85,85,85,85,85,85,85,85,85,86,86,86,86,86,86,86,86,86,86,86,86,87,87,87,87,87,87,87,87,87,87,87,87,88,88,88,88,88,88,88,88,88,88,88,88,89,89,89,89,89,89,89,89,89,89,89,89,90,90,90,90,90,90,90,90,90,90,90,90,91,91,91,91,91,91,91,91,91,91,91,91,92,92,92,92,92,92,92,92,92,92,92,92,93,93,93,93,93,93,93,93,93,93,93,93,94,94,94,94,94,94,94,94,94,94,94,94,95,95,95,95,95,95,95,95,95,95,95,95,96,96,96,96,96,96,96,96,96,96,96,96,97,97,97,97,97,97,97,97,97,97,97,97,98,98,98,98,98,98,98,98,98,98,98,98,99,99,99,99,99,99,99,99,99,99,99,99,100,100,100,100,100,100,100,100,100,100,100,100,101,101,101,101,101,101,101,101,101,101,101,101,102,102,102,102,102,102,102,102,102,102,102,102,103,103,103,103,103,103,103,103,103,103,103,103,0,0,0,0,104,104,104,104,104,104,104,104,0,0,0,0,105,105,105,105,105,105,105,105]
[81,81,81,81,81,81,81,81,81,81,81,81,82,82,82,82,82,82,82,82,82,82,82,82,83,83,83,83,83,83,83,83,83,83,83,83,84,84,84,84,84,84,84,84,84,84,84,84,85,85,85,85,85,85,85,85,85,85,85,85,86,86,86,86,86,86,86,86,86,86,86,86,87,87,87,87,87,87,87,87,87,87,87,87,88,88,88,88,88,88,88,88,88,88,88,88,89,89,89,89,89,89,89,89,89,89,89,89,90,90,90,90,90,90,90,90,90,90,90,90,91,91,91,91,91,91,91,91,91,91,91,91,92,92,92,92,92,92,92,92,92,92,92,92,93,93,93,93,93,93,93,93,93,93,93,93,94,94,94,94,94,94,94,94,94,94,94,94,95,95,95,95,95,95,95,95,95,95,95,95,96,96,96,96,96,96,96,96,96,96,96,96,97,97,97,97,97,97,97,97,97,97,97,97,98,98,98,98,98,98,98,98,98,98,98,98,99,99,99,99,99,99,99,99,99,99,99,99,100,100,100,100,100,100,100,100,100,100,100,100,101,101,101,101,101,101,101,101,101,101,101,101,102,102,102,102,102,102,102,102,102,102,102,102,103,103,103,103,103,103,103,103,103,103,103,103,104,104,104,104,104,104,104,104,104,104,104,104,0,0,0,0,105,105,105,105,105,105,105,105,0,0,0,0,106,106,106,106,106,106,106,106]
[82,82,82,82,82,82,82,82,82,82,82,82,83,83,83,83,83,83,83,83,83,83,83,83,84,84,84,84,84,84,84,84,84,84,84,84,85,85,85,85,85,85,85,85,85,85,85,85,86,86,86,86,86,86,86,86,86,86,86,86,87,87,87,87,87,87,87,87,87,87,87,87,88,88,88,88,88,88,88,88,88,88,88,88,89,89,89,89,89,89,89,89,89,89,89,89,90,90,90,90,90,90,90,90,90,90,90,90,91,91,91,91,91,91,91,91,91,91,91,91,92,92,92,92,92,92,92,92,92,92,92,92,93,93,93,93,93,93,93,93,93,93,93,93,94,94,94,94,94,94,94,94,94,94,94,94,95,95,95,95,95,95,95,95,95,95,95,95,96,96,96,96,96,96,96,96,96,96,96,96,97,97,97,97,97,97,97,97,97,97,97,97,98,98,98,98,98,98,98,98,98,98,98,98,99,99,99,99,99,99,99,99,99,99,99,99,100,100,100,100,100,100,100,100,100,100,100,100,101,101,101,101,101,101,101,101,101,101,101,101,102,102,102,102,102,102,102,102,102,102,102,102,103,103,103,103,103,103,103,103,103,103,103,103,104,104,104,104,104,104,104,104,104,104,104,104,105,105,105,105,105,105,105,105,105,105,105,105,0,0,0,0,106,106,106,106,106,106,106,106,0,0,0,0,107,107,107,107,107,107,107,107]
[83,83,83,83,83,83,83,83,83,83,83,83,84,84,84,84,84,84,84,84,84,84,84,84,85,85,85,85,85,85,85,85,85,85,85,85,86,86,86,86,86,86,86,86,86,86,86,86,87,87,87,87,87,87,87,87,87,87,87,87,88,88,88,88,88,88,88,88,88,88,88,88,89,89,89,89,89,89,89,89,89,89,89,89,90,90,90,90,90,90,90,90,90,90,90,90,91,91,91,91,91,91,91,91,91,91,91,91,92,92,92,92,92,92,92,92,92,92,92,92,93,93,93,93,93,93,93,93,93,93,93,93,94,94,94,94,94,94,94,94,94,94,94,94,95,95,95,95,95,95,95,95,95,95,95,95,96,96,96,96,96,96,96,96,96,96,96,96,97,97,97,97,97,97,97,97,97,97,97,97,98,98,98,98,98,98,98,98,98,98,98,98,99,99,99,99,99,99,99,99,99,99,99,99,100,100,100,100,100,100,100,100,100,100,100,100,101,101,101,101,101,101,101,101,101,101,101,101,102,102,102,102,102,102,102,102,102,102,102,102,103,103,103,103,103,103,103,103,103,103,103,103,104,104,104,104,104,104,104,104,104,104,104,104,105,105,105,105,105,105,105,105,105,105,105,105,106,106,106,106,106,106,106,106,106,106,106,106,0,0,0,0,107,107,107,107,107,107,107,107,0,0,0,0,108,108,108,108,108,108,108,108]
[84,84,84,84,84,84,84,84,84,84,84,84,85,85,85,85,85,85,85,85,85,85,85,85,86,86,86,86,86,86,86,86,86,86,86,86,87,87,87,87,87,87,87,87,87,87,87,87,88,88,88,88,88,88,88,88,88,88,88,88,89,89,89,89,89,89,89,89,89,89,89,89,90,90,90,90,90,90,90,90,90,90,90,90,91,91,91,91,91,91,91,91,91,91,91,91,92,92,92,92,92,92,92,92,92,92,92,92,93,93,93,93,93,93,93,93,93,93,93,93,94,94,94,94,94,94,94,94,94,94,94,94,95,95,95,95,95,95,95,95,95,95,95,95,96,96,96,96,96,96,96,96,96,96,96,96,97,97,97,97,97,97,97,97,97,97,97,97,98,98,98,98,98,98,98,98,98,98,98,98,99,99,99,99,99,99,99,99,99,99,99,99,100,100,100,100,100,100,100,100,100,100,100,100,101,101,101,101,101,101,101,101,101,101,101,101,102,102,102,102,102,102,102,102,102,102,102,102,103,103,103,103,103,103,103,103,103,103,103,103,104,104,104,104,104,104,104,104,104,104,104,104,105,105,105,105,105,105,105,105,105,105,105,105,106,106,106,106,106,106,106,106,106,106,106,106,107,107,107,107,107,107,107,107,107,107,107,107,0,0,0,0,108,108,108,108,108,108,108,108,0,0,0,0,109,109,109,109,109,109,109,109]
[85,85,85,85,85,85,85,85,85,85,85,85,86,86,86,86,86,86,86,86,86,86,86,86,87,87,87,87,87,87,87,87,87,87,87,87,88,88,88,88,88,88,88,88,88,88,88,88,89,89,89,89,89,89,89,89,89,89,89,89,90,90,90,90,90,90,90,90,90,90,90,90,91,91,91,91,91,91,91,91,91,91,91,91,92,92,92,92,92,92,92,92,92,92,92,92,93,93,93,93,93,93,93,93,93,93,93,93,94,94,94,94,94,94,94,94,94,94,94,94,95,95,95,95,95,95,95,95,95,95,95,95,96,96,96,96,96,96,96,96,96,96,96,96,97,97,97,97,97,97,97,97,97,97,97,97,98,98,98,98,98,98,98,98,98,98,98,98,99,99,99,99,99,99,99,99,99,99,99,99,100,100,100,100,100,100,100,100,100,100,100,100,101,101,101,101,101,101,101,101,101,101,101,101,102,102,102,102,102,102,102,102,102,102,102,102,103,103,103,103,103,103,103,103,103,103,103,103,104,104,104,104,104,104,104,104,104,104,104,104,105,105,105,105,105,105,105,105,105,105,105,105,106,106,106,106,106,106,106,106,106,106,106,106,107,107,107,107,107,107,107,107,107,107,107,107,108,108,108,108,108,108,108,108,108,108,108,108,0,0,0,0,109,109,109,109,109,109,109,109,0,0,0,0,110,110,110,110,110,110,110,110]
[86,86,86,86,86,86,86,86,86,86,86,86,87,87,87,87,87,87,87,87,87,87,87,87,88,88,88,88,88,88,88,88,88,88,88,88,89,89,89,89,89,89,89,89,89,89,89,89,90,90,90,90,90,90,90,90,90,90,90,90,91,91,91,91,91,91,91,91,91,91,91,91,92,92,92,92,92,92,92,92,92,92,92,92,93,93,93,93,93,93,93,93,93,93,93,93,94,94,94,94,94,94,94,94,94,94,94,94,95,95,95,95,95,95,95,95,95,95,95,95,96,96,96,96,96,96,96,96,96,96,96,96,97,97,97,97,97,97,97,97,97,97,97,97,98,98,98,98,98,98,98,98,98,98,98,98,99,99,99,99,99,99,99,99,99,99,99,99,100,100,100,100,100,100,100,100,100,100,100,100,101,101,101,101,101,101,101,101,101,101,101,101,102,102,102,102,102,102,102,102,102,102,102,102,103,103,103,103,103,103,103,103,103,103,103,103,104,104,104,104,104,104,104,104,104,104,104,104,105,105,105,105,105,105,105,105,105,105,105,105,106,106,106,106,106,106,106,106,106,106,106,106,107,107,107,107,107,107,107,107,107,107,107,107,108,108,108,108,108,108,108,108,108,108,108,108,109,109,109,109,109,109,109,109,109,109,109,109,0,0,0,0,110,110,110,110,110,110,110,110,0,0,0,0,111,111,111,111,111,111,111,111]
[87,87,87,87,87,87,87,87,87,87,87,87,88,88,88,88,88,88,88,88,88,88,88,88,89,89,89,89,89,89,89,89,89,89,89,89,90,90,90,90,90,90,90,90,90,90,90,90,91,91,91,91,91,91,91,91,91,91,91,91,92,92,92,92,92,92,92,92,92,92,92,92,93,93,93,93,93,93,93,93,93,93,93,93,94,94,94,94,94,94,94,94,94,94,94,94,95,95,95,95,95,95,95,95,95,95,95,95,96,96,96,96,96,96,96,96,96,96,96,96,97,97,97,97,97,97,97,97,97,97,97,97,98,98,98,98,98,98,98,98,98,98,98,98,99,99,99,99,99,99,99,99,99,99,99,99,100,100,100,100,100,100,100,100,100,100,100,100,101,101,101,101,101,101,101,101,101,101,101,101,102,102,102,102,102,102,102,102,102,102,102,102,103,103,103,103,103,103,103,103,103,103,103,103,104,104,104,104,104,104,104,104,104,104,104,104,105,105,105,105,105,105,105,105,105,105,105,105,106,106,106,106,106,106,106,106,106,106,106,106,107,107,107,107,107,107,107,107,107,107,107,107,108,108,108,108,108,108,108,108,108,108,108,108,109,109,109,109,109,109,109,109,109,109,109,109,110,110,110,110,110,110,110,110,110,110,110,110,0,0,0,0,111,111,111,111,111,111,111,111,0,0,0,0,112,112,112,112,112,112,112,112]
[88,88,88,88,88,88,88,88,88,88,88,88,89,89,89,89,89,89,89,89,89,89,89,89,90,90,90,90,90,90,90,90,90,90,90,90,91,91,91,91,91,91,91,91,91,91,91,91,92,92,92,92,92,92,92,92,92,92,92,92,93,93,93,93,93,93,93,93,93,93,93,93,94,94,94,94,94,94,94,94,94,94,94,94,95,95,95,95,95,95,95,95,95,95,95,95,96,96,96,96,96,96,96,96,96,96,96,96,97,97,97,97,97,97,97,97,97,97,97,97,98,98,98,98,98,98,98,98,98,98,98,98,99,99,99,99,99,99,99,99,99,99,99,99,100,100,100,100,100,100,100,100,100,100,100,100,101,101,101,101,101,101,101,101,101,101,101,101,102,102,102,102,102,102,102,102,102,102,102,102,103,103,103,103,103,103,103,103,103,103,103,103,104,104,104,104,104,104,104,104,104,104,104,104,105,105,105,105,105,105,105,105,105,105,105,105,106,106,106,106,106,106,106,106,106,106,106,106,107,107,107,107,107,107,107,107,107,107,107,107,108,108,108,108,108,108,108,108,108,108,108,108,109,109,109,109,109,109,109,109,109,109,109,109,110,110,110,110,110,110,110,110,110,110,110,110,111,111,111,111,111,111,111,111,111,111,111,111,0,0,0,0,112,112,112,112,112,112,112,112,0,0,0,0,113,113,113,113,113,113,113,113]
[89,89,89,89,89,89,89,89,89,89,89,89,90,90,90,90,90,90,90,90,90,90,90,90,91,91,91,91,91,91,91,91,91,91,91,91,92,92,92,92,92,92,92,92,92,92,92,92,93,93,93,93,93,93,93,93,93,93,93,93,94,94,94,94,94,94,94,94,94,94,94,94,95,95,95,95,95,95,95,95,95,95,95,95,96,96,96,96,96,96,96,96,96,96,96,96,97,97,97,97,97,97,97,97,97,97,97,97,98,98,98,98,98,98,98,98,98,98,98,98,99,99,99,99,99,99,99,99,99,99,99,99,100,100,100,100,100,100,100,100,100,100,100,100,101,101,101,101,101,101,101,101,101,101,101,101,102,102,102,102,102,102,102,102,102,102,102,102,103,103,103,103,103,103,103,103,103,103,103,103,104,104,104,104,104,104,104,104,104,104,104,104,105,105,105,105,105,105,105,105,105,105,105,105,106,106,106,106,106,106,106,106,106,106,106,106,107,107,107,107,107,107,107,107,107,107,107,107,108,108,108,108,108,108,108,108,108,108,108,108,109,109,109,109,109,109,109,109,109,109,109,109,110,110,110,110,110,110,110,110,110,110,110,110,111,111,111,111,111,111,111,111,111,111,111,111,112,112,112,112,112,112,112,112,112,112,112,112,0,0,0,0,113,113,113,113,113,113,113,113,0,0,0,0,114,114,114,114,114,114,114,114]
[90,90,90,90,90,90,90,90,90,90,90,90,91,91,91,91,91,91,91,91,91,91,91,91,92,92,92,92,92,92,92,92,92,92,92,92,93,93,93,93,93,93,93,93,93,93,93,93,94,94,94,94,94,94,94,94,94,94,94,94,95,95,95,95,95,95,95,95,95,95,95,95,96,96,96,96,96,96,96,96,96,96,96,96,97,97,97,97,97,97,97,97,97,97,97,97,98,98,98,98,98,98,98,98,98,98,98,98,99,99,99,99,99,99,99,99,99,99,99,99,100,100,100,100,100,100,100,100,100,100,100,100,101,101,101,101,101,101,101,101,101,101,101,101,102,102,102,102,102,102,102,102,102,102,102,102,103,103,103,103,103,103,103,103,103,103,103,103,104,104,104,104,104,104,104,104,104,104,104,104,105,105,105,105,105,105,105,105,105,105,105,105,106,106,106,106,106,106,106,106,106,106,106,106,107,107,107,107,107,107,107,107,107,107,107,107,108,108,108,108,108,108,108,108,108,108,108,108,109,109,109,109,109,109,109,109,109,109,109,109,110,110,110,110,110,110,110,110,110,110,110,110,111,111,111,111,111,111,111,111,111,111,111,111,112,112,112,112,112,112,112,112,112,112,112,112,113,113,113,113,113,113,113,113,113,113,113,113,0,0,0,0,114,114,114,114,114,114,114,114,0,0,0,0,115,115,115,115,115,115,115,115]
[91,91,91,91,91,91,91,91,91,91,91,91,92,92,92,92,92,92,92,92,92,92,92,92,93,93,93,93,93,93,93,93,93,93,93,93,94,94,94,94,94,94,94,94,94,94,94,94,95,95,95,95,95,95,95,95,95,95,95,95,96,96,96,96,96,96,96,96,96,96,96,96,97,97,97,97,97,97,97,97,97,97,97,97,98,98,98,98,98,98,98,98,98,98,98,98,99,99,99,99,99,99,99,99,99,99,99,99,100,100,100,100,100,100,100,100,100,100,100,100,101,101,101,101,101,101,101,101,101,101,101,101,102,102,102,102,102,102,102,102,102,102,102,102,103,103,103,103,103,103,103,103,103,103,103,103,104,104,104,104,104,104,104,104,104,104,104,104,105,105,105,105,105,105,105,105,105,105,105,105,106,106,106,106,106,106,106,106,106,106,106,106,107,107,107,107,107,107,107,107,107,107,107,107,108,108,108,108,108,108,108,108,108,108,108,108,109,109,109,109,109,109,109,109,109,109,109,109,110,110,110,110,110,110,110,110,110,110,110,110,111,111,111,111,111,111,111,111,111,111,111,111,112,112,112,112,112,112,112,112,112,112,112,112,113,113,113,113,113,113,113,113,113,113,113,113,114,114,114,114,114,114,114,114,114,114,114,114,0,0,0,0,115,115,115,115,115,115,115,115,0,0,0,0,116,116,116,116,116,116,116,116]
[92,92,92,92,92,92,92,92,92,92,92,92,93,93,93,93,93,93,93,93,93,93,93,93,94,94,94,94,94,94,94,94,94,94,94,94,95,95,95,95,95,95,95,95,95,95,95,95,96,96,96,96,96,96,96,96,96,96,96,96,97,97,97,97,97,97,97,97,97,97,97,97,98,98,98,98,98,98,98,98,98,98,98,98,99,99,99,99,99,99,99,99,99,99,99,99,100,100,100,100,100,100,100,100,100,100,100,100,101,101,101,101,101,101,101,101,101,101,101,101,102,102,102,102,102,102,102,102,102,102,102,102,103,103,103,103,103,103,103,103,103,103,103,103,104,104,104,104,104,104,104,104,104,104,104,104,105,105,105,105,105,105,105,105,105,105,105,105,106,106,106,106,106,106,106,106,106,106,106,106,107,107,107,107,107,107,107,107,107,107,107,107,108,108,108,108,108,108,108,108,108,108,108,108,109,109,109,109,109,109,109,109,109,109,109,109,110,110,110,110,110,110,110,110,110,110,110,110,111,111,111,111,111,111,111,111,111,111,111,111,112,112,112,112,112,112,112,112,112,112,112,112,113,113,113,113,113,113,113,113,113,113,113,113,114,114,114,114,114,114,114,114,114,114,114,114,115,115,115,115,115,115,115,115,115,115,115,115,0,0,0,0,116,116,116,116,116,116,116,116,0,0,0,0,117,117,117,117,117,117,117,117]
[93,93,93,93,93,93,93,93,93,93,93,93,94,94,94,94,94,94,94,94,94,94,94,94,95,95,95,95,95,95,95,95,95,95,95,95,96,96,96,96,96,96,96,96,96,96,96,96,97,97,97,97,97,97,97,97,97,97,97,97,98,98,98,98,98,98,98,98,98,98,98,98,99,99,99,99,99,99,99,99,99,99,99,99,100,100,100,100,100,100,100,100,100,100,100,100,101,101,101,101,101,101,101,101,101,101,101,101,102,102,102,102,102,102,102,102,102,102,102,102,103,103,103,103,103,103,103,103,103,103,103,103,104,104,104,104,104,104,104,104,104,104,104,104,105,105,105,105,105,105,105,105,105,105,105,105,106,106,106,106,106,106,106,106,106,106,106,106,107,107,107,107,107,107,107,107,107,107,107,107,108,108,108,108,108,108,108,108,108,108,108,108,109,109,109,109,109,109,109,109,109,109,109,109,110,110,110,110,110,110,110,110,110,110,110,110,111,111,111,111,111,111,111,111,111,111,111,111,112,112,112,112,112,112,112,112,112,112,112,112,113,113,113,113,113,113,113,113,113,113,113,113,114,114,114,114,114,114,114,114,114,114,114,114,115,115,115,115,115,115,115,115,115,115,115,115,116,116,116,116,116,116,116,116,116,116,116,116,0,0,0,0,117,117,117,117,117,117,117,117,0,0,0,0,118,118,118,118,118,118,118,118]
[94,94,94,94,94,94,94,94,94,94,94,94,95,95,95,95,95,95,95,95,95,95,95,95,96,96,96,96,96,96,96,96,96,96,96,96,97,97,97,97,97,97,97,97,97,97,97,97,98,98,98,98,98,98,98,98,98,98,98,98,99,99,99,99,99,99,99,99,99,99,99,99,100,100,100,100,100,100,100,100,100,100,100,100,101,101,101,101,101,101,101,101,101,101,101,101,102,102,102,102,102,102,102,102,102,102,102,102,103,103,103,103,103,103,103,103,103,103,103,103,104,104,104,104,104,104,104,104,104,104,104,104,105,105,105,105,105,105,105,105,105,105,105,105,106,106,106,106,106,106,106,106,106,106,106,106,107,107,107,107,107,107,107,107,107,107,107,107,108,108,108,108,108,108,108,108,108,108,108,108,109,109,109,109,109,109,109,109,109,109,109,109,110,110,110,110,110,110,110,110,110,110,110,110,111,111,111,111,111,111,111,111,111,111,111,111,112,112,112,112,112,112,112,112,112,112,112,112,113,113,113,113,113,113,113,113,113,113,113,113,114,114,114,114,114,114,114,114,114,114,114,114,115,115,115,115,115,115,115,115,115,115,115,115,116,116,116,116,116,116,116,116,116,116,116,116,117,117,117,117,117,117,117,117,117,117,117,117,0,0,0,0,118,118,118,118,118,118,118,118,0,0,0,0,119,119,119,119,119,119,119,119]
[0,0,95,95,95,95,95,95,95,95,95,95,96,96,96,96,96,96,96,96,96,96,96,96,97,97,97,97,97,97,97,97,97,97,97,97,98,98,98,98,98,98,98,98,98,98,98,98,99,99,99,99,99,99,99,99,99,99,99,99,100,100,100,100,100,100,100,100,100,100,100,100,101,101,101,101,101,101,101,101,101,101,101,101,102,102,102,102,102,102,102,102,102,102,102,102,103,103,103,103,103,103,103,103,103,103,103,103,104,104,104,104,104,104,104,104,104,104,104,104,105,105,105,105,105,105,105,105,105,105,105,105,106,106,106,106,106,106,106,106,106,106,106,106,107,107,107,107,107,107,107,107,107,107,107,107,108,108,108,108,108,108,108,108,108,108,108,108,109,109,109,109,109,109,109,109,109,109,109,109,110,110,110,110,110,110,110,110,110,110,110,110,111,111,111,111,111,111,111,111,111,111,111,111,112,112,112,112,112,112,112,112,112,112,112,112,113,113,113,113,113,113,113,113,113,113,113,113,114,114,114,114,114,114,114,114,114,114,114,114,115,115,115,115,115,115,115,115,115,115,115,115,116,116,116,116,116,116,116,116,116,116,116,116,117,117,117,117,117,117,117,117,117,117,117,117,118,118,118,118,118,118,118,118,118,118,118,118,0,0,0,0,119,119,119,119,119,119,119,119,0,0,0,0,120,120,120,120,120,120,120,120]
[0,0,96,96,96,96,96,96,96,96,96,96,97,97,97,97,97,97,97,97,97,97,97,97,98,98,98,98,98,98,98,98,98,98,98,98,99,99,99,99,99,99,99,99,99,99,99,99,100,100,100,100,100,100,100,100,100,100,100,100,101,101,101,101,101,101,101,101,101,101,101,101,102,102,102,102,102,102,102,102,102,102,102,102,103,103,103,103,103,103,103,103,103,103,103,103,104,104,104,104,104,104,104,104,104,104,104,104,105,105,105,105,105,105,105,105,105,105,105,105,106,106,106,106,106,106,106,106,106,106,106,106,107,107,107,107,107,107,107,107,107,107,107,107,108,108,108,108,108,108,108,108,108,108,108,108,109,109,109,109,109,109,109,109,109,109,109,109,110,110,110,110,110,110,110,110,110,110,110,110,111,111,111,111,111,111,111,111,111,111,111,111,112,112,112,112,112,112,112,112,112,112,112,112,113,113,113,113,113,113,113,113,113,113,113,113,114,114,114,114,114,114,114,114,114,114,114,114,115,115,115,115,115,115,115,115,115,115,115,115,116,116,116,116,116,116,116,116,116,116,116,116,117,117,117,117,117,117,117,117,117,117,117,117,118,118,118,118,118,118,118,118,118,118,118,118,119,119,119,119,119,119,119,119,119,119,119,119,0,0,0,0,120,120,120,120,120,120,120,120,0,0,0,0,121,121,121,121,121,121,121,121]
[0,0,97,97,97,97,97,97,97,97,97,97,98,98,98,98,98,98,98,98,98,98,98,98,99,99,99,99,99,99,99,99,99,99,99,99,100,100,100,100,100,100,100,100,100,100,100,100,101,101,101,101,101,101,101,101,101,101,101,101,102,102,102,102,102,102,102,102,102,102,102,102,103,103,103,103,103,103,103,103,103,103,103,103,104,104,104,104,104,104,104,104,104,104,104,104,105,105,105,105,105,105,105,105,105,105,105,105,106,106,106,106,106,106,106,106,106,106,106,106,107,107,107,107,107,107,107,107,107,107,107,107,108,108,108,108,108,108,108,108,108,108,108,108,109,109,109,109,109,109,109,109,109,109,109,109,110,110,110,110,110,110,110,110,110,110,110,110,111,111,111,111,111,111,111,111,111,111,111,111,112,112,112,112,112,112,112,112,112,112,112,112,113,113,113,113,113,113,113,113,113,113,113,113,114,114,114,114,114,114,114,114,114,114,114,114,115,115,115,115,115,115,115,115,115,115,115,115,116,116,116,116,116,116,116,116,116,116,116,116,117,117,117,117,117,117,117,117,117,117,117,117,118,118,118,118,118,118,118,118,118,118,118,118,119,119,119,119,119,119,119,119,119,119,119,119,120,120,120,120,120,120,120,120,120,120,120,120,0,0,0,0,121,121,121,121,121,121,121,121,0,0,0,0,122,122,122,122,122,122,122,122]
[0,0,98,98,98,98,98,98,98,98,98,98,99,99,99,99,99,99,99,99,99,99,99,99,100,100,100,100,100,100,100,100,100,100,100,100,101,101,101,101,101,101,101,101,101,101,101,101,102,102,102,102,102,102,102,102,102,102,102,102,103,103,103,103,103,103,103,103,103,103,103,103,104,104,104,104,104,104,104,104,104,104,104,104,105,105,105,105,105,105,105,105,105,105,105,105,106,106,106,106,106,106,106,106,106,106,106,106,107,107,107,107,107,107,107,107,107,107,107,107,108,108,108,108,108,108,108,108,108,108,108,108,109,109,109,109,109,109,109,109,109,109,109,109,110,110,110,110,110,110,110,110,110,110,110,110,111,111,111,111,111,111,111,111,111,111,111,111,112,112,112,112,112,112,112,112,112,112,112,112,113,113,113,113,113,113,113,113,113,113,113,113,114,114,114,114,114,114,114,114,114,114,114,114,115,115,115,115,115,115,115,115,115,115,115,115,116,116,116,116,116,116,116,116,116,116,116,116,117,117,117,117,117,117,117,117,117,117,117,117,118,118,118,118,118,118,118,118,118,118,118,118,119,119,119,119,119,119,119,119,119,119,119,119,120,120,120,120,120,120,120,120,120,120,120,120,121,121,121,121,121,121,121,121,121,121,121,121,0,0,0,0,122,122,122,122,122,122,122,122,0,0,0,0,123,123,123,123,123,123,123,123]
[0,0,99,99,99,99,99,99,99,99,99,99,100,100,100,100,100,100,100,100,100,100,100,100,101,101,101,101,101,101,101,101,101,101,101,101,102,102,102,102,102,102,102,102,102,102,102,102,103,103,103,103,103,103,103,103,103,103,103,103,104,104,104,104,104,104,104,104,104,104,104,104,105,105,105,105,105,105,105,105,105,105,105,105,106,106,106,106,106,106,106,106,106,106,106,106,107,107,107,107,107,107,107,107,107,107,107,107,108,108,108,108,108,108,108,108,108,108,108,108,109,109,109,109,109,109,109,109,109,109,109,109,110,110,110,110,110,110,110,110,110,110,110,110,111,111,111,111,111,111,111,111,111,111,111,111,112,112,112,112,112,112,112,112,112,112,112,112,113,113,113,113,113,113,113,113,113,113,113,113,114,114,114,114,114,114,114,114,114,114,114,114,115,115,115,115,115,115,115,115,115,115,115,115,116,116,116,116,116,116,116,116,116,116,116,116,117,117,117,117,117,117,117,117,117,117,117,117,118,118,118,118,118,118,118,118,118,118,118,118,119,119,119,119,119,119,119,119,119,119,119,119,120,120,120,120,120,120,120,120,120,120,120,120,121,121,121,121,121,121,121,121,121,121,121,121,122,122,122,122,122,122,122,122,122,122,122,122,0,0,0,0,123,123,123,123,123,123,123,123,0,0,0,0,124,124,124,124,124,124,124,124]
[0,0,0,0,0,0,0,0,0,0,0,0,0,0,0,0,0,0,0,0,0,0,0,0,0,0,0,0,0,0,0,0,0,0,0,0,0,0,0,0,0,0,0,0,0,0,0,0,0,0,0,0,0,0,0,0,0,0,0,0,0,0,0,0,0,0,0,0,0,0,0,0,0,0,0,0,0,0,0,0,0,0,0,0,0,0,0,0,0,0,0,0,0,0,0,0,0,0,0,0,0,0,0,0,0,0,0,0,0,0,0,0,0,0,0,0,0,0,0,0,0,0,0,0,0,0,0,0,0,0,0,0,0,0,0,0,0,0,0,0,0,0,0,0,0,0,0,0,0,0,0,0,0,0,0,0,0,0,0,0,0,0,0,0,0,0,0,0,0,0,0,0,0,0,0,0,0,0,0,0,0,0,0,0,0,0,0,0,0,0,0,0,0,0,0,0,0,0,0,0,0,0,0,0,0,0,0,0,0,0,0,0,0,0,0,0,0,0,0,0,0,0,0,0,0,0,0,0,0,0,0,0,0,0,0,0,0,0,0,0,0,0,0,0,0,0,0,0,0,0,0,0,0,0,0,0,0,0,0,0,0,0,0,0,0,0,0,0,0,0,0,0,0,0,0,0,0,0,0,0,0,0,0,0,0,0,0,0,0,0,0,0,0,0,0,0,0,0,0,0,0,0,0,0,0,0,0,0,0,0,0,0]
[0,0,0,0,0,0,0,0,0,0,0,0,0,0,0,0,0,0,0,0,0,0,0,0,0,0,0,0,0,0,0,0,0,0,0,0,0,0,0,0,0,0,0,0,0,0,0,0,0,0,0,0,0,0,0,0,0,0,0,0,0,0,0,0,0,0,0,0,0,0,0,0,0,0,0,0,0,0,0,0,0,0,0,0,0,0,0,0,0,0,0,0,0,0,0,0,0,0,0,0,0,0,0,0,0,0,0,0,0,0,0,0,0,0,0,0,0,0,0,0,0,0,0,0,0,0,0,0,0,0,0,0,0,0,0,0,0,0,0,0,0,0,0,0,0,0,0,0,0,0,0,0,0,0,0,0,0,0,0,0,0,0,0,0,0,0,0,0,0,0,0,0,0,0,0,0,0,0,0,0,0,0,0,0,0,0,0,0,0,0,0,0,0,0,0,0,0,0,0,0,0,0,0,0,0,0,0,0,0,0,0,0,0,0,0,0,0,0,0,0,0,0,0,0,0,0,0,0,0,0,0,0,0,0,0,0,0,0,0,0,0,0,0,0,0,0,0,0,0,0,0,0,0,0,0,0,0,0,0,0,0,0,0,0,0,0,0,0,0,0,0,0,0,0,0,0,0,0,0,0,0,0,0,0,0,0,0,0,0,0,0,0,0,0,0,0,0,0,0,0,0,0,0,0,0,0,0,0,0,0,0,0]
[0,0,0,0,0,0,0,0,0,0,0,0,0,0,0,0,0,0,0,0,0,0,0,0,0,0,0,0,0,0,0,0,0,0,0,0,0,0,0,0,0,0,0,0,0,0,0,0,0,0,0,0,0,0,0,0,0,0,0,0,0,0,0,0,0,0,0,0,0,0,0,0,0,0,0,0,0,0,0,0,0,0,0,0,0,0,0,0,0,0,0,0,0,0,0,0,0,0,0,0,0,0,0,0,0,0,0,0,0,0,0,0,0,0,0,0,0,0,0,0,0,0,0,0,0,0,0,0,0,0,0,0,0,0,0,0,0,0,0,0,0,0,0,0,0,0,0,0,0,0,0,0,0,0,0,0,0,0,0,0,0,0,0,0,0,0,0,0,0,0,0,0,0,0,0,0,0,0,0,0,0,0,0,0,0,0,0,0,0,0,0,0,0,0,0,0,0,0,0,0,0,0,0,0,0,0,0,0,0,0,0,0,0,0,0,0,0,0,0,0,0,0,0,0,0,0,0,0,0,0,0,0,0,0,0,0,0,0,0,0,0,0,0,0,0,0,0,0,0,0,0,0,0,0,0,0,0,0,0,0,0,0,0,0,0,0,0,0,0,0,0,0,0,0,0,0,0,0,0,0,0,0,0,0,0,0,0,0,0,0,0,0,0,0,0,0,0,0,0,0,0,0,0,0,0,0,0,0,0,0,0,0]
[0,0,0,0,0,0,0,0,0,0,0,0,0,0,0,0,0,0,0,0,0,0,0,0,0,0,0,0,0,0,0,0,0,0,0,0,0,0,0,0,0,0,0,0,0,0,0,0,0,0,0,0,0,0,0,0,0,0,0,0,0,0,0,0,0,0,0,0,0,0,0,0,0,0,0,0,0,0,0,0,0,0,0,0,0,0,0,0,0,0,0,0,0,0,0,0,0,0,0,0,0,0,0,0,0,0,0,0,0,0,0,0,0,0,0,0,0,0,0,0,0,0,0,0,0,0,0,0,0,0,0,0,0,0,0,0,0,0,0,0,0,0,0,0,0,0,0,0,0,0,0,0,0,0,0,0,0,0,0,0,0,0,0,0,0,0,0,0,0,0,0,0,0,0,0,0,0,0,0,0,0,0,0,0,0,0,0,0,0,0,0,0,0,0,0,0,0,0,0,0,0,0,0,0,0,0,0,0,0,0,0,0,0,0,0,0,0,0,0,0,0,0,0,0,0,0,0,0,0,0,0,0,0,0,0,0,0,0,0,0,0,0,0,0,0,0,0,0,0,0,0,0,0,0,0,0,0,0,0,0,0,0,0,0,0,0,0,0,0,0,0,0,0,0,0,0,0,0,0,0,0,0,0,0,0,0,0,0,0,0,0,0,0,0,0,0,0,0,0,0,0,0,0,0,0,0,0,0,0,0,0,0]
[0,0,0,0,0,0,0,0,0,0,0,0,0,0,0,0,0,0,0,0,0,0,0,0,0,0,0,0,0,0,0,0,0,0,0,0,0,0,0,0,0,0,0,0,0,0,0,0,0,0,0,0,0,0,0,0,0,0,0,0,0,0,0,0,0,0,0,0,0,0,0,0,0,0,0,0,0,0,0,0,0,0,0,0,0,0,0,0,0,0,0,0,0,0,0,0,0,0,0,0,0,0,0,0,0,0,0,0,0,0,0,0,0,0,0,0,0,0,0,0,0,0,0,0,0,0,0,0,0,0,0,0,0,0,0,0,0,0,0,0,0,0,0,0,0,0,0,0,0,0,0,0,0,0,0,0,0,0,0,0,0,0,0,0,0,0,0,0,0,0,0,0,0,0,0,0,0,0,0,0,0,0,0,0,0,0,0,0,0,0,0,0,0,0,0,0,0,0,0,0,0,0,0,0,0,0,0,0,0,0,0,0,0,0,0,0,0,0,0,0,0,0,0,0,0,0,0,0,0,0,0,0,0,0,0,0,0,0,0,0,0,0,0,0,0,0,0,0,0,0,0,0,0,0,0,0,0,0,0,0,0,0,0,0,0,0,0,0,0,0,0,0,0,0,0,0,0,0,0,0,0,0,0,0,0,0,0,0,0,0,0,0,0,0,0,0,0,0,0,0,0,0,0,0,0,0,0,0,0,0,0,0]
[0,0,0,0,0,0,0,0,0,0,0,0,0,0,0,0,0,0,0,0,0,0,0,0,0,0,0,0,0,0,0,0,0,0,0,0,0,0,0,0,0,0,0,0,0,0,0,0,0,0,0,0,0,0,0,0,0,0,0,0,0,0,0,0,0,0,0,0,0,0,0,0,0,0,0,0,0,0,0,0,0,0,0,0,0,0,0,0,0,0,0,0,0,0,0,0,0,0,0,0,0,0,0,0,0,0,0,0,0,0,0,0,0,0,0,0,0,0,0,0,0,0,0,0,0,0,0,0,0,0,0,0,0,0,0,0,0,0,0,0,0,0,0,0,0,0,0,0,0,0,0,0,0,0,0,0,0,0,0,0,0,0,0,0,0,0,0,0,0,0,0,0,0,0,0,0,0,0,0,0,0,0,0,0,0,0,0,0,0,0,0,0,0,0,0,0,0,0,0,0,0,0,0,0,0,0,0,0,0,0,0,0,0,0,0,0,0,0,0,0,0,0,0,0,0,0,0,0,0,0,0,0,0,0,0,0,0,0,0,0,0,0,0,0,0,0,0,0,0,0,0,0,0,0,0,0,0,0,0,0,0,0,0,0,0,0,0,0,0,0,0,0,0,0,0,0,0,0,0,0,0,0,0,0,0,0,0,0,0,0,0,0,0,0,0,0,0,0,0,0,0,0,0,0,0,0,0,0,0,0,0,0]
[0,0,0,0,0,0,0,0,0,0,0,0,0,0,0,0,0,0,0,0,0,0,0,0,0,0,0,0,0,0,0,0,0,0,0,0,0,0,0,0,0,0,0,0,0,0,0,0,0,0,0,0,0,0,0,0,0,0,0,0,0,0,0,0,0,0,0,0,0,0,0,0,0,0,0,0,0,0,0,0,0,0,0,0,0,0,0,0,0,0,0,0,0,0,0,0,0,0,0,0,0,0,0,0,0,0,0,0,0,0,0,0,0,0,0,0,0,0,0,0,0,0,0,0,0,0,0,0,0,0,0,0,0,0,0,0,0,0,0,0,0,0,0,0,0,0,0,0,0,0,0,0,0,0,0,0,0,0,0,0,0,0,0,0,0,0,0,0,0,0,0,0,0,0,0,0,0,0,0,0,0,0,0,0,0,0,0,0,0,0,0,0,0,0,0,0,0,0,0,0,0,0,0,0,0,0,0,0,0,0,0,0,0,0,0,0,0,0,0,0,0,0,0,0,0,0,0,0,0,0,0,0,0,0,0,0,0,0,0,0,0,0,0,0,0,0,0,0,0,0,0,0,0,0,0,0,0,0,0,0,0,0,0,0,0,0,0,0,0,0,0,0,0,0,0,0,0,0,0,0,0,0,0,0,0,0,0,0,0,0,0,0,0,0,0,0,0,0,0,0,0,0,0,0,0,0,0,0,0,0,0,0]
[0,0,0,0,0,0,0,0,0,0,0,0,0,0,0,0,0,0,0,0,0,0,0,0,0,0,0,0,0,0,0,0,0,0,0,0,0,0,0,0,0,0,0,0,0,0,0,0,0,0,0,0,0,0,0,0,0,0,0,0,0,0,0,0,0,0,0,0,0,0,0,0,0,0,0,0,0,0,0,0,0,0,0,0,0,0,0,0,0,0,0,0,0,0,0,0,0,0,0,0,0,0,0,0,0,0,0,0,0,0,0,0,0,0,0,0,0,0,0,0,0,0,0,0,0,0,0,0,0,0,0,0,0,0,0,0,0,0,0,0,0,0,0,0,0,0,0,0,0,0,0,0,0,0,0,0,0,0,0,0,0,0,0,0,0,0,0,0,0,0,0,0,0,0,0,0,0,0,0,0,0,0,0,0,0,0,0,0,0,0,0,0,0,0,0,0,0,0,0,0,0,0,0,0,0,0,0,0,0,0,0,0,0,0,0,0,0,0,0,0,0,0,0,0,0,0,0,0,0,0,0,0,0,0,0,0,0,0,0,0,0,0,0,0,0,0,0,0,0,0,0,0,0,0,0,0,0,0,0,0,0,0,0,0,0,0,0,0,0,0,0,0,0,0,0,0,0,0,0,0,0,0,0,0,0,0,0,0,0,0,0,0,0,0,0,0,0,0,0,0,0,0,0,0,0,0,0,0,0,0,0,0]
[0,0,0,0,0,0,0,0,0,0,0,0,0,0,0,0,0,0,0,0,0,0,0,0,0,0,0,0,0,0,0,0,0,0,0,0,0,0,0,0,0,0,0,0,0,0,0,0,0,0,0,0,0,0,0,0,0,0,0,0,0,0,0,0,0,0,0,0,0,0,0,0,0,0,0,0,0,0,0,0,0,0,0,0,0,0,0,0,0,0,0,0,0,0,0,0,0,0,0,0,0,0,0,0,0,0,0,0,0,0,0,0,0,0,0,0,0,0,0,0,0,0,0,0,0,0,0,0,0,0,0,0,0,0,0,0,0,0,0,0,0,0,0,0,0,0,0,0,0,0,0,0,0,0,0,0,0,0,0,0,0,0,0,0,0,0,0,0,0,0,0,0,0,0,0,0,0,0,0,0,0,0,0,0,0,0,0,0,0,0,0,0,0,0,0,0,0,0,0,0,0,0,0,0,0,0,0,0,0,0,0,0,0,0,0,0,0,0,0,0,0,0,0,0,0,0,0,0,0,0,0,0,0,0,0,0,0,0,0,0,0,0,0,0,0,0,0,0,0,0,0,0,0,0,0,0,0,0,0,0,0,0,0,0,0,0,0,0,0,0,0,0,0,0,0,0,0,0,0,0,0,0,0,0,0,0,0,0,0,0,0,0,0,0,0,0,0,0,0,0,0,0,0,0,0,0,0,0,0,0,0,0]
[0,0,0,0,0,0,0,0,0,0,0,0,0,0,0,0,0,0,0,0,0,0,0,0,0,0,0,0,0,0,0,0,0,0,0,0,0,0,0,0,0,0,0,0,0,0,0,0,0,0,0,0,0,0,0,0,0,0,0,0,0,0,0,0,0,0,0,0,0,0,0,0,0,0,0,0,0,0,0,0,0,0,0,0,0,0,0,0,0,0,0,0,0,0,0,0,0,0,0,0,0,0,0,0,0,0,0,0,0,0,0,0,0,0,0,0,0,0,0,0,0,0,0,0,0,0,0,0,0,0,0,0,0,0,0,0,0,0,0,0,0,0,0,0,0,0,0,0,0,0,0,0,0,0,0,0,0,0,0,0,0,0,0,0,0,0,0,0,0,0,0,0,0,0,0,0,0,0,0,0,0,0,0,0,0,0,0,0,0,0,0,0,0,0,0,0,0,0,0,0,0,0,0,0,0,0,0,0,0,0,0,0,0,0,0,0,0,0,0,0,0,0,0,0,0,0,0,0,0,0,0,0,0,0,0,0,0,0,0,0,0,0,0,0,0,0,0,0,0,0,0,0,0,0,0,0,0,0,0,0,0,0,0,0,0,0,0,0,0,0,0,0,0,0,0,0,0,0,0,0,0,0,0,0,0,0,0,0,0,0,0,0,0,0,0,0,0,0,0,0,0,0,0,0,0,0,0,0,0,0,0,0]
[0,0,0,0,0,0,0,0,0,0,0,0,0,0,0,0,0,0,0,0,0,0,0,0,0,0,0,0,0,0,0,0,0,0,0,0,0,0,0,0,0,0,0,0,0,0,0,0,0,0,0,0,0,0,0,0,0,0,0,0,0,0,0,0,0,0,0,0,0,0,0,0,0,0,0,0,0,0,0,0,0,0,0,0,0,0,0,0,0,0,0,0,0,0,0,0,0,0,0,0,0,0,0,0,0,0,0,0,0,0,0,0,0,0,0,0,0,0,0,0,0,0,0,0,0,0,0,0,0,0,0,0,0,0,0,0,0,0,0,0,0,0,0,0,0,0,0,0,0,0,0,0,0,0,0,0,0,0,0,0,0,0,0,0,0,0,0,0,0,0,0,0,0,0,0,0,0,0,0,0,0,0,0,0,0,0,0,0,0,0,0,0,0,0,0,0,0,0,0,0,0,0,0,0,0,0,0,0,0,0,0,0,0,0,0,0,0,0,0,0,0,0,0,0,0,0,0,0,0,0,0,0,0,0,0,0,0,0,0,0,0,0,0,0,0,0,0,0,0,0,0,0,0,0,0,0,0,0,0,0,0,0,0,0,0,0,0,0,0,0,0,0,0,0,0,0,0,0,0,0,0,0,0,0,0,0,0,0,0,0,0,0,0,0,0,0,0,0,0,0,0,0,0,0,0,0,0,0,0,0,0,0]
[0,0,0,0,0,0,0,0,0,0,0,0,0,0,0,0,0,0,0,0,0,0,0,0,0,0,0,0,0,0,0,0,0,0,0,0,0,0,0,0,0,0,0,0,0,0,0,0,0,0,0,0,0,0,0,0,0,0,0,0,0,0,0,0,0,0,0,0,0,0,0,0,0,0,0,0,0,0,0,0,0,0,0,0,0,0,0,0,0,0,0,0,0,0,0,0,0,0,0,0,0,0,0,0,0,0,0,0,0,0,0,0,0,0,0,0,0,0,0,0,0,0,0,0,0,0,0,0,0,0,0,0,0,0,0,0,0,0,0,0,0,0,0,0,0,0,0,0,0,0,0,0,0,0,0,0,0,0,0,0,0,0,0,0,0,0,0,0,0,0,0,0,0,0,0,0,0,0,0,0,0,0,0,0,0,0,0,0,0,0,0,0,0,0,0,0,0,0,0,0,0,0,0,0,0,0,0,0,0,0,0,0,0,0,0,0,0,0,0,0,0,0,0,0,0,0,0,0,0,0,0,0,0,0,0,0,0,0,0,0,0,0,0,0,0,0,0,0,0,0,0,0,0,0,0,0,0,0,0,0,0,0,0,0,0,0,0,0,0,0,0,0,0,0,0,0,0,0,0,0,0,0,0,0,0,0,0,0,0,0,0,0,0,0,0,0,0,0,0,0,0,0,0,0,0,0,0,0,0,0,0,0]
[0,0,0,0,0,0,0,0,0,0,0,0,0,0,0,0,0,0,0,0,0,0,0,0,0,0,0,0,0,0,0,0,0,0,0,0,0,0,0,0,0,0,0,0,0,0,0,0,0,0,0,0,0,0,0,0,0,0,0,0,0,0,0,0,0,0,0,0,0,0,0,0,0,0,0,0,0,0,0,0,0,0,0,0,0,0,0,0,0,0,0,0,0,0,0,0,0,0,0,0,0,0,0,0,0,0,0,0,0,0,0,0,0,0,0,0,0,0,0,0,0,0,0,0,0,0,0,0,0,0,0,0,0,0,0,0,0,0,0,0,0,0,0,0,0,0,0,0,0,0,0,0,0,0,0,0,0,0,0,0,0,0,0,0,0,0,0,0,0,0,0,0,0,0,0,0,0,0,0,0,0,0,0,0,0,0,0,0,0,0,0,0,0,0,0,0,0,0,0,0,0,0,0,0,0,0,0,0,0,0,0,0,0,0,0,0,0,0,0,0,0,0,0,0,0,0,0,0,0,0,0,0,0,0,0,0,0,0,0,0,0,0,0,0,0,0,0,0,0,0,0,0,0,0,0,0,0,0,0,0,0,0,0,0,0,0,0,0,0,0,0,0,0,0,0,0,0,0,0,0,0,0,0,0,0,0,0,0,0,0,0,0,0,0,0,0,0,0,0,0,0,0,0,0,0,0,0,0,0,0,0,0]
[0,0,0,0,0,0,0,0,0,0,0,0,0,0,0,0,0,0,0,0,0,0,0,0,0,0,0,0,0,0,0,0,0,0,0,0,0,0,0,0,0,0,0,0,0,0,0,0,0,0,0,0,0,0,0,0,0,0,0,0,0,0,0,0,0,0,0,0,0,0,0,0,0,0,0,0,0,0,0,0,0,0,0,0,0,0,0,0,0,0,0,0,0,0,0,0,0,0,0,0,0,0,0,0,0,0,0,0,0,0,0,0,0,0,0,0,0,0,0,0,0,0,0,0,0,0,0,0,0,0,0,0,0,0,0,0,0,0,0,0,0,0,0,0,0,0,0,0,0,0,0,0,0,0,0,0,0,0,0,0,0,0,0,0,0,0,0,0,0,0,0,0,0,0,0,0,0,0,0,0,0,0,0,0,0,0,0,0,0,0,0,0,0,0,0,0,0,0,0,0,0,0,0,0,0,0,0,0,0,0,0,0,0,0,0,0,0,0,0,0,0,0,0,0,0,0,0,0,0,0,0,0,0,0,0,0,0,0,0,0,0,0,0,0,0,0,0,0,0,0,0,0,0,0,0,0,0,0,0,0,0,0,0,0,0,0,0,0,0,0,0,0,0,0,0,0,0,0,0,0,0,0,0,0,0,0,0,0,0,0,0,0,0,0,0,0,0,0,0,0,0,0,0,0,0,0,0,0,0,0,0,0]
[0,0,0,0,0,0,0,0,0,0,0,0,0,0,0,0,0,0,0,0,0,0,0,0,0,0,0,0,0,0,0,0,0,0,0,0,0,0,0,0,0,0,0,0,0,0,0,0,0,0,0,0,0,0,0,0,0,0,0,0,0,0,0,0,0,0,0,0,0,0,0,0,0,0,0,0,0,0,0,0,0,0,0,0,0,0,0,0,0,0,0,0,0,0,0,0,0,0,0,0,0,0,0,0,0,0,0,0,0,0,0,0,0,0,0,0,0,0,0,0,0,0,0,0,0,0,0,0,0,0,0,0,0,0,0,0,0,0,0,0,0,0,0,0,0,0,0,0,0,0,0,0,0,0,0,0,0,0,0,0,0,0,0,0,0,0,0,0,0,0,0,0,0,0,0,0,0,0,0,0,0,0,0,0,0,0,0,0,0,0,0,0,0,0,0,0,0,0,0,0,0,0,0,0,0,0,0,0,0,0,0,0,0,0,0,0,0,0,0,0,0,0,0,0,0,0,0,0,0,0,0,0,0,0,0,0,0,0,0,0,0,0,0,0,0,0,0,0,0,0,0,0,0,0,0,0,0,0,0,0,0,0,0,0,0,0,0,0,0,0,0,0,0,0,0,0,0,0,0,0,0,0,0,0,0,0,0,0,0,0,0,0,0,0,0,0,0,0,0,0,0,0,0,0,0,0,0,0,0,0,0,0]
[0,0,0,0,0,0,0,0,0,0,0,0,0,0,0,0,0,0,0,0,0,0,0,0,0,0,0,0,0,0,0,0,0,0,0,0,0,0,0,0,0,0,0,0,0,0,0,0,0,0,0,0,0,0,0,0,0,0,0,0,0,0,0,0,0,0,0,0,0,0,0,0,0,0,0,0,0,0,0,0,0,0,0,0,0,0,0,0,0,0,0,0,0,0,0,0,0,0,0,0,0,0,0,0,0,0,0,0,0,0,0,0,0,0,0,0,0,0,0,0,0,0,0,0,0,0,0,0,0,0,0,0,0,0,0,0,0,0,0,0,0,0,0,0,0,0,0,0,0,0,0,0,0,0,0,0,0,0,0,0,0,0,0,0,0,0,0,0,0,0,0,0,0,0,0,0,0,0,0,0,0,0,0,0,0,0,0,0,0,0,0,0,0,0,0,0,0,0,0,0,0,0,0,0,0,0,0,0,0,0,0,0,0,0,0,0,0,0,0,0,0,0,0,0,0,0,0,0,0,0,0,0,0,0,0,0,0,0,0,0,0,0,0,0,0,0,0,0,0,0,0,0,0,0,0,0,0,0,0,0,0,0,0,0,0,0,0,0,0,0,0,0,0,0,0,0,0,0,0,0,0,0,0,0,0,0,0,0,0,0,0,0,0,0,0,0,0,0,0,0,0,0,0,0,0,0,0,0,0,0,0,0]
[0,0,0,0,0,0,0,0,0,0,0,0,0,0,0,0,0,0,0,0,0,0,0,0,0,0,0,0,0,0,0,0,0,0,0,0,0,0,0,0,0,0,0,0,0,0,0,0,0,0,0,0,0,0,0,0,0,0,0,0,0,0,0,0,0,0,0,0,0,0,0,0,0,0,0,0,0,0,0,0,0,0,0,0,0,0,0,0,0,0,0,0,0,0,0,0,0,0,0,0,0,0,0,0,0,0,0,0,0,0,0,0,0,0,0,0,0,0,0,0,0,0,0,0,0,0,0,0,0,0,0,0,0,0,0,0,0,0,0,0,0,0,0,0,0,0,0,0,0,0,0,0,0,0,0,0,0,0,0,0,0,0,0,0,0,0,0,0,0,0,0,0,0,0,0,0,0,0,0,0,0,0,0,0,0,0,0,0,0,0,0,0,0,0,0,0,0,0,0,0,0,0,0,0,0,0,0,0,0,0,0,0,0,0,0,0,0,0,0,0,0,0,0,0,0,0,0,0,0,0,0,0,0,0,0,0,0,0,0,0,0,0,0,0,0,0,0,0,0,0,0,0,0,0,0,0,0,0,0,0,0,0,0,0,0,0,0,0,0,0,0,0,0,0,0,0,0,0,0,0,0,0,0,0,0,0,0,0,0,0,0,0,0,0,0,0,0,0,0,0,0,0,0,0,0,0,0,0,0,0,0,0]
[0,0,0,0,0,0,0,0,0,0,0,0,0,0,0,0,0,0,0,0,0,0,0,0,0,0,0,0,0,0,0,0,0,0,0,0,0,0,0,0,0,0,0,0,0,0,0,0,0,0,0,0,0,0,0,0,0,0,0,0,0,0,0,0,0,0,0,0,0,0,0,0,0,0,0,0,0,0,0,0,0,0,0,0,0,0,0,0,0,0,0,0,0,0,0,0,0,0,0,0,0,0,0,0,0,0,0,0,0,0,0,0,0,0,0,0,0,0,0,0,0,0,0,0,0,0,0,0,0,0,0,0,0,0,0,0,0,0,0,0,0,0,0,0,0,0,0,0,0,0,0,0,0,0,0,0,0,0,0,0,0,0,0,0,0,0,0,0,0,0,0,0,0,0,0,0,0,0,0,0,0,0,0,0,0,0,0,0,0,0,0,0,0,0,0,0,0,0,0,0,0,0,0,0,0,0,0,0,0,0,0,0,0,0,0,0,0,0,0,0,0,0,0,0,0,0,0,0,0,0,0,0,0,0,0,0,0,0,0,0,0,0,0,0,0,0,0,0,0,0,0,0,0,0,0,0,0,0,0,0,0,0,0,0,0,0,0,0,0,0,0,0,0,0,0,0,0,0,0,0,0,0,0,0,0,0,0,0,0,0,0,0,0,0,0,0,0,0,0,0,0,0,0,0,0,0,0,0,0,0,0,0]
[0,0,0,0,0,0,0,0,0,0,0,0,0,0,0,0,0,0,0,0,0,0,0,0,0,0,0,0,0,0,0,0,0,0,0,0,0,0,0,0,0,0,0,0,0,0,0,0,0,0,0,0,0,0,0,0,0,0,0,0,0,0,0,0,0,0,0,0,0,0,0,0,0,0,0,0,0,0,0,0,0,0,0,0,0,0,0,0,0,0,0,0,0,0,0,0,0,0,0,0,0,0,0,0,0,0,0,0,0,0,0,0,0,0,0,0,0,0,0,0,0,0,0,0,0,0,0,0,0,0,0,0,0,0,0,0,0,0,0,0,0,0,0,0,0,0,0,0,0,0,0,0,0,0,0,0,0,0,0,0,0,0,0,0,0,0,0,0,0,0,0,0,0,0,0,0,0,0,0,0,0,0,0,0,0,0,0,0,0,0,0,0,0,0,0,0,0,0,0,0,0,0,0,0,0,0,0,0,0,0,0,0,0,0,0,0,0,0,0,0,0,0,0,0,0,0,0,0,0,0,0,0,0,0,0,0,0,0,0,0,0,0,0,0,0,0,0,0,0,0,0,0,0,0,0,0,0,0,0,0,0,0,0,0,0,0,0,0,0,0,0,0,0,0,0,0,0,0,0,0,0,0,0,0,0,0,0,0,0,0,0,0,0,0,0,0,0,0,0,0,0,0,0,0,0,0,0,0,0,0,0,0]
[0,0,0,0,0,0,0,0,0,0,0,0,0,0,0,0,0,0,0,0,0,0,0,0,0,0,0,0,0,0,0,0,0,0,0,0,0,0,0,0,0,0,0,0,0,0,0,0,0,0,0,0,0,0,0,0,0,0,0,0,0,0,0,0,0,0,0,0,0,0,0,0,0,0,0,0,0,0,0,0,0,0,0,0,0,0,0,0,0,0,0,0,0,0,0,0,0,0,0,0,0,0,0,0,0,0,0,0,0,0,0,0,0,0,0,0,0,0,0,0,0,0,0,0,0,0,0,0,0,0,0,0,0,0,0,0,0,0,0,0,0,0,0,0,0,0,0,0,0,0,0,0,0,0,0,0,0,0,0,0,0,0,0,0,0,0,0,0,0,0,0,0,0,0,0,0,0,0,0,0,0,0,0,0,0,0,0,0,0,0,0,0,0,0,0,0,0,0,0,0,0,0,0,0,0,0,0,0,0,0,0,0,0,0,0,0,0,0,0,0,0,0,0,0,0,0,0,0,0,0,0,0,0,0,0,0,0,0,0,0,0,0,0,0,0,0,0,0,0,0,0,0,0,0,0,0,0,0,0,0,0,0,0,0,0,0,0,0,0,0,0,0,0,0,0,0,0,0,0,0,0,0,0,0,0,0,0,0,0,0,0,0,0,0,0,0,0,0,0,0,0,0,0,0,0,0,0,0,0,0,0,0]
[0,0,0,0,0,0,0,0,0,0,0,0,0,0,0,0,0,0,0,0,0,0,0,0,0,0,0,0,0,0,0,0,0,0,0,0,0,0,0,0,0,0,0,0,0,0,0,0,0,0,0,0,0,0,0,0,0,0,0,0,0,0,0,0,0,0,0,0,0,0,0,0,0,0,0,0,0,0,0,0,0,0,0,0,0,0,0,0,0,0,0,0,0,0,0,0,0,0,0,0,0,0,0,0,0,0,0,0,0,0,0,0,0,0,0,0,0,0,0,0,0,0,0,0,0,0,0,0,0,0,0,0,0,0,0,0,0,0,0,0,0,0,0,0,0,0,0,0,0,0,0,0,0,0,0,0,0,0,0,0,0,0,0,0,0,0,0,0,0,0,0,0,0,0,0,0,0,0,0,0,0,0,0,0,0,0,0,0,0,0,0,0,0,0,0,0,0,0,0,0,0,0,0,0,0,0,0,0,0,0,0,0,0,0,0,0,0,0,0,0,0,0,0,0,0,0,0,0,0,0,0,0,0,0,0,0,0,0,0,0,0,0,0,0,0,0,0,0,0,0,0,0,0,0,0,0,0,0,0,0,0,0,0,0,0,0,0,0,0,0,0,0,0,0,0,0,0,0,0,0,0,0,0,0,0,0,0,0,0,0,0,0,0,0,0,0,0,0,0,0,0,0,0,0,0,0,0,0,0,0,0,0]
[0,0,0,0,0,0,0,0,0,0,0,0,0,0,0,0,0,0,0,0,0,0,0,0,0,0,0,0,0,0,0,0,0,0,0,0,0,0,0,0,0,0,0,0,0,0,0,0,0,0,0,0,0,0,0,0,0,0,0,0,0,0,0,0,0,0,0,0,0,0,0,0,0,0,0,0,0,0,0,0,0,0,0,0,0,0,0,0,0,0,0,0,0,0,0,0,0,0,0,0,0,0,0,0,0,0,0,0,0,0,0,0,0,0,0,0,0,0,0,0,0,0,0,0,0,0,0,0,0,0,0,0,0,0,0,0,0,0,0,0,0,0,0,0,0,0,0,0,0,0,0,0,0,0,0,0,0,0,0,0,0,0,0,0,0,0,0,0,0,0,0,0,0,0,0,0,0,0,0,0,0,0,0,0,0,0,0,0,0,0,0,0,0,0,0,0,0,0,0,0,0,0,0,0,0,0,0,0,0,0,0,0,0,0,0,0,0,0,0,0,0,0,0,0,0,0,0,0,0,0,0,0,0,0,0,0,0,0,0,0,0,0,0,0,0,0,0,0,0,0,0,0,0,0,0,0,0,0,0,0,0,0,0,0,0,0,0,0,0,0,0,0,0,0,0,0,0,0,0,0,0,0,0,0,0,0,0,0,0,0,0,0,0,0,0,0,0,0,0,0,0,0,0,0,0,0,0,0,0,0,0,0]
[0,0,0,0,0,0,0,0,0,0,0,0,0,0,0,0,0,0,0,0,0,0,0,0,0,0,0,0,0,0,0,0,0,0,0,0,0,0,0,0,0,0,0,0,0,0,0,0,0,0,0,0,0,0,0,0,0,0,0,0,0,0,0,0,0,0,0,0,0,0,0,0,0,0,0,0,0,0,0,0,0,0,0,0,0,0,0,0,0,0,0,0,0,0,0,0,0,0,0,0,0,0,0,0,0,0,0,0,0,0,0,0,0,0,0,0,0,0,0,0,0,0,0,0,0,0,0,0,0,0,0,0,0,0,0,0,0,0,0,0,0,0,0,0,0,0,0,0,0,0,0,0,0,0,0,0,0,0,0,0,0,0,0,0,0,0,0,0,0,0,0,0,0,0,0,0,0,0,0,0,0,0,0,0,0,0,0,0,0,0,0,0,0,0,0,0,0,0,0,0,0,0,0,0,0,0,0,0,0,0,0,0,0,0,0,0,0,0,0,0,0,0,0,0,0,0,0,0,0,0,0,0,0,0,0,0,0,0,0,0,0,0,0,0,0,0,0,0,0,0,0,0,0,0,0,0,0,0,0,0,0,0,0,0,0,0,0,0,0,0,0,0,0,0,0,0,0,0,0,0,0,0,0,0,0,0,0,0,0,0,0,0,0,0,0,0,0,0,0,0,0,0,0,0,0,0,0,0,0,0,0,0]
[0,0,0,0,0,0,0,0,0,0,0,0,0,0,0,0,0,0,0,0,0,0,0,0,0,0,0,0,0,0,0,0,0,0,0,0,0,0,0,0,0,0,0,0,0,0,0,0,0,0,0,0,0,0,0,0,0,0,0,0,0,0,0,0,0,0,0,0,0,0,0,0,0,0,0,0,0,0,0,0,0,0,0,0,0,0,0,0,0,0,0,0,0,0,0,0,0,0,0,0,0,0,0,0,0,0,0,0,0,0,0,0,0,0,0,0,0,0,0,0,0,0,0,0,0,0,0,0,0,0,0,0,0,0,0,0,0,0,0,0,0,0,0,0,0,0,0,0,0,0,0,0,0,0,0,0,0,0,0,0,0,0,0,0,0,0,0,0,0,0,0,0,0,0,0,0,0,0,0,0,0,0,0,0,0,0,0,0,0,0,0,0,0,0,0,0,0,0,0,0,0,0,0,0,0,0,0,0,0,0,0,0,0,0,0,0,0,0,0,0,0,0,0,0,0,0,0,0,0,0,0,0,0,0,0,0,0,0,0,0,0,0,0,0,0,0,0,0,0,0,0,0,0,0,0,0,0,0,0,0,0,0,0,0,0,0,0,0,0,0,0,0,0,0,0,0,0,0,0,0,0,0,0,0,0,0,0,0,0,0,0,0,0,0,0,0,0,0,0,0,0,0,0,0,0,0,0,0,0,0,0,0]
[0,0,0,0,0,0,0,0,0,0,0,0,0,0,0,0,0,0,0,0,0,0,0,0,0,0,0,0,0,0,0,0,0,0,0,0,0,0,0,0,0,0,0,0,0,0,0,0,0,0,0,0,0,0,0,0,0,0,0,0,0,0,0,0,0,0,0,0,0,0,0,0,0,0,0,0,0,0,0,0,0,0,0,0,0,0,0,0,0,0,0,0,0,0,0,0,0,0,0,0,0,0,0,0,0,0,0,0,0,0,0,0,0,0,0,0,0,0,0,0,0,0,0,0,0,0,0,0,0,0,0,0,0,0,0,0,0,0,0,0,0,0,0,0,0,0,0,0,0,0,0,0,0,0,0,0,0,0,0,0,0,0,0,0,0,0,0,0,0,0,0,0,0,0,0,0,0,0,0,0,0,0,0,0,0,0,0,0,0,0,0,0,0,0,0,0,0,0,0,0,0,0,0,0,0,0,0,0,0,0,0,0,0,0,0,0,0,0,0,0,0,0,0,0,0,0,0,0,0,0,0,0,0,0,0,0,0,0,0,0,0,0,0,0,0,0,0,0,0,0,0,0,0,0,0,0,0,0,0,0,0,0,0,0,0,0,0,0,0,0,0,0,0,0,0,0,0,0,0,0,0,0,0,0,0,0,0,0,0,0,0,0,0,0,0,0,0,0,0,0,0,0,0,0,0,0,0,0,0,0,0,0]
[0,0,0,0,0,0,0,0,0,0,0,0,0,0,0,0,0,0,0,0,0,0,0,0,0,0,0,0,0,0,0,0,0,0,0,0,0,0,0,0,0,0,0,0,0,0,0,0,0,0,0,0,0,0,0,0,0,0,0,0,0,0,0,0,0,0,0,0,0,0,0,0,0,0,0,0,0,0,0,0,0,0,0,0,0,0,0,0,0,0,0,0,0,0,0,0,0,0,0,0,0,0,0,0,0,0,0,0,0,0,0,0,0,0,0,0,0,0,0,0,0,0,0,0,0,0,0,0,0,0,0,0,0,0,0,0,0,0,0,0,0,0,0,0,0,0,0,0,0,0,0,0,0,0,0,0,0,0,0,0,0,0,0,0,0,0,0,0,0,0,0,0,0,0,0,0,0,0,0,0,0,0,0,0,0,0,0,0,0,0,0,0,0,0,0,0,0,0,0,0,0,0,0,0,0,0,0,0,0,0,0,0,0,0,0,0,0,0,0,0,0,0,0,0,0,0,0,0,0,0,0,0,0,0,0,0,0,0,0,0,0,0,0,0,0,0,0,0,0,0,0,0,0,0,0,0,0,0,0,0,0,0,0,0,0,0,0,0,0,0,0,0,0,0,0,0,0,0,0,0,0,0,0,0,0,0,0,0,0,0,0,0,0,0,0,0,0,0,0,0,0,0,0,0,0,0,0,0,0,0,0,0]
[0,0,0,0,0,0,0,0,0,0,0,0,0,0,0,0,0,0,0,0,0,0,0,0,0,0,0,0,0,0,0,0,0,0,0,0,0,0,0,0,0,0,0,0,0,0,0,0,0,0,0,0,0,0,0,0,0,0,0,0,0,0,0,0,0,0,0,0,0,0,0,0,0,0,0,0,0,0,0,0,0,0,0,0,0,0,0,0,0,0,0,0,0,0,0,0,0,0,0,0,0,0,0,0,0,0,0,0,0,0,0,0,0,0,0,0,0,0,0,0,0,0,0,0,0,0,0,0,0,0,0,0,0,0,0,0,0,0,0,0,0,0,0,0,0,0,0,0,0,0,0,0,0,0,0,0,0,0,0,0,0,0,0,0,0,0,0,0,0,0,0,0,0,0,0,0,0,0,0,0,0,0,0,0,0,0,0,0,0,0,0,0,0,0,0,0,0,0,0,0,0,0,0,0,0,0,0,0,0,0,0,0,0,0,0,0,0,0,0,0,0,0,0,0,0,0,0,0,0,0,0,0,0,0,0,0,0,0,0,0,0,0,0,0,0,0,0,0,0,0,0,0,0,0,0,0,0,0,0,0,0,0,0,0,0,0,0,0,0,0,0,0,0,0,0,0,0,0,0,0,0,0,0,0,0,0,0,0,0,0,0,0,0,0,0,0,0,0,0,0,0,0,0,0,0,0,0,0,0,0,0,0]
[0,0,0,0,0,0,0,0,0,0,0,0,0,0,0,0,0,0,0,0,0,0,0,0,0,0,0,0,0,0,0,0,0,0,0,0,0,0,0,0,0,0,0,0,0,0,0,0,0,0,0,0,0,0,0,0,0,0,0,0,0,0,0,0,0,0,0,0,0,0,0,0,0,0,0,0,0,0,0,0,0,0,0,0,0,0,0,0,0,0,0,0,0,0,0,0,0,0,0,0,0,0,0,0,0,0,0,0,0,0,0,0,0,0,0,0,0,0,0,0,0,0,0,0,0,0,0,0,0,0,0,0,0,0,0,0,0,0,0,0,0,0,0,0,0,0,0,0,0,0,0,0,0,0,0,0,0,0,0,0,0,0,0,0,0,0,0,0,0,0,0,0,0,0,0,0,0,0,0,0,0,0,0,0,0,0,0,0,0,0,0,0,0,0,0,0,0,0,0,0,0,0,0,0,0,0,0,0,0,0,0,0,0,0,0,0,0,0,0,0,0,0,0,0,0,0,0,0,0,0,0,0,0,0,0,0,0,0,0,0,0,0,0,0,0,0,0,0,0,0,0,0,0,0,0,0,0,0,0,0,0,0,0,0,0,0,0,0,0,0,0,0,0,0,0,0,0,0,0,0,0,0,0,0,0,0,0,0,0,0,0,0,0,0,0,0,0,0,0,0,0,0,0,0,0,0,0,0,0,0,0,0]
[0,0,0,0,0,0,0,0,0,0,0,0,0,0,0,0,0,0,0,0,0,0,0,0,0,0,0,0,0,0,0,0,0,0,0,0,0,0,0,0,0,0,0,0,0,0,0,0,0,0,0,0,0,0,0,0,0,0,0,0,0,0,0,0,0,0,0,0,0,0,0,0,0,0,0,0,0,0,0,0,0,0,0,0,0,0,0,0,0,0,0,0,0,0,0,0,0,0,0,0,0,0,0,0,0,0,0,0,0,0,0,0,0,0,0,0,0,0,0,0,0,0,0,0,0,0,0,0,0,0,0,0,0,0,0,0,0,0,0,0,0,0,0,0,0,0,0,0,0,0,0,0,0,0,0,0,0,0,0,0,0,0,0,0,0,0,0,0,0,0,0,0,0,0,0,0,0,0,0,0,0,0,0,0,0,0,0,0,0,0,0,0,0,0,0,0,0,0,0,0,0,0,0,0,0,0,0,0,0,0,0,0,0,0,0,0,0,0,0,0,0,0,0,0,0,0,0,0,0,0,0,0,0,0,0,0,0,0,0,0,0,0,0,0,0,0,0,0,0,0,0,0,0,0,0,0,0,0,0,0,0,0,0,0,0,0,0,0,0,0,0,0,0,0,0,0,0,0,0,0,0,0,0,0,0,0,0,0,0,0,0,0,0,0,0,0,0,0,0,0,0,0,0,0,0,0,0,0,0,0,0,0]
[0,0,0,0,0,0,0,0,0,0,0,0,0,0,0,0,0,0,0,0,0,0,0,0,0,0,0,0,0,0,0,0,0,0,0,0,0,0,0,0,0,0,0,0,0,0,0,0,0,0,0,0,0,0,0,0,0,0,0,0,0,0,0,0,0,0,0,0,0,0,0,0,0,0,0,0,0,0,0,0,0,0,0,0,0,0,0,0,0,0,0,0,0,0,0,0,0,0,0,0,0,0,0,0,0,0,0,0,0,0,0,0,0,0,0,0,0,0,0,0,0,0,0,0,0,0,0,0,0,0,0,0,0,0,0,0,0,0,0,0,0,0,0,0,0,0,0,0,0,0,0,0,0,0,0,0,0,0,0,0,0,0,0,0,0,0,0,0,0,0,0,0,0,0,0,0,0,0,0,0,0,0,0,0,0,0,0,0,0,0,0,0,0,0,0,0,0,0,0,0,0,0,0,0,0,0,0,0,0,0,0,0,0,0,0,0,0,0,0,0,0,0,0,0,0,0,0,0,0,0,0,0,0,0,0,0,0,0,0,0,0,0,0,0,0,0,0,0,0,0,0,0,0,0,0,0,0,0,0,0,0,0,0,0,0,0,0,0,0,0,0,0,0,0,0,0,0,0,0,0,0,0,0,0,0,0,0,0,0,0,0,0,0,0,0,0,0,0,0,0,0,0,0,0,0,0,0,0,0,0,0,0]
[0,0,0,0,0,0,0,0,0,0,0,0,0,0,0,0,0,0,0,0,0,0,0,0,0,0,0,0,0,0,0,0,0,0,0,0,0,0,0,0,0,0,0,0,0,0,0,0,0,0,0,0,0,0,0,0,0,0,0,0,0,0,0,0,0,0,0,0,0,0,0,0,0,0,0,0,0,0,0,0,0,0,0,0,0,0,0,0,0,0,0,0,0,0,0,0,0,0,0,0,0,0,0,0,0,0,0,0,0,0,0,0,0,0,0,0,0,0,0,0,0,0,0,0,0,0,0,0,0,0,0,0,0,0,0,0,0,0,0,0,0,0,0,0,0,0,0,0,0,0,0,0,0,0,0,0,0,0,0,0,0,0,0,0,0,0,0,0,0,0,0,0,0,0,0,0,0,0,0,0,0,0,0,0,0,0,0,0,0,0,0,0,0,0,0,0,0,0,0,0,0,0,0,0,0,0,0,0,0,0,0,0,0,0,0,0,0,0,0,0,0,0,0,0,0,0,0,0,0,0,0,0,0,0,0,0,0,0,0,0,0,0,0,0,0,0,0,0,0,0,0,0,0,0,0,0,0,0,0,0,0,0,0,0,0,0,0,0,0,0,0,0,0,0,0,0,0,0,0,0,0,0,0,0,0,0,0,0,0,0,0,0,0,0,0,0,0,0,0,0,0,0,0,0,0,0,0,0,0,0,0,0]
[0,0,0,0,0,0,0,0,0,0,0,0,0,0,0,0,0,0,0,0,0,0,0,0,0,0,0,0,0,0,0,0,0,0,0,0,0,0,0,0,0,0,0,0,0,0,0,0,0,0,0,0,0,0,0,0,0,0,0,0,0,0,0,0,0,0,0,0,0,0,0,0,0,0,0,0,0,0,0,0,0,0,0,0,0,0,0,0,0,0,0,0,0,0,0,0,0,0,0,0,0,0,0,0,0,0,0,0,0,0,0,0,0,0,0,0,0,0,0,0,0,0,0,0,0,0,0,0,0,0,0,0,0,0,0,0,0,0,0,0,0,0,0,0,0,0,0,0,0,0,0,0,0,0,0,0,0,0,0,0,0,0,0,0,0,0,0,0,0,0,0,0,0,0,0,0,0,0,0,0,0,0,0,0,0,0,0,0,0,0,0,0,0,0,0,0,0,0,0,0,0,0,0,0,0,0,0,0,0,0,0,0,0,0,0,0,0,0,0,0,0,0,0,0,0,0,0,0,0,0,0,0,0,0,0,0,0,0,0,0,0,0,0,0,0,0,0,0,0,0,0,0,0,0,0,0,0,0,0,0,0,0,0,0,0,0,0,0,0,0,0,0,0,0,0,0,0,0,0,0,0,0,0,0,0,0,0,0,0,0,0,0,0,0,0,0,0,0,0,0,0,0,0,0,0,0,0,0,0,0,0,0]
[0,0,0,0,0,0,0,0,0,0,0,0,0,0,0,0,0,0,0,0,0,0,0,0,0,0,0,0,0,0,0,0,0,0,0,0,0,0,0,0,0,0,0,0,0,0,0,0,0,0,0,0,0,0,0,0,0,0,0,0,0,0,0,0,0,0,0,0,0,0,0,0,0,0,0,0,0,0,0,0,0,0,0,0,0,0,0,0,0,0,0,0,0,0,0,0,0,0,0,0,0,0,0,0,0,0,0,0,0,0,0,0,0,0,0,0,0,0,0,0,0,0,0,0,0,0,0,0,0,0,0,0,0,0,0,0,0,0,0,0,0,0,0,0,0,0,0,0,0,0,0,0,0,0,0,0,0,0,0,0,0,0,0,0,0,0,0,0,0,0,0,0,0,0,0,0,0,0,0,0,0,0,0,0,0,0,0,0,0,0,0,0,0,0,0,0,0,0,0,0,0,0,0,0,0,0,0,0,0,0,0,0,0,0,0,0,0,0,0,0,0,0,0,0,0,0,0,0,0,0,0,0,0,0,0,0,0,0,0,0,0,0,0,0,0,0,0,0,0,0,0,0,0,0,0,0,0,0,0,0,0,0,0,0,0,0,0,0,0,0,0,0,0,0,0,0,0,0,0,0,0,0,0,0,0,0,0,0,0,0,0,0,0,0,0,0,0,0,0,0,0,0,0,0,0,0,0,0,0,0,0,0]
[0,0,0,0,0,0,0,0,0,0,0,0,0,0,0,0,0,0,0,0,0,0,0,0,0,0,0,0,0,0,0,0,0,0,0,0,0,0,0,0,0,0,0,0,0,0,0,0,0,0,0,0,0,0,0,0,0,0,0,0,0,0,0,0,0,0,0,0,0,0,0,0,0,0,0,0,0,0,0,0,0,0,0,0,0,0,0,0,0,0,0,0,0,0,0,0,0,0,0,0,0,0,0,0,0,0,0,0,0,0,0,0,0,0,0,0,0,0,0,0,0,0,0,0,0,0,0,0,0,0,0,0,0,0,0,0,0,0,0,0,0,0,0,0,0,0,0,0,0,0,0,0,0,0,0,0,0,0,0,0,0,0,0,0,0,0,0,0,0,0,0,0,0,0,0,0,0,0,0,0,0,0,0,0,0,0,0,0,0,0,0,0,0,0,0,0,0,0,0,0,0,0,0,0,0,0,0,0,0,0,0,0,0,0,0,0,0,0,0,0,0,0,0,0,0,0,0,0,0,0,0,0,0,0,0,0,0,0,0,0,0,0,0,0,0,0,0,0,0,0,0,0,0,0,0,0,0,0,0,0,0,0,0,0,0,0,0,0,0,0,0,0,0,0,0,0,0,0,0,0,0,0,0,0,0,0,0,0,0,0,0,0,0,0,0,0,0,0,0,0,0,0,0,0,0,0,0,0,0,0,0,0]
[0,0,0,0,0,0,0,0,0,0,0,0,0,0,0,0,0,0,0,0,0,0,0,0,0,0,0,0,0,0,0,0,0,0,0,0,0,0,0,0,0,0,0,0,0,0,0,0,0,0,0,0,0,0,0,0,0,0,0,0,0,0,0,0,0,0,0,0,0,0,0,0,0,0,0,0,0,0,0,0,0,0,0,0,0,0,0,0,0,0,0,0,0,0,0,0,0,0,0,0,0,0,0,0,0,0,0,0,0,0,0,0,0,0,0,0,0,0,0,0,0,0,0,0,0,0,0,0,0,0,0,0,0,0,0,0,0,0,0,0,0,0,0,0,0,0,0,0,0,0,0,0,0,0,0,0,0,0,0,0,0,0,0,0,0,0,0,0,0,0,0,0,0,0,0,0,0,0,0,0,0,0,0,0,0,0,0,0,0,0,0,0,0,0,0,0,0,0,0,0,0,0,0,0,0,0,0,0,0,0,0,0,0,0,0,0,0,0,0,0,0,0,0,0,0,0,0,0,0,0,0,0,0,0,0,0,0,0,0,0,0,0,0,0,0,0,0,0,0,0,0,0,0,0,0,0,0,0,0,0,0,0,0,0,0,0,0,0,0,0,0,0,0,0,0,0,0,0,0,0,0,0,0,0,0,0,0,0,0,0,0,0,0,0,0,0,0,0,0,0,0,0,0,0,0,0,0,0,0,0,0,0]
[]
[]
[]
[]
[]
[]
[]
[]
[]
[]
[]
[]
[]
[]
[]
[]
[]
[]
[]
[]
[]
[]
[]
[]
[]
[]
[]
[]
[]
[]
[]
[]
[]
[]
[]
[]
[]
[]
[]
[]
[]
[]
[]
[]
[]
[]
[]
[]
[]
[]
[]
[]
[]
[]
[]
[]
[]
[]
[]
[]
[]
[]
[]
[]
[]
[]
[]
[]
[]
[]
[]
[]
[]
[]
[]
[]
[]
[]
[]
[]
[]
[]
[]
[]
[]
[]
[]
[]
[]
[]
[]
[]
[]
[]
[]
[]
[]
[]
[]
[]
[]
[]
[]
[]
[]
[]
[]
[]
[]
[]
[]
[]
[]
[]
[]
[]
[]
[]
[]
[]
[]
[]
[]
[]
[]
[]
[]
[]
[]
[]
[]
[]
[]
[]
[]
[]
[]
[]
[]
[]
[]
[]
[]
[]
[]
[]
[]
[]
[]
[]
["A30 P 60 10 Wdwl 60","A30 P 60 10SDWdwl 60","A30 P 60 20 Wdwl 60","A30 P 60 20SDWdwl 60","A30 P 65 10 Wdwl 65","A30 P 65 10SDWdwl 65","A30 P 65 20 Wdwl 65","A30 P 65 20SDWdwl 65","A30 P 70 10 Wdwl 70","A30 P 70 10SDWdwl 70","A30 P 70 20 Wdwl 70","A30 P 70 20SDWdwl 70","A31 P 60 10 Wdwl 60","A31 P 60 10SDWdwl 60","A31 P 60 20 Wdwl 60","A31 P 60 20SDWdwl 60","A31 P 65 10 Wdwl 65","A31 P 65 10SDWdwl 65","A31 P 65 20 Wdwl 65","A31 P 65 20SDWdwl 65","A31 P 70 10 Wdwl 70","A31 P 70 10SDWdwl 70","A31 P 70 20 Wdwl 70","A31 P 70 20SDWdwl 70","A32 P 60 10 Wdwl 60","A32 P 60 10SDWdwl 60","A32 P 60 20 Wdwl 60","A32 P 60 20SDWdwl 60","A32 P 65 10 Wdwl 65","A32 P 65 10SDWdwl 65","A32 P 65 20 Wdwl 65","A32 P 65 20SDWdwl 65","A32 P 70 10 Wdwl 70","A32 P 70 10SDWdwl 70","A32 P 70 20 Wdwl 70","A32 P 70 20SDWdwl 70","A33 P 60 10 Wdwl 60","A33 P 60 10SDWdwl 60","A33 P 60 20 Wdwl 60","A33 P 60 20SDWdwl 60","A33 P 65 10 Wdwl 65","A33 P 65 10SDWdwl 65","A33 P 65 20 Wdwl 65","A33 P 65 20SDWdwl 65","A33 P 70 10 Wdwl 70","A33 P 70 10SDWdwl 70","A33 P 70 20 Wdwl 70","A33 P 70 20SDWdwl 70","A34 P 60 10 Wdwl 60","A34 P 60 10SDWdwl 60","A34 P 60 20 Wdwl 60","A34 P 60 20SDWdwl 60","A34 P 65 10 Wdwl 65","A34 P 65 10SDWdwl 65","A34 P 65 20 Wdwl 65","A34 P 65 20SDWdwl 65","A34 P 70 10 Wdwl 70","A34 P 70 10SDWdwl 70","A34 P 70 20 Wdwl 70","A34 P 70 20SDWdwl 70","A35 P 60 10 Wdwl 60","A35 P 60 10SDWdwl 60","A35 P 60 20 Wdwl 60","A35 P 60 20SDWdwl 60","A35 P 65 10 Wdwl 65","A35 P 65 10SDWdwl 65","A35 P 65 20 Wdwl 65","A35 P 65 20SDWdwl 65","A35 P 70 10 Wdwl 70","A35 P 70 10SDWdwl 70","A35 P 70 20 Wdwl 70","A35 P 70 20SDWdwl 70","A36 P 60 10 Wdwl 60","A36 P 60 10SDWdwl 60","A36 P 60 20 Wdwl 60","A36 P 60 20SDWdwl 60","A36 P 65 10 Wdwl 65","A36 P 65 10SDWdwl 65","A36 P 65 20 Wdwl 65","A36 P 65 20SDWdwl 65","A36 P 70 10 Wdwl 70","A36 P 70 10SDWdwl 70","A36 P 70 20 Wdwl 70","A36 P 70 20SDWdwl 70","A37 P 60 10 Wdwl 60","A37 P 60 10SDWdwl 60","A37 P 60 20 Wdwl 60","A37 P 60 20SDWdwl 60","A37 P 65 10 Wdwl 65","A37 P 65 10SDWdwl 65","A37 P 65 20 Wdwl 65","A37 P 65 20SDWdwl 65","A37 P 70 10 Wdwl 70","A37 P 70 10SDWdwl 70","A37 P 70 20 Wdwl 70","A37 P 70 20SDWdwl 70","A38 P 60 10 Wdwl 60","A38 P 60 10SDWdwl 60","A38 P 60 20 Wdwl 60","A38 P 60 20SDWdwl 60","A38 P 65 10 Wdwl 65","A38 P 65 10SDWdwl 65","A38 P 65 20 Wdwl 65","A38 P 65 20SDWdwl 65","A38 P 70 10 Wdwl 70","A38 P 70 10SDWdwl 70","A38 P 70 20 Wdwl 70","A38 P 70 20SDWdwl 70","A39 P 60 10 Wdwl 60","A39 P 60 10SDWdwl 60","A39 P 60 20 Wdwl 60","A39 P 60 20SDWdwl 60","A39 P 65 10 Wdwl 65","A39 P 65 10SDWdwl 65","A39 P 65 20 Wdwl 65","A39 P 65 20SDWdwl 65","A39 P 70 10 Wdwl 70","A39 P 70 10SDWdwl 70","A39 P 70 20 Wdwl 70","A39 P 70 20SDWdwl 70","A40 P 60 10 Wdwl 60","A40 P 60 10SDWdwl 60","A40 P 60 20 Wdwl 60","A40 P 60 20SDWdwl 60","A40 P 65 10 Wdwl 65","A40 P 65 10SDWdwl 65","A40 P 65 20 Wdwl 65","A40 P 65 20SDWdwl 65","A40 P 70 10 Wdwl 70","A40 P 70 10SDWdwl 70","A40 P 70 20 Wdwl 70","A40 P 70 20SDWdwl 70","A41 P 60 10 Wdwl 60","A41 P 60 10SDWdwl 60","A41 P 60 20 Wdwl 60","A41 P 60 20SDWdwl 60","A41 P 65 10 Wdwl 65","A41 P 65 10SDWdwl 65","A41 P 65 20 Wdwl 65","A41 P 65 20SDWdwl 65","A41 P 70 10 Wdwl 70","A41 P 70 10SDWdwl 70","A41 P 70 20 Wdwl 70","A41 P 70 20SDWdwl 70","A42 P 60 10 Wdwl 60","A42 P 60 10SDWdwl 60","A42 P 60 20 Wdwl 60","A42 P 60 20SDWdwl 60","A42 P 65 10 Wdwl 65","A42 P 65 10SDWdwl 65","A42 P 65 20 Wdwl 65","A42 P 65 20SDWdwl 65","A42 P 70 10 Wdwl 70","A42 P 70 10SDWdwl 70","A42 P 70 20 Wdwl 70","A42 P 70 20SDWdwl 70","A43 P 60 10 Wdwl 60","A43 P 60 10SDWdwl 60","A43 P 60 20 Wdwl 60","A43 P 60 20SDWdwl 60","A43 P 65 10 Wdwl 65","A43 P 65 10SDWdwl 65","A43 P 65 20 Wdwl 65","A43 P 65 20SDWdwl 65","A43 P 70 10 Wdwl 70","A43 P 70 10SDWdwl 70","A43 P 70 20 Wdwl 70","A43 P 70 20SDWdwl 70","A44 P 60 10 Wdwl 60","A44 P 60 10SDWdwl 60","A44 P 60 20 Wdwl 60","A44 P 60 20SDWdwl 60","A44 P 65 10 Wdwl 65","A44 P 65 10SDWdwl 65","A44 P 65 20 Wdwl 65","A44 P 65 20SDWdwl 65","A44 P 70 10 Wdwl 70","A44 P 70 10SDWdwl 70","A44 P 70 20 Wdwl 70","A44 P 70 20SDWdwl 70","A45 P 60 10 Wdwl 60","A45 P 60 10SDWdwl 60","A45 P 60 20 Wdwl 60","A45 P 60 20SDWdwl 60","A45 P 65 10 Wdwl 65","A45 P 65 10SDWdwl 65","A45 P 65 20 Wdwl 65","A45 P 65 20SDWdwl 65","A45 P 70 10 Wdwl 70","A45 P 70 10SDWdwl 70","A45 P 70 20 Wdwl 70","A45 P 70 20SDWdwl 70","A46 P 60 10 Wdwl 60","A46 P 60 10SDWdwl 60","A46 P 60 20 Wdwl 60","A46 P 60 20SDWdwl 60","A46 P 65 10 Wdwl 65","A46 P 65 10SDWdwl 65","A46 P 65 20 Wdwl 65","A46 P 65 20SDWdwl 65","A46 P 70 10 Wdwl 70","A46 P 70 10SDWdwl 70","A46 P 70 20 Wdwl 70","A46 P 70 20SDWdwl 70","A47 P 60 10 Wdwl 60","A47 P 60 10SDWdwl 60","A47 P 60 20 Wdwl 60","A47 P 60 20SDWdwl 60","A47 P 65 10 Wdwl 65","A47 P 65 10SDWdwl 65","A47 P 65 20 Wdwl 65","A47 P 65 20SDWdwl 65","A47 P 70 10 Wdwl 70","A47 P 70 10SDWdwl 70","A47 P 70 20 Wdwl 70","A47 P 70 20SDWdwl 70","A48 P 60 10 Wdwl 60","A48 P 60 10SDWdwl 60","A48 P 60 20 Wdwl 60","A48 P 60 20SDWdwl 60","A48 P 65 10 Wdwl 65","A48 P 65 10SDWdwl 65","A48 P 65 20 Wdwl 65","A48 P 65 20SDWdwl 65","A48 P 70 10 Wdwl 70","A48 P 70 10SDWdwl 70","A48 P 70 20 Wdwl 70","A48 P 70 20SDWdwl 70","A49 P 60 10 Wdwl 60","A49 P 60 10SDWdwl 60","A49 P 60 20 Wdwl 60","A49 P 60 20SDWdwl 60","A49 P 65 10 Wdwl 65","A49 P 65 10SDWdwl 65","A49 P 65 20 Wdwl 65","A49 P 65 20SDWdwl 65","A49 P 70 10 Wdwl 70","A49 P 70 10SDWdwl 70","A49 P 70 20 Wdwl 70","A49 P 70 20SDWdwl 70","A50 P 60 10 Wdwl 60","A50 P 60 10SDWdwl 60","A50 P 60 20 Wdwl 60","A50 P 60 20SDWdwl 60","A50 P 65 10 Wdwl 65","A50 P 65 10SDWdwl 65","A50 P 65 20 Wdwl 65","A50 P 65 20SDWdwl 65","A50 P 70 10 Wdwl 70","A50 P 70 10SDWdwl 70","A50 P 70 20 Wdwl 70","A50 P 70 20SDWdwl 70","A51 P 60 10 Wdwl 60","A51 P 60 10SDWdwl 60","A51 P 60 20 Wdwl 60","A51 P 60 20SDWdwl 60","A51 P 65 10 Wdwl 65","A51 P 65 10SDWdwl 65","A51 P 65 20 Wdwl 65","A51 P 65 20SDWdwl 65","A51 P 70 10 Wdwl 70","A51 P 70 10SDWdwl 70","A51 P 70 20 Wdwl 70","A51 P 70 20SDWdwl 70","A52 P 60 10 Wdwl 60","A52 P 60 10SDWdwl 60","A52 P 60 20 Wdwl 60","A52 P 60 20SDWdwl 60","A52 P 65 10 Wdwl 65","A52 P 65 10SDWdwl 65","A52 P 65 20 Wdwl 65","A52 P 65 20SDWdwl 65","A52 P 70 10 Wdwl 70","A52 P 70 10SDWdwl 70","A52 P 70 20 Wdwl 70","A52 P 70 20SDWdwl 70","A53 P 60 10 Wdwl 60","A53 P 60 10SDWdwl 60","A53 P 60 20 Wdwl 60","A53 P 60 20SDWdwl 60","A53 P 65 10 Wdwl 65","A53 P 65 10SDWdwl 65","A53 P 65 20 Wdwl 65","A53 P 65 20SDWdwl 65","A53 P 70 10 Wdwl 70","A53 P 70 10SDWdwl 70","A53 P 70 20 Wdwl 70","A53 P 70 20SDWdwl 70","A54 P 60 10 Wdwl 60","A54 P 60 10SDWdwl 60","A54 P 60 20 Wdwl 60","A54 P 60 20SDWdwl 60","A54 P 65 10 Wdwl 65","A54 P 65 10SDWdwl 65","A54 P 65 20 Wdwl 65","A54 P 65 20SDWdwl 65","A54 P 70 10 Wdwl 70","A54 P 70 10SDWdwl 70","A54 P 70 20 Wdwl 70","A54 P 70 20SDWdwl 70","A55 P 60 10 Wdwl 60","A55 P 60 10SDWdwl 60","A55 P 60 20 Wdwl 60","A55 P 60 20SDWdwl 60","A55 P 65 10 Wdwl 65","A55 P 65 10SDWdwl 65","A55 P 65 20 Wdwl 65","A55 P 65 20SDWdwl 65","A55 P 70 10 Wdwl 70","A55 P 70 10SDWdwl 70","A55 P 70 20 Wdwl 70","A55 P 70 20SDWdwl 70"]
["Premium","Premium","Premium","Premium","Premium","Premium","Premium","Premium","Premium","Premium","Premium","Premium","Premium","Premium","Premium","Premium","Premium","Premium","Premium","Premium","Premium","Premium","Premium","Premium","Premium","Premium","Premium","Premium","Premium","Premium","Premium","Premium","Premium","Premium","Premium","Premium","Premium","Premium","Premium","Premium","Premium","Premium","Premium","Premium","Premium","Premium","Premium","Premium","Premium","Premium","Premium","Premium","Premium","Premium","Premium","Premium","Premium","Premium","Premium","Premium","Premium","Premium","Premium","Premium","Premium","Premium","Premium","Premium","Premium","Premium","Premium","Premium","Premium","Premium","Premium","Premium","Premium","Premium","Premium","Premium","Premium","Premium","Premium","Premium","Premium","Premium","Premium","Premium","Premium","Premium","Premium","Premium","Premium","Premium","Premium","Premium","Premium","Premium","Premium","Premium","Premium","Premium","Premium","Premium","Premium","Premium","Premium","Premium","Premium","Premium","Premium","Premium","Premium","Premium","Premium","Premium","Premium","Premium","Premium","Premium","Premium","Premium","Premium","Premium","Premium","Premium","Premium","Premium","Premium","Premium","Premium","Premium","Premium","Premium","Premium","Premium","Premium","Premium","Premium","Premium","Premium","Premium","Premium","Premium","Premium","Premium","Premium","Premium","Premium","Premium","Premium","Premium","Premium","Premium","Premium","Premium","Premium","Premium","Premium","Premium","Premium","Premium","Premium","Premium","Premium","Premium","Premium","Premium","Premium","Premium","Premium","Premium","Premium","Premium","Premium","Premium","Premium","Premium","Premium","Premium","Premium","Premium","Premium","Premium","Premium","Premium","Premium","Premium","Premium","Premium","Premium","Premium","Premium","Premium","Premium","Premium","Premium","Premium","Premium","Premium","Premium","Premium","Premium","Premium","Premium","Premium","Premium","Premium","Premium","Premium","Premium","Premium","Premium","Premium","Premium","Premium","Premium","Premium","Premium","Premium","Premium","Premium","Premium","Premium","Premium","Premium","Premium","Premium","Premium","Premium","Premium","Premium","Premium","Premium","Premium","Premium","Premium","Premium","Premium","Premium","Premium","Premium","Premium","Premium","Premium","Premium","Premium","Premium","Premium","Premium","Premium","Premium","Premium","Premium","Premium","Premium","Premium","Premium","Premium","Premium","Premium","Premium","Premium","Premium","Premium","Premium","Premium","Premium","Premium","Premium","Premium","Premium","Premium","Premium","Premium","Premium","Premium","Premium","Premium","Premium","Premium","Premium","Premium","Premium","Premium","Premium","Premium","Premium","Premium","Premium","Premium","Premium","Premium","Premium","Premium","Premium","Premium","Premium","Premium","Premium","Premium","Premium","Premium","Premium","Premium","Premium","Premium","Premium","Premium","Premium","Premium","Premium"]
[25000,25000,25000,25000,25000,25000,25000,25000,25000,25000,25000,25000,25000,25000,25000,25000,25000,25000,25000,25000,25000,25000,25000,25000,25000,25000,25000,25000,25000,25000,25000,25000,25000,25000,25000,25000,25000,25000,25000,25000,25000,25000,25000,25000,25000,25000,25000,25000,25000,25000,25000,25000,25000,25000,25000,25000,25000,25000,25000,25000,25000,25000,25000,25000,25000,25000,25000,25000,25000,25000,25000,25000,25000,25000,25000,25000,25000,25000,25000,25000,25000,25000,25000,25000,25000,25000,25000,25000,25000,25000,25000,25000,25000,25000,25000,25000,25000,25000,25000,25000,25000,25000,25000,25000,25000,25000,25000,25000,25000,25000,25000,25000,25000,25000,25000,25000,25000,25000,25000,25000,25000,25000,25000,25000,25000,25000,25000,25000,25000,25000,25000,25000,25000,25000,25000,25000,25000,25000,25000,25000,25000,25000,25000,25000,25000,25000,25000,25000,25000,25000,25000,25000,25000,25000,25000,25000,25000,25000,25000,25000,25000,25000,25000,25000,25000,25000,25000,25000,25000,25000,25000,25000,25000,25000,25000,25000,25000,25000,25000,25000,25000,25000,25000,25000,25000,25000,25000,25000,25000,25000,25000,25000,25000,25000,25000,25000,25000,25000,25000,25000,25000,25000,25000,25000,25000,25000,25000,25000,25000,25000,25000,25000,25000,25000,25000,25000,25000,25000,25000,25000,25000,25000,25000,25000,25000,25000,25000,25000,25000,25000,25000,25000,25000,25000,25000,25000,25000,25000,25000,25000,25000,25000,25000,25000,25000,25000,25000,25000,25000,25000,25000,25000,25000,25000,25000,25000,25000,25000,25000,25000,25000,25000,25000,25000,25000,25000,25000,25000,25000,25000,25000,25000,25000,25000,25000,25000,25000,25000,25000,25000,25000,25000,25000,25000,25000,25000,25000,25000,25000,25000,25000,25000,25000,25000,25000,25000,25000,25000,25000,25000,25000,25000,25000,25000,25000,25000,25000,25000,25000,25000,25000,25000]
[25000,25000,25000,25000,25000,25000,25000,25000,25000,25000,25000,25000,25000,25000,25000,25000,25000,25000,25000,25000,25000,25000,25000,25000,25000,25000,25000,25000,25000,25000,25000,25000,25000,25000,25000,25000,25000,25000,25000,25000,25000,25000,25000,25000,25000,25000,25000,25000,25000,25000,25000,25000,25000,25000,25000,25000,25000,25000,25000,25000,25000,25000,25000,25000,25000,25000,25000,25000,25000,25000,25000,25000,25000,25000,25000,25000,25000,25000,25000,25000,25000,25000,25000,25000,25000,25000,25000,25000,25000,25000,25000,25000,25000,25000,25000,25000,25000,25000,25000,25000,25000,25000,25000,25000,25000,25000,25000,25000,25000,25000,25000,25000,25000,25000,25000,25000,25000,25000,25000,25000,25000,25000,25000,25000,25000,25000,25000,25000,25000,25000,25000,25000,25000,25000,25000,25000,25000,25000,25000,25000,25000,25000,25000,25000,25000,25000,25000,25000,25000,25000,25000,25000,25000,25000,25000,25000,25000,25000,25000,25000,25000,25000,25000,25000,25000,25000,25000,25000,25000,25000,25000,25000,25000,25000,25000,25000,25000,25000,25000,25000,25000,25000,25000,25000,25000,25000,25000,25000,25000,25000,25000,25000,25000,25000,25000,25000,25000,25000,25000,25000,25000,25000,25000,25000,25000,25000,25000,25000,25000,25000,25000,25000,25000,25000,25000,25000,25000,25000,25000,25000,25000,25000,25000,25000,25000,25000,25000,25000,25000,25000,25000,25000,25000,25000,25000,25000,25000,25000,25000,25000,25000,25000,25000,25000,25000,25000,25000,25000,25000,25000,25000,25000,25000,25000,25000,25000,25000,25000,25000,25000,25000,25000,25000,25000,0,0,0,0,25000,25000,25000,25000,25000,25000,25000,25000,0,0,0,0,25000,25000,25000,25000,25000,25000,25000,25000,0,0,0,0,25000,25000,25000,25000,25000,25000,25000,25000,0,0,0,0,25000,25000,25000,25000,25000,25000,25000,25000]
[25000,25000,25000,25000,25000,25000,25000,25000,25000,25000,25000,25000,25000,25000,25000,25000,25000,25000,25000,25000,25000,25000,25000,25000,25000,25000,25000,25000,25000,25000,25000,25000,25000,25000,25000,25000,25000,25000,25000,25000,25000,25000,25000,25000,25000,25000,25000,25000,25000,25000,25000,25000,25000,25000,25000,25000,25000,25000,25000,25000,25000,25000,25000,25000,25000,25000,25000,25000,25000,25000,25000,25000,25000,25000,25000,25000,25000,25000,25000,25000,25000,25000,25000,25000,25000,25000,25000,25000,25000,25000,25000,25000,25000,25000,25000,25000,25000,25000,25000,25000,25000,25000,25000,25000,25000,25000,25000,25000,25000,25000,25000,25000,25000,25000,25000,25000,25000,25000,25000,25000,25000,25000,25000,25000,25000,25000,25000,25000,25000,25000,25000,25000,25000,25000,25000,25000,25000,25000,25000,25000,25000,25000,25000,25000,25000,25000,25000,25000,25000,25000,25000,25000,25000,25000,25000,25000,25000,25000,25000,25000,25000,25000,25000,25000,25000,25000,25000,25000,25000,25000,25000,25000,25000,25000,25000,25000,25000,25000,25000,25000,25000,25000,25000,25000,25000,25000,25000,25000,25000,25000,25000,25000,25000,25000,25000,25000,25000,25000,25000,25000,25000,25000,25000,25000,0,0,0,0,25000,25000,25000,25000,25000,25000,25000,25000,0,0,0,0,25000,25000,25000,25000,25000,25000,25000,25000,0,0,0,0,25000,25000,25000,25000,25000,25000,25000,25000,0,0,0,0,25000,25000,25000,25000,25000,25000,25000,25000,0,0,0,0,25000,25000,25000,25000,25000,25000,25000,25000,0,0,0,0,0,0,0,0,25000,25000,25000,25000,0,0,0,0,0,0,0,0,25000,25000,25000,25000,0,0,0,0,0,0,0,0,25000,25000,25000,25000,0,0,0,0,0,0,0,0,25000,25000,25000,25000]
[25000,25000,25000,25000,25000,25000,25000,25000,25000,25000,25000,25000,25000,25000,25000,25000,25000,25000,25000,25000,25000,25000,25000,25000,25000,25000,25000,25000,25000,25000,25000,25000,25000,25000,25000,25000,25000,25000,25000,25000,25000,25000,25000,25000,25000,25000,25000,25000,25000,25000,25000,25000,25000,25000,25000,25000,25000,25000,25000,25000,25000,25000,25000,25000,25000,25000,25000,25000,25000,25000,25000,25000,25000,25000,25000,25000,25000,25000,25000,25000,25000,25000,25000,25000,25000,25000,25000,25000,25000,25000,25000,25000,25000,25000,25000,25000,25000,25000,25000,25000,25000,25000,25000,25000,25000,25000,25000,25000,25000,25000,25000,25000,25000,25000,25000,25000,25000,25000,25000,25000,25000,25000,25000,25000,25000,25000,25000,25000,25000,25000,25000,25000,0,0,0,0,25000,25000,25000,25000,25000,25000,25000,25000,0,0,0,0,25000,25000,25000,25000,25000,25000,25000,25000,0,0,0,0,25000,25000,25000,25000,25000,25000,25000,25000,0,0,0,0,25000,25000,25000,25000,25000,25000,25000,25000,0,0,0,0,25000,25000,25000,25000,25000,25000,25000,25000,0,0,0,0,0,0,0,0,25000,25000,25000,25000,0,0,0,0,0,0,0,0,25000,25000,25000,25000,0,0,0,0,0,0,0,0,25000,25000,25000,25000,0,0,0,0,0,0,0,0,25000,25000,25000,25000,0,0,0,0,0,0,0,0,25000,25000,25000,25000,0,0,0,0,0,0,0,0,0,0,0,0,0,0,0,0,0,0,0,0,0,0,0,0,0,0,0,0,0,0,0,0,0,0,0,0,0,0,0,0,0,0,0,0,0,0,0,0,0,0,0,0,0,0,0,0,0,0,0,0]
[25000,25000,25000,25000,25000,25000,25000,25000,25000,25000,25000,25000,25000,25000,25000,25000,25000,25000,25000,25000,25000,25000,25000,25000,25000,25000,25000,25000,25000,25000,25000,25000,25000,25000,25000,25000,25000,25000,25000,25000,25000,25000,25000,25000,25000,25000,25000,25000,25000,25000,25000,25000,25000,25000,25000,25000,25000,25000,25000,25000,25000,25000,25000,25000,25000,25000,25000,25000,25000,25000,25000,25000,25000,25000,25000,25000,25000,25000,25000,25000,25000,25000,25000,25000,0,0,0,0,25000,25000,25000,25000,25000,25000,25000,25000,0,0,0,0,25000,25000,25000,25000,25000,25000,25000,25000,0,0,0,0,25000,25000,25000,25000,25000,25000,25000,25000,0,0,0,0,25000,25000,25000,25000,25000,25000,25000,25000,0,0,0,0,25000,25000,25000,25000,25000,25000,25000,25000,0,0,0,0,0,0,0,0,25000,25000,25000,25000,0,0,0,0,0,0,0,0,25000,25000,25000,25000,0,0,0,0,0,0,0,0,25000,25000,25000,25000,0,0,0,0,0,0,0,0,25000,25000,25000,25000,0,0,0,0,0,0,0,0,25000,25000,25000,25000,0,0,0,0,0,0,0,0,0,0,0,0,0,0,0,0,0,0,0,0,0,0,0,0,0,0,0,0,0,0,0,0,0,0,0,0,0,0,0,0,0,0,0,0,0,0,0,0,0,0,0,0,0,0,0,0,0,0,0,0,0,0,0,0,0,0,0,0,0,0,0,0,0,0,0,0,0,0,0,0,0,0,0,0,0,0,0,0,0,0,0,0,0,0,0,0,0,0,0,0,0,0,0,0,0,0,0,0]
[0,0,0,0,25000,25000,25000,25000,25000,25000,25000,25000,0,0,0,0,25000,25000,25000,25000,25000,25000,25000,25000,0,0,0,0,25000,25000,25000,25000,25000,25000,25000,25000,0,0,0,0,25000,25000,25000,25000,25000,25000,25000,25000,0,0,0,0,0,0,0,0,25000,25000,25000,25000,0,0,0,0,0,0,0,0,25000,25000,25000,25000,0,0,0,0,0,0,0,0,25000,25000,25000,25000,0,0,0,0,0,0,0,0,25000,25000,25000,25000,0,0,0,0,0,0,0,0,25000,25000,25000,25000,0,0,0,0,0,0,0,0,0,0,0,0,0,0,0,0,0,0,0,0,0,0,0,0,0,0,0,0,0,0,0,0,0,0,0,0,0,0,0,0,0,0,0,0,0,0,0,0,0,0,0,0,0,0,0,0,0,0,0,0,0,0,0,0,0,0,0,0,0,0,0,0,0,0,0,0,0,0,0,0,0,0,0,0,0,0,0,0,0,0,0,0,0,0,0,0,0,0,0,0,0,0,0,0,0,0,0,0,0,0,0,0,0,0,0,0,0,0,0,0,0,0,0,0,0,0,0,0,0,0,0,0,0,0,0,0,0,0,0,0,0,0,0,0,0,0,0,0,0,0,0,0,0,0,0,0,0,0,0,0,0,0,0,0,0,0,0,0,0,0,0,0,0,0,0,0,0,0,0,0,0,0,0,0,0,0,0,0,0,0,0,0,0,0,0,0,0,0,0,0,0,0,0,0]
[0,0,0,0,0,0,0,0,25000,25000,25000,25000,0,0,0,0,0,0,0,0,25000,25000,25000,25000,0,0,0,0,0,0,0,0,25000,25000,25000,25000,0,0,0,0,0,0,0,0,25000,25000,25000,25000,0,0,0,0,0,0,0,0,0,0,0,0,0,0,0,0,0,0,0,0,0,0,0,0,0,0,0,0,0,0,0,0,0,0,0,0,0,0,0,0,0,0,0,0,0,0,0,0,0,0,0,0,0,0,0,0,0,0,0,0,0,0,0,0,0,0,0,0,0,0,0,0,0,0,0,0,0,0,0,0,0,0,0,0,0,0,0,0,0,0,0,0,0,0,0,0,0,0,0,0,0,0,0,0,0,0,0,0,0,0,0,0,0,0,0,0,0,0,0,0,0,0,0,0,0,0,0,0,0,0,0,0,0,0,0,0,0,0,0,0,0,0,0,0,0,0,0,0,0,0,0,0,0,0,0,0,0,0,0,0,0,0,0,0,0,0,0,0,0,0,0,0,0,0,0,0,0,0,0,0,0,0,0,0,0,0,0,0,0,0,0,0,0,0,0,0,0,0,0,0,0,0,0,0,0,0,0,0,0,0,0,0,0,0,0,0,0,0,0,0,0,0,0,0,0,0,0,0,0,0,0,0,0,0,0,0,0,0,0,0,0,0,0,0,0,0,0,0,0,0,0,0,0,0,0,0,0,0,0,0,0,0,0,0]
[0,0,0,0,0,0,0,0,0,0,0,0,0,0,0,0,0,0,0,0,0,0,0,0,0,0,0,0,0,0,0,0,0,0,0,0,0,0,0,0,0,0,0,0,0,0,0,0,0,0,0,0,0,0,0,0,0,0,0,0,0,0,0,0,0,0,0,0,0,0,0,0,0,0,0,0,0,0,0,0,0,0,0,0,0,0,0,0,0,0,0,0,0,0,0,0,0,0,0,0,0,0,0,0,0,0,0,0,0,0,0,0,0,0,0,0,0,0,0,0,0,0,0,0,0,0,0,0,0,0,0,0,0,0,0,0,0,0,0,0,0,0,0,0,0,0,0,0,0,0,0,0,0,0,0,0,0,0,0,0,0,0,0,0,0,0,0,0,0,0,0,0,0,0,0,0,0,0,0,0,0,0,0,0,0,0,0,0,0,0,0,0,0,0,0,0,0,0,0,0,0,0,0,0,0,0,0,0,0,0,0,0,0,0,0,0,0,0,0,0,0,0,0,0,0,0,0,0,0,0,0,0,0,0,0,0,0,0,0,0,0,0,0,0,0,0,0,0,0,0,0,0,0,0,0,0,0,0,0,0,0,0,0,0,0,0,0,0,0,0,0,0,0,0,0,0,0,0,0,0,0,0,0,0,0,0,0,0,0,0,0,0,0,0,0,0,0,0,0,0,0,0,0,0,0,0,0,0,0,0,0,0]
[0,0,0,0,0,0,0,0,0,0,0,0,0,0,0,0,0,0,0,0,0,0,0,0,0,0,0,0,0,0,0,0,0,0,0,0,0,0,0,0,0,0,0,0,0,0,0,0,0,0,0,0,0,0,0,0,0,0,0,0,0,0,0,0,0,0,0,0,0,0,0,0,0,0,0,0,0,0,0,0,0,0,0,0,0,0,0,0,0,0,0,0,0,0,0,0,0,0,0,0,0,0,0,0,0,0,0,0,0,0,0,0,0,0,0,0,0,0,0,0,0,0,0,0,0,0,0,0,0,0,0,0,0,0,0,0,0,0,0,0,0,0,0,0,0,0,0,0,0,0,0,0,0,0,0,0,0,0,0,0,0,0,0,0,0,0,0,0,0,0,0,0,0,0,0,0,0,0,0,0,0,0,0,0,0,0,0,0,0,0,0,0,0,0,0,0,0,0,0,0,0,0,0,0,0,0,0,0,0,0,0,0,0,0,0,0,0,0,0,0,0,0,0,0,0,0,0,0,0,0,0,0,0,0,0,0,0,0,0,0,0,0,0,0,0,0,0,0,0,0,0,0,0,0,0,0,0,0,0,0,0,0,0,0,0,0,0,0,0,0,0,0,0,0,0,0,0,0,0,0,0,0,0,0,0,0,0,0,0,0,0,0,0,0,0,0,0,0,0,0,0,0,0,0,0,0,0,0,0,0,0,0]
[0,0,0,0,0,0,0,0,0,0,0,0,0,0,0,0,0,0,0,0,0,0,0,0,0,0,0,0,0,0,0,0,0,0,0,0,0,0,0,0,0,0,0,0,0,0,0,0,0,0,0,0,0,0,0,0,0,0,0,0,0,0,0,0,0,0,0,0,0,0,0,0,0,0,0,0,0,0,0,0,0,0,0,0,0,0,0,0,0,0,0,0,0,0,0,0,0,0,0,0,0,0,0,0,0,0,0,0,0,0,0,0,0,0,0,0,0,0,0,0,0,0,0,0,0,0,0,0,0,0,0,0,0,0,0,0,0,0,0,0,0,0,0,0,0,0,0,0,0,0,0,0,0,0,0,0,0,0,0,0,0,0,0,0,0,0,0,0,0,0,0,0,0,0,0,0,0,0,0,0,0,0,0,0,0,0,0,0,0,0,0,0,0,0,0,0,0,0,0,0,0,0,0,0,0,0,0,0,0,0,0,0,0,0,0,0,0,0,0,0,0,0,0,0,0,0,0,0,0,0,0,0,0,0,0,0,0,0,0,0,0,0,0,0,0,0,0,0,0,0,0,0,0,0,0,0,0,0,0,0,0,0,0,0,0,0,0,0,0,0,0,0,0,0,0,0,0,0,0,0,0,0,0,0,0,0,0,0,0,0,0,0,0,0,0,0,0,0,0,0,0,0,0,0,0,0,0,0,0,0,0,0]
[0,0,0,0,0,0,0,0,0,0,0,0,0,0,0,0,0,0,0,0,0,0,0,0,0,0,0,0,0,0,0,0,0,0,0,0,0,0,0,0,0,0,0,0,0,0,0,0,0,0,0,0,0,0,0,0,0,0,0,0,0,0,0,0,0,0,0,0,0,0,0,0,0,0,0,0,0,0,0,0,0,0,0,0,0,0,0,0,0,0,0,0,0,0,0,0,0,0,0,0,0,0,0,0,0,0,0,0,0,0,0,0,0,0,0,0,0,0,0,0,0,0,0,0,0,0,0,0,0,0,0,0,0,0,0,0,0,0,0,0,0,0,0,0,0,0,0,0,0,0,0,0,0,0,0,0,0,0,0,0,0,0,0,0,0,0,0,0,0,0,0,0,0,0,0,0,0,0,0,0,0,0,0,0,0,0,0,0,0,0,0,0,0,0,0,0,0,0,0,0,0,0,0,0,0,0,0,0,0,0,0,0,0,0,0,0,0,0,0,0,0,0,0,0,0,0,0,0,0,0,0,0,0,0,0,0,0,0,0,0,0,0,0,0,0,0,0,0,0,0,0,0,0,0,0,0,0,0,0,0,0,0,0,0,0,0,0,0,0,0,0,0,0,0,0,0,0,0,0,0,0,0,0,0,0,0,0,0,0,0,0,0,0,0,0,0,0,0,0,0,0,0,0,0,0,0,0,0,0,0,0,0]
[0,0,0,0,0,0,0,0,0,0,0,0,0,0,0,0,0,0,0,0,0,0,0,0,0,0,0,0,0,0,0,0,0,0,0,0,0,0,0,0,0,0,0,0,0,0,0,0,0,0,0,0,0,0,0,0,0,0,0,0,0,0,0,0,0,0,0,0,0,0,0,0,0,0,0,0,0,0,0,0,0,0,0,0,0,0,0,0,0,0,0,0,0,0,0,0,0,0,0,0,0,0,0,0,0,0,0,0,0,0,0,0,0,0,0,0,0,0,0,0,0,0,0,0,0,0,0,0,0,0,0,0,0,0,0,0,0,0,0,0,0,0,0,0,0,0,0,0,0,0,0,0,0,0,0,0,0,0,0,0,0,0,0,0,0,0,0,0,0,0,0,0,0,0,0,0,0,0,0,0,0,0,0,0,0,0,0,0,0,0,0,0,0,0,0,0,0,0,0,0,0,0,0,0,0,0,0,0,0,0,0,0,0,0,0,0,0,0,0,0,0,0,0,0,0,0,0,0,0,0,0,0,0,0,0,0,0,0,0,0,0,0,0,0,0,0,0,0,0,0,0,0,0,0,0,0,0,0,0,0,0,0,0,0,0,0,0,0,0,0,0,0,0,0,0,0,0,0,0,0,0,0,0,0,0,0,0,0,0,0,0,0,0,0,0,0,0,0,0,0,0,0,0,0,0,0,0,0,0,0,0,0]
[0,0,0,0,0,0,0,0,0,0,0,0,0,0,0,0,0,0,0,0,0,0,0,0,0,0,0,0,0,0,0,0,0,0,0,0,0,0,0,0,0,0,0,0,0,0,0,0,0,0,0,0,0,0,0,0,0,0,0,0,0,0,0,0,0,0,0,0,0,0,0,0,0,0,0,0,0,0,0,0,0,0,0,0,0,0,0,0,0,0,0,0,0,0,0,0,0,0,0,0,0,0,0,0,0,0,0,0,0,0,0,0,0,0,0,0,0,0,0,0,0,0,0,0,0,0,0,0,0,0,0,0,0,0,0,0,0,0,0,0,0,0,0,0,0,0,0,0,0,0,0,0,0,0,0,0,0,0,0,0,0,0,0,0,0,0,0,0,0,0,0,0,0,0,0,0,0,0,0,0,0,0,0,0,0,0,0,0,0,0,0,0,0,0,0,0,0,0,0,0,0,0,0,0,0,0,0,0,0,0,0,0,0,0,0,0,0,0,0,0,0,0,0,0,0,0,0,0,0,0,0,0,0,0,0,0,0,0,0,0,0,0,0,0,0,0,0,0,0,0,0,0,0,0,0,0,0,0,0,0,0,0,0,0,0,0,0,0,0,0,0,0,0,0,0,0,0,0,0,0,0,0,0,0,0,0,0,0,0,0,0,0,0,0,0,0,0,0,0,0,0,0,0,0,0,0,0,0,0,0,0,0]
[0,0,0,0,0,0,0,0,0,0,0,0,0,0,0,0,0,0,0,0,0,0,0,0,0,0,0,0,0,0,0,0,0,0,0,0,0,0,0,0,0,0,0,0,0,0,0,0,0,0,0,0,0,0,0,0,0,0,0,0,0,0,0,0,0,0,0,0,0,0,0,0,0,0,0,0,0,0,0,0,0,0,0,0,0,0,0,0,0,0,0,0,0,0,0,0,0,0,0,0,0,0,0,0,0,0,0,0,0,0,0,0,0,0,0,0,0,0,0,0,0,0,0,0,0,0,0,0,0,0,0,0,0,0,0,0,0,0,0,0,0,0,0,0,0,0,0,0,0,0,0,0,0,0,0,0,0,0,0,0,0,0,0,0,0,0,0,0,0,0,0,0,0,0,0,0,0,0,0,0,0,0,0,0,0,0,0,0,0,0,0,0,0,0,0,0,0,0,0,0,0,0,0,0,0,0,0,0,0,0,0,0,0,0,0,0,0,0,0,0,0,0,0,0,0,0,0,0,0,0,0,0,0,0,0,0,0,0,0,0,0,0,0,0,0,0,0,0,0,0,0,0,0,0,0,0,0,0,0,0,0,0,0,0,0,0,0,0,0,0,0,0,0,0,0,0,0,0,0,0,0,0,0,0,0,0,0,0,0,0,0,0,0,0,0,0,0,0,0,0,0,0,0,0,0,0,0,0,0,0,0,0]
[0,0,0,0,0,0,0,0,0,0,0,0,0,0,0,0,0,0,0,0,0,0,0,0,0,0,0,0,0,0,0,0,0,0,0,0,0,0,0,0,0,0,0,0,0,0,0,0,0,0,0,0,0,0,0,0,0,0,0,0,0,0,0,0,0,0,0,0,0,0,0,0,0,0,0,0,0,0,0,0,0,0,0,0,0,0,0,0,0,0,0,0,0,0,0,0,0,0,0,0,0,0,0,0,0,0,0,0,0,0,0,0,0,0,0,0,0,0,0,0,0,0,0,0,0,0,0,0,0,0,0,0,0,0,0,0,0,0,0,0,0,0,0,0,0,0,0,0,0,0,0,0,0,0,0,0,0,0,0,0,0,0,0,0,0,0,0,0,0,0,0,0,0,0,0,0,0,0,0,0,0,0,0,0,0,0,0,0,0,0,0,0,0,0,0,0,0,0,0,0,0,0,0,0,0,0,0,0,0,0,0,0,0,0,0,0,0,0,0,0,0,0,0,0,0,0,0,0,0,0,0,0,0,0,0,0,0,0,0,0,0,0,0,0,0,0,0,0,0,0,0,0,0,0,0,0,0,0,0,0,0,0,0,0,0,0,0,0,0,0,0,0,0,0,0,0,0,0,0,0,0,0,0,0,0,0,0,0,0,0,0,0,0,0,0,0,0,0,0,0,0,0,0,0,0,0,0,0,0,0,0,0]
[0,0,0,0,0,0,0,0,0,0,0,0,0,0,0,0,0,0,0,0,0,0,0,0,0,0,0,0,0,0,0,0,0,0,0,0,0,0,0,0,0,0,0,0,0,0,0,0,0,0,0,0,0,0,0,0,0,0,0,0,0,0,0,0,0,0,0,0,0,0,0,0,0,0,0,0,0,0,0,0,0,0,0,0,0,0,0,0,0,0,0,0,0,0,0,0,0,0,0,0,0,0,0,0,0,0,0,0,0,0,0,0,0,0,0,0,0,0,0,0,0,0,0,0,0,0,0,0,0,0,0,0,0,0,0,0,0,0,0,0,0,0,0,0,0,0,0,0,0,0,0,0,0,0,0,0,0,0,0,0,0,0,0,0,0,0,0,0,0,0,0,0,0,0,0,0,0,0,0,0,0,0,0,0,0,0,0,0,0,0,0,0,0,0,0,0,0,0,0,0,0,0,0,0,0,0,0,0,0,0,0,0,0,0,0,0,0,0,0,0,0,0,0,0,0,0,0,0,0,0,0,0,0,0,0,0,0,0,0,0,0,0,0,0,0,0,0,0,0,0,0,0,0,0,0,0,0,0,0,0,0,0,0,0,0,0,0,0,0,0,0,0,0,0,0,0,0,0,0,0,0,0,0,0,0,0,0,0,0,0,0,0,0,0,0,0,0,0,0,0,0,0,0,0,0,0,0,0,0,0,0,0]
[0,0,0,0,0,0,0,0,0,0,0,0,0,0,0,0,0,0,0,0,0,0,0,0,0,0,0,0,0,0,0,0,0,0,0,0,0,0,0,0,0,0,0,0,0,0,0,0,0,0,0,0,0,0,0,0,0,0,0,0,0,0,0,0,0,0,0,0,0,0,0,0,0,0,0,0,0,0,0,0,0,0,0,0,0,0,0,0,0,0,0,0,0,0,0,0,0,0,0,0,0,0,0,0,0,0,0,0,0,0,0,0,0,0,0,0,0,0,0,0,0,0,0,0,0,0,0,0,0,0,0,0,0,0,0,0,0,0,0,0,0,0,0,0,0,0,0,0,0,0,0,0,0,0,0,0,0,0,0,0,0,0,0,0,0,0,0,0,0,0,0,0,0,0,0,0,0,0,0,0,0,0,0,0,0,0,0,0,0,0,0,0,0,0,0,0,0,0,0,0,0,0,0,0,0,0,0,0,0,0,0,0,0,0,0,0,0,0,0,0,0,0,0,0,0,0,0,0,0,0,0,0,0,0,0,0,0,0,0,0,0,0,0,0,0,0,0,0,0,0,0,0,0,0,0,0,0,0,0,0,0,0,0,0,0,0,0,0,0,0,0,0,0,0,0,0,0,0,0,0,0,0,0,0,0,0,0,0,0,0,0,0,0,0,0,0,0,0,0,0,0,0,0,0,0,0,0,0,0,0,0,0]
[0,0,0,0,0,0,0,0,0,0,0,0,0,0,0,0,0,0,0,0,0,0,0,0,0,0,0,0,0,0,0,0,0,0,0,0,0,0,0,0,0,0,0,0,0,0,0,0,0,0,0,0,0,0,0,0,0,0,0,0,0,0,0,0,0,0,0,0,0,0,0,0,0,0,0,0,0,0,0,0,0,0,0,0,0,0,0,0,0,0,0,0,0,0,0,0,0,0,0,0,0,0,0,0,0,0,0,0,0,0,0,0,0,0,0,0,0,0,0,0,0,0,0,0,0,0,0,0,0,0,0,0,0,0,0,0,0,0,0,0,0,0,0,0,0,0,0,0,0,0,0,0,0,0,0,0,0,0,0,0,0,0,0,0,0,0,0,0,0,0,0,0,0,0,0,0,0,0,0,0,0,0,0,0,0,0,0,0,0,0,0,0,0,0,0,0,0,0,0,0,0,0,0,0,0,0,0,0,0,0,0,0,0,0,0,0,0,0,0,0,0,0,0,0,0,0,0,0,0,0,0,0,0,0,0,0,0,0,0,0,0,0,0,0,0,0,0,0,0,0,0,0,0,0,0,0,0,0,0,0,0,0,0,0,0,0,0,0,0,0,0,0,0,0,0,0,0,0,0,0,0,0,0,0,0,0,0,0,0,0,0,0,0,0,0,0,0,0,0,0,0,0,0,0,0,0,0,0,0,0,0,0]
[0,0,0,0,0,0,0,0,0,0,0,0,0,0,0,0,0,0,0,0,0,0,0,0,0,0,0,0,0,0,0,0,0,0,0,0,0,0,0,0,0,0,0,0,0,0,0,0,0,0,0,0,0,0,0,0,0,0,0,0,0,0,0,0,0,0,0,0,0,0,0,0,0,0,0,0,0,0,0,0,0,0,0,0,0,0,0,0,0,0,0,0,0,0,0,0,0,0,0,0,0,0,0,0,0,0,0,0,0,0,0,0,0,0,0,0,0,0,0,0,0,0,0,0,0,0,0,0,0,0,0,0,0,0,0,0,0,0,0,0,0,0,0,0,0,0,0,0,0,0,0,0,0,0,0,0,0,0,0,0,0,0,0,0,0,0,0,0,0,0,0,0,0,0,0,0,0,0,0,0,0,0,0,0,0,0,0,0,0,0,0,0,0,0,0,0,0,0,0,0,0,0,0,0,0,0,0,0,0,0,0,0,0,0,0,0,0,0,0,0,0,0,0,0,0,0,0,0,0,0,0,0,0,0,0,0,0,0,0,0,0,0,0,0,0,0,0,0,0,0,0,0,0,0,0,0,0,0,0,0,0,0,0,0,0,0,0,0,0,0,0,0,0,0,0,0,0,0,0,0,0,0,0,0,0,0,0,0,0,0,0,0,0,0,0,0,0,0,0,0,0,0,0,0,0,0,0,0,0,0,0,0]
[0,0,0,0,0,0,0,0,0,0,0,0,0,0,0,0,0,0,0,0,0,0,0,0,0,0,0,0,0,0,0,0,0,0,0,0,0,0,0,0,0,0,0,0,0,0,0,0,0,0,0,0,0,0,0,0,0,0,0,0,0,0,0,0,0,0,0,0,0,0,0,0,0,0,0,0,0,0,0,0,0,0,0,0,0,0,0,0,0,0,0,0,0,0,0,0,0,0,0,0,0,0,0,0,0,0,0,0,0,0,0,0,0,0,0,0,0,0,0,0,0,0,0,0,0,0,0,0,0,0,0,0,0,0,0,0,0,0,0,0,0,0,0,0,0,0,0,0,0,0,0,0,0,0,0,0,0,0,0,0,0,0,0,0,0,0,0,0,0,0,0,0,0,0,0,0,0,0,0,0,0,0,0,0,0,0,0,0,0,0,0,0,0,0,0,0,0,0,0,0,0,0,0,0,0,0,0,0,0,0,0,0,0,0,0,0,0,0,0,0,0,0,0,0,0,0,0,0,0,0,0,0,0,0,0,0,0,0,0,0,0,0,0,0,0,0,0,0,0,0,0,0,0,0,0,0,0,0,0,0,0,0,0,0,0,0,0,0,0,0,0,0,0,0,0,0,0,0,0,0,0,0,0,0,0,0,0,0,0,0,0,0,0,0,0,0,0,0,0,0,0,0,0,0,0,0,0,0,0,0,0,0]
[]
[]
[]
[]
[]
[]
[]
[]
[]
[]
[]
[]
[]
[]
[]
[]
[]
[]
[]
[]
[]
[]
[]
[]
[]
[]
[]
[]
[]
[]
[]
[]
[]
[]
[]
[]
[]
["Outlay","Outlay","Outlay","Outlay","Outlay","Outlay","Outlay","Outlay","Outlay","Outlay","Outlay","Outlay","Outlay","Outlay","Outlay","Outlay","Outlay","Outlay","Outlay","Outlay","Outlay","Outlay","Outlay","Outlay","Outlay","Outlay","Outlay","Outlay","Outlay","Outlay","Outlay","Outlay","Outlay","Outlay","Outlay","Outlay","Outlay","Outlay","Outlay","Outlay","Outlay","Outlay","Outlay","Outlay","Outlay","Outlay","Outlay","Outlay","Outlay","Outlay","Outlay","Outlay","Outlay","Outlay","Outlay","Outlay","Outlay","Outlay","Outlay","Outlay","Outlay","Outlay","Outlay","Outlay","Outlay","Outlay","Outlay","Outlay","Outlay","Outlay","Outlay","Outlay","Outlay","Outlay","Outlay","Outlay","Outlay","Outlay","Outlay","Outlay","Outlay","Outlay","Outlay","Outlay","Outlay","Outlay","Outlay","Outlay","Outlay","Outlay","Outlay","Outlay","Outlay","Outlay","Outlay","Outlay","Outlay","Outlay","Outlay","Outlay","Outlay","Outlay","Outlay","Outlay","Outlay","Outlay","Outlay","Outlay","Outlay","Outlay","Outlay","Outlay","Outlay","Outlay","Outlay","Outlay","Outlay","Outlay","Outlay","Outlay","Outlay","Outlay","Outlay","Outlay","Outlay","Outlay","Outlay","Outlay","Outlay","Outlay","Outlay","Outlay","Outlay","Outlay","Outlay","Outlay","Outlay","Outlay","Outlay","Outlay","Outlay","Outlay","Outlay","Outlay","Outlay","Outlay","Outlay","Outlay","Outlay","Outlay","Outlay","Outlay","Outlay","Outlay","Outlay","Outlay","Outlay","Outlay","Outlay","Outlay","Outlay","Outlay","Outlay","Outlay","Outlay","Outlay","Outlay","Outlay","Outlay","Outlay","Outlay","Outlay","Outlay","Outlay","Outlay","Outlay","Outlay","Outlay","Outlay","Outlay","Outlay","Outlay","Outlay","Outlay","Outlay","Outlay","Outlay","Outlay","Outlay","Outlay","Outlay","Outlay","Outlay","Outlay","Outlay","Outlay","Outlay","Outlay","Outlay","Outlay","Outlay","Outlay","Outlay","Outlay","Outlay","Outlay","Outlay","Outlay","Outlay","Outlay","Outlay","Outlay","Outlay","Outlay","Outlay","Outlay","Outlay","Outlay","Outlay","Outlay","Outlay","Outlay","Outlay","Outlay","Outlay","Outlay","Outlay","Outlay","Outlay","Outlay","Outlay","Outlay","Outlay","Outlay","Outlay","Outlay","Outlay","Outlay","Outlay","Outlay","Outlay","Outlay","Outlay","Outlay","Outlay","Outlay","Outlay","Outlay","Outlay","Outlay","Outlay","Outlay","Outlay","Outlay","Outlay","Outlay","Outlay","Outlay","Outlay","Outlay","Outlay","Outlay","Outlay","Outlay","Outlay","Outlay","Outlay","Outlay","Outlay","Outlay","Outlay","Outlay","Outlay","Outlay","Outlay","Outlay","Outlay","Outlay","Outlay","Outlay","Outlay","Outlay","Outlay","Outlay","Outlay","Outlay","Outlay","Outlay","Outlay","Outlay","Outlay","Outlay","Outlay","Outlay","Outlay","Outlay","Outlay","Outlay","Outlay","Outlay","Outlay","Outlay","Outlay","Outlay","Outlay","Outlay","Outlay","Outlay","Outlay","Outlay","Outlay","Outlay"]
[-25000,-25000,-25000,-25000,-25000,-25000,-25000,-25000,-25000,-25000,-25000,-25000,-25000,-25000,-25000,-25000,-25000,-25000,-25000,-25000,-25000,-25000,-25000,-25000,-25000,-25000,-25000,-25000,-25000,-25000,-25000,-25000,-25000,-25000,-25000,-25000,-25000,-25000,-25000,-25000,-25000,-25000,-25000,-25000,-25000,-25000,-25000,-25000,-25000,-25000,-25000,-25000,-25000,-25000,-25000,-25000,-25000,-25000,-25000,-25000,-25000,-25000,-25000,-25000,-25000,-25000,-25000,-25000,-25000,-25000,-25000,-25000,-25000,-25000,-25000,-25000,-25000,-25000,-25000,-25000,-25000,-25000,-25000,-25000,-25000,-25000,-25000,-25000,-25000,-25000,-25000,-25000,-25000,-25000,-25000,-25000,-25000,-25000,-25000,-25000,-25000,-25000,-25000,-25000,-25000,-25000,-25000,-25000,-25000,-25000,-25000,-25000,-25000,-25000,-25000,-25000,-25000,-25000,-25000,-25000,-25000,-25000,-25000,-25000,-25000,-25000,-25000,-25000,-25000,-25000,-25000,-25000,-25000,-25000,-25000,-25000,-25000,-25000,-25000,-25000,-25000,-25000,-25000,-25000,-25000,-25000,-25000,-25000,-25000,-25000,-25000,-25000,-25000,-25000,-25000,-25000,-25000,-25000,-25000,-25000,-25000,-25000,-25000,-25000,-25000,-25000,-25000,-25000,-25000,-25000,-25000,-25000,-25000,-25000,-25000,-25000,-25000,-25000,-25000,-25000,-25000,-25000,-25000,-25000,-25000,-25000,-25000,-25000,-25000,-25000,-25000,-25000,-25000,-25000,-25000,-25000,-25000,-25000,-25000,-25000,-25000,-25000,-25000,-25000,-25000,-25000,-25000,-25000,-25000,-25000,-25000,-25000,-25000,-25000,-25000,-25000,-25000,-25000,-25000,-25000,-25000,-25000,-25000,-25000,-25000,-25000,-25000,-25000,-25000,-25000,-25000,-25000,-25000,-25000,-25000,-25000,-25000,-25000,-25000,-25000,-25000,-25000,-25000,-25000,-25000,-25000,-25000,-25000,-25000,-25000,-25000,-25000,-25000,-25000,-25000,-25000,-25000,-25000,-25000,-25000,-25000,-25000,-25000,-25000,-25000,-25000,-25000,-25000,-25000,-25000,-25000,-25000,-25000,-25000,-25000,-25000,-25000,-25000,-25000,-25000,-25000,-25000,-25000,-25000,-25000,-25000,-25000,-25000,-25000,-25000,-25000,-25000,-25000,-25000,-25000,-25000,-25000,-25000,-25000,-25000,-25000,-25000,-25000,-25000,-25000,-25000,-25000,-25000,-25000,-25000,-25000,-25000]
[-25000,-25000,-25000,-25000,-25000,-25000,-25000,-25000,-25000,-25000,-25000,-25000,-25000,-25000,-25000,-25000,-25000,-25000,-25000,-25000,-25000,-25000,-25000,-25000,-25000,-25000,-25000,-25000,-25000,-25000,-25000,-25000,-25000,-25000,-25000,-25000,-25000,-25000,-25000,-25000,-25000,-25000,-25000,-25000,-25000,-25000,-25000,-25000,-25000,-25000,-25000,-25000,-25000,-25000,-25000,-25000,-25000,-25000,-25000,-25000,-25000,-25000,-25000,-25000,-25000,-25000,-25000,-25000,-25000,-25000,-25000,-25000,-25000,-25000,-25000,-25000,-25000,-25000,-25000,-25000,-25000,-25000,-25000,-25000,-25000,-25000,-25000,-25000,-25000,-25000,-25000,-25000,-25000,-25000,-25000,-25000,-25000,-25000,-25000,-25000,-25000,-25000,-25000,-25000,-25000,-25000,-25000,-25000,-25000,-25000,-25000,-25000,-25000,-25000,-25000,-25000,-25000,-25000,-25000,-25000,-25000,-25000,-25000,-25000,-25000,-25000,-25000,-25000,-25000,-25000,-25000,-25000,-25000,-25000,-25000,-25000,-25000,-25000,-25000,-25000,-25000,-25000,-25000,-25000,-25000,-25000,-25000,-25000,-25000,-25000,-25000,-25000,-25000,-25000,-25000,-25000,-25000,-25000,-25000,-25000,-25000,-25000,-25000,-25000,-25000,-25000,-25000,-25000,-25000,-25000,-25000,-25000,-25000,-25000,-25000,-25000,-25000,-25000,-25000,-25000,-25000,-25000,-25000,-25000,-25000,-25000,-25000,-25000,-25000,-25000,-25000,-25000,-25000,-25000,-25000,-25000,-25000,-25000,-25000,-25000,-25000,-25000,-25000,-25000,-25000,-25000,-25000,-25000,-25000,-25000,-25000,-25000,-25000,-25000,-25000,-25000,-25000,-25000,-25000,-25000,-25000,-25000,-25000,-25000,-25000,-25000,-25000,-25000,44040.65,139456.68,29009.21,129476.51,-25000,-25000,-25000,-25000,-25000,-25000,-25000,-25000,38171.339999999997,24895.35,25168.97,16476.16,-25000,-25000,-25000,-25000,-25000,-25000,-25000,-25000,32800.699999999997,20859.73,21659.29,13816.18,-25000,-25000,-25000,-25000,-25000,-25000,-25000,-25000,27821.55,17218.98,18389.919999999998,11410.74,-25000,-25000,-25000,-25000,-25000,-25000,-25000,-25000,23212.46,13943.88,15352.79,9240.2000000000007,-25000,-25000,-25000,-25000,-25000,-25000,-25000,-25000,23072.66,13801.8,15265.32,9145.64,42586.559999999998,137989.38,28060.13,128521.89,-25000,-25000,-25000,-25000,22955.07,13682.84,15193.65,9069.91,36951.19,23649.54,24384.37,15675.51,-25000,-25000,-25000,-25000]
[-25000,-25000,-25000,-25000,-25000,-25000,-25000,-25000,-25000,-25000,-25000,-25000,-25000,-25000,-25000,-25000,-25000,-25000,-25000,-25000,-25000,-25000,-25000,-25000,-25000,-25000,-25000,-25000,-25000,-25000,-25000,-25000,-25000,-25000,-25000,-25000,-25000,-25000,-25000,-25000,-25000,-25000,-25000,-25000,-25000,-25000,-25000,-25000,-25000,-25000,-25000,-25000,-25000,-25000,-25000,-25000,-25000,-25000,-25000,-25000,-25000,-25000,-25000,-25000,-25000,-25000,-25000,-25000,-25000,-25000,-25000,-25000,-25000,-25000,-25000,-25000,-25000,-25000,-25000,-25000,-25000,-25000,-25000,-25000,-25000,-25000,-25000,-25000,-25000,-25000,-25000,-25000,-25000,-25000,-25000,-25000,-25000,-25000,-25000,-25000,-25000,-25000,-25000,-25000,-25000,-25000,-25000,-25000,-25000,-25000,-25000,-25000,-25000,-25000,-25000,-25000,-25000,-25000,-25000,-25000,-25000,-25000,-25000,-25000,-25000,-25000,-25000,-25000,-25000,-25000,-25000,-25000,-25000,-25000,-25000,-25000,-25000,-25000,-25000,-25000,-25000,-25000,-25000,-25000,-25000,-25000,-25000,-25000,-25000,-25000,-25000,-25000,-25000,-25000,-25000,-25000,87912.3,235830.14,57858.879999999997,213439.56,-25000,-25000,-25000,-25000,-25000,-25000,-25000,-25000,79493.5,58719.96,52286.53,38732.78,-25000,-25000,-25000,-25000,-25000,-25000,-25000,-25000,71583.19,52118.86,47060.04,34363.57,-25000,-25000,-25000,-25000,-25000,-25000,-25000,-25000,64126.25,45800.24,42142.47,30205.51,-25000,-25000,-25000,-25000,-25000,-25000,-25000,-25000,57026.41,39911.1,37492.15,26341.88,-25000,-25000,-25000,-25000,-25000,-25000,-25000,-25000,50322.45,34460.589999999997,33113.629999999997,22760.31,85916.87,233859.09,56598.16,212162.12,-25000,-25000,-25000,-25000,44040.65,29456.68,29009.21,19476.509999999998,77420.69,56683.78,50973.24,37403.61,-25000,-25000,-25000,-25000,38171.339999999997,24895.35,25168.97,16476.16,69479.149999999994,50056.52,45713.61,33006.93,-25000,-25000,-25000,-25000,32800.699999999997,20859.73,21659.29,13816.18,62131.25,43842.720000000001,40859.58,28917.18,-25000,-25000,-25000,-25000,27821.55,17218.98,18389.919999999998,11410.74,55184.63,38082.28,36295.769999999997,25138.55,-25000,-25000,-25000,-25000,0,0,15352.79,9240.2000000000007,48674.79,32808.800000000003,32033.02,21679.3,82775.73,230682.2,54613.22,210117.5,0,0,15265.32,9145.64,42586.559999999998,27989.38,28060.13,18521.89,74550.3,53779.91,49160.89,35535.440000000002,0,0,15193.65,9069.91,36951.19,23649.54,24384.37,15675.51,66952.160000000003,47493.07,44120.55,31360.18]
[-25000,-25000,-25000,-25000,-25000,-25000,-25000,-25000,-25000,-25000,-25000,-25000,-25000,-25000,-25000,-25000,-25000,-25000,-25000,-25000,-25000,-25000,-25000,-25000,-25000,-25000,-25000,-25000,-25000,-25000,-25000,-25000,-25000,-25000,-25000,-25000,-25000,-25000,-25000,-25000,-25000,-25000,-25000,-25000,-25000,-25000,-25000,-25000,-25000,-25000,-25000,-25000,-25000,-25000,-25000,-25000,-25000,-25000,-25000,-25000,-25000,-25000,-25000,-25000,-25000,-25000,-25000,-25000,-25000,-25000,-25000,-25000,-25000,-25000,-25000,-25000,-25000,-25000,-25000,-25000,-25000,-25000,-25000,-25000,-25000,-25000,-25000,-25000,-25000,-25000,-25000,-25000,-25000,-25000,-25000,-25000,139036.79999999999,330362.98,91684.03,292912.69,-25000,-25000,-25000,-25000,-25000,-25000,-25000,-25000,127479.73,100120.7,84035.14,66136.399999999994,-25000,-25000,-25000,-25000,-25000,-25000,-25000,-25000,116608.42,90563.06,76851.19,59822.66,-25000,-25000,-25000,-25000,-25000,-25000,-25000,-25000,106438.27,81715.88,70121.97,53962.09,-25000,-25000,-25000,-25000,-25000,-25000,-25000,-25000,96883.46,73484.649999999994,63801.46,48508.51,-25000,-25000,-25000,-25000,-25000,-25000,-25000,-25000,87912.3,65830.14,57858.879999999997,43439.56,137820.10999999999,329129.55,90824.19,292109.38,-25000,-25000,-25000,-25000,79493.5,58719.96,52286.53,38732.78,126010.15,98644.19,83106.45,65239.4,-25000,-25000,-25000,-25000,71583.19,52118.86,47060.04,34363.57,114937.3,88898.15,75841.759999999995,58777.31,-25000,-25000,-25000,-25000,64126.25,45800.24,42142.47,30205.51,104638.2,79926.2,69015.63,52823.63,-25000,-25000,-25000,-25000,57026.41,39911.1,37492.15,26341.88,94993.2,71613.850000000006,62619,47306.92,-25000,-25000,-25000,-25000,0,0,33113.629999999997,22760.31,85916.87,63859.09,56598.16,42162.12,134448.26,325717.83,88177.4,289501.37,0,0,29009.21,19476.509999999998,77420.69,56683.78,50973.24,37403.61,122466.21,95068.78,80445.399999999994,62642.49,0,0,25168.97,16476.16,69479.149999999994,50056.52,45713.61,33006.93,111275.4,85203.77,73220.789999999994,56280.83,0,0,21659.29,13816.18,62131.25,43842.720000000001,40859.58,28917.18,101084.92,76346.55,66637.42,50521.06,0,0,18389.919999999998,11410.74,55184.63,38082.28,36295.769999999997,25138.55,91605.24,68186.509999999995,60472.44,45106.42,0,0,15352.79,9240.2000000000007,0,0,32033.02,21679.3,82775.73,60682.2,54613.22,40117.5,0,0,15265.32,9145.64,0,0,28060.13,18521.89,74550.3,53779.91,49160.89,35535.440000000002,0,0,15193.65,9069.91,0,0,24384.37,15675.51,66952.160000000003,47493.07,44120.55,31360.18]
[-25000,-25000,-25000,-25000,-25000,-25000,-25000,-25000,-25000,-25000,-25000,-25000,-25000,-25000,-25000,-25000,-25000,-25000,-25000,-25000,-25000,-25000,-25000,-25000,-25000,-25000,-25000,-25000,-25000,-25000,-25000,-25000,-25000,-25000,-25000,-25000,210175.03,444881.7,138758.5,385624.55,-25000,-25000,-25000,-25000,-25000,-25000,-25000,-25000,194055.21,160092.54,128096.71,105838.56,-25000,-25000,-25000,-25000,-25000,-25000,-25000,-25000,178940.18,146304.54999999999,118091.28,96714.62,-25000,-25000,-25000,-25000,-25000,-25000,-25000,-25000,164761.17000000001,133451.85999999999,108705.57,88206.15,-25000,-25000,-25000,-25000,-25000,-25000,-25000,-25000,151474.91,121480.89,99913.7,80277.03,-25000,-25000,-25000,-25000,-25000,-25000,-25000,-25000,139036.79999999999,110362.98,91684.03,72912.69,209039.67,443714.57,137392.37,384311.65,-25000,-25000,-25000,-25000,127479.73,100120.7,84035.14,66136.399999999994,193027.98,159039.53,126926.76,104724.37,-25000,-25000,-25000,-25000,116608.42,90563.06,76851.19,59822.66,178027.17,145362.99,117098.81,95777.36,-25000,-25000,-25000,-25000,106438.27,81715.88,70121.97,53962.09,163776.38,132443.16,107786.87,87337.69,-25000,-25000,-25000,-25000,96883.46,73484.649999999994,63801.46,48508.51,150391.29,120378.24000000001,99041.5,79457.429999999993,-25000,-25000,-25000,-25000,0,0,57858.879999999997,43439.56,137820.10999999999,109129.55,90824.19,72109.38,207099.96,441711.73,135052.87,381998.77,0,0,52286.53,38732.78,126010.15,98644.19,83106.45,65239.4,190693.89,156642.12,124468.89,102300.98,0,0,47060.04,34363.57,114937.3,88898.15,75841.759999999995,58777.31,175308.08,142592.82999999999,114542.72,93257.66,0,0,42142.47,30205.51,104638.2,79926.2,69015.63,52823.63,160825.79,129441,105199.84,84782.27,0,0,37492.15,26341.88,94993.2,71613.850000000006,62619,47306.92,147253.03,117199.4,96448.74,76894.58,0,0,33113.629999999997,22760.31,0,0,56598.16,42162.12,134448.26,105717.83,88177.4,69501.37,0,0,29009.21,19476.509999999998,0,0,50973.24,37403.61,122466.21,95068.78,80445.399999999994,62642.49,0,0,25168.97,16476.16,0,0,45713.61,33006.93,111275.4,85203.77,73220.789999999994,56280.83,0,0,21659.29,13816.18,0,0,40859.58,28917.18,101084.92,76346.55,66637.42,50521.06,0,0,18389.919999999998,11410.74,0,0,36295.769999999997,25138.55,91605.24,68186.509999999995,60472.44,45106.42,0,0,0,0,0,0,32033.02,21679.3,0,0,54613.22,40117.5,0,0,0,0,0,0,28060.13,18521.89,0,0,49160.89,35535.440000000002,0,0,0,0,0,0,24384.37,15675.51,0,0,44120.55,31360.18]
[265071.82,225817.92,175083.99,149335.70000000001,-25000,-25000,-25000,-25000,-25000,-25000,-25000,-25000,245623.26,207674.12,162201.03,137327.35,356784.54,652131.53,234025.31,544789.97,-25000,-25000,-25000,-25000,227344.9,190721.14,150108.21,126105.39,331418.26,288108.89,217434.48,189080.25,-25000,-25000,-25000,-25000,210175.03,174881.7,138758.5,115624.55,307624.27,265657.09999999998,201878.09,174400.55,-25000,-25000,-25000,-25000,194055.21,160092.54,128096.71,105838.56,285279.84999999998,244647.94,187256.03,160668.46,-25000,-25000,-25000,-25000,178940.18,146304.54999999999,118091.28,96714.62,264335.3,225038.53,173544.48,147848.03,-25000,-25000,-25000,-25000,0,0,108705.57,88206.15,244702.22,206713.45,160693.31,135871.65,355385.23,650682.89,230636.79,541439.53,0,0,99913.7,80277.03,226289.16,189634.1,148659.13,124710.22,329840.64000000001,286458.3,214169.03,185849.77,0,0,91684.03,72912.69,209039.67,173714.57,137392.37,114311.65,305923.13,263880.78000000003,198759.07,171320.81,0,0,84035.14,66136.399999999994,193027.98,159039.53,126926.76,104724.37,283712.71999999997,243000.33,184434.75,157886.96,0,0,76851.19,59822.66,178027.17,145362.99,117098.81,95777.36,262980.42,223601.12,171049.48,145380.37,0,0,70121.97,53962.09,0,0,107786.87,87337.69,243208.23,205146.28,158302.97,133508.60999999999,0,0,63801.46,48508.51,0,0,99041.5,79457.429999999993,224605.48,187883.58,146322.03,122401.51,0,0,57858.879999999997,43439.56,0,0,90824.19,72109.38,207099.96,171711.73,135052.87,111998.77,0,0,52286.53,38732.78,0,0,83106.45,65239.4,190693.89,156642.12,124468.89,102300.98,0,0,47060.04,34363.57,0,0,75841.759999999995,58777.31,175308.08,142592.82999999999,114542.72,93257.66,0,0,0,0,0,0,69015.63,52823.63,0,0,105199.84,84782.27,0,0,0,0,0,0,62619,47306.92,0,0,96448.74,76894.58,0,0,0,0,0,0,56598.16,42162.12,0,0,88177.4,69501.37,0,0,0,0,0,0,50973.24,37403.61,0,0,80445.399999999994,62642.49,0,0,0,0,0,0,45713.61,33006.93,0,0,73220.789999999994,56280.83,0,0,0,0,0,0,0,0,0,0,66637.42,50521.06,0,0,0,0,0,0,0,0,0,0,60472.44,45106.42,0,0,0,0,0,0,0,0,0,0,54613.22,40117.5,0,0,0,0,0,0,0,0,0,0,49160.89,35535.440000000002,0,0,0,0,0,0,0,0,0,0,44120.55,31360.18]
[265071.82,225817.92,175083.99,149335.70000000001,383825.87,337821.07,251707.15,221587.55,-25000,-25000,-25000,-25000,0,0,162201.03,137327.35,356784.54,312131.53000000003,234025.31,204789.97,510883.13,849452.05,331128.58,687506.93,0,0,150108.21,126105.39,331418.26,288108.89,217434.48,189080.25,475671.8,425559.72,308370.23,275635.98,0,0,138758.5,115624.55,307624.27,265657.09999999998,201878.09,174400.55,442630.12,393883.02,287023.40000000002,255177.87,0,0,128096.71,105838.56,285279.84999999998,244647.94,187256.03,160668.46,411636.4,364249.57,266995.94,236036.89,0,0,118091.28,96714.62,264335.3,225038.53,173544.48,147848.03,382593.09,336557.34,248225.75,218146.53,0,0,108705.57,88206.15,0,0,160693.31,135871.65,355385.23,310682.89,230636.79,201439.53,0,0,99913.7,80277.03,0,0,148659.13,124710.22,329840.64000000001,286458.3,214169.03,185849.77,0,0,91684.03,72912.69,0,0,137392.37,114311.65,305923.13,263880.78000000003,198759.07,171320.81,0,0,84035.14,66136.399999999994,0,0,126926.76,104724.37,283712.71999999997,243000.33,184434.75,157886.96,0,0,76851.19,59822.66,0,0,117098.81,95777.36,262980.42,223601.12,171049.48,145380.37,0,0,0,0,0,0,107786.87,87337.69,0,0,158302.97,133508.60999999999,0,0,0,0,0,0,99041.5,79457.429999999993,0,0,146322.03,122401.51,0,0,0,0,0,0,90824.19,72109.38,0,0,135052.87,111998.77,0,0,0,0,0,0,83106.45,65239.4,0,0,124468.89,102300.98,0,0,0,0,0,0,75841.759999999995,58777.31,0,0,114542.72,93257.66,0,0,0,0,0,0,0,0,0,0,105199.84,84782.27,0,0,0,0,0,0,0,0,0,0,96448.74,76894.58,0,0,0,0,0,0,0,0,0,0,88177.4,69501.37,0,0,0,0,0,0,0,0,0,0,80445.399999999994,62642.49,0,0,0,0,0,0,0,0,0,0,73220.789999999994,56280.83,0,0,0,0,0,0,0,0,0,0,0,0,0,0,0,0,0,0,0,0,0,0,0,0,0,0,0,0,0,0,0,0,0,0,0,0,0,0,0,0,0,0,0,0,0,0,0,0,0,0,0,0,0,0,0,0,0,0,0,0]
[0,0,175083.99,149335.70000000001,383825.87,337821.07,251707.15,221587.55,548435.57999999996,895690.35,355372.77,720869.28,0,0,162201.03,137327.35,356784.54,312131.53000000003,234025.31,204789.97,510883.13,459452.05,331128.58,297506.93,0,0,150108.21,126105.39,331418.26,288108.89,217434.48,189080.25,475671.8,425559.72,308370.23,275635.98,0,0,138758.5,115624.55,307624.27,265657.09999999998,201878.09,174400.55,442630.12,393883.02,287023.40000000002,255177.87,0,0,128096.71,105838.56,285279.84999999998,244647.94,187256.03,160668.46,411636.4,364249.57,266995.94,236036.89,0,0,118091.28,96714.62,0,0,173544.48,147848.03,382593.09,336557.34,248225.75,218146.53,0,0,108705.57,88206.15,0,0,160693.31,135871.65,355385.23,310682.89,230636.79,201439.53,0,0,99913.7,80277.03,0,0,148659.13,124710.22,329840.64000000001,286458.3,214169.03,185849.77,0,0,91684.03,72912.69,0,0,137392.37,114311.65,305923.13,263880.78000000003,198759.07,171320.81,0,0,84035.14,66136.399999999994,0,0,126926.76,104724.37,283712.71999999997,243000.33,184434.75,157886.96,0,0,0,0,0,0,117098.81,95777.36,0,0,171049.48,145380.37,0,0,0,0,0,0,107786.87,87337.69,0,0,158302.97,133508.60999999999,0,0,0,0,0,0,99041.5,79457.429999999993,0,0,146322.03,122401.51,0,0,0,0,0,0,90824.19,72109.38,0,0,135052.87,111998.77,0,0,0,0,0,0,83106.45,65239.4,0,0,124468.89,102300.98,0,0,0,0,0,0,0,0,0,0,114542.72,93257.66,0,0,0,0,0,0,0,0,0,0,105199.84,84782.27,0,0,0,0,0,0,0,0,0,0,96448.74,76894.58,0,0,0,0,0,0,0,0,0,0,88177.4,69501.37,0,0,0,0,0,0,0,0,0,0,80445.399999999994,62642.49,0,0,0,0,0,0,0,0,0,0,0,0,0,0,0,0,0,0,0,0,0,0,0,0,0,0,0,0,0,0,0,0,0,0,0,0,0,0,0,0,0,0,0,0,0,0,0,0,0,0,0,0,0,0,0,0,0,0,0,0,0,0,0,0,0,0,0,0,0,0,0,0]
[0,0,175083.99,149335.70000000001,0,0,251707.15,221587.55,548435.57999999996,495690.35,355372.77,320869.28000000003,0,0,162201.03,137327.35,0,0,234025.31,204789.97,510883.13,459452.05,331128.58,297506.93,0,0,150108.21,126105.39,0,0,217434.48,189080.25,475671.8,425559.72,308370.23,275635.98,0,0,138758.5,115624.55,0,0,201878.09,174400.55,442630.12,393883.02,287023.40000000002,255177.87,0,0,128096.71,105838.56,0,0,187256.03,160668.46,411636.4,364249.57,266995.94,236036.89,0,0,0,0,0,0,173544.48,147848.03,0,0,248225.75,218146.53,0,0,0,0,0,0,160693.31,135871.65,0,0,230636.79,201439.53,0,0,0,0,0,0,148659.13,124710.22,0,0,214169.03,185849.77,0,0,0,0,0,0,137392.37,114311.65,0,0,198759.07,171320.81,0,0,0,0,0,0,126926.76,104724.37,0,0,184434.75,157886.96,0,0,0,0,0,0,0,0,0,0,171049.48,145380.37,0,0,0,0,0,0,0,0,0,0,158302.97,133508.60999999999,0,0,0,0,0,0,0,0,0,0,146322.03,122401.51,0,0,0,0,0,0,0,0,0,0,135052.87,111998.77,0,0,0,0,0,0,0,0,0,0,124468.89,102300.98,0,0,0,0,0,0,0,0,0,0,0,0,0,0,0,0,0,0,0,0,0,0,0,0,0,0,0,0,0,0,0,0,0,0,0,0,0,0,0,0,0,0,0,0,0,0,0,0,0,0,0,0,0,0,0,0,0,0,0,0,0,0,0,0,0,0,0,0,0,0,0,0,0,0,0,0,0,0,0,0,0,0,0,0,0,0,0,0,0,0,0,0,0,0,0,0,0,0,0,0,0,0,0,0,0,0,0,0,0,0,0,0,0,0,0,0,0,0,0,0,0,0,0,0,0,0,0,0,0,0,0,0]
[0,0,0,0,0,0,251707.15,221587.55,0,0,355372.77,320869.28000000003,0,0,0,0,0,0,234025.31,204789.97,0,0,331128.58,297506.93,0,0,0,0,0,0,217434.48,189080.25,0,0,308370.23,275635.98,0,0,0,0,0,0,201878.09,174400.55,0,0,287023.40000000002,255177.87,0,0,0,0,0,0,187256.03,160668.46,0,0,266995.94,236036.89,0,0,0,0,0,0,0,0,0,0,248225.75,218146.53,0,0,0,0,0,0,0,0,0,0,230636.79,201439.53,0,0,0,0,0,0,0,0,0,0,214169.03,185849.77,0,0,0,0,0,0,0,0,0,0,198759.07,171320.81,0,0,0,0,0,0,0,0,0,0,184434.75,157886.96,0,0,0,0,0,0,0,0,0,0,0,0,0,0,0,0,0,0,0,0,0,0,0,0,0,0,0,0,0,0,0,0,0,0,0,0,0,0,0,0,0,0,0,0,0,0,0,0,0,0,0,0,0,0,0,0,0,0,0,0,0,0,0,0,0,0,0,0,0,0,0,0,0,0,0,0,0,0,0,0,0,0,0,0,0,0,0,0,0,0,0,0,0,0,0,0,0,0,0,0,0,0,0,0,0,0,0,0,0,0,0,0,0,0,0,0,0,0,0,0,0,0,0,0,0,0,0,0,0,0,0,0,0,0,0,0,0,0,0,0,0,0,0,0,0,0,0,0,0,0,0,0,0,0,0,0,0,0,0,0,0,0,0,0,0,0,0,0,0,0,0,0,0,0,0,0,0,0,0,0,0,0,0,0,0,0,0,0,0,0,0,0]
[0,0,0,0,0,0,0,0,0,0,355372.77,320869.28000000003,0,0,0,0,0,0,0,0,0,0,0,0,0,0,0,0,0,0,0,0,0,0,0,0,0,0,0,0,0,0,0,0,0,0,0,0,0,0,0,0,0,0,0,0,0,0,0,0,0,0,0,0,0,0,0,0,0,0,0,0,0,0,0,0,0,0,0,0,0,0,0,0,0,0,0,0,0,0,0,0,0,0,0,0,0,0,0,0,0,0,0,0,0,0,0,0,0,0,0,0,0,0,0,0,0,0,0,0,0,0,0,0,0,0,0,0,0,0,0,0,0,0,0,0,0,0,0,0,0,0,0,0,0,0,0,0,0,0,0,0,0,0,0,0,0,0,0,0,0,0,0,0,0,0,0,0,0,0,0,0,0,0,0,0,0,0,0,0,0,0,0,0,0,0,0,0,0,0,0,0,0,0,0,0,0,0,0,0,0,0,0,0,0,0,0,0,0,0,0,0,0,0,0,0,0,0,0,0,0,0,0,0,0,0,0,0,0,0,0,0,0,0,0,0,0,0,0,0,0,0,0,0,0,0,0,0,0,0,0,0,0,0,0,0,0,0,0,0,0,0,0,0,0,0,0,0,0,0,0,0,0,0,0,0,0,0,0,0,0,0,0,0,0,0,0,0,0,0,0,0,0,0,0,0,0,0,0,0,0,0,0,0,0,0,0,0,0,0,0,0]
[0,0,0,0,0,0,0,0,0,0,0,0,0,0,0,0,0,0,0,0,0,0,0,0,0,0,0,0,0,0,0,0,0,0,0,0,0,0,0,0,0,0,0,0,0,0,0,0,0,0,0,0,0,0,0,0,0,0,0,0,0,0,0,0,0,0,0,0,0,0,0,0,0,0,0,0,0,0,0,0,0,0,0,0,0,0,0,0,0,0,0,0,0,0,0,0,0,0,0,0,0,0,0,0,0,0,0,0,0,0,0,0,0,0,0,0,0,0,0,0,0,0,0,0,0,0,0,0,0,0,0,0,0,0,0,0,0,0,0,0,0,0,0,0,0,0,0,0,0,0,0,0,0,0,0,0,0,0,0,0,0,0,0,0,0,0,0,0,0,0,0,0,0,0,0,0,0,0,0,0,0,0,0,0,0,0,0,0,0,0,0,0,0,0,0,0,0,0,0,0,0,0,0,0,0,0,0,0,0,0,0,0,0,0,0,0,0,0,0,0,0,0,0,0,0,0,0,0,0,0,0,0,0,0,0,0,0,0,0,0,0,0,0,0,0,0,0,0,0,0,0,0,0,0,0,0,0,0,0,0,0,0,0,0,0,0,0,0,0,0,0,0,0,0,0,0,0,0,0,0,0,0,0,0,0,0,0,0,0,0,0,0,0,0,0,0,0,0,0,0,0,0,0,0,0,0,0,0,0,0,0,0]
[0,0,0,0,0,0,0,0,0,0,0,0,0,0,0,0,0,0,0,0,0,0,0,0,0,0,0,0,0,0,0,0,0,0,0,0,0,0,0,0,0,0,0,0,0,0,0,0,0,0,0,0,0,0,0,0,0,0,0,0,0,0,0,0,0,0,0,0,0,0,0,0,0,0,0,0,0,0,0,0,0,0,0,0,0,0,0,0,0,0,0,0,0,0,0,0,0,0,0,0,0,0,0,0,0,0,0,0,0,0,0,0,0,0,0,0,0,0,0,0,0,0,0,0,0,0,0,0,0,0,0,0,0,0,0,0,0,0,0,0,0,0,0,0,0,0,0,0,0,0,0,0,0,0,0,0,0,0,0,0,0,0,0,0,0,0,0,0,0,0,0,0,0,0,0,0,0,0,0,0,0,0,0,0,0,0,0,0,0,0,0,0,0,0,0,0,0,0,0,0,0,0,0,0,0,0,0,0,0,0,0,0,0,0,0,0,0,0,0,0,0,0,0,0,0,0,0,0,0,0,0,0,0,0,0,0,0,0,0,0,0,0,0,0,0,0,0,0,0,0,0,0,0,0,0,0,0,0,0,0,0,0,0,0,0,0,0,0,0,0,0,0,0,0,0,0,0,0,0,0,0,0,0,0,0,0,0,0,0,0,0,0,0,0,0,0,0,0,0,0,0,0,0,0,0,0,0,0,0,0,0,0]
[0,0,0,0,0,0,0,0,0,0,0,0,0,0,0,0,0,0,0,0,0,0,0,0,0,0,0,0,0,0,0,0,0,0,0,0,0,0,0,0,0,0,0,0,0,0,0,0,0,0,0,0,0,0,0,0,0,0,0,0,0,0,0,0,0,0,0,0,0,0,0,0,0,0,0,0,0,0,0,0,0,0,0,0,0,0,0,0,0,0,0,0,0,0,0,0,0,0,0,0,0,0,0,0,0,0,0,0,0,0,0,0,0,0,0,0,0,0,0,0,0,0,0,0,0,0,0,0,0,0,0,0,0,0,0,0,0,0,0,0,0,0,0,0,0,0,0,0,0,0,0,0,0,0,0,0,0,0,0,0,0,0,0,0,0,0,0,0,0,0,0,0,0,0,0,0,0,0,0,0,0,0,0,0,0,0,0,0,0,0,0,0,0,0,0,0,0,0,0,0,0,0,0,0,0,0,0,0,0,0,0,0,0,0,0,0,0,0,0,0,0,0,0,0,0,0,0,0,0,0,0,0,0,0,0,0,0,0,0,0,0,0,0,0,0,0,0,0,0,0,0,0,0,0,0,0,0,0,0,0,0,0,0,0,0,0,0,0,0,0,0,0,0,0,0,0,0,0,0,0,0,0,0,0,0,0,0,0,0,0,0,0,0,0,0,0,0,0,0,0,0,0,0,0,0,0,0,0,0,0,0,0]
[0,0,0,0,0,0,0,0,0,0,0,0,0,0,0,0,0,0,0,0,0,0,0,0,0,0,0,0,0,0,0,0,0,0,0,0,0,0,0,0,0,0,0,0,0,0,0,0,0,0,0,0,0,0,0,0,0,0,0,0,0,0,0,0,0,0,0,0,0,0,0,0,0,0,0,0,0,0,0,0,0,0,0,0,0,0,0,0,0,0,0,0,0,0,0,0,0,0,0,0,0,0,0,0,0,0,0,0,0,0,0,0,0,0,0,0,0,0,0,0,0,0,0,0,0,0,0,0,0,0,0,0,0,0,0,0,0,0,0,0,0,0,0,0,0,0,0,0,0,0,0,0,0,0,0,0,0,0,0,0,0,0,0,0,0,0,0,0,0,0,0,0,0,0,0,0,0,0,0,0,0,0,0,0,0,0,0,0,0,0,0,0,0,0,0,0,0,0,0,0,0,0,0,0,0,0,0,0,0,0,0,0,0,0,0,0,0,0,0,0,0,0,0,0,0,0,0,0,0,0,0,0,0,0,0,0,0,0,0,0,0,0,0,0,0,0,0,0,0,0,0,0,0,0,0,0,0,0,0,0,0,0,0,0,0,0,0,0,0,0,0,0,0,0,0,0,0,0,0,0,0,0,0,0,0,0,0,0,0,0,0,0,0,0,0,0,0,0,0,0,0,0,0,0,0,0,0,0,0,0,0,0]
[0,0,0,0,0,0,0,0,0,0,0,0,0,0,0,0,0,0,0,0,0,0,0,0,0,0,0,0,0,0,0,0,0,0,0,0,0,0,0,0,0,0,0,0,0,0,0,0,0,0,0,0,0,0,0,0,0,0,0,0,0,0,0,0,0,0,0,0,0,0,0,0,0,0,0,0,0,0,0,0,0,0,0,0,0,0,0,0,0,0,0,0,0,0,0,0,0,0,0,0,0,0,0,0,0,0,0,0,0,0,0,0,0,0,0,0,0,0,0,0,0,0,0,0,0,0,0,0,0,0,0,0,0,0,0,0,0,0,0,0,0,0,0,0,0,0,0,0,0,0,0,0,0,0,0,0,0,0,0,0,0,0,0,0,0,0,0,0,0,0,0,0,0,0,0,0,0,0,0,0,0,0,0,0,0,0,0,0,0,0,0,0,0,0,0,0,0,0,0,0,0,0,0,0,0,0,0,0,0,0,0,0,0,0,0,0,0,0,0,0,0,0,0,0,0,0,0,0,0,0,0,0,0,0,0,0,0,0,0,0,0,0,0,0,0,0,0,0,0,0,0,0,0,0,0,0,0,0,0,0,0,0,0,0,0,0,0,0,0,0,0,0,0,0,0,0,0,0,0,0,0,0,0,0,0,0,0,0,0,0,0,0,0,0,0,0,0,0,0,0,0,0,0,0,0,0,0,0,0,0,0,0]
[0,0,0,0,0,0,0,0,0,0,0,0,0,0,0,0,0,0,0,0,0,0,0,0,0,0,0,0,0,0,0,0,0,0,0,0,0,0,0,0,0,0,0,0,0,0,0,0,0,0,0,0,0,0,0,0,0,0,0,0,0,0,0,0,0,0,0,0,0,0,0,0,0,0,0,0,0,0,0,0,0,0,0,0,0,0,0,0,0,0,0,0,0,0,0,0,0,0,0,0,0,0,0,0,0,0,0,0,0,0,0,0,0,0,0,0,0,0,0,0,0,0,0,0,0,0,0,0,0,0,0,0,0,0,0,0,0,0,0,0,0,0,0,0,0,0,0,0,0,0,0,0,0,0,0,0,0,0,0,0,0,0,0,0,0,0,0,0,0,0,0,0,0,0,0,0,0,0,0,0,0,0,0,0,0,0,0,0,0,0,0,0,0,0,0,0,0,0,0,0,0,0,0,0,0,0,0,0,0,0,0,0,0,0,0,0,0,0,0,0,0,0,0,0,0,0,0,0,0,0,0,0,0,0,0,0,0,0,0,0,0,0,0,0,0,0,0,0,0,0,0,0,0,0,0,0,0,0,0,0,0,0,0,0,0,0,0,0,0,0,0,0,0,0,0,0,0,0,0,0,0,0,0,0,0,0,0,0,0,0,0,0,0,0,0,0,0,0,0,0,0,0,0,0,0,0,0,0,0,0,0,0]
[0,0,0,0,0,0,0,0,0,0,0,0,0,0,0,0,0,0,0,0,0,0,0,0,0,0,0,0,0,0,0,0,0,0,0,0,0,0,0,0,0,0,0,0,0,0,0,0,0,0,0,0,0,0,0,0,0,0,0,0,0,0,0,0,0,0,0,0,0,0,0,0,0,0,0,0,0,0,0,0,0,0,0,0,0,0,0,0,0,0,0,0,0,0,0,0,0,0,0,0,0,0,0,0,0,0,0,0,0,0,0,0,0,0,0,0,0,0,0,0,0,0,0,0,0,0,0,0,0,0,0,0,0,0,0,0,0,0,0,0,0,0,0,0,0,0,0,0,0,0,0,0,0,0,0,0,0,0,0,0,0,0,0,0,0,0,0,0,0,0,0,0,0,0,0,0,0,0,0,0,0,0,0,0,0,0,0,0,0,0,0,0,0,0,0,0,0,0,0,0,0,0,0,0,0,0,0,0,0,0,0,0,0,0,0,0,0,0,0,0,0,0,0,0,0,0,0,0,0,0,0,0,0,0,0,0,0,0,0,0,0,0,0,0,0,0,0,0,0,0,0,0,0,0,0,0,0,0,0,0,0,0,0,0,0,0,0,0,0,0,0,0,0,0,0,0,0,0,0,0,0,0,0,0,0,0,0,0,0,0,0,0,0,0,0,0,0,0,0,0,0,0,0,0,0,0,0,0,0,0,0,0]
[0,0,0,0,0,0,0,0,0,0,0,0,0,0,0,0,0,0,0,0,0,0,0,0,0,0,0,0,0,0,0,0,0,0,0,0,0,0,0,0,0,0,0,0,0,0,0,0,0,0,0,0,0,0,0,0,0,0,0,0,0,0,0,0,0,0,0,0,0,0,0,0,0,0,0,0,0,0,0,0,0,0,0,0,0,0,0,0,0,0,0,0,0,0,0,0,0,0,0,0,0,0,0,0,0,0,0,0,0,0,0,0,0,0,0,0,0,0,0,0,0,0,0,0,0,0,0,0,0,0,0,0,0,0,0,0,0,0,0,0,0,0,0,0,0,0,0,0,0,0,0,0,0,0,0,0,0,0,0,0,0,0,0,0,0,0,0,0,0,0,0,0,0,0,0,0,0,0,0,0,0,0,0,0,0,0,0,0,0,0,0,0,0,0,0,0,0,0,0,0,0,0,0,0,0,0,0,0,0,0,0,0,0,0,0,0,0,0,0,0,0,0,0,0,0,0,0,0,0,0,0,0,0,0,0,0,0,0,0,0,0,0,0,0,0,0,0,0,0,0,0,0,0,0,0,0,0,0,0,0,0,0,0,0,0,0,0,0,0,0,0,0,0,0,0,0,0,0,0,0,0,0,0,0,0,0,0,0,0,0,0,0,0,0,0,0,0,0,0,0,0,0,0,0,0,0,0,0,0,0,0,0]
[]
[]
[]
[]
[]
[]
[]
[]
[]
[]
[]
[]
[]
[]
[]
[]
[]
[]
[]
[]
[]
[]
[]
[]
[]
[]
[]
[]
[]
[]
[]
[]
[]
[]
[]
[]
[]
[]
[105861.98,105861.98,105861.98,105861.98,105861.71,105861.71,105861.71,105861.71,105861.43,105861.43,105861.43,105861.43,105940.75,105940.75,105940.75,105940.75,105940.2,105940.2,105940.2,105940.2,105940.2,105940.2,105940.2,105940.2,106014.68,106014.68,106014.68,106014.68,106014.12,106014.12,106014.12,106014.12,106013.99,106013.99,106013.99,106013.99,106057.7,106057.7,106057.7,106057.7,106057.29,106057.29,106057.29,106057.29,106057.03,106057.03,106057.03,106057.03,106070.92,106070.92,106070.92,106070.92,106070.52,106070.52,106070.52,106070.52,106070.1,106070.1,106070.1,106070.1,106029.28,106029.28,106029.28,106029.28,106028.72,106028.72,106028.72,106028.72,106028.57,106028.57,106028.57,106028.57,105935.85,105935.85,105935.85,105935.85,105935.17,105935.17,105935.17,105935.17,105934.89,105934.89,105934.89,105934.89,105824.97,105824.97,105824.97,105824.97,105824.16,105824.16,105824.16,105824.16,105824.01,105824.01,105824.01,105824.01,105665.58,105665.58,105665.58,105665.58,105667.51,105667.51,105667.51,105667.51,105667.11,105667.11,105667.11,105667.11,105800.13,105800.13,105800.13,105800.13,105801.78,105801.78,105801.78,105801.78,105801.35,105801.35,105801.35,105801.35,105711.69,105711.69,105711.69,105711.69,105713.32,105713.32,105713.32,105713.32,105712.77,105712.77,105712.77,105712.77,105859.25,105859.25,105859.25,105859.25,105858.29,105858.29,105858.29,105858.29,105860.21,105860.21,105860.21,105860.21,105920.91,105920.91,105920.91,105920.91,105919.94,105919.94,105919.94,105919.94,105921.73,105921.73,105921.73,105921.73,105882.53,105882.53,105882.53,105882.53,105881.71,105881.71,105881.71,105881.71,105880.9,105880.9,105880.9,105880.9,105782.07,105782.07,105782.07,105782.07,105780.86,105780.86,105780.86,105780.86,105780.16,105780.16,105780.16,105780.16,105663,105663,105663,105663,105664.11,105664.11,105664.11,105664.11,105663.4,105663.4,105663.4,105663.4,105598.8,105598.8,105598.8,105598.8,105597.05,105597.05,105597.05,105597.05,105596.24,105596.24,105596.24,105596.24,105501.19,105501.19,105501.19,105501.19,105501.19,105501.19,105501.19,105501.19,105501.19,105501.19,105501.19,105501.19,105310.28,105310.28,105310.28,105310.28,105310.28,105310.28,105310.28,105310.28,105310.28,105310.28,105310.28,105310.28,105026.58,105026.58,105026.58,105026.58,105026.58,105026.58,105026.58,105026.58,105026.58,105026.58,105026.58,105026.58,104640.07,104640.07,104640.07,104640.07,104640.07,104640.07,104640.07,104640.07,104640.07,104640.07,104640.07,104640.07,104350.95,104350.95,104350.95,104350.95,104350.95,104350.95,104350.95,104350.95,104350.95,104350.95,104350.95,104350.95,104013.86,104013.86,104013.86,104013.86,104013.86,104013.86,104013.86,104013.86,104013.86,104013.86,104013.86,104013.86,103661.6,103661.6,103661.6,103661.6,103661.74,103661.74,103661.74,103661.74,103661.74,103661.74,103661.74,103661.74,103318.24,103318.24,103318.24,103318.24,103318.24,103318.24,103318.24,103318.24,103318.24,103318.24,103318.24,103318.24,103051.44,103051.44,103051.44,103051.44,103051.44,103051.44,103051.44,103051.44,103051.44,103051.44,103051.44,103051.44]
[284800.09000000003,284800.09000000003,284800.09000000003,284800.09000000003,284799.3,284799.3,284799.3,284799.3,284798.51,284798.51,284798.51,284798.51,284812.40999999997,284812.40999999997,284812.40999999997,284812.40999999997,284811.09999999998,284811.09999999998,284811.09999999998,284811.09999999998,284810.53999999998,284810.53999999998,284810.53999999998,284810.53999999998,284749.14,284749.14,284749.14,284749.14,284747.65999999997,284747.65999999997,284747.65999999997,284747.65999999997,284747.34999999998,284747.34999999998,284747.34999999998,284747.34999999998,284600.84999999998,284600.84999999998,284600.84999999998,284600.84999999998,284599.56,284599.56,284599.56,284599.56,284598.61,284598.61,284598.61,284598.61,284332.96999999997,284332.96999999997,284332.96999999997,284332.96999999997,284331.58,284331.58,284331.58,284331.58,284330.42,284330.42,284330.42,284330.42,284072.3,284072.3,284072.3,284072.3,284070.81,284070.81,284070.81,284070.81,284069.87,284069.87,284069.87,284069.87,283821.14,283821.14,283821.14,283821.14,283819.21999999997,283819.21999999997,283819.21999999997,283819.21999999997,283818.26,283818.26,283818.26,283818.26,283594.92,283594.92,283594.92,283594.92,283592.68,283592.68,283592.68,283592.68,283591.93,283591.93,283591.93,283591.93,283410.71000000002,283410.71000000002,283410.71000000002,283410.71000000002,283416.33,283416.33,283416.33,283416.33,283415.06,283415.06,283415.06,283415.06,283639.78999999998,283639.78999999998,283639.78999999998,283639.78999999998,283645.17,283645.17,283645.17,283645.17,283643.59999999998,283643.59999999998,283643.59999999998,283643.59999999998,283330.03000000003,283330.03000000003,283330.03000000003,283330.03000000003,283335.07,283335.07,283335.07,283335.07,283333.63,283333.63,283333.63,283333.63,283375.28999999998,283375.28999999998,283375.28999999998,283375.28999999998,283372.38,283372.38,283372.38,283372.38,283378.44,283378.44,283378.44,283378.44,283254.77,283254.77,283254.77,283254.77,283251.64,283251.64,283251.64,283251.64,283257.34000000003,283257.34000000003,283257.34000000003,283257.34000000003,282940.18,282940.18,282940.18,282940.18,282937.07,282937.07,282937.07,282937.07,282934.67,282934.67,282934.67,282934.67,282443.37,282443.37,282443.37,282443.37,282439.31,282439.31,282439.31,282439.31,282436.92,282436.92,282436.92,282436.92,281765.71000000002,281765.71000000002,281765.71000000002,281765.71000000002,281769.32,281769.32,281769.32,281769.32,281766.96000000002,281766.96000000002,281766.96000000002,281766.96000000002,281012.71999999997,281012.71999999997,281012.71999999997,281012.71999999997,281007.18,281007.18,281007.18,281007.18,281004.2,281004.2,281004.2,281004.2,280046.08000000002,280046.08000000002,280046.08000000002,280046.08000000002,280046.08000000002,280046.08000000002,280046.08000000002,280046.08000000002,280046.08000000002,280046.08000000002,280046.08000000002,280046.08000000002,278756.3,278756.3,278756.3,278756.3,278756.3,278756.3,278756.3,278756.3,278756.3,278756.3,278756.3,278756.3,277255.02,277255.02,277255.02,277255.02,277255.02,277255.02,277255.02,277255.02,277255.02,277255.02,277255.02,277255.02,275626.89,275626.89,275626.89,275626.89,275626.89,275626.89,275626.89,275626.89,275626.89,275626.89,275626.89,275626.89,274391.03999999998,274391.03999999998,274391.03999999998,274391.03999999998,274391.03999999998,274391.03999999998,274391.03999999998,274391.03999999998,274391.03999999998,274391.03999999998,274391.03999999998,274391.03999999998,249313.02,246757.62,249660.32,246971.48,273140.12,273140.12,273140.12,273140.12,273140.12,273140.12,273140.12,273140.12,222326.95,217970.93,223224.26,218507.92,271851.28999999998,271851.28999999998,271851.28999999998,271851.28999999998,271851.28999999998,271851.28999999998,271851.28999999998,271851.28999999998,221513.04,217157.73,222404.32,217689.27,270483.7,270483.7,270483.7,270483.7,270483.7,270483.7,270483.7,270483.7,220964.84,216610.11,221850.88,217136.71,269298.81,269298.81,269298.81,269298.81,269298.81,269298.81,269298.81,269298.81]
[593662.31000000006,593662.31000000006,593662.31000000006,593662.31000000006,593660.25,593660.25,593660.25,593660.25,593658.62,593658.62,593658.62,593658.62,593545.15,593545.15,593545.15,593545.15,593542.31000000006,593542.31000000006,593542.31000000006,593542.31000000006,593541,593541,593541,593541,593312.84,593312.84,593312.84,593312.84,593309.64,593309.64,593309.64,593309.64,593308.86,593308.86,593308.86,593308.86,593009.14,593009.14,593009.14,593009.14,593006.1,593006.1,593006.1,593006.1,593003.94999999995,593003.94999999995,593003.94999999995,593003.94999999995,592603.82999999996,592603.82999999996,592603.82999999996,592603.82999999996,592600.44999999995,592600.44999999995,592600.44999999995,592600.44999999995,592598,592598,592598,592598,592166.74,592166.74,592166.74,592166.74,592163.18999999994,592163.18999999994,592163.18999999994,592163.18999999994,592160.98,592160.98,592160.98,592160.98,591655.34,591655.34,591655.34,591655.34,591651.31999999995,591651.31999999995,591651.31999999995,591651.31999999995,591649,591649,591649,591649,591095.96,591095.96,591095.96,591095.96,591091.04,591091.04,591091.04,591091.04,591089.05000000005,591089.05000000005,591089.05000000005,591089.05000000005,590506.66,590506.66,590506.66,590506.66,590519.31999999995,590519.31999999995,590519.31999999995,590519.31999999995,590516.55000000005,590516.55000000005,590516.55000000005,590516.55000000005,590414.16,590414.16,590414.16,590414.16,590426.24,590426.24,590426.24,590426.24,590422.89,590422.89,590422.89,590422.89,589557.87,589557.87,589557.87,589557.87,589569.78,589569.78,589569.78,589569.78,589566.49,589566.49,589566.49,589566.49,588736.29,588736.29,588736.29,588736.29,588729.48,588729.48,588729.48,588729.48,588744.02,588744.02,588744.02,588744.02,587521.36,587521.36,587521.36,587521.36,587513.66,587513.66,587513.66,587513.66,587528.11,587528.11,587528.11,587528.11,585914.18000000005,585914.18000000005,585914.18000000005,585914.18000000005,585906.09,585906.09,585906.09,585906.09,585900.5,585900.5,585900.5,585900.5,584037.03,584037.03,584037.03,584037.03,584026.76,584026.76,584026.76,584026.76,584020.72,584020.72,584020.72,584020.72,581901.39,581901.39,581901.39,581901.39,581910.56000000006,581910.56000000006,581910.56000000006,581910.56000000006,581904.26,581904.26,581904.26,581904.26,553691.28,549031.29,554533.21,549628.55000000005,579550.18999999994,579550.18999999994,579550.18999999994,579550.18999999994,579542.23,579542.23,579542.23,579542.23,521938.25,513501.81,524259.67,515114.38,576843.92000000004,576843.92000000004,576843.92000000004,576843.92000000004,576843.92000000004,576843.92000000004,576843.92000000004,576843.92000000004,486954.81,475618.2,491184.69,478494.06,573391.22,573391.22,573391.22,573391.22,573391.22,573391.22,573391.22,573391.22,449528.9,436126.83,455899.12,440356.37,569492.75,569492.75,569492.75,569492.75,569492.75,569492.75,569492.75,569492.75,410165.42,395516.81,418714.86,401052.69,565163.68999999994,565163.68999999994,565163.68999999994,565163.68999999994,565163.68999999994,565163.68999999994,565163.68999999994,565163.68999999994,370541.55,355533.92,381128.78,362227.92,536949.69999999995,532289,537764.27,532860.54,561321.43999999994,561321.43999999994,561321.43999999994,561321.43999999994,329948.36,315246.65000000002,342276.62,322837.25,505640.19,497205.03,507884.34,498742.87,557315.68999999994,557315.68999999994,557315.68999999994,557315.68999999994,288782.40000000002,274975.15999999997,302412.36,283127.53000000003,471810.56,460480.67,475899.47,463215.21,553203.43000000005,553203.43000000005,553203.43000000005,553203.43000000005,287683.62,273888.42,301221.78999999998,281957.13,435963.11,422575.85,442116.47,426586.24,549001.15,549001.15,549001.15,549001.15,286952.75,273166.86,300410.2,281159.21000000002,398946.37,384327.04,407204.94,389567.41,545148,545148,545148,545148]
[658219.81999999995,658219.81999999995,658219.81999999995,658219.81999999995,658217.49,658217.49,658217.49,658217.49,658215.75,658215.75,658215.75,658215.75,658063.51,658063.51,658063.51,658063.51,658060.35,658060.35,658060.35,658060.35,658058.82999999996,658058.82999999996,658058.82999999996,658058.82999999996,657792.88,657792.88,657792.88,657792.88,657789.21,657789.21,657789.21,657789.21,657788.37,657788.37,657788.37,657788.37,657465.62,657465.62,657465.62,657465.62,657462.24,657462.24,657462.24,657462.24,657459.81999999995,657459.81999999995,657459.81999999995,657459.81999999995,657018.79,657018.79,657018.79,657018.79,657014.92000000004,657014.92000000004,657014.92000000004,657014.92000000004,657012.18000000005,657012.18000000005,657012.18000000005,657012.18000000005,656495.89,656495.89,656495.89,656495.89,656491.82999999996,656491.82999999996,656491.82999999996,656491.82999999996,656489.35,656489.35,656489.35,656489.35,655859.56000000006,655859.56000000006,655859.56000000006,655859.56000000006,655855.04,655855.04,655855.04,655855.04,655852.41,655852.41,655852.41,655852.41,655143.13,655143.13,655143.13,655143.13,655137.62,655137.62,655137.62,655137.62,655135.36,655135.36,655135.36,655135.36,654370.56999999995,654370.56999999995,654370.56999999995,654370.56999999995,654384.97,654384.97,654384.97,654384.97,654381.76,654381.76,654381.76,654381.76,654110.11,654110.11,654110.11,654110.11,654123.9,654123.9,654123.9,654123.9,654120.07999999996,654120.07999999996,654120.07999999996,654120.07999999996,653057.11,653057.11,653057.11,653057.11,653070.57999999996,653070.57999999996,653070.57999999996,653070.57999999996,653066.81999999995,653066.81999999995,653066.81999999995,653066.81999999995,651996.03,651996.03,651996.03,651996.03,651988.41,651988.41,651988.41,651988.41,652004.91,652004.91,652004.91,652004.91,650518.88,650518.88,650518.88,650518.88,650510.15,650510.15,650510.15,650510.15,650526.57999999996,650526.57999999996,650526.57999999996,650526.57999999996,648693.07999999996,648693.07999999996,648693.07999999996,648693.07999999996,648683.68000000005,648683.68000000005,648683.68000000005,648683.68000000005,648677.31999999995,648677.31999999995,648677.31999999995,648677.31999999995,646563.88,646563.88,646563.88,646563.88,646552.15,646552.15,646552.15,646552.15,646545.17000000004,646545.17000000004,646545.17000000004,646545.17000000004,544249.86,404789.66,570425.18999999994,423762.67,644130.92000000004,644130.92000000004,644130.92000000004,644130.92000000004,644123.68000000005,644123.68000000005,644123.68000000005,644123.68000000005,451595.39,331496.11,500142.49,365959.26,641373.75,641373.75,641373.75,641373.75,641364.6,641364.6,641364.6,641364.6,367828.79,266687.26,435025.22,313379.24,638187.46,638187.46,638187.46,638187.46,638187.46,638187.46,638187.46,638187.46,293089.78999999998,210129.64,375026.03,265844.90000000002,634152.44999999995,634152.44999999995,634152.44999999995,634152.44999999995,634152.44999999995,634152.44999999995,634152.44999999995,634152.44999999995,227408.83,171112.42,320284.06,223321.66,629645.16,629645.16,629645.16,629645.16,629645.16,629645.16,629645.16,629645.16,170606.09,153573.6,270669.09999999998,185636.44,528472.19999999995,388994.94,553828.57999999996,407216.35,624676.63,624676.63,624676.63,624676.63,153770.95000000001,136992.70000000001,226657.7,153357.81,437928.74,317753.43,484877.35,350742.04,620287.91,620287.91,620287.91,620287.91,136317.73000000001,120339.05,187362.99,130485.21,356459.25,255262.05,421399.29,299807.63,615745.75,615745.75,615745.75,615745.75,118605.85,106840.79,152585.75,122263.43,284282.84999999998,201335.28,363491.94,254339.3,611082.31000000006,611082.31000000006,611082.31000000006,611082.31000000006,117498.29,110875.7,152283.46,126142.39999999999,221212.68,156910.73000000001,310950.38,214045.38,606338.87,606338.87,606338.87,606338.87,120015.93,114927.62,152209.39000000001,130052.57,167085.57,141890.35999999999,263824.45,178935.44,509674.16,370271.54,534025.65,387516.06]
[1053619.1100000001,1053619.1100000001,1053619.1100000001,1053619.1100000001,1053615.1499999999,1053615.1499999999,1053615.1499999999,1053615.1499999999,1053612.17,1053612.17,1053612.17,1053612.17,1053183.72,1053183.72,1053183.72,1053183.72,1053178.58,1053178.58,1053178.58,1053178.58,1053175.8899999999,1053175.8899999999,1053175.8899999999,1053175.8899999999,1052481.22,1052481.22,1052481.22,1052481.22,1052475.3899999999,1052475.3899999999,1052475.3899999999,1052475.3899999999,1052473.51,1052473.51,1052473.51,1052473.51,1051534.21,1051534.21,1051534.21,1051534.21,1051528.51,1051528.51,1051528.51,1051528.51,1051524.33,1051524.33,1051524.33,1051524.33,1050239.57,1050239.57,1050239.57,1050239.57,1050232.8799999999,1050232.8799999999,1050232.8799999999,1050232.8799999999,1050228.3600000001,1050228.3600000001,1050228.3600000001,1050228.3600000001,1048689.05,1048689.05,1048689.05,1048689.05,1048682.1200000001,1048682.1200000001,1048682.1200000001,1048682.1200000001,1048677.8500000001,1048677.8500000001,1048677.8500000001,1048677.8500000001,1046882.3,1046882.3,1046882.3,1046882.3,1046874.33,1046874.33,1046874.33,1046874.33,1046869.53,1046869.53,1046869.53,1046869.53,1044906.75,1044906.75,1044906.75,1044906.75,1044897.14,1044897.14,1044897.14,1044897.14,1044892.87,1044892.87,1044892.87,1044892.87,1042896.97,1042896.97,1042896.97,1042896.97,1042922.68,1042922.68,1042922.68,1042922.68,1042916.79,1042916.79,1042916.79,1042916.79,1041675.87,1041675.87,1041675.87,1041675.87,1041700.66,1041700.66,1041700.66,1041700.66,1041693.66,1041693.66,1041693.66,1041693.66,890624.01,704725.79,933079.04000000004,737584,1039710.43,1039710.43,1039710.43,1039710.43,1039703.44,1039703.44,1039703.44,1039703.44,752740.55,590454.34,832895.9,651838.06999999995,1037272.24,1037272.24,1037272.24,1037272.24,1037302.43,1037302.43,1037302.43,1037302.43,626581.59,487325.92,739795.96,573067.43999999994,1034208.55,1034208.55,1034208.55,1034208.55,1034238.8,1034238.8,1034238.8,1034238.8,511710.7,403353.05,653502.30000000005,500836.12,1030456.84,1030456.84,1030456.84,1030456.84,1030445.23,1030445.23,1030445.23,1030445.23,407802.43,367609.22,573756.4,434880.62,1026099.62,1026099.62,1026099.62,1026099.62,1026086.8,1026086.8,1026086.8,1026086.8,370674.73,331151.17,500323.61,374914.32,875124.64,689263.52,916859.87,721463,1021192.15,1021192.15,1021192.15,1021192.15,337068.45,300026.07,433088.03,327829.90999999997,737655.11,575560.46,816238.24,635455.57999999996,1015649.87,1015649.87,1015649.87,1015649.87,303490.40999999997,269695.59000000003,371411.06,299610.95,612437.75,473537.4,723151.92,556784.36,1009550.43,1009550.43,1009550.43,1009550.43,270569.71999999997,240400.59,320473.90000000002,271647.32,498624.83,382646.42,636827.44999999995,484602.74,1002119.07,1002119.07,1002119.07,1002119.07,239026.88,212574.13,290906.7,244312.26,396297.06,346127.86,557444.05000000005,419091.25,994096.35,994096.35,994096.35,994096.35,210492.63,187021.2,261749.1,217716.49,348062.5,308986.5,484740.25,359901.21,844513.7,658745.56000000006,885124.66,689659.07,185964.57,164458.13,234468.38,193592.29,315127.96999999997,278566.21999999997,419175.6,306872.90999999997,710389.6,548444.54,786356.88,605500.93999999994,162886.6,143354.01999999999,207778.73,170375.8,282926.65000000002,249343.57,359489.55,278206.93,588971.15,450285.26,695421.71,529316.30000000005,141191.49,123830.95,181750.62,148282.68,252146.33,221900.9,305731.57,252157.72,479659.19,363435.47,612431.06999999995,460510.43,140103.75,122919.36,180514.64,147292.22,223104.37,196291.73,273891.03999999998,227126.53,381888.86,316971.33,536692.80000000005,398608.27,139620.57999999999,122486.94,179815.71,146847.20000000001,197805.19,173946.93,248077.83,203716.86,322750.78999999998,283289.73,468200.63,343560.67]
[1741688.85,1741688.85,1741688.85,1741688.85,1741681.5,1741681.5,1741681.5,1741681.5,1741676.07,1741676.07,1741676.07,1741676.07,1739757.92,1739757.92,1739757.92,1739757.92,1739748.47,1739748.47,1739748.47,1739748.47,1739743.35,1739743.35,1739743.35,1739743.35,1737451.35,1737451.35,1737451.35,1737451.35,1737440.73,1737440.73,1737440.73,1737440.73,1737437.03,1737437.03,1737437.03,1737437.03,1734822.48,1734822.48,1734822.48,1734822.48,1734811.92,1734811.92,1734811.92,1734811.92,1734804.18,1734804.18,1734804.18,1734804.18,1499701.68,1258159.94,1570140.26,1316150.8999999999,1731693.93,1731693.93,1731693.93,1731693.93,1731685.76,1731685.76,1731685.76,1731685.76,1282133.71,1068820.8,1416478.02,1178483.1399999999,1728195.27,1728195.27,1728195.27,1728195.27,1728187.25,1728187.25,1728187.25,1728187.25,1081243.81,937460.71,1273206.8600000001,1051140.99,1724242.52,1724242.52,1724242.52,1724242.52,1724233.68,1724233.68,1724233.68,1724233.68,928178.42,884274.17,1139916.1200000001,933635.46,1719940.62,1719940.62,1719940.62,1719940.62,1719932.17,1719932.17,1719932.17,1719932.17,876431.81,827876.91,1016181.94,861110.88,1715446.83,1715446.83,1715446.83,1715446.83,1715435.52,1715435.52,1715435.52,1715435.52,822701.53,770680.16,902336.71,811711.4,1482236.61,1240794.3899999999,1552809.43,1298841.21,1711888.71,1711888.71,1711888.71,1711888.71,765334.53,710854.96,835242.12,759937.21,1266005.93,1053029.58,1400476.48,1162551.29,1707626.85,1707626.85,1707626.85,1707626.85,706529,650802.31000000006,787751.86,708421.79,1066078.44,919645.31,1257725.56,1035733.19,1702073.63,1702073.63,1702073.63,1702073.63,645870.11,590011.66,738474.57,655937.53,909460.42,865889.71,1124531.8700000001,918298.13,1695609.33,1695609.33,1695609.33,1695609.33,584067.06999999995,529116.98,688193.14,602886.32999999996,856648.18,808562.42,1000464.15,841260.65,1688169,1688169,1688169,1688169,525072.81000000006,471329.32,636933.11,550047.68000000005,800582.05,748952.34,885217.58,789082.44,1453701.27,1212392.6100000001,1524390.88,1270449.28,469412.11,416819.78,585232.23,497799.31,741624.74,687573.01,810551.52,735607.63,1237625.93,1024863.57,1371708.55,1133789.08,419465.49,372292.4,535680.85,452135.04,681510.57,626261.1,761415.48,682476.42,1038861.11,883426.59,1229245.76,1007214.54,373401.41,331719.77,487039.78,407934.32,620102.62,564771.4,711265.98,628872.18000000005,871404.79,827657.01,1096849.6499999999,890491.92,331314.53000000003,294762.84999999998,439460.88,365408.92,557435.41,503067.12,659674.39,574554.54,816485.76,768135.05,973358.53,800447.15,293450.03999999998,261390.17,393690.81,324946.27,498471.02,445245.6,607668.1,521123.47,758689.5,706690.81,859200.31,746085.53,259242.41,230770.2,349698.92,286526.88,442734.85,390682.57,555808.47,468401.52,698219.58,643754.86,766532.06,690709.09,229832.04,203714.01,309218.71999999997,252218.74,394163.3,347559.33,507515.95,423980.17,638979.78,583284.91,717783.2,637733.87,202157.37,178397.74,270619.77,219944.73,350051.9,308615.12,460569.22,381697.53,579015.18999999994,523267.15,668483.06000000006,585065.02,176133.29,155023.67000000001,233939.49,189928.28,310591.42,273938.68,415754.92,341768.3,519449.72,464724.55,619120.37,533421.54,175049.22,154181.04,232580.61,188913.99,275544.36,243084.38,373100.17,304211.59000000003,463696.8,410035.16,570013.56000000006,482740.85,174643.37,153914.25,231801.21,188477.33,245001.11,216160.58,333146.84000000003,269730.15999999997,412167.87,359780.65,522402.37,434327.87]
[1924230.3,1871938.13,2028725.42,1912013.6,2964752.7,2964752.7,2964752.7,2964752.7,2964742,2964742,2964742,2964742,1844079.17,1785745.35,1916795.61,1840132.5,2959380.09,2959380.09,2959380.09,2959380.09,2959369.92,2959369.92,2959369.92,2959369.92,1757092.19,1693480.27,1849032.95,1763577.19,2575728.85,2269513.98,2697419.84,2375311.9700000002,2953153.73,2953153.73,2953153.73,2953153.73,1664019.91,1596071.63,1776408.79,1682927.17,2218814.87,1999442.62,2452180.92,2148124.77,2946260.06,2946260.06,2946260.06,2946260.06,1565586.95,1494743.92,1699908.73,1599018.79,1970218.09,1926236.65,2222572.89,1953947.07,2938542.14,2938542.14,2938542.14,2938542.14,1462982.49,1390628.55,1620557.34,1512626.17,1896763.96,1844794.24,2007990.07,1885193.91,2930267.98,2930267.98,2930267.98,2930267.98,1357190.4,1284680.68,1538387.09,1424605.59,1814986.71,1757066.79,1888281.27,1811712.59,2921448.95,2921448.95,2921448.95,2921448.95,1255209.31,1182664.32,1454194.34,1335834.28,1726932.29,1663693.24,1819301.53,1733963.4,2537587.08,2231530.5099999998,2661054.56,2338984.21,1157368.1499999999,1085002.42,1368865.52,1246934.29,1633542.7,1566016.23,1746249.73,1652898.45,2181738.4700000002,1958962.56,2418199.16,2114138.8199999998,1065679.58,993708.95,1285239.6000000001,1159953.76,1537359.72,1466981.73,1672101.34,1571172.13,1931716.93,1887748.63,2193205.15,1915900.65,977147.93,905579.52000000002,1200269.23,1072598.08,1436818.74,1364958.73,1594764.5,1486765.51,1860701.44,1808824.74,1983064.42,1849956.91,893436.87,822567.07,1116333.1599999999,987967.65,1332082.82,1260076.82,1513307.07,1399543.02,1779549.29,1721709.34,1854122.19,1777178.31,813228.77,743269.65,1032614.25,904457.71,1230929.1000000001,1158877.69,1429505.92,1311069.3899999999,1691939.76,1628588.67,1785519.95,1699725.05,736239.77,667413.46,949624.06,822100.66,1132974.82,1061229.3999999999,1343584.69,1221327.5,1597451.8,1529760.73,1711305.39,1617416.57,662736.86,595427.93000000005,867335.37,741786.08,1039231.96,967751.16,1256665.31,1131122.6499999999,1497746.36,1427176.41,1633733.34,1531783.67,593312.5,527454.21,786301.23,663872.26,949077.05,878021.97,1168996.3700000001,1041748.01,1393783.01,1321713.79,1552368.17,1443353.28,530964.55000000005,471890.97,709684.05,595676.57999999996,863703.19,793437.07,1082792.72,954942.18,1286098.67,1213906.33,1467245.1,1352708.77,473404.33,421246.11,637378,531902.49,782070.18,712827.99,997353.56,869504.75,1182092.42,1109870.7,1379679.01,1260502.04,420737.96,375055.41,569150.06000000006,472479.3,703355.9,635408.65,911997.4,784990.48,1080912.82,1008988.68,1289568.6200000001,1166037.05,373347.16,333338.42,505633.55,417481.59,629209.30000000005,562776.74,828047.03,703386.55,984308.44,912615.84,1198557.67,1071669.1499999999,330666.92,295176,446604.35,366754.62,559272.89,494409.22,746450.43,624710.76,891841.54,820642.02,1107151.98,978521.79,294060.42,261580.99,393756.06,322533.37,498441.86,440479.78,671440.57,558186.89,807438.46,737051.07,1020544.3,891360.86,259755.6,230261.92,344759.97,281838.61,443343.4,391925.87,601507.61,497139.01,727603.41,658415.6,935707.55,807489.3,227625.04,201486.89,299261.21000000002,244713.48,394181.85,348779.15,537201.62,441407.23,652900.66,585111,853805.56,727093.41,226459.39,200668.06,297589.95,243624.06,350656.08,310547.3,478141.49,390637.29,583197.43000000005,516867.86,774448.01,649997.74,226138.23,200590.12,296630.14,243191.37,312870.58,277334.93,424657.01,345355.71,518950.56,454374.81,699134.11,577767.19999999995]
[2323496.62,2244560.2000000002,2500657.77,2388183.34,2845959.75,2799979.35,3013765.76,2834876.09,3950597.88,3950597.88,3950597.88,3950597.88,2190025.46,2109801.9500000002,2400032.5099999998,2279533.42,2754534.25,2699142.88,2822568.84,2751609.55,3941933.64,3941933.64,3941933.64,3941933.64,2052098.37,1971450.77,2295213.13,2167628.5699999998,2651503.98,2588150.21,2743019.49,2660897.66,3932358.46,3932358.46,3932358.46,3932358.46,1918668.48,1837272.57,2186919.89,2053103.81,2538470.08,2468619.4300000002,2656299.81,2563823.5699999998,3426902.8,3083892.42,3592988.6,3232016.2,1789591.45,1707683.11,2076427.23,1937063.95,2416850.94,2341909.46,2564156.7999999998,2461245.79,2956362.85,2844603.49,3275490.04,2933681.02,1665040.08,1582793.22,1964805.15,1820284.86,2288399.02,2209951.8199999998,2467194.75,2354804.11,2799524.87,2753568.15,2978812.33,2789236.66,1544972.26,1462546.77,1852024.28,1703627.18,2154415.25,2074753.15,2366013.5499999998,2245556.71,2707027.1,2651649.41,2776396.85,2705163.73,1429619.3,1347136.13,1738943.5,1588039.78,2017097.42,1936911.51,2261599.77,2133977.1800000002,2604096.9900000002,2540741.96,2697247.43,2614793.4500000002,1319142.47,1236821.8899999999,1626314.36,1473980.08,1885237.45,1804298.26,2154794.71,2020820.36,2492532.4500000002,2422629.67,2612459.13,2519409.06,1215320.9099999999,1133435.07,1516698.6,1363178.49,1759798.35,1678345.25,2048148.86,1908340.68,2374777.56,2299775.62,2524758.2000000002,2420991.6800000002,1114769.6399999999,1033350.69,1406509.11,1252857.6499999999,1637790.07,1556025.78,1939084.7,1794022.21,2249661.5099999998,2171230.0699999998,2431538.6,2318473.4700000002,1019391.55,938796.53,1298422.44,1146537.72,1518282.55,1436382.62,1826173.99,1677364.81,2115690.5099999998,2036055.39,2330415.37,2209246.42,927722.97,848216.08,1191456.1399999999,1042356.77,1402429.41,1320544.3,1711569.68,1560261.82,1977056.3,1896765.93,2224301.94,2095960,839793.6,761638.3,1088859.51,942367.67,1290301.68,1208831.49,1596075.84,1443217.95,1841910.43,1760913.02,2113648,1978999.25,755920.65,679565.79,990153.54,847167.31,1183065.3999999999,1101974.6399999999,1480937.6,1327231.1200000001,1710958.34,1629525.29,2001010.27,1860114.73,676808.3,602170.93000000005,895562.34,756799.18,1080055.8500000001,999518.68,1366582.56,1213976.3899999999,1584136.75,1502443.17,1885856.15,1739831.83,605848.68999999994,538950.1,808200.5,679114.52,982594.69,903040.45,1255695.21,1105065.46,1460868.12,1379130.97,1768105.91,1618689.73,540424.57999999996,481424.97,725882.98,606569.99,889526.21,811203.14,1147107.3600000001,999057.04,1341977.3600000001,1260281.48,1649240.73,1497411.93,480618.83,429013.34,648272.92000000004,539086.38,799887.42,723132.6,1042160.5,897009.47,1226392.05,1145143.7,1529014.19,1375084.5,426884.34,381750.85,576114.03,476671.27,715526.99,640576.57999999996,941869.48,800697.37,1116105.95,1035224.14,1409261.07,1254347.8799999999,378577.95,338590.29,509168.57,419209.64,636054.29,562988.19999999995,846876.82,709783.17,1010626.79,930434.18,1290534.46,1136418.57,337215.26,300698.48,449313.46,369244.02,567021.77,501849.22,761541.73,634199.06000000006,914482.14,835321.48,1178840.27,1027045.02,298591.94,265489.14,394009.75,323377.24,504644.96,446951.2,682179.94,565023.31999999995,823702.88,746064.43,1070765.44,923425.84,262561.21000000002,233288.39,342836.31,281704.90000000002,449148.51,398285.53,609396.30000000005,502053.38,738981.88,663039.56999999995,970347.74,826724.59,261508.02,232648.35,341122.11,280737.71000000002,400474.78,355601.58,543141.36,445211.55,660681.96,586454.57999999996,876627.91,736833.67,261652.77,233081.16,340523.86,280726.51,358663.71,318930.46999999997,483723.1,395007.74,589172.80000000005,516947.07,790713.76,654975.26]
[2830777.03,2733410.32,3311523.69,3134401.27,3745814.81,3654943.86,4066230.72,3928843.97,4557824.43,4497668.5999999996,4655173.72,4578210.6100000003,2658110.75,2560871.9,3146489.18,2964566.54,3543476.1,3451158.62,3917769.95,3770759.83,4411237.5599999996,4342361.55,4546193.78,4455591.8899999997,2492108.09,2394325.13,2980462.29,2794818.79,3347709.7,3254065.65,3764614.79,3608904.07,4250090.8600000003,4174179.41,4428258.7300000004,4324689.33,2331374.15,2232643.33,2813006.94,2624643.9500000002,3157344.25,3062505.54,3606389.46,3442980.38,4076247.45,3993601.25,4300822.62,4184903.05,2175380.83,2076016.36,2645177.02,2454944.7000000002,2971908.55,2875924.7,3444490.47,3273336.57,3889855.9,3802167.5,4164134.93,4036719.24,2024333.45,1924572.28,2478110.61,2286505.21,2791832.07,2694987.19,3279495.22,3101788.07,3692979.59,3601940.45,4019667.2,3881566.93,1878200.74,1778256.21,2311693.6800000002,2120229.2000000002,2617136.48,2520553.1,3111900.16,2929384.72,3487355.13,3394941.72,3868466.5,3720728.31,1737299.49,1637378.03,2150749.7599999998,1960328.62,2448967.27,2351828.77,2942726.34,2756543.81,3287985.15,3194401.62,3711840.61,3555453.67,1601855.53,1502246.14,1995526.85,1806701.87,2286757.9700000002,2188839.38,2772825,2584008.06,3095046.33,3000368,3551231.44,3387027.63,1474670.42,1375730.64,1849253.25,1661558.09,2132551.92,2034126.49,2606247.11,2415437.5,2910850.32,2815187.47,3391105.19,3219006.31,1351786.66,1253560.74,1707103.17,1520972.62,1982869,1884211.44,2439968.75,2247809.83,2732445.96,2636127.14,3228296.88,3050009.25,1235285.69,1138205.32,1571486.77,1388476.5,1836334.17,1737654.25,2271322.41,2079648.21,2556117.83,2460161.42,3058598.63,2875620.7,1123501.69,1027877.85,1440707.52,1261383.26,1694435.24,1595950.6,2107159.44,1916645.64,2385545.66,2288970.36,2886082.97,2699560.63,1016420.66,922597.37,1315427.24,1139567.6599999999,1557239.05,1459436.19,1947761.84,1758771.17,2219427.69,2122192.54,2711085.81,2522092.94,914442.56,822989.06,1195054.3700000001,1023756.42,1426163.48,1329030.05,1794003.25,1606914.1,2058581.14,1961033.99,2536686.34,2345325.7999999998,818472.22,729279.18,1079952.03,914102.49,1300488.76,1204222.95,1646189.31,1463070.44,1903001.64,1805353.14,2362181.46,2169786.13,732533.95,652748.98,973773.32,819873.07,1181701.68,1086866.1000000001,1507346.24,1327758,1751941.59,1654499.11,2187272.25,1995933.21,653529.89,583361.06999999995,874047.06,732141.28,1068609.22,975461.74,1374910.62,1198856.28,1606624.93,1509461.28,2017695.09,1827787.99,581952.81999999995,520721.77,780877.65,651364.68000000005,960789.85,869723.2,1248260.76,1076036.18,1466838.46,1370437.75,1853965.15,1664925.8,518360.24,464881.23,695180.93,577351.80000000005,860390.34,771562.76,1128562.6200000001,961288.78,1335028.47,1239177.96,1697615.28,1509854.94,461879.92,414489.98,616566.42000000004,509971.33,766814.39,680256.82,1016488.78,854176.25,1210436.44,1115459.8600000001,1548548.24,1363215.07,414177.74,370902.66,547045.17000000004,452170.79,686560.14,609313.18999999994,917118.7,766183.29,1098447.6399999999,1004583.72,1413368.77,1231846.56,370252.81,330933.57,483615.05,399692.9,615000.84,546506.75,825911.24,686717.46,994004.76,901821.15,1287433.22,1112425.74,329396.86,294560.61,425033.63,352192,551567.98,491005.01,742438.16,614562.31999999995,896675.78,806250.35,1172165.93,1001151.92,330038.02,295601.88,425082.43,353034.2,495844.48,442316.79,666109.51,549223.31999999995,806331.48,717746.95,1063967.9099999999,897172.24,332027.86,297895.45,426331.7,354819.59,447952.36,400502.9,597449.66,491402.46,723417.2,637116.43000000005,964240.03,802068.71]
[3328801.96,3214438.27,3988928.18,3766852.44,4403607.53,4296874.72,5103336.32,4903997.1500000004,5657949.75,5558427.0700000003,6118045.8799999999,5966827.79,3124445.39,3010314.06,3758633.4,3535746.58,4163714.8,4055350.38,4875781.7,4669847.47,5375628.4900000002,5275349.41,5915658.1900000004,5752883.4900000002,2926863.66,2812211.84,3534445.85,3311187.75,3930146.67,3820345.68,4644501.6399999997,4433170.7300000004,5100248.84,4999450.13,5705277.8399999999,5531857.6399999997,2735633.08,2619991.75,3316455.33,3093049.18,3703075.29,3592000.19,4410642.29,4195146.74,4833659.3899999997,4730856.97,5488063.3899999997,5304801.37,2550226.48,2433983.09,3105163.85,2881690.44,3482058.06,3369767.24,4175795.71,3956122.55,4573828.62,4469126.3600000003,5264219.87,5072181.62,2370896.36,2254337.0499999998,2901095.48,2677241.25,3267617.42,3154469.34,3940593.64,3718160.1,4321052.72,4214510.18,5035361.78,4835552.76,2197590.94,2080962.31,2703376.17,2479975.75,3059766.17,2947082.4,3705437.07,3482311.16,4075253.34,3967315.12,4802460.9400000004,4596175.33,2030643.89,1914227.44,2512332.19,2290476.34,2859779.51,2746605.27,3477081.45,3253688.4,3837324.55,3728277.7,4566787.43,4355251.04,1870271.78,1754395.81,2328173.46,2108529.71,2666922.0299999998,2553035.66,3255613.25,3032241.74,3607115.87,3496987.8,4329755.51,4113998.46,1719725.38,1604848.26,2154646.61,1936742.46,2483589.38,2369299.37,3044905.97,2821418.9,3387255.85,3276203.05,4096483.43,3876498.85,1574723.29,1460901.19,1986523.67,1770803.13,2306122.71,2191782.5499999998,2841348.63,2617541.2599999998,3174852.86,3063232.17,3863873.58,3641644.32,1437183.4,1324934.08,1826011.93,1614341.07,2132280.1800000002,2018148.05,2639713.15,2416927.83,2964679.96,2853701.56,3625222.03,3402593.35,1305576.05,1195246.29,1671579.61,1464675.28,1964314.76,1850683.01,2443799.08,2222807.41,2761713.91,2650275,3392141.37,3169534.58,1180791.3400000001,1072715.2,1525234.23,1322658.1299999999,1803764.98,1691104.07,2255735.86,2036812.65,2566548.7999999998,2454541.81,3166724.77,2944309.82,1063157.3500000001,957921.73,1386131.21,1188973.6599999999,1652128.91,1540348.26,2076391.61,1860166.34,2380017.9,2267756.7799999998,2951666.35,2728444.85,953585.58,850942.68,1254572.54,1063683.9099999999,1508441.18,1397631.88,1906356.48,1695593,2201960.98,2089560.18,2745132.75,2521503.2200000002,856528.74,764556.85,1134508.5900000001,957161.25,1374127.62,1264857.29,1749421.47,1542473.53,2031277.97,1918998.16,2545732.81,2322996.41,768359.43,687271.65,1023130.58,859136,1247895.8999999999,1140257.05,1601809.94,1398387.97,1869525.68,1757239.58,2355243.4900000002,2133519.4300000002,688081.23,617183.39,918411.19,768498.68,1126749.5,1021311.24,1459615.75,1260201.42,1712681.14,1601063.92,2169696.44,1948402.72,616529.01,554501.41,821610.36,684948.45,1013249.5,910200.93,1324260.21,1130250.8799999999,1563742.73,1452555.43,1990854.5,1770616.96,552768.69999999995,497709.02,732395.24,608568.59,906806.61,806281.8,1196677.78,1008289.05,1421875.37,1311601.03,1818713.16,1600989.95,0,0,0,0,0,0,0,0,0,0,0,0,0,0,0,0,0,0,0,0,0,0,0,0,0,0,0,0,0,0,0,0,0,0,0,0,0,0,0,0,0,0,0,0,0,0,0,0,0,0,0,0,0,0,0,0,0,0,0,0]
[3894328.4,3760724.82,4665505.4000000004,4406075.13,5149887.1900000004,5025213.2300000004,6120079.5899999999,5869958.3300000001,6617548.5800000001,6501133.2999999998,7634196.1100000003,7413514.3200000003,3650891.42,3517766.27,4390698.42,4130691.59,4863252.37,4736840.7,5796889.4699999997,5544771.96,6279021.5800000001,6161880.5800000001,7317604.3300000001,7088761.6200000001,3415639.89,3282110.46,4123329.57,3863307.23,4584228.08,4456345.53,5481515.4500000002,5227784.29,5948885.1600000001,5831308.1399999997,6996332.7000000002,6760516.0700000003,3187992.2,3053524.57,3863370.25,3603598.57,4312930.41,4183783.4,5174008.49,4919085.75,5629018.2199999997,5509290.71,6671329.7300000004,6429599.6799999997,2967368.33,2832454.37,3611447.05,3352080.19,4048864.41,3918534.74,4875173.09,4617996.2300000004,5317061.54,5195336.76,6342635.46,6096346.8600000003,2754120.11,2619117.4,3368196.39,3108948,3792713.73,3661667.55,4584811.07,4325980.22,5013490.53,4889859.2300000004,6012121.6699999999,5762549.0199999996,2548373.7400000002,2413568.59,3132882.21,2874702.09,3544756.62,3414542.87,4302648.5599999996,4043532.87,4718503.03,4593605.6900000004,5681088.0800000001,5429834.4199999999,2350643.83,2216413.5,2906018.05,2650214.5299999998,3306630.69,3176138.59,4029104.2,3770218.2,4433786.82,4308033.9800000004,5359406.96,5106886.0199999996,2162980.2000000002,2029568.94,2690096.28,2437236.9500000002,3080049.48,2948960.69,3767415.24,3508890.5,4162396.42,4035618.71,5051822.71,4797963.03,1988916.46,1856769.86,2489219.71,2238593.2400000002,2867626.26,2736141.11,3521883.66,3263356.43,3907139.39,3779419.53,4763066.72,4506580.6100000003,1823714.69,1692749.01,2297634.5699999998,2049371.14,2665437.71,2533851.02,3289083.2,3029965.3,3665206.88,3536762.26,4489430.32,4231189.9800000004,1668363.43,1539047.7,2116444.65,1872499.39,2469331.39,2337799.1800000002,3060260.77,2801956.54,3428499.32,3300607.51,4219039.79,3959914.83,1521635.76,1394170.87,1944501.59,1705461.4,2282680.35,2151399.5499999998,2841307,2584317.9900000002,3203922.67,3075160.77,3959776.84,3699879.57,1381506.46,1256366.49,1780348.12,1545788.21,2102831.63,1972382.88,2629187.16,2373957.09,2986044,2856352.27,3706398.93,3446045.29,1248428.68,1126403.8400000001,1623032.15,1394357.61,1931551.75,1801925.03,2424911.38,2172845.8199999998,2775799.09,2645609.27,3462062.63,3200209.31,1123651.17,1004509.72,1473128.12,1251513.96,1767911.65,1639252.37,2229907.7400000002,1985222.17,2573121.94,2442614.44,3224645.62,2961901.58,0,0,0,0,0,0,0,0,0,0,0,0,0,0,0,0,0,0,0,0,0,0,0,0,0,0,0,0,0,0,0,0,0,0,0,0,0,0,0,0,0,0,0,0,0,0,0,0,0,0,0,0,0,0,0,0,0,0,0,0,0,0,0,0,0,0,0,0,0,0,0,0,0,0,0,0,0,0,0,0,0,0,0,0,0,0,0,0,0,0,0,0,0,0,0,0,0,0,0,0,0,0,0,0,0,0,0,0,0,0,0,0,0,0,0,0,0,0,0,0]
[4645875.32,4486825.6900000004,5563851.46,5255032.7,6140446.1799999997,5992054.1399999997,7323880.4400000004,7024539.2300000004,7891483.6299999999,7752651.6900000004,9371532.8300000001,9087062.8599999994,4344656.4400000004,4186655.58,5222839.8,4914200.2699999996,5783799.46,5633743.3300000001,6919519.2699999996,6618544.75,7467953.6100000003,7328617.3200000003,8898506.2100000009,8611260.0199999996,4057676.5,3899527.12,4895970.55,4587997.42,5441929.6799999997,5290463.05,6531193.6500000004,6228835.7699999996,7061558.3399999999,6921980.6500000004,8445408.0099999998,8155410.2699999996,3784240.85,3625152.8,4583278.71,4275950.62,5115151.8,4962377.38,6159060.8499999996,5855580.5099999998,6674780.0599999996,6532795.04,8012108.1399999997,7719145.0899999999,3523422.35,3363840.64,4285279.17,3978490.34,4802650.63,4648486.33,5803891.7400000002,5497696.8099999996,6304625.5800000001,6160279.25,7596980.6100000003,7301096.29,3275457.83,3115612.08,4002507.41,3695598.48,4505145.95,4349994.0199999996,5465490.6900000004,5156894.6900000004,5951741.3899999997,5804948.71,7201057.2999999998,6902106.3700000001,3040285.88,2880251.48,3734005.66,3427571.16,4222860.0199999996,4068332.55,5143371.97,4833582.8499999996,5616275.8099999996,5467757.3899999997,6824470.2000000002,6522621.3099999996,2814413.66,2654659.44,3475354.8,3170911.02,3952143.74,3796838.95,4831266.1399999997,4520796.3499999996,5293682.4000000004,5143981.6500000004,6458993.0700000003,6154643.96,2598142.73,2438973.4399999999,3226883.54,2925246.93,3692018.67,3535678.68,4529376.4800000004,4218504.87,4983104.5199999996,4831878.59,6105332.8700000001,5798491.6600000001,2395773.9300000002,2237880.8199999998,2993550.92,2694158.7,3445706.58,3288579.4,4242879.2,3931378.59,4687743.3600000003,4535189.26,5769142.0700000003,5458454.6600000001,0,0,0,0,0,0,0,0,0,0,0,0,0,0,0,0,0,0,0,0,0,0,0,0,0,0,0,0,0,0,0,0,0,0,0,0,0,0,0,0,0,0,0,0,0,0,0,0,0,0,0,0,0,0,0,0,0,0,0,0,0,0,0,0,0,0,0,0,0,0,0,0,0,0,0,0,0,0,0,0,0,0,0,0,0,0,0,0,0,0,0,0,0,0,0,0,0,0,0,0,0,0,0,0,0,0,0,0,0,0,0,0,0,0,0,0,0,0,0,0,0,0,0,0,0,0,0,0,0,0,0,0,0,0,0,0,0,0,0,0,0,0,0,0,0,0,0,0,0,0,0,0,0,0,0,0,0,0,0,0,0,0,0,0,0,0,0,0,0,0,0,0,0,0,0,0,0,0,0,0,0,0,0,0,0,0,0,0,0,0,0,0]
[0,0,6818987.8399999999,6441564.29,7523670.5199999996,7342344.2199999997,9023226.3200000003,8654404.1500000004,9671118.8300000001,9500970.3900000006,11615964.75,11263362.91,5345148.04,5151555.3499999996,6421399.9100000001,6043148.8399999999,7108912.8200000003,6925012.7400000002,8552273.0299999993,8180227.3200000003,9179620.9800000004,9008323.9399999995,11067043.4,10709774.67,5006278.0199999996,4812061.13,6035978.25,5657754.0499999998,6706597.6600000001,6520579.04,8094178.6299999999,7719397.7400000002,8701906.8499999996,8529892.4100000001,10534061.49,10172318.880000001,0,0,0,0,0,0,0,0,0,0,0,0,0,0,0,0,0,0,0,0,0,0,0,0,0,0,0,0,0,0,0,0,0,0,0,0,0,0,0,0,0,0,0,0,0,0,0,0,0,0,0,0,0,0,0,0,0,0,0,0,0,0,0,0,0,0,0,0,0,0,0,0,0,0,0,0,0,0,0,0,0,0,0,0,0,0,0,0,0,0,0,0,0,0,0,0,0,0,0,0,0,0,0,0,0,0,0,0,0,0,0,0,0,0,0,0,0,0,0,0,0,0,0,0,0,0,0,0,0,0,0,0,0,0,0,0,0,0,0,0,0,0,0,0,0,0,0,0,0,0,0,0,0,0,0,0,0,0,0,0,0,0,0,0,0,0,0,0,0,0,0,0,0,0,0,0,0,0,0,0,0,0,0,0,0,0,0,0,0,0,0,0,0,0,0,0,0,0,0,0,0,0,0,0,0,0,0,0,0,0,0,0,0,0,0,0,0,0,0,0,0,0,0,0,0,0,0,0,0,0,0,0,0,0,0,0,0,0,0,0,0,0,0,0,0,0,0,0,0,0,0,0,0,0,0,0,0,0,0,0,0,0,0,0,0,0,0,0,0,0,0,0,0,0,0,0]
[0,0,0,0,0,0,0,0,0,0,0,0,0,0,0,0,0,0,0,0,0,0,0,0,0,0,0,0,0,0,0,0,0,0,0,0,0,0,0,0,0,0,0,0,0,0,0,0,0,0,0,0,0,0,0,0,0,0,0,0,0,0,0,0,0,0,0,0,0,0,0,0,0,0,0,0,0,0,0,0,0,0,0,0,0,0,0,0,0,0,0,0,0,0,0,0,0,0,0,0,0,0,0,0,0,0,0,0,0,0,0,0,0,0,0,0,0,0,0,0,0,0,0,0,0,0,0,0,0,0,0,0,0,0,0,0,0,0,0,0,0,0,0,0,0,0,0,0,0,0,0,0,0,0,0,0,0,0,0,0,0,0,0,0,0,0,0,0,0,0,0,0,0,0,0,0,0,0,0,0,0,0,0,0,0,0,0,0,0,0,0,0,0,0,0,0,0,0,0,0,0,0,0,0,0,0,0,0,0,0,0,0,0,0,0,0,0,0,0,0,0,0,0,0,0,0,0,0,0,0,0,0,0,0,0,0,0,0,0,0,0,0,0,0,0,0,0,0,0,0,0,0,0,0,0,0,0,0,0,0,0,0,0,0,0,0,0,0,0,0,0,0,0,0,0,0,0,0,0,0,0,0,0,0,0,0,0,0,0,0,0,0,0,0,0,0,0,0,0,0,0,0,0,0,0,0,0,0,0,0,0,0]
[0,0,0,0,0,0,0,0,0,0,0,0,0,0,0,0,0,0,0,0,0,0,0,0,0,0,0,0,0,0,0,0,0,0,0,0,0,0,0,0,0,0,0,0,0,0,0,0,0,0,0,0,0,0,0,0,0,0,0,0,0,0,0,0,0,0,0,0,0,0,0,0,0,0,0,0,0,0,0,0,0,0,0,0,0,0,0,0,0,0,0,0,0,0,0,0,0,0,0,0,0,0,0,0,0,0,0,0,0,0,0,0,0,0,0,0,0,0,0,0,0,0,0,0,0,0,0,0,0,0,0,0,0,0,0,0,0,0,0,0,0,0,0,0,0,0,0,0,0,0,0,0,0,0,0,0,0,0,0,0,0,0,0,0,0,0,0,0,0,0,0,0,0,0,0,0,0,0,0,0,0,0,0,0,0,0,0,0,0,0,0,0,0,0,0,0,0,0,0,0,0,0,0,0,0,0,0,0,0,0,0,0,0,0,0,0,0,0,0,0,0,0,0,0,0,0,0,0,0,0,0,0,0,0,0,0,0,0,0,0,0,0,0,0,0,0,0,0,0,0,0,0,0,0,0,0,0,0,0,0,0,0,0,0,0,0,0,0,0,0,0,0,0,0,0,0,0,0,0,0,0,0,0,0,0,0,0,0,0,0,0,0,0,0,0,0,0,0,0,0,0,0,0,0,0,0,0,0,0,0,0,0]
[0,0,0,0,0,0,0,0,0,0,0,0,0,0,0,0,0,0,0,0,0,0,0,0,0,0,0,0,0,0,0,0,0,0,0,0,0,0,0,0,0,0,0,0,0,0,0,0,0,0,0,0,0,0,0,0,0,0,0,0,0,0,0,0,0,0,0,0,0,0,0,0,0,0,0,0,0,0,0,0,0,0,0,0,0,0,0,0,0,0,0,0,0,0,0,0,0,0,0,0,0,0,0,0,0,0,0,0,0,0,0,0,0,0,0,0,0,0,0,0,0,0,0,0,0,0,0,0,0,0,0,0,0,0,0,0,0,0,0,0,0,0,0,0,0,0,0,0,0,0,0,0,0,0,0,0,0,0,0,0,0,0,0,0,0,0,0,0,0,0,0,0,0,0,0,0,0,0,0,0,0,0,0,0,0,0,0,0,0,0,0,0,0,0,0,0,0,0,0,0,0,0,0,0,0,0,0,0,0,0,0,0,0,0,0,0,0,0,0,0,0,0,0,0,0,0,0,0,0,0,0,0,0,0,0,0,0,0,0,0,0,0,0,0,0,0,0,0,0,0,0,0,0,0,0,0,0,0,0,0,0,0,0,0,0,0,0,0,0,0,0,0,0,0,0,0,0,0,0,0,0,0,0,0,0,0,0,0,0,0,0,0,0,0,0,0,0,0,0,0,0,0,0,0,0,0,0,0,0,0,0,0]
[0,0,0,0,0,0,0,0,0,0,0,0,0,0,0,0,0,0,0,0,0,0,0,0,0,0,0,0,0,0,0,0,0,0,0,0,0,0,0,0,0,0,0,0,0,0,0,0,0,0,0,0,0,0,0,0,0,0,0,0,0,0,0,0,0,0,0,0,0,0,0,0,0,0,0,0,0,0,0,0,0,0,0,0,0,0,0,0,0,0,0,0,0,0,0,0,0,0,0,0,0,0,0,0,0,0,0,0,0,0,0,0,0,0,0,0,0,0,0,0,0,0,0,0,0,0,0,0,0,0,0,0,0,0,0,0,0,0,0,0,0,0,0,0,0,0,0,0,0,0,0,0,0,0,0,0,0,0,0,0,0,0,0,0,0,0,0,0,0,0,0,0,0,0,0,0,0,0,0,0,0,0,0,0,0,0,0,0,0,0,0,0,0,0,0,0,0,0,0,0,0,0,0,0,0,0,0,0,0,0,0,0,0,0,0,0,0,0,0,0,0,0,0,0,0,0,0,0,0,0,0,0,0,0,0,0,0,0,0,0,0,0,0,0,0,0,0,0,0,0,0,0,0,0,0,0,0,0,0,0,0,0,0,0,0,0,0,0,0,0,0,0,0,0,0,0,0,0,0,0,0,0,0,0,0,0,0,0,0,0,0,0,0,0,0,0,0,0,0,0,0,0,0,0,0,0,0,0,0,0,0,0]
[0,0,0,0,0,0,0,0,0,0,0,0,0,0,0,0,0,0,0,0,0,0,0,0,0,0,0,0,0,0,0,0,0,0,0,0,0,0,0,0,0,0,0,0,0,0,0,0,0,0,0,0,0,0,0,0,0,0,0,0,0,0,0,0,0,0,0,0,0,0,0,0,0,0,0,0,0,0,0,0,0,0,0,0,0,0,0,0,0,0,0,0,0,0,0,0,0,0,0,0,0,0,0,0,0,0,0,0,0,0,0,0,0,0,0,0,0,0,0,0,0,0,0,0,0,0,0,0,0,0,0,0,0,0,0,0,0,0,0,0,0,0,0,0,0,0,0,0,0,0,0,0,0,0,0,0,0,0,0,0,0,0,0,0,0,0,0,0,0,0,0,0,0,0,0,0,0,0,0,0,0,0,0,0,0,0,0,0,0,0,0,0,0,0,0,0,0,0,0,0,0,0,0,0,0,0,0,0,0,0,0,0,0,0,0,0,0,0,0,0,0,0,0,0,0,0,0,0,0,0,0,0,0,0,0,0,0,0,0,0,0,0,0,0,0,0,0,0,0,0,0,0,0,0,0,0,0,0,0,0,0,0,0,0,0,0,0,0,0,0,0,0,0,0,0,0,0,0,0,0,0,0,0,0,0,0,0,0,0,0,0,0,0,0,0,0,0,0,0,0,0,0,0,0,0,0,0,0,0,0,0,0]
[0,0,0,0,0,0,0,0,0,0,0,0,0,0,0,0,0,0,0,0,0,0,0,0,0,0,0,0,0,0,0,0,0,0,0,0,0,0,0,0,0,0,0,0,0,0,0,0,0,0,0,0,0,0,0,0,0,0,0,0,0,0,0,0,0,0,0,0,0,0,0,0,0,0,0,0,0,0,0,0,0,0,0,0,0,0,0,0,0,0,0,0,0,0,0,0,0,0,0,0,0,0,0,0,0,0,0,0,0,0,0,0,0,0,0,0,0,0,0,0,0,0,0,0,0,0,0,0,0,0,0,0,0,0,0,0,0,0,0,0,0,0,0,0,0,0,0,0,0,0,0,0,0,0,0,0,0,0,0,0,0,0,0,0,0,0,0,0,0,0,0,0,0,0,0,0,0,0,0,0,0,0,0,0,0,0,0,0,0,0,0,0,0,0,0,0,0,0,0,0,0,0,0,0,0,0,0,0,0,0,0,0,0,0,0,0,0,0,0,0,0,0,0,0,0,0,0,0,0,0,0,0,0,0,0,0,0,0,0,0,0,0,0,0,0,0,0,0,0,0,0,0,0,0,0,0,0,0,0,0,0,0,0,0,0,0,0,0,0,0,0,0,0,0,0,0,0,0,0,0,0,0,0,0,0,0,0,0,0,0,0,0,0,0,0,0,0,0,0,0,0,0,0,0,0,0,0,0,0,0,0,0]
[0,0,0,0,0,0,0,0,0,0,0,0,0,0,0,0,0,0,0,0,0,0,0,0,0,0,0,0,0,0,0,0,0,0,0,0,0,0,0,0,0,0,0,0,0,0,0,0,0,0,0,0,0,0,0,0,0,0,0,0,0,0,0,0,0,0,0,0,0,0,0,0,0,0,0,0,0,0,0,0,0,0,0,0,0,0,0,0,0,0,0,0,0,0,0,0,0,0,0,0,0,0,0,0,0,0,0,0,0,0,0,0,0,0,0,0,0,0,0,0,0,0,0,0,0,0,0,0,0,0,0,0,0,0,0,0,0,0,0,0,0,0,0,0,0,0,0,0,0,0,0,0,0,0,0,0,0,0,0,0,0,0,0,0,0,0,0,0,0,0,0,0,0,0,0,0,0,0,0,0,0,0,0,0,0,0,0,0,0,0,0,0,0,0,0,0,0,0,0,0,0,0,0,0,0,0,0,0,0,0,0,0,0,0,0,0,0,0,0,0,0,0,0,0,0,0,0,0,0,0,0,0,0,0,0,0,0,0,0,0,0,0,0,0,0,0,0,0,0,0,0,0,0,0,0,0,0,0,0,0,0,0,0,0,0,0,0,0,0,0,0,0,0,0,0,0,0,0,0,0,0,0,0,0,0,0,0,0,0,0,0,0,0,0,0,0,0,0,0,0,0,0,0,0,0,0,0,0,0,0,0,0]
[0,0,0,0,0,0,0,0,0,0,0,0,0,0,0,0,0,0,0,0,0,0,0,0,0,0,0,0,0,0,0,0,0,0,0,0,0,0,0,0,0,0,0,0,0,0,0,0,0,0,0,0,0,0,0,0,0,0,0,0,0,0,0,0,0,0,0,0,0,0,0,0,0,0,0,0,0,0,0,0,0,0,0,0,0,0,0,0,0,0,0,0,0,0,0,0,0,0,0,0,0,0,0,0,0,0,0,0,0,0,0,0,0,0,0,0,0,0,0,0,0,0,0,0,0,0,0,0,0,0,0,0,0,0,0,0,0,0,0,0,0,0,0,0,0,0,0,0,0,0,0,0,0,0,0,0,0,0,0,0,0,0,0,0,0,0,0,0,0,0,0,0,0,0,0,0,0,0,0,0,0,0,0,0,0,0,0,0,0,0,0,0,0,0,0,0,0,0,0,0,0,0,0,0,0,0,0,0,0,0,0,0,0,0,0,0,0,0,0,0,0,0,0,0,0,0,0,0,0,0,0,0,0,0,0,0,0,0,0,0,0,0,0,0,0,0,0,0,0,0,0,0,0,0,0,0,0,0,0,0,0,0,0,0,0,0,0,0,0,0,0,0,0,0,0,0,0,0,0,0,0,0,0,0,0,0,0,0,0,0,0,0,0,0,0,0,0,0,0,0,0,0,0,0,0,0,0,0,0,0,0,0]
[]
[]
[]
[]
[]
[]
[]
[]
[]
[]
[]
[]
[]
[]
[]
[]
[]
[]
[]
[]
[]
[]
[]
[]
[]
[]
[]
[]
[]
[]
[]
[]
[]
[]
[]
[]
[8,8,8,8,8,8,8,8,8,8,8,8,8,8,8,8,8,8,8,8,8,8,8,8,8,8,8,8,8,8,8,8,8,8,8,8,8,8,8,8,8,8,8,8,8,8,8,8,8,8,8,8,8,8,8,8,8,8,8,8,8,8,8,8,8,8,8,8,8,8,8,8,8,8,8,8,8,8,8,8,8,8,8,8,8,8,8,8,8,8,8,8,8,8,8,8,8,8,8,8,8,8,8,8,8,8,8,8,8,8,8,8,8,8,8,8,8,8,8,8,8,8,8,8,8,8,8,8,8,8,8,8,8,8,8,8,8,8,8,8,8,8,8,8,8,8,8,8,8,8,8,8,8,8,8,8,8,8,8,8,8,8,8,8,8,8,8,8,8,8,8,8,8,8,8,8,8,8,8,8,8,8,8,8,8,8,8,8,8,8,8,8,8,8,8,8,8,8,8,8,8,8,8,8,8,8,8,8,8,8,8,8,8,8,8,8,8,8,8,8,8,8,8,8,8,8,8,8,8,8,8,8,8,8,8,8,8,8,8,8,8,8,8,8,8,8,8,8,8,8,8,8,8,8,8,8,8,8,8,8,8,8,8,8,8,8,8,8,8,8,8,8,8,8,8,8,8,8,8,8,8,8,8,8,8,8,8,8,8,8,8,8,8,8,8,8,8,8,8,8,8,8,8,8,8,8,8,8,8,8,8,8]
[55372.5,55372.5,55372.5,55372.5,55372.5,55372.5,55372.5,55372.5,55372.5,55372.5,55372.5,55372.5,55372.5,55372.5,55372.5,55372.5,55372.5,55372.5,55372.5,55372.5,55372.5,55372.5,55372.5,55372.5,55372.5,55372.5,55372.5,55372.5,55372.5,55372.5,55372.5,55372.5,55372.5,55372.5,55372.5,55372.5,55372.5,55372.5,55372.5,55372.5,55372.5,55372.5,55372.5,55372.5,55372.5,55372.5,55372.5,55372.5,55372.5,55372.5,55372.5,55372.5,55372.5,55372.5,55372.5,55372.5,55372.5,55372.5,55372.5,55372.5,55372.5,55372.5,55372.5,55372.5,55372.5,55372.5,55372.5,55372.5,55372.5,55372.5,55372.5,55372.5,55372.5,55372.5,55372.5,55372.5,55372.5,55372.5,55372.5,55372.5,55372.5,55372.5,55372.5,55372.5,55372.5,55372.5,55372.5,55372.5,55372.5,55372.5,55372.5,55372.5,55372.5,55372.5,55372.5,55372.5,55372.5,55372.5,55372.5,55372.5,55372.5,55372.5,55372.5,55372.5,55372.5,55372.5,55372.5,55372.5,55372.5,55372.5,55372.5,55372.5,55372.5,55372.5,55372.5,55372.5,55372.5,55372.5,55372.5,55372.5,55372.5,55372.5,55372.5,55372.5,55372.5,55372.5,55372.5,55372.5,55372.5,55372.5,55372.5,55372.5,55372.5,55372.5,55372.5,55372.5,55372.5,55372.5,55372.5,55372.5,55372.5,55372.5,55372.5,55372.5,55372.5,55372.5,55372.5,55372.5,55372.5,55372.5,55372.5,55372.5,55372.5,55372.5,55372.5,55372.5,55372.5,55372.5,55372.5,55372.5,55372.5,55372.5,55372.5,55372.5,55372.5,55372.5,55372.5,55372.5,55372.5,55372.5,55372.5,55372.5,55372.5,55372.5,55372.5,55372.5,55372.5,55372.5,55372.5,55372.5,55372.5,55372.5,55372.5,55372.5,55372.5,55372.5,55372.5,55372.5,55372.5,55372.5,55372.5,55372.5,55372.5,55372.5,55372.5,55372.5,55372.5,55372.5,55372.5,55372.5,55372.5,55372.5,55372.5,55372.5,55372.5,55372.5,55372.5,55372.5,55372.5,55372.5,55372.5,55372.5,55372.5,55372.5,55372.5,55372.5,55372.5,55372.5,55372.5,55372.5,55372.5,55372.5,55372.5,55372.5,55372.5,55372.5,55372.5,55372.5,55372.5,55372.5,55372.5,55372.5,55372.5,55372.5,55372.5,55372.5,55372.5,55372.5,55372.5,55372.5,55372.5,55372.5,55372.5,55372.5,55372.5,55372.5,55372.5,55372.5,55372.5,55372.5,55372.5,55372.5,55372.5,55372.5,55372.5,55372.5,55372.5,55372.5,55372.5,55372.5,55372.5,55372.5,55372.5,55372.5,55372.5,55372.5,55372.5,55372.5,55372.5,55372.5,55372.5,55372.5,55372.5,55372.5,55372.5,55372.5,55372.5,55372.5,55372.5,55372.5,55372.5,55372.5,55372.5,55372.5,55372.5,55372.5,55372.5,55372.5,55372.5,55372.5,55372.5,55372.5,55372.5,55372.5,55372.5,55372.5,55372.5,55372.5,55372.5,55372.5,55372.5,55372.5,55372.5,55372.5,55372.5,55372.5,55372.5,55372.5,55372.5,55372.5,55372.5,55372.5]
[214934.83,214934.83,214934.83,214934.83,214934.38,214934.38,214934.38,214934.38,214933.79,214933.79,214933.79,214933.79,215022.2,215022.2,215022.2,215022.2,215021.27,215021.27,215021.27,215021.27,215021,215021,215021,215021,215040.94,215040.94,215040.94,215040.94,215039.86,215039.86,215039.86,215039.86,215039.69,215039.69,215039.69,215039.69,215006.69,215006.69,215006.69,215006.69,215005.79,215005.79,215005.79,215005.79,215005.06,215005.06,215005.06,215005.06,214902.01,214902.01,214902.01,214902.01,214901.12,214901.12,214901.12,214901.12,214900.21,214900.21,214900.21,214900.21,214713.93,214713.93,214713.93,214713.93,214712.86,214712.86,214712.86,214712.86,214712.26,214712.26,214712.26,214712.26,214425.59,214425.59,214425.59,214425.59,214424.35,214424.35,214424.35,214424.35,214423.62,214423.62,214423.62,214423.62,214213.29,214213.29,214213.29,214213.29,214211.65,214211.65,214211.65,214211.65,214211.21,214211.21,214211.21,214211.21,214082.31,214082.31,214082.31,214082.31,214086.25,214086.25,214086.25,214086.25,214085.36,214085.36,214085.36,214085.36,214323.27,214323.27,214323.27,214323.27,214326.88,214326.88,214326.88,214326.88,214325.95,214325.95,214325.95,214325.95,214020.33,214020.33,214020.33,214020.33,214023.87,214023.87,214023.87,214023.87,214022.8,214022.8,214022.8,214022.8,214088.73,214088.73,214088.73,214088.73,214086.63,214086.63,214086.63,214086.63,214090.81,214090.81,214090.81,214090.81,214056.05,214056.05,214056.05,214056.05,214053.96,214053.96,214053.96,214053.96,214057.85,214057.85,214057.85,214057.85,213917.89,213917.89,213917.89,213917.89,213915.84,213915.84,213915.84,213915.84,213914.06,213914.06,213914.06,213914.06,213674.17,213674.17,213674.17,213674.17,213671.49,213671.49,213671.49,213671.49,213669.84,213669.84,213669.84,213669.84,213319.96,213319.96,213319.96,213319.96,213322.35,213322.35,213322.35,213322.35,213320.83,213320.83,213320.83,213320.83,212959.39,212959.39,212959.39,212959.39,212955.64,212955.64,212955.64,212955.64,212953.59,212953.59,212953.59,212953.59,212458.12,212458.12,212458.12,212458.12,212458.12,212458.12,212458.12,212458.12,212458.12,212458.12,212458.12,212458.12,211720.21,211720.21,211720.21,211720.21,211720.21,211720.21,211720.21,211720.21,211720.21,211720.21,211720.21,211720.21,210795.98,210795.98,210795.98,210795.98,210795.98,210795.98,210795.98,210795.98,210795.98,210795.98,210795.98,210795.98,209701.86,209701.86,209701.86,209701.86,209701.86,209701.86,209701.86,209701.86,209701.86,209701.86,209701.86,209701.86,208879.77,208879.77,208879.77,208879.77,208879.77,208879.77,208879.77,208879.77,208879.77,208879.77,208879.77,208879.77,208096.95,208096.95,208096.95,208096.95,208096.95,208096.95,208096.95,208096.95,208096.95,208096.95,208096.95,208096.95,207372.76,207372.76,207372.76,207372.76,207372.92,207372.92,207372.92,207372.92,207372.92,207372.92,207372.92,207372.92,206689.08,206689.08,206689.08,206689.08,206689.08,206689.08,206689.08,206689.08,206689.08,206689.08,206689.08,206689.08,206244.16,206244.16,206244.16,206244.16,206244.16,206244.16,206244.16,206244.16,206244.16,206244.16,206244.16,206244.16]
[533322.32999999996,533322.32999999996,533322.32999999996,533322.32999999996,533320.51,533320.51,533320.51,533320.51,533318.98,533318.98,533318.98,533318.98,533221.97,533221.97,533221.97,533221.97,533219.42000000004,533219.42000000004,533219.42000000004,533219.42000000004,533218.31999999995,533218.31999999995,533218.31999999995,533218.31999999995,533032.81999999995,533032.81999999995,533032.81999999995,533032.81999999995,533030.06000000006,533030.06000000006,533030.06000000006,533030.06000000006,533029.32999999996,533029.32999999996,533029.32999999996,533029.32999999996,532768.84,532768.84,532768.84,532768.84,532766.21,532766.21,532766.21,532766.21,532764.31999999995,532764.31999999995,532764.31999999995,532764.31999999995,532391.56999999995,532391.56999999995,532391.56999999995,532391.56999999995,532388.63,532388.63,532388.63,532388.63,532386.44999999995,532386.44999999995,532386.44999999995,532386.44999999995,531994.68999999994,531994.68999999994,531994.68999999994,531994.68999999994,531991.61,531991.61,531991.61,531991.61,531989.62,531989.62,531989.62,531989.62,531567.28,531567.28,531567.28,531567.28,531563.61,531563.61,531563.61,531563.61,531561.55000000005,531561.55000000005,531561.55000000005,531561.55000000005,531126.25,531126.25,531126.25,531126.25,531121.88,531121.88,531121.88,531121.88,531120.14,531120.14,531120.14,531120.14,530684.59,530684.59,530684.59,530684.59,530695.86,530695.86,530695.86,530695.86,530693.39,530693.39,530693.39,530693.39,530728.43000000005,530728.43000000005,530728.43000000005,530728.43000000005,530739.14,530739.14,530739.14,530739.14,530736.13,530736.13,530736.13,530736.13,530041.42000000004,530041.42000000004,530041.42000000004,530041.42000000004,530051.86,530051.86,530051.86,530051.86,530049.02,530049.02,530049.02,530049.02,529449.30000000005,529449.30000000005,529449.30000000005,529449.30000000005,529443.4,529443.4,529443.4,529443.4,529456.07999999996,529456.07999999996,529456.07999999996,529456.07999999996,528481.80000000005,528481.80000000005,528481.80000000005,528481.80000000005,528475.18999999994,528475.18999999994,528475.18999999994,528475.18999999994,528487.78,528487.78,528487.78,528487.78,527143.43999999994,527143.43999999994,527143.43999999994,527143.43999999994,527136.44999999995,527136.44999999995,527136.44999999995,527136.44999999995,527131.56999999995,527131.56999999995,527131.56999999995,527131.56999999995,525486.85,525486.85,525486.85,525486.85,525477.93999999994,525477.93999999994,525477.93999999994,525477.93999999994,525472.64,525472.64,525472.64,525472.64,523603.55,523603.55,523603.55,523603.55,523611.55,523611.55,523611.55,523611.55,523606,523606,523606,523606,521581.49,521581.49,521581.49,521581.49,521568.81,521568.81,521568.81,521568.81,521561.95,521561.95,521561.95,521561.95,434691.21,313532.28999999998,455657.27,328096.14,519258.99,519258.99,519258.99,519258.99,519258.99,519258.99,519258.99,519258.99,356407.67,253489.9,394698.38,279523.73,516328.24,516328.24,516328.24,516328.24,516328.24,516328.24,516328.24,516328.24,286794.98,201319.47,338818.15,235860.45,513004.1,513004.1,513004.1,513004.1,513004.1,513004.1,513004.1,513004.1,225644.65,156628.15,287881.34999999998,196927.15,509272.96,509272.96,509272.96,509272.96,509272.96,509272.96,509272.96,509272.96,173317.87,119649.19,242463.94,163363.79,505976.3,505976.3,505976.3,505976.3,505976.3,505976.3,505976.3,505976.3,128758.84,89072.55,201629.54,133946.76999999999,421338.22,300166.06,441611.5,314058.48,502491.66,502491.66,502491.66,502491.66,91642.87,64433.66,165159.49,108425.96,345628.58,242722.57,382656.96,267485.99,498888.46,498888.46,498888.46,498888.46,91708.72,64527.64,164735.53,108074.61,278643.48,193219.1,328917.5,225984.8,495208.25,495208.25,495208.25,495208.25,91942.62,64780.33,164539.35999999999,107921.95,220311.64,151426.12,280461.09000000003,189592.79,491840.6,491840.6,491840.6,491840.6]
[878919.18,878919.18,878919.18,878919.18,878915.92,878915.92,878915.92,878915.92,878913.54,878913.54,878913.54,878913.54,878682.08,878682.08,878682.08,878682.08,878677.82,878677.82,878677.82,878677.82,878675.68,878675.68,878675.68,878675.68,878272.41,878272.41,878272.41,878272.41,878267.52,878267.52,878267.52,878267.52,878266.11,878266.11,878266.11,878266.11,877699.21,877699.21,877699.21,877699.21,877694.56,877694.56,877694.56,877694.56,877691.22,877691.22,877691.22,877691.22,876863.82,876863.82,876863.82,876863.82,876858.42,876858.42,876858.42,876858.42,876854.7,876854.7,876854.7,876854.7,875840.07,875840.07,875840.07,875840.07,875834.47,875834.47,875834.47,875834.47,875831.07,875831.07,875831.07,875831.07,874598.64,874598.64,874598.64,874598.64,874592.24,874592.24,874592.24,874592.24,874588.5,874588.5,874588.5,874588.5,873193.21,873193.21,873193.21,873193.21,873185.47,873185.47,873185.47,873185.47,873182.18,873182.18,873182.18,873182.18,871685.13,871685.13,871685.13,871685.13,871705.71,871705.71,871705.71,871705.71,871701.02,871701.02,871701.02,871701.02,870805.02,870805.02,870805.02,870805.02,870824.73,870824.73,870824.73,870824.73,870819.28,870819.28,870819.28,870819.28,869201.55,869201.55,869201.55,869201.55,869220.88,869220.88,869220.88,869220.88,869215.42,869215.42,869215.42,869215.42,867454.87,867454.87,867454.87,867454.87,867443.7,867443.7,867443.7,867443.7,867467.64,867467.64,867467.64,867467.64,738213.12,570940.06000000006,773520.6,597623.79,865215.56,865215.56,865215.56,865215.56,865239.44,865239.44,865239.44,865239.44,620002.89,474806.48,686289.11,524300.06999999995,862450.37,862450.37,862450.37,862450.37,862441.13,862441.13,862441.13,862441.13,512456.88,388647.44,605492.26,457235.12,859159.77,859159.77,859159.77,859159.77,859149.66,859149.66,859149.66,859149.66,415271.27,312000.09000000003,530876.48,396099.03,855380.65,855380.65,855380.65,855380.65,855370.1,855370.1,855370.1,855370.1,328245.44,244212.51,462316.85,340024.63,851047.66,851047.66,851047.66,851047.66,851034.39,851034.39,851034.39,851034.39,250529.9,185196.56,399164.86,289320.56,722408.32,555151.02,756948.32,581122.85,846164.28,846164.28,846164.28,846164.28,182190.6,134702.12,341311.02,243824.75,604867.53,459806.97,669495.31999999995,507740.62,840185.65,840185.65,840185.65,840185.65,123377.38,92543.51,288903.37,203369.56,498515.1,374981.91,588881.4,440980.37,833684.39,833684.39,833684.39,833684.39,73907.429999999993,58269.69,241820.04,167818.33,402907.03,300033.49,514828.58,380466.13,826670.84,826670.84,826670.84,826670.84,33623.74,31598.31,200364.83,137588.60999999999,318199.48,234575.89,447765.55,325910.09999999998,820481.21,820481.21,820481.21,820481.21,31839.8,30077.51,163759.5,111594.58,243072.71,177995.22,386372.89,277025.67,695220.69,528053,728425.13,552715.56000000006,30350.43,28832.51,131839.42000000001,89655.78,177489.45,130111.94,330776.46000000002,233720.82,581892.07999999996,436988.5,643951.71,482410.67,31026.85,29529.97,131835.48000000001,89752.7,121255.54,90554.48,280748.43,195634.7,479902.36,356551.51,566640.68999999994,418993.28,31844.11,30366.3,132077.25,90016.3,74245.06,58893.09,236318.86,162709.76999999999,388951.88,286284.40000000002,496496.85,362394.12]
[1364523.05,1364523.05,1364523.05,1364523.05,1364517.66,1364517.66,1364517.66,1364517.66,1364513.64,1364513.64,1364513.64,1364513.64,1363484.11,1363484.11,1363484.11,1363484.11,1363477.04,1363477.04,1363477.04,1363477.04,1363473.32,1363473.32,1363473.32,1363473.32,1362047.1,1362047.1,1362047.1,1362047.1,1362039.3,1362039.3,1362039.3,1362039.3,1362036.59,1362036.59,1362036.59,1362036.59,1360278.11,1360278.11,1360278.11,1360278.11,1360270.33,1360270.33,1360270.33,1360270.33,1360264.56,1360264.56,1360264.56,1360264.56,1358082.4,1358082.4,1358082.4,1358082.4,1358073.28,1358073.28,1358073.28,1358073.28,1358067.24,1358067.24,1358067.24,1358067.24,1355675.46,1355675.46,1355675.46,1355675.46,1355665.97,1355665.97,1355665.97,1355665.97,1355660.1,1355660.1,1355660.1,1355660.1,1353034.76,1353034.76,1353034.76,1353034.76,1353023.8,1353023.8,1353023.8,1353023.8,1353017.31,1353017.31,1353017.31,1353017.31,1163741.3400000001,949969.93,1218814.3,994020.21,1350211.76,1350211.76,1350211.76,1350211.76,1350205.6,1350205.6,1350205.6,1350205.6,989439.64,801558.35,1094002.53,884406.14,1347289.46,1347289.46,1347289.46,1347289.46,1347281.18,1347281.18,1347281.18,1347281.18,830103.68,667707.93999999994,978895.94,784392.5,1345130.68,1345130.68,1345130.68,1345130.68,1345121.17,1345121.17,1345121.17,1345121.17,683579.94,545824.44999999995,871372.93,691756.17,1342103.2,1342103.2,1342103.2,1342103.2,1342093.45,1342093.45,1342093.45,1342093.45,550269.06000000006,436579.82,772451.99,607575.29,1338183.8500000001,1338183.8500000001,1338183.8500000001,1338183.8500000001,1338225.96,1338225.96,1338225.96,1338225.96,428806.39,338566.39,680810.71,530307.62,1149303.05,935606.78,1204136.1200000001,979354.9,1333550.49,1333550.49,1333550.49,1333550.49,318815.73,251305.39,596170.86,459565.35,975305.04,787701.47,1079037.1000000001,869518.43,1328041.29,1328041.29,1328041.29,1328041.29,220066.76,174456.15,518112.58,395113.46,815710.04,653759.99,962569.64,768223.67,1321929.3700000001,1321929.3700000001,1321929.3700000001,1321929.3700000001,132394.29999999999,107644.21,446445.41,336747.31,669985.96,532752.5,854519.04,675408.64,1315236.03,1315236.03,1315236.03,1315236.03,55923.19,51210.52,381107.15,283972.37,537748.78,424630.71,755463.4,591184.98,1307692.51,1307692.51,1307692.51,1307692.51,51587.53,47509.120000000003,321577.51,236822.25,417850.96,328203.46000000002,664133.77,514294.96,1119535.99,905947.3,1173772.3799999999,949023.31,47799.68,44310.51,267794.62,195219.35,309713.24,242834.86,579842.85,444016.75,946417.85,759004.2,1048522.8,839010.46,44691.13,41691.300000000003,219923.98,158991.4,213363.29,168324.89,502670.74,380480.56,788638.4,626892.34,932452.61,737974.84,42198.17,39548.629999999997,177872.26,128028.75,128480.49,104260.82,432320.39,323486.53999999998,645483.31000000006,508565.28,825116.59,645463.96,40267.589999999997,37928.44,141758.96,102505.53,55040.35,50850.720000000001,369172.82,272827.18,517470.42,404649.11,728005.48,563218.57999999996,38764.03,36667.050000000003,111101.53,81449.570000000007,51817.81,48203.67,312153.05,228132.01,402135.62,312876.61,638984.55000000005,489455.86,37563.440000000002,35761.300000000003,85571.01,64601.98,49194.58,46023.87,261109.19,189101.87,298784.13,232254.97,558331.31000000006,422863.52,38644.94,36876.639999999999,86274.82,65463.31,47144.78,44414.34,215825.33,155430.85,207016.77,162351.92000000001,484865.21,363067.79,39863,38164.19,87145.57,66371.89,45669.5,43327.09,176364.66,127032.12,126423.67999999999,102652.74,418438.21,310020.14]
[2199683.46,2199683.46,2199683.46,2199683.46,2199673.41,2199673.41,2199673.41,2199673.41,2199666.08,2199666.08,2199666.08,2199666.08,1909621.58,1640293.05,1998710.39,1715485.17,2196813.58,2196813.58,2196813.58,2196813.58,2196806.7999999998,2196806.7999999998,2196806.7999999998,2196806.7999999998,1640215.58,1401509.92,1810741.99,1544369.6,2193356.65,2193356.65,2193356.65,2193356.65,2193351.33,2193351.33,2193351.33,2193351.33,1390474.98,1181576.72,1635058.32,1385477.34,2189318.6,2189318.6,2189318.6,2189318.6,2189308.2200000002,2189308.2200000002,2189308.2200000002,2189308.2200000002,1158715.45,979471.57,1471038.51,1237978.92,2184522.81,2184522.81,2184522.81,2184522.81,2184511.7200000002,2184511.7200000002,2184511.7200000002,2184511.7200000002,944142.78,794437.47,1318225.05,1101147.3899999999,2179196.02,2179196.02,2179196.02,2179196.02,2179185.15,2179185.15,2179185.15,2179185.15,746119.29,625742.32999999996,1175690.29,974444.94,1888490.26,1619291.37,1978182.49,1694988.61,2173320.4700000002,2173320.4700000002,2173320.4700000002,2173320.4700000002,564057.02,472737.21,1042957.57,857450.08,1619146.65,1380815.21,1790473.83,1524177.48,2167125.4500000002,2167125.4500000002,2167125.4500000002,2167125.4500000002,397433.08,334773.89,919685.62,749877.33,1370105.08,1161690.67,1615358.46,1365848.85,2160802.91,2160802.91,2160802.91,2160802.91,245938.92,211483.13,806092.35,651929.69999999995,1140439.6599999999,961730.64,1453268.93,1220271.72,2155739.21,2155739.21,2155739.21,2155739.21,108226.79,101367.69,700313.73,561588.12,927319.91,778234.97,1301697.08,1084645.6399999999,2150199.6800000002,2150199.6800000002,2150199.6800000002,2150199.6800000002,99325.93,92676.73,603565.28,480068.77,730734.46,611040.57999999996,1159577,958328.55,1860251.17,1591198.93,1950883.24,1667723.58,91169.13,84715.51,514598.72,406136.36,550310.43000000005,459723.08,1026998.8,841422.48,1591732.36,1353630.15,1764477.87,1498190.36,83697.89,77481.97,433227.65,339409.54,385597.45,323727.25,903606.17,733665.59,1343524.54,1135425.26,1590147.51,1340586.5,76923.710000000006,71008.34,359239.39,279644.21999999997,236208.74,202551.67999999999,789113.69,635072,1114410.46,936113.95,1427825.33,1194704.68,70962.490000000005,65293.37,292540.03999999998,226689.03,101831.41,95671.97,683769.24,546119.39,903430.31,754780.49,1276746.42,1059552.5900000001,66130.960000000006,61053.64,233152.51,180443.51999999999,94445.96,88488.29,588552.23,466137.34,709875.24,590670.12,1135912.8700000001,934389.79,61908.85,57517.599999999999,180475.3,140399.72,87683.33,81859.399999999994,501328.81,393874.24,533028.92000000004,442890.3,1004664.36,818728.85,58206.74,54465.04,134292.68,106460.63,81390.69,75834.19,421478.73,328695.78999999998,371869.75,310514.99,881904.46,711534,55232.93,52030.31,94821.06,78236.45,75743.38,70390.66,349167.58,270629.65999999997,226591.26,193435.23,768149.21,613252.47,52919.839999999997,50095.88,61995.79,55673.78,70720.95,65624.66,284250.8,219561.09,96634.01,91084.05,663068.80000000005,523446.03,51162.87,48721.39,58699.06,53372.34,66609.38,62228.7,226888.75,175304.43,90064.46,84673.73,567842.74,444106.51,49893.84,47741.37,56147.13,51506.49,63294,59606,176416.87,137526.45000000001,84098.86,79114.37,481049.99,374673.62,49050.13,47251.46,54177.17,50250.5,60740.43,57553.57,132738.54,105909.43,78900.98,74142.59,404535.41,312952.34999999998,50582.080000000002,48845.53,55458.92,51833.279999999999,58920.35,56250.12,95617.63,80126,74577.94,70084.91,335723.89,258535.23,52279.89,50666.18,56886.5,53367.59,57818.97,55606.26,65062.98,59931.9,71007.78,66895.75,274508.73,211282.59]
[1422270.83,1242529.3700000001,1977382.05,1716368.88,3188126.04,3188126.04,3188126.04,3188126.04,3188114.22,3188114.22,3188114.22,3188114.22,1134547.92,989118.47,1775833.74,1532179.39,2777425.82,2461971.81,2908484.26,2576646.7200000002,3181951.48,3181951.48,3181951.48,3181951.48,867395.75,756357.71,1587003.86,1360804.14,2394978.5,2113882.7400000002,2646518.9,2333014.66,3174959.76,3174959.76,3174959.76,3174959.76,620113.52,543421.31000000006,1410369.22,1201610,2038625.25,1791320.76,2401319.65,2105884.14,3167289.88,3167289.88,3167289.88,3167289.88,392034.53,349629.3,1245416.58,1054187.82,1706182.58,1492856.4,2171831.31,1893566.04,3158740.33,3158740.33,3158740.33,3158740.33,182492.31,174183.67999999999,1091700.8600000001,918037.66,1396828.18,1217743.42,1956656.31,1695677.45,3149634.74,3149634.74,3149634.74,3149634.74,167829.55,159656.70000000001,948829.62,792605.85,1109548.97,964845.31,1755072.97,1511414.75,2738002.54,2422684.31,2871156.92,2539356.0499999998,154234.38,146271.07,816645.54,677751.63,843755.56,733504.99,1566772.15,1340495.6100000001,2355961.23,2075135.84,2611188.81,2297691.4700000002,141716.79,133924.04999999999,694805.93,573110.75,598618.56000000006,522815.7,1391190.48,1182277.52,2001271.74,1754332.44,2368785.34,2073320.07,130448.06,122897.47,583396.52,478742.34,373668.58,332153.12,1228660.6399999999,1037189.66,1672765.64,1459918.14,2144296.37,1865982.58,119755.94,112481.67,480717.18,392735.09,166743.10999999999,159397.78,1077045.6000000001,902950.18,1367193.77,1188641.3400000001,1934058.38,1672904.16,110808.81,103745.23,388105.47,316428.99,154832.60999999999,147579.74,935810.83,779017.55,1083726.55,939557.81,1736224.05,1492276.87,102518.37,95650.86,303757.2,248107.33,143519.84,136445.39000000001,804395.57,664735.22,821292.2,711634.73,1550592.25,1323910.51,94808.18,88207.39,227562.06,187354.1,132845.25,125964.16,682478.25,559865.64,579217.78,504062.02,1376465.08,1167069.71,87703.58,81468.25,159271.92000000001,133944.54,122882.78,116240.64,569777.05000000005,464736.07,357018.47,316293.38,1213776.48,1021758,81375.17,75454.880000000005,98900.479999999996,87826.97,113705.95,107257.05,466923.71,380431.23,154030.44,147488.49,1061969.6200000001,887281.1,76184.789999999994,70924.87,91851.48,81838.98,105405.84,99266.240000000005,375302.22,305288.21000000002,142577.48000000001,136256.17000000001,920445.27,763042.42,71748.990000000005,67274.649999999994,85676.45,76613.600000000006,97923.26,91991.45,292459.63,238474.29,131994.26999999999,125792.96000000001,789047.73,648822.81999999995,67946.38,64213.19,80074.759999999995,72281.179999999993,91092.53,85552.47,217901.53,179533.7,121926.67,116054.48,666957.91,543791.07999999996,65060.91,61931.54,75400.56,68509.600000000006,85115.12,79869.070000000007,151711.13,128361.19,112859.75,107216.76,554512.23,448281.57,63005.27,60285.75,71675.55,65602.33,79965.45,75088.17,93834.46,84939.05,104662.46,99371.93,451416.23,361854,61580.39,59326.79,68558,63655,75880.45,71824.850000000006,87984.79,80060.490000000005,97646.23,92619.69,358370.27,286563.27,60801.13,58878.59,66413.06,62242,72770.720000000001,69511.429999999993,83180.77,76277.87,91385.06,86968.06,274764.32,223238.18,60583.59,59067.44,65021.78,61609.72,70572.7,67849.539999999994,79317.38,73405.31,86091.49,82025.27,203904.94,168232.04,62521.16,61114.87,66525.05,63593.88,69258.84,67115.31,76294.210000000006,71432.100000000006,81939.19,78283.8,141516.75,121110.04,64640.83,63437.46,68181.83,65459.23,68813.08,67184.94,74340.639999999999,70430.48,78765.960000000006,75676.84,87403.64,81649.19]
[298981.99,289205.77,1556442.3,1360846.03,1773568.41,1598731.74,2792115.66,2497308.31,4265577.38,3894830.25,4471634.0199999996,4081498.23,276631.37,267136.92,1351571.22,1176241.67,1361304.64,1227368.43,2508248.54,2232848.88,3688325.77,3355515.9,4085237.73,3715031.36,255848.03,246516.75,1160852.82,1005892.1,977603.98,885047.8,2242224.12,1986412.75,3148099.98,2853901.47,3723783.83,3372056.52,236611.01,227369.93,983791.67,849116.56,621487.55000000005,570678.01,1993326.4,1757274.73,2643084.5,2388237.1,3384568.31,3051542.26,218919.76,209818.28,819980.81,705596.59,291867.84000000003,283069.09999999998,1760643.7,1544459.62,2171684.12,1956731.61,3066398.63,2752266.84,202733.75,193776.77,668919.77,574760.47,271602.78999999998,262920.78999999998,1543817.12,1347589.56,1732586.65,1557988.36,2768578.91,2473466.04,187364.51,178539.08,529442.68999999994,455288.26,252226.79,243774.8,1341041.25,1164879.24,1323066.95,1189543.52,2488827.6,2212994.29,172851.13,164283.59,401146.79,346909.02,233821.85,225492.75,1151717.24,995707.35,942630.99,850803.29,2226313.23,1969965.64,159223.73000000001,150867.72,283721.38,249169.59,216343.65,208207.34,975301.68,839443.39,589709.94999999995,539772.22,1980279.03,1743581.81,146665.12,138648.81,177015.07,161893.12,200001.7,191993.11,811862.1,696217.09,263056.37,255372.2,1750879.93,1534020.07,134478.35999999999,126877.86,162200.88,147674.41,183700.3,176005.84,659750.12,564208.36,242164.37,234682.94,1535546.07,1338651.82,124045.7,116801.69,149456.20000000001,135579.92000000001,169346.71,161870.43,518512.42,443062.33,223559.91,216303.01,1333094.05,1156294.06,114549.49,107631.96,137542.26,124565.7,155849,148722.10999999999,388106.89,332504.44,205848.47,198824.06,1143685.08,987056.25,105894.69,99402.08,126625.51,114455.39,143302.5,136533.82,268356.43,232407.54,189115.87,182386.45,966714.18,830326,98094.31,92159.77,116550.52,105284.4,131750.28,125416.92,158982.64000000001,143639.21,173344.91,166970.23000000001,802155.51,686013.6,91367.27,85920.7,107597.21,97368.58,121323.34,115353.34,142722.10999999999,131433.97,158630.72,152574.21,649382.71,553413.88,86028.99,81310.5,99927.71,91033.19,111986.44,106552.3,130931.7,120555.16,145055.35999999999,139452.10999999999,507877.27,432091.03,81671.31,77853.320000000007,93462.79,85719.17,103801.85,98745.67,120293.79,110810.37,132711.26,127415.65,377445.04,321690.83,78105.19,75130.62,87768.76,81636.7,96584.31,92179.21,110586.39,102220.34,121137.41,116462.66,257760.53,221756.77,75746.53,73437.88,83368.710000000006,78287.990000000005,90574.27,86664.54,102057.84,94844.95,111019.02,106827.94,148856.51,132425.21,74504.17,72620.13,80332.820000000007,76163.14,85789.47,82488.27,95002.18,89200.83,102243.41,98716.01,129211.58,113753.62,74303.34,72977.850000000006,78463.839999999997,75616.289999999994,82825.8,80408.7,90039.84,85316.85,95933.24,92843.14,112228.38,99987.4,75315.100000000006,74304.52,78335.210000000006,76073.53,81607.86,79987.289999999994,87178.76,83451.41,91475.04,89246.82,98895.42,94400.66,77348.78,76710.720000000001,79529.53,77819.3,81915.62,80670.47,86092.38,83211.06,89013.05,87153.45,94679.19,91161.5,81006.66,80446.210000000006,82744.28,81588.69,83653.960000000006,82848.56,86553.27,84512.71,88709.6,87208.81,92755.06,90083.16,85309.1,84930.240000000005,86691.39,85584.99,86727.8,86270.85,88785.75,87342.69,90159.17,89129.27,93060.24,91203.35]
[329072.01,318513.90999999997,879496.34,787031.69,428048.58,418250.79,2147876.12,1935169.17,2085552.18,1928352.1,3892733.27,3567673.14,304897.84999999998,294684.43,675044.71,606985.13,398389.23,388645.18,1859200.26,1669759.71,1500969.43,1392080.15,3498980.77,3195498.28,281807.34000000003,271814.99,485083.16,441613.02,369650.69,360071.43,1588293.7,1422412.58,954122.96,894571.96,3128116.42,2846638.1,259776.18,249948.27,309137.65999999997,290166.8,341994.44,332594.67,1334344.5,1192327.1200000001,443369.42,433941.42,2779075.2,2519963.79,238848.08,229292.53,284497.23,266127.28999999998,315431.84999999998,306190.45,1096606.52,978588.21,409084.99,399728.23,2450632.73,2214211.27,218969.37,209739.12,260893.73,243263.97,289920.05,280979.71999999997,874614.35,780764.3,375737.33,366458.66,2141989.0699999998,1928534.19,200257.53,191330.15,238600.21,221634.04,265667.06,257157.67,667726.35,598280.73,343391.99,334627.74,1852239.23,1662113.19,182805.59,174369.84,217634.43,201558.92,242811.28,234610.06,475405.94,430476.64,313758.09000000003,305782.09000000003,1580627,1414154.78,166622.76,158599.97,198032.68,182910.71,221272.2,213504.93,297136.57,276727.53000000003,285903.78000000003,278338.44,1326378.56,1183776.76,151831.35,144408.29,179935.27,165984.62,201241.18,193804.42,268822.76,249101.29,259626.33,252551.5,1089268.67,970785.65,137835.60999999999,131113.95000000001,162501.64000000001,149574.06,181620.4,174776.16,241744.26,222677.06,233626.64,226991.43,867332.87,773168.22,125879.19,119789.27,147467.26,135648.01,164278.43,157914.69,214957.71,196864.7,210206.58,204038.21,659485.11,589886.43999999994,115276.34,109766.6,133624.22,123285.22,148169.82,142491.42000000001,189131.24,171995.46,187997.17,182374.31,465926.81,421000.28,105920.84,101132.65,121241.85,112265.60000000001,133496.41,128503.98,164514.47,148483.85,167276.54999999999,162313.07,286250.62,266138.96999999997,97866.09,93974.78,110186.12,102665.95,120331.89,116152.17,141146.81,128268.66,148096.92000000001,143877.29,254266.76,235046.72,92100.78,88929.47,101801.32,95749.16,110040.33,106476.77,122775.12,116101.46,132253.75,128637.96,225428.62,207015.5,88687.98,86111.51,95912.639999999999,91261.03,102261.37,99466.71,112295.72,106871.86,119669.75,116768.02,199523.52,182034.62,87159.01,85345.85,92539.42,88838.03,97187.45,94798.93,104834.97,100432.83,110530.3,108006.18,176690.36,160003.85999999999,87121.3,85950.91,90923.13,88693.03,94477.94,92766.22,100029.09,96738.02,104102.82,102273.23,157050.29999999999,140922.88,89072,88284.28,91658.91,89932.67,94204.81,92781.46,98010.82,95560.04,101125.2,99631.85,140543.20000000001,124988.77,92161.71,91498.17,93834.43,92446.51,95144.639999999999,94147.56,97544.44,96272.76,99538.77,98590.8,125049.72,110028.54,95793,95615.98,96476.79,96178.04,97184.18,96789.59,98362.28,97590.7,99626.1,98911.38,111128.57,100123.27,100500.96,100501.43,100663.1,100503.23,100501.42,100716.95,100729.21,100500.75,100690.26,100907.97,100500.15,100507.38,0,0,0,0,0,0,0,0,0,0,0,0,0,0,0,0,0,0,0,0,0,0,0,0,0,0,0,0,0,0,0,0,0,0,0,0]
[344079.61,333311.53999999998,406004.76,385159.84,444921.85,434952.05,1309565.72,1200592.81,574371.54,564280.54,3119334.07,2875285.38,314669,304479.28000000003,371686.34,351647.88,408155.72,398413.71,1011667.93,930857.33,527651.94999999995,517796.57,2710300.09,2492169.5699999998,286780.40999999997,277025.27,338823.14,319807.03999999998,372721.86,363365.6,732746.61,680506.44,482153.28,472629.45,2325195.87,2133546.13,260354.72,250978.67,307446.49,289355.17,338792.35,329843.61,471907.74,448669.89,438018.34,428695.49,1962861.41,1798197.09,235410.28,226562.79,277693.40000000002,260684.57,306312.37,297750.31,429652.63,407000.09,394991.63,385950.75,1622002.26,1484788,211785.1,203544.82,249179.5,233492.82,275093.61,267122.68,388500.8,366525.8,352991.04,344256.24,1301650.74,1192322.6499999999,189650.53,181991.81,222329.74,207851.95,245427.41,238193.75,348447.3,327437.78000000003,312100.28999999998,304295.07,1000956.61,920007.2,169184.23,162381,197226.1,184261.98,217530.69,210916.28,309655.01,289746.31,274816.77,268338.28999999998,719294.61,667202,150525.21,144459.22,174077.06,162700.76,191504.78,185710.93,272476.03999999998,253719.8,240061.08,234380.92,456210.29,433249.22,133788.62,128707.54,153026.37,143573.51,167647.98000000001,162519.22,237206.94,219778.29,207607.7,202839.99,409287.1,387264.14,120229.7,116138.75,135526.54999999999,127504.23,147363.29,143122.32,207341.3,190939.06,179591.88,175518,368203.14,346988.73,110100.55,106813.67,122189.85,115512.86,131436.34,127849.09,179370.7,164265.47,156906.32,153446.14000000001,330353.67,310036.07,103036.87,100340.5,112082.52,107016.24,119132.54,116349.63,155167.79999999999,141050.01999999999,138629.89000000001,135823.95000000001,297154.98,277576.43,98730.3,96666.4,105394.83,101524.51,110591.92,108439,134935.49,121706.02,125138.35,122997.73,268632.90000000002,249725.24,97056.320000000007,95690.5,101787.18,98899.94,105682.18,104165.19,118516.1,108730.95,116342.97,114787.93,245300.35,226729.48,96884.83,96046.7,99915.58,98136.19,102553.43,101448.62,106432.33,104479.88,109339.38,108217.23,222966.69,204697.9,98259.520000000004,97591.23,99476.22,98639.360000000001,100698.18,100284.52,102741.55,101771.14,104044.57,103576.44,201320.85,183623.34,100851.52,100717.51,100821.35,100500.84,100653.42,100501.18,100858.84,100731.49,100886.53,100681.65,180724.09,163594.5,0,0,0,0,0,0,0,0,0,0,0,0,0,0,0,0,0,0,0,0,0,0,0,0,0,0,0,0,0,0,0,0,0,0,0,0,0,0,0,0,0,0,0,0,0,0,0,0,0,0,0,0,0,0,0,0,0,0,0,0,0,0,0,0,0,0,0,0,0,0,0,0,0,0,0,0,0,0,0,0,0,0,0,0,0,0,0,0,0,0,0,0,0,0,0,0]
[343656.61,332977.65999999997,405050.61,384383.45,443635.68,433754.87,1095716.55,1012662.62,572937.77,562871.64,2918720.94,2695050.52,313127.15000000002,303086.46999999997,369345.07,349587.59,405307.41,395702.23,795921.16,742227.21,524046.96,514256.48,2506307.23,2309624.4,284146.98,274600.37,335110.61,316498.95,368306.83,359149.22,515276.13,491382.24,476333.19,466923.4,2117923.02,1948827.79,256657.97,247554.19,302382.05,284818.49,332817.48,324134.42,469631.39,446502.91,429933.86,420780.84,1752392.7,1611429.71,230669.31,222172.17,271283.23,254948.1,298761.46999999997,290536.68,425107.16,402691.46,384558.23,375754.63,1408387.86,1296063.27,206128.02,198320.87,241545.95,226701.21,266098.26,258549.9,381811.62,360206.9,340331.38,331904.53999999998,1085182.75,1001968.04,183256.95999999999,176109.41,213680.77,200195.99,235194.51,228466.7,339809.67,319313.82,297416.53999999998,290032.01,782034.16,728444.82,162256.87,156057.82,187790.58,175978.13,206291.69,200264.71,299301.15000000002,280052,258515.45,252595.37,498370.34,474910.04,143239.93,137858.66,164055.93,153986.12,179459.87,174351.15,260610.66,242659,222413.08,217389.64,447098.33,424588.79,127779.89,123376.9,144451,136297.73000000001,157136.51999999999,152676.91,226647.92,209987.55,191762.29,187660.61,401627.75,380014.31,115745.32,112309.42,128708.84,121908.17,138732.03,135139.46,198607.43,182882.27,166035.09,162598.99,362654.89,341752.57,107153.3,104479.62,117170.16,111614.32,124764.09,121782.22,172346.46,157830.39000000001,145767.10999999999,142897.88,326881.48,306770.28000000003,101855.3,99692.99,109136.53,105071.12,114761.68,112528.51,150257.63,136570.92000000001,130399.55,128127.12,296359.59999999998,276822.65000000002,99481.21,97853.69,104761.09,101708.76,108824.78,107126.61,132496.75,119486.87,120289.67,118601.13,271053.03999999998,251967.3,98309.92,97417.61,101626.84,99602.71,104357.33,103338.51,115819.78,106495.38,111831.41,110774.35,247138.12,228421.22,98713.68,98374.8,100322.76,99455.4,101767.23,101186.67,103757.14,102812.81,105262.73,104672.11,224263.67,205875.52,100714.8,100500.52,100500.63,100572.15,100501.88,100655.41,100642.92,100732.9,100500.29,100611.77,202103.84,184325.36,0,0,0,0,0,0,0,0,0,0,0,0,0,0,0,0,0,0,0,0,0,0,0,0,0,0,0,0,0,0,0,0,0,0,0,0,0,0,0,0,0,0,0,0,0,0,0,0,0,0,0,0,0,0,0,0,0,0,0,0,0,0,0,0,0,0,0,0,0,0,0,0,0,0,0,0,0,0,0,0,0,0,0,0,0,0,0,0,0,0,0,0,0,0,0,0,0,0,0,0,0,0,0,0,0,0,0,0]
[311678.34999999998,302555.89,363984.57,346368.86,396871.05,388478.4,589490.39,565403.23,514192.64000000001,505157.8,1604405.89,1509961.26,273722.03000000003,265690.21000000002,318957.21000000002,303059.71000000002,347926.99,340198.66,527238.37,504254.44,450405.88,441975.24,1170103.31,1109404.46,237990,230897.45,276107.17,262264.19,300939.08,294125.06,466730.81,445046.11,388350.61,380673.53,761423.6,735274.54,204620.65,198427.6,235724.71,223794.07,256428.26,250566.19,408070.73,387958.31,328471.01,321463.67999999999,685719.46,660673.28000000003,176555.71,171347.84,201486.92,191475.55,218269.9,213215.57,356144.17,337347.95,275671.71999999997,269350.48,617865.55000000005,593828.94999999995,153499.03,149230.47,172782.47,164795.10999999999,186209.56,182108.68,310974.75,293323.58,229997.26,224266.32,558107.66,534936.35,135422.15,131868.95000000001,150019.69,143505.41,160412.87,157232.25,272313.26,255843.09,191335.03,186955.18,506307.44,483883.31,122380.28,119743.19,133127.34,128103.54,140997.78,138433.57,240304.59,224810.8,163382.91,160752.19,462843.33,441046.11,114282.12,112135.98,122123.42,118241.36,127931.02,126077.93,215243.49,200346.47,144334.1,142423.26999999999,428139.14,406542.95,107822.96,106464.34,112966.72,110672.67,116966.69,115503.14,191803.36,177659.41,127636.44,126543.15,395318.59,374028.05,103277.56,102791.15,105793.91,104461.85,107693.26,107003.71,172131.23,158424.54999999999,112938.33,112366.75,365831.92,344704.32,100500.43,100716.73,100822.05,100500.43,100654.76,100500.49,150150.84,137484.99,100717.09,100610.93,334623.2,313995.21999999997,0,0,0,0,0,0,0,0,0,0,0,0,0,0,0,0,0,0,0,0,0,0,0,0,0,0,0,0,0,0,0,0,0,0,0,0,0,0,0,0,0,0,0,0,0,0,0,0,0,0,0,0,0,0,0,0,0,0,0,0,0,0,0,0,0,0,0,0,0,0,0,0,0,0,0,0,0,0,0,0,0,0,0,0,0,0,0,0,0,0,0,0,0,0,0,0,0,0,0,0,0,0,0,0,0,0,0,0,0,0,0,0,0,0,0,0,0,0,0,0,0,0,0,0,0,0,0,0,0,0,0,0,0,0,0,0,0,0,0,0,0,0,0,0,0,0,0,0,0,0,0,0,0,0,0,0,0,0,0,0,0,0,0,0,0,0,0,0]
[0,0,170111.67,165194.64000000001,179284.82,177050.01,419025.24,401879.63,237954.3,233773.86,826002.3,800981.16,134619.84,133091,144159.25,140806.99,150385.84,148756.87,376114.38,359631.34,196462.28,192734.32,768294.82,743471.63,116256.25,115552.51,120909.88,119483.21,123952.62,123242.67,335415.84000000003,319715,157267.72,154142.38,712927.23,688414.67,100500.16,100500.37,100500.84,100558.29,100500.19,100650.59,296651.12,281986.46999999997,120523.13,117908.15,659802.01,635696.23,0,0,0,0,0,0,0,0,0,0,0,0,0,0,0,0,0,0,0,0,0,0,0,0,0,0,0,0,0,0,0,0,0,0,0,0,0,0,0,0,0,0,0,0,0,0,0,0,0,0,0,0,0,0,0,0,0,0,0,0,0,0,0,0,0,0,0,0,0,0,0,0,0,0,0,0,0,0,0,0,0,0,0,0,0,0,0,0,0,0,0,0,0,0,0,0,0,0,0,0,0,0,0,0,0,0,0,0,0,0,0,0,0,0,0,0,0,0,0,0,0,0,0,0,0,0,0,0,0,0,0,0,0,0,0,0,0,0,0,0,0,0,0,0,0,0,0,0,0,0,0,0,0,0,0,0,0,0,0,0,0,0,0,0,0,0,0,0,0,0,0,0,0,0,0,0,0,0,0,0,0,0,0,0,0,0,0,0,0,0,0,0,0,0,0,0,0,0,0,0,0,0,0,0,0,0,0,0,0,0,0,0,0,0,0,0,0,0,0,0,0,0,0,0,0,0,0,0,0,0,0,0,0,0,0,0,0,0,0,0,0,0,0,0,0,0,0,0,0,0,0,0,0,0,0,0,0,0,0,0,0,0,0,0]
[0,0,0,0,0,0,0,0,0,0,0,0,0,0,0,0,0,0,0,0,0,0,0,0,0,0,0,0,0,0,0,0,0,0,0,0,0,0,0,0,0,0,0,0,0,0,0,0,0,0,0,0,0,0,0,0,0,0,0,0,0,0,0,0,0,0,0,0,0,0,0,0,0,0,0,0,0,0,0,0,0,0,0,0,0,0,0,0,0,0,0,0,0,0,0,0,0,0,0,0,0,0,0,0,0,0,0,0,0,0,0,0,0,0,0,0,0,0,0,0,0,0,0,0,0,0,0,0,0,0,0,0,0,0,0,0,0,0,0,0,0,0,0,0,0,0,0,0,0,0,0,0,0,0,0,0,0,0,0,0,0,0,0,0,0,0,0,0,0,0,0,0,0,0,0,0,0,0,0,0,0,0,0,0,0,0,0,0,0,0,0,0,0,0,0,0,0,0,0,0,0,0,0,0,0,0,0,0,0,0,0,0,0,0,0,0,0,0,0,0,0,0,0,0,0,0,0,0,0,0,0,0,0,0,0,0,0,0,0,0,0,0,0,0,0,0,0,0,0,0,0,0,0,0,0,0,0,0,0,0,0,0,0,0,0,0,0,0,0,0,0,0,0,0,0,0,0,0,0,0,0,0,0,0,0,0,0,0,0,0,0,0,0,0,0,0,0,0,0,0,0,0,0,0,0,0,0,0,0,0,0,0]
[0,0,0,0,0,0,0,0,0,0,0,0,0,0,0,0,0,0,0,0,0,0,0,0,0,0,0,0,0,0,0,0,0,0,0,0,0,0,0,0,0,0,0,0,0,0,0,0,0,0,0,0,0,0,0,0,0,0,0,0,0,0,0,0,0,0,0,0,0,0,0,0,0,0,0,0,0,0,0,0,0,0,0,0,0,0,0,0,0,0,0,0,0,0,0,0,0,0,0,0,0,0,0,0,0,0,0,0,0,0,0,0,0,0,0,0,0,0,0,0,0,0,0,0,0,0,0,0,0,0,0,0,0,0,0,0,0,0,0,0,0,0,0,0,0,0,0,0,0,0,0,0,0,0,0,0,0,0,0,0,0,0,0,0,0,0,0,0,0,0,0,0,0,0,0,0,0,0,0,0,0,0,0,0,0,0,0,0,0,0,0,0,0,0,0,0,0,0,0,0,0,0,0,0,0,0,0,0,0,0,0,0,0,0,0,0,0,0,0,0,0,0,0,0,0,0,0,0,0,0,0,0,0,0,0,0,0,0,0,0,0,0,0,0,0,0,0,0,0,0,0,0,0,0,0,0,0,0,0,0,0,0,0,0,0,0,0,0,0,0,0,0,0,0,0,0,0,0,0,0,0,0,0,0,0,0,0,0,0,0,0,0,0,0,0,0,0,0,0,0,0,0,0,0,0,0,0,0,0,0,0,0]
[0,0,0,0,0,0,0,0,0,0,0,0,0,0,0,0,0,0,0,0,0,0,0,0,0,0,0,0,0,0,0,0,0,0,0,0,0,0,0,0,0,0,0,0,0,0,0,0,0,0,0,0,0,0,0,0,0,0,0,0,0,0,0,0,0,0,0,0,0,0,0,0,0,0,0,0,0,0,0,0,0,0,0,0,0,0,0,0,0,0,0,0,0,0,0,0,0,0,0,0,0,0,0,0,0,0,0,0,0,0,0,0,0,0,0,0,0,0,0,0,0,0,0,0,0,0,0,0,0,0,0,0,0,0,0,0,0,0,0,0,0,0,0,0,0,0,0,0,0,0,0,0,0,0,0,0,0,0,0,0,0,0,0,0,0,0,0,0,0,0,0,0,0,0,0,0,0,0,0,0,0,0,0,0,0,0,0,0,0,0,0,0,0,0,0,0,0,0,0,0,0,0,0,0,0,0,0,0,0,0,0,0,0,0,0,0,0,0,0,0,0,0,0,0,0,0,0,0,0,0,0,0,0,0,0,0,0,0,0,0,0,0,0,0,0,0,0,0,0,0,0,0,0,0,0,0,0,0,0,0,0,0,0,0,0,0,0,0,0,0,0,0,0,0,0,0,0,0,0,0,0,0,0,0,0,0,0,0,0,0,0,0,0,0,0,0,0,0,0,0,0,0,0,0,0,0,0,0,0,0,0,0]
[0,0,0,0,0,0,0,0,0,0,0,0,0,0,0,0,0,0,0,0,0,0,0,0,0,0,0,0,0,0,0,0,0,0,0,0,0,0,0,0,0,0,0,0,0,0,0,0,0,0,0,0,0,0,0,0,0,0,0,0,0,0,0,0,0,0,0,0,0,0,0,0,0,0,0,0,0,0,0,0,0,0,0,0,0,0,0,0,0,0,0,0,0,0,0,0,0,0,0,0,0,0,0,0,0,0,0,0,0,0,0,0,0,0,0,0,0,0,0,0,0,0,0,0,0,0,0,0,0,0,0,0,0,0,0,0,0,0,0,0,0,0,0,0,0,0,0,0,0,0,0,0,0,0,0,0,0,0,0,0,0,0,0,0,0,0,0,0,0,0,0,0,0,0,0,0,0,0,0,0,0,0,0,0,0,0,0,0,0,0,0,0,0,0,0,0,0,0,0,0,0,0,0,0,0,0,0,0,0,0,0,0,0,0,0,0,0,0,0,0,0,0,0,0,0,0,0,0,0,0,0,0,0,0,0,0,0,0,0,0,0,0,0,0,0,0,0,0,0,0,0,0,0,0,0,0,0,0,0,0,0,0,0,0,0,0,0,0,0,0,0,0,0,0,0,0,0,0,0,0,0,0,0,0,0,0,0,0,0,0,0,0,0,0,0,0,0,0,0,0,0,0,0,0,0,0,0,0,0,0,0,0]
[0,0,0,0,0,0,0,0,0,0,0,0,0,0,0,0,0,0,0,0,0,0,0,0,0,0,0,0,0,0,0,0,0,0,0,0,0,0,0,0,0,0,0,0,0,0,0,0,0,0,0,0,0,0,0,0,0,0,0,0,0,0,0,0,0,0,0,0,0,0,0,0,0,0,0,0,0,0,0,0,0,0,0,0,0,0,0,0,0,0,0,0,0,0,0,0,0,0,0,0,0,0,0,0,0,0,0,0,0,0,0,0,0,0,0,0,0,0,0,0,0,0,0,0,0,0,0,0,0,0,0,0,0,0,0,0,0,0,0,0,0,0,0,0,0,0,0,0,0,0,0,0,0,0,0,0,0,0,0,0,0,0,0,0,0,0,0,0,0,0,0,0,0,0,0,0,0,0,0,0,0,0,0,0,0,0,0,0,0,0,0,0,0,0,0,0,0,0,0,0,0,0,0,0,0,0,0,0,0,0,0,0,0,0,0,0,0,0,0,0,0,0,0,0,0,0,0,0,0,0,0,0,0,0,0,0,0,0,0,0,0,0,0,0,0,0,0,0,0,0,0,0,0,0,0,0,0,0,0,0,0,0,0,0,0,0,0,0,0,0,0,0,0,0,0,0,0,0,0,0,0,0,0,0,0,0,0,0,0,0,0,0,0,0,0,0,0,0,0,0,0,0,0,0,0,0,0,0,0,0,0,0]
[0,0,0,0,0,0,0,0,0,0,0,0,0,0,0,0,0,0,0,0,0,0,0,0,0,0,0,0,0,0,0,0,0,0,0,0,0,0,0,0,0,0,0,0,0,0,0,0,0,0,0,0,0,0,0,0,0,0,0,0,0,0,0,0,0,0,0,0,0,0,0,0,0,0,0,0,0,0,0,0,0,0,0,0,0,0,0,0,0,0,0,0,0,0,0,0,0,0,0,0,0,0,0,0,0,0,0,0,0,0,0,0,0,0,0,0,0,0,0,0,0,0,0,0,0,0,0,0,0,0,0,0,0,0,0,0,0,0,0,0,0,0,0,0,0,0,0,0,0,0,0,0,0,0,0,0,0,0,0,0,0,0,0,0,0,0,0,0,0,0,0,0,0,0,0,0,0,0,0,0,0,0,0,0,0,0,0,0,0,0,0,0,0,0,0,0,0,0,0,0,0,0,0,0,0,0,0,0,0,0,0,0,0,0,0,0,0,0,0,0,0,0,0,0,0,0,0,0,0,0,0,0,0,0,0,0,0,0,0,0,0,0,0,0,0,0,0,0,0,0,0,0,0,0,0,0,0,0,0,0,0,0,0,0,0,0,0,0,0,0,0,0,0,0,0,0,0,0,0,0,0,0,0,0,0,0,0,0,0,0,0,0,0,0,0,0,0,0,0,0,0,0,0,0,0,0,0,0,0,0,0,0]
[0,0,0,0,0,0,0,0,0,0,0,0,0,0,0,0,0,0,0,0,0,0,0,0,0,0,0,0,0,0,0,0,0,0,0,0,0,0,0,0,0,0,0,0,0,0,0,0,0,0,0,0,0,0,0,0,0,0,0,0,0,0,0,0,0,0,0,0,0,0,0,0,0,0,0,0,0,0,0,0,0,0,0,0,0,0,0,0,0,0,0,0,0,0,0,0,0,0,0,0,0,0,0,0,0,0,0,0,0,0,0,0,0,0,0,0,0,0,0,0,0,0,0,0,0,0,0,0,0,0,0,0,0,0,0,0,0,0,0,0,0,0,0,0,0,0,0,0,0,0,0,0,0,0,0,0,0,0,0,0,0,0,0,0,0,0,0,0,0,0,0,0,0,0,0,0,0,0,0,0,0,0,0,0,0,0,0,0,0,0,0,0,0,0,0,0,0,0,0,0,0,0,0,0,0,0,0,0,0,0,0,0,0,0,0,0,0,0,0,0,0,0,0,0,0,0,0,0,0,0,0,0,0,0,0,0,0,0,0,0,0,0,0,0,0,0,0,0,0,0,0,0,0,0,0,0,0,0,0,0,0,0,0,0,0,0,0,0,0,0,0,0,0,0,0,0,0,0,0,0,0,0,0,0,0,0,0,0,0,0,0,0,0,0,0,0,0,0,0,0,0,0,0,0,0,0,0,0,0,0,0,0]
[]
[]
[]
[]
[]
[]
[]
[]
[]
[]
[]
[]
[]
[]
[]
[]
[]
[]
[]
[]
[]
[]
[]
[]
[]
[]
[]
[]
[]
[]
[]
[]
[]
[]
[]
[]
[]
["Benefit","Benefit","Benefit","Benefit","Benefit","Benefit","Benefit","Benefit","Benefit","Benefit","Benefit","Benefit","Benefit","Benefit","Benefit","Benefit","Benefit","Benefit","Benefit","Benefit","Benefit","Benefit","Benefit","Benefit","Benefit","Benefit","Benefit","Benefit","Benefit","Benefit","Benefit","Benefit","Benefit","Benefit","Benefit","Benefit","Benefit","Benefit","Benefit","Benefit","Benefit","Benefit","Benefit","Benefit","Benefit","Benefit","Benefit","Benefit","Benefit","Benefit","Benefit","Benefit","Benefit","Benefit","Benefit","Benefit","Benefit","Benefit","Benefit","Benefit","Benefit","Benefit","Benefit","Benefit","Benefit","Benefit","Benefit","Benefit","Benefit","Benefit","Benefit","Benefit","Benefit","Benefit","Benefit","Benefit","Benefit","Benefit","Benefit","Benefit","Benefit","Benefit","Benefit","Benefit","Benefit","Benefit","Benefit","Benefit","Benefit","Benefit","Benefit","Benefit","Benefit","Benefit","Benefit","Benefit","Benefit","Benefit","Benefit","Benefit","Benefit","Benefit","Benefit","Benefit","Benefit","Benefit","Benefit","Benefit","Benefit","Benefit","Benefit","Benefit","Benefit","Benefit","Benefit","Benefit","Benefit","Benefit","Benefit","Benefit","Benefit","Benefit","Benefit","Benefit","Benefit","Benefit","Benefit","Benefit","Benefit","Benefit","Benefit","Benefit","Benefit","Benefit","Benefit","Benefit","Benefit","Benefit","Benefit","Benefit","Benefit","Benefit","Benefit","Benefit","Benefit","Benefit","Benefit","Benefit","Benefit","Benefit","Benefit","Benefit","Benefit","Benefit","Benefit","Benefit","Benefit","Benefit","Benefit","Benefit","Benefit","Benefit","Benefit","Benefit","Benefit","Benefit","Benefit","Benefit","Benefit","Benefit","Benefit","Benefit","Benefit","Benefit","Benefit","Benefit","Benefit","Benefit","Benefit","Benefit","Benefit","Benefit","Benefit","Benefit","Benefit","Benefit","Benefit","Benefit","Benefit","Benefit","Benefit","Benefit","Benefit","Benefit","Benefit","Benefit","Benefit","Benefit","Benefit","Benefit","Benefit","Benefit","Benefit","Benefit","Benefit","Benefit","Benefit","Benefit","Benefit","Benefit","Benefit","Benefit","Benefit","Benefit","Benefit","Benefit","Benefit","Benefit","Benefit","Benefit","Benefit","Benefit","Benefit","Benefit","Benefit","Benefit","Benefit","Benefit","Benefit","Benefit","Benefit","Benefit","Benefit","Benefit","Benefit","Benefit","Benefit","Benefit","Benefit","Benefit","Benefit","Benefit","Benefit","Benefit","Benefit","Benefit","Benefit","Benefit","Benefit","Benefit","Benefit","Benefit","Benefit","Benefit","Benefit","Benefit","Benefit","Benefit","Benefit","Benefit","Benefit","Benefit","Benefit","Benefit","Benefit","Benefit","Benefit","Benefit","Benefit","Benefit","Benefit","Benefit","Benefit","Benefit","Benefit","Benefit","Benefit","Benefit","Benefit","Benefit","Benefit","Benefit","Benefit","Benefit","Benefit","Benefit","Benefit","Benefit","Benefit","Benefit","Benefit","Benefit","Benefit","Benefit","Benefit","Benefit","Benefit","Benefit","Benefit","Benefit","Benefit","Benefit","Benefit","Benefit","Benefit","Benefit","Benefit","Benefit","Benefit","Benefit","Benefit","Benefit"]
[1128949.92,1128949.92,1128949.92,1128949.92,1129022.6399999999,1129022.6399999999,1129022.6399999999,1129022.6399999999,1129070.22,1129070.22,1129070.22,1129070.22,1090461.8700000001,1090461.8700000001,1090461.8700000001,1090461.8700000001,1090536.28,1090536.28,1090536.28,1090536.28,1090584.1499999999,1090584.1499999999,1090584.1499999999,1090584.1499999999,1053262.83,1053262.83,1053262.83,1053262.83,1053339.1100000001,1053339.1100000001,1053339.1100000001,1053339.1100000001,1053387.96,1053387.96,1053387.96,1053387.96,1017349.37,1017349.37,1017349.37,1017349.37,1017427.81,1017427.81,1017427.81,1017427.81,1017478.4,1017478.4,1017478.4,1017478.4,982661.07,982661.07,982661.07,982661.07,982742.52,982742.52,982742.52,982742.52,982793.94,982793.94,982793.94,982793.94,949174.46,949174.46,949174.46,949174.46,949259.74,949259.74,949259.74,949259.74,949312.45,949312.45,949312.45,949312.45,916839.48,916839.48,916839.48,916839.48,916927.62,916927.62,916927.62,916927.62,916982.21,916982.21,916982.21,916982.21,885674.12,885674.12,885674.12,885674.12,885765.02,885765.02,885765.02,885765.02,885821.86,885821.86,885821.86,885821.86,855998.37,855998.37,855998.37,855998.37,855751.93,855751.93,855751.93,855751.93,855809.38,855809.38,855809.38,855809.38,827468.36,827468.36,827468.36,827468.36,827240.62,827240.62,827240.62,827240.62,827300.03,827300.03,827300.03,827300.03,799659.54,799659.54,799659.54,799659.54,799449.77,799449.77,799449.77,799449.77,799512.05,799512.05,799512.05,799512.05,773192.12,773192.12,773192.12,773192.12,773302.84,773302.84,773302.84,773302.84,773065.38,773065.38,773065.38,773065.38,747634.24,747634.24,747634.24,747634.24,747751.97,747751.97,747751.97,747751.97,747529.37,747529.37,747529.37,747529.37,722967.02,722967.02,722967.02,722967.02,723091.79,723091.79,723091.79,723091.79,723161.67,723161.67,723161.67,723161.67,699202.36,699202.36,699202.36,699202.36,699335.68000000005,699335.68000000005,699335.68000000005,699335.68000000005,699408.69,699408.69,699408.69,699408.69,676599.15,676599.15,676599.15,676599.15,676487.58,676487.58,676487.58,676487.58,676564.69,676564.69,676564.69,676564.69,654660.71,654660.71,654660.71,654660.71,654815.34,654815.34,654815.34,654815.34,654896.21,654896.21,654896.21,654896.21,634515.05000000005,634515.05000000005,634515.05000000005,634515.05000000005,634515.05000000005,634515.05000000005,634515.05000000005,634515.05000000005,634515.05000000005,634515.05000000005,634515.05000000005,634515.05000000005,618269.47,618269.47,618269.47,618269.47,618269.47,618269.47,618269.47,618269.47,618269.47,618269.47,618269.47,618269.47,602350.39,602350.39,602350.39,602350.39,602350.39,602350.39,602350.39,602350.39,602350.39,602350.39,602350.39,602350.39,586737.87,586737.87,586737.87,586737.87,586737.87,586737.87,586737.87,586737.87,586737.87,586737.87,586737.87,586737.87,571720.99,571720.99,571720.99,571720.99,571720.99,571720.99,571720.99,571720.99,571720.99,571720.99,571720.99,571720.99,557127.74,557127.74,557127.74,557127.74,557127.74,557127.74,557127.74,557127.74,557127.74,557127.74,557127.74,557127.74,543058.12,543058.12,543058.12,543058.12,543055.26,543055.26,543055.26,543055.26,543055.26,543055.26,543055.26,543055.26,529575.84,529575.84,529575.84,529575.84,529574.84,529574.84,529574.84,529574.84,529574.84,529574.84,529574.84,529574.84,516723.17,516723.17,516723.17,516723.17,516721.17,516721.17,516721.17,516721.17,516721.17,516721.17,516721.17,516721.17]
[1308486.6499999999,1308486.6499999999,1308486.6499999999,1308486.6499999999,1308558.69,1308558.69,1308558.69,1308558.69,1308605.72,1308605.72,1308605.72,1308605.72,1269863.8899999999,1269863.8899999999,1269863.8899999999,1269863.8899999999,1269937.3600000001,1269937.3600000001,1269937.3600000001,1269937.3600000001,1269984.6399999999,1269984.6399999999,1269984.6399999999,1269984.6399999999,1232469.6599999999,1232469.6599999999,1232469.6599999999,1232469.6599999999,1232544.96,1232544.96,1232544.96,1232544.96,1232593.6299999999,1232593.6299999999,1232593.6299999999,1232593.6299999999,1196271.93,1196271.93,1196271.93,1196271.93,1196349.43,1196349.43,1196349.43,1196349.43,1196399.29,1196399.29,1196399.29,1196399.29,1161345.55,1161345.55,1161345.55,1161345.55,1161425.94,1161425.94,1161425.94,1161425.94,1161476.57,1161476.57,1161476.57,1161476.57,1127681.18,1127681.18,1127681.18,1127681.18,1127765.3400000001,1127765.3400000001,1127765.3400000001,1127765.3400000001,1127817.24,1127817.24,1127817.24,1127817.24,1095206.33,1095206.33,1095206.33,1095206.33,1095293.1499999999,1095293.1499999999,1095293.1499999999,1095293.1499999999,1095346.99,1095346.99,1095346.99,1095346.99,1063943.51,1063943.51,1063943.51,1063943.51,1064033,1064033,1064033,1064033,1064089.07,1064089.07,1064089.07,1064089.07,1034225.36,1034225.36,1034225.36,1034225.36,1033982.97,1033982.97,1033982.97,1033982.97,1034039.5,1034039.5,1034039.5,1034039.5,1005741.62,1005741.62,1005741.62,1005741.62,1005517.85,1005517.85,1005517.85,1005517.85,1005576.06,1005576.06,1005576.06,1005576.06,977785.84,977785.84,977785.84,977785.84,977579.82,977579.82,977579.82,977579.82,977641.17,977641.17,977641.17,977641.17,951172.59,951172.59,951172.59,951172.59,951281.12,951281.12,951281.12,951281.12,951048.33,951048.33,951048.33,951048.33,925366.8,925366.8,925366.8,925366.8,925482.1,925482.1,925482.1,925482.1,925263.92,925263.92,925263.92,925263.92,900315.17,900315.17,900315.17,900315.17,900437.46,900437.46,900437.46,900437.46,900505.64,900505.64,900505.64,900505.64,875997.4,875997.4,875997.4,875997.4,876127.56,876127.56,876127.56,876127.56,876198.64,876198.64,876198.64,876198.64,852655.44,852655.44,852655.44,852655.44,852546.77,852546.77,852546.77,852546.77,852621.89,852621.89,852621.89,852621.89,829826.92,829826.92,829826.92,829826.92,829977.13,829977.13,829977.13,829977.13,830055.57,830055.57,830055.57,830055.57,808632.49,808632.49,808632.49,808632.49,808632.49,808632.49,808632.49,808632.49,808632.49,808632.49,808632.49,808632.49,791112.43,791112.43,791112.43,791112.43,791112.43,791112.43,791112.43,791112.43,791112.43,791112.43,791112.43,791112.43,773885.6,773885.6,773885.6,773885.6,773885.6,773885.6,773885.6,773885.6,773885.6,773885.6,773885.6,773885.6,756941.58,756941.58,756941.58,756941.58,756941.58,756941.58,756941.58,756941.58,756941.58,756941.58,756941.58,756941.58,344145.87,259609.54,356211.22,267237.92,740834.29,740834.29,740834.29,740834.29,740834.29,740834.29,740834.29,740834.29,278365.09999999998,211184.69,299609.71000000002,224265.93,725106.67,725106.67,725106.67,725106.67,725106.67,725106.67,725106.67,725106.67,220210.27,166533.17000000001,247740.6,183052.58,709800.69,709800.69,709800.69,709800.69,709800.69,709800.69,709800.69,709800.69,215960.64,161319.88,242203.78,177650.38,695431.87,695431.87,695431.87,695431.87,695431.87,695431.87,695431.87,695431.87,211644.2,156419.39000000001,237006.76,172576.43,682890.91,682890.91,682890.91,682890.91,682890.91,682890.91,682890.91,682890.91]
[1457409.25,1457409.25,1457409.25,1457409.25,1457480.66,1457480.66,1457480.66,1457480.66,1457527.34,1457527.34,1457527.34,1457527.34,1418706.44,1418706.44,1418706.44,1418706.44,1418779.18,1418779.18,1418779.18,1418779.18,1418826.15,1418826.15,1418826.15,1418826.15,1381279.14,1381279.14,1381279.14,1381279.14,1381353.68,1381353.68,1381353.68,1381353.68,1381401.99,1381401.99,1381401.99,1381401.99,1345106.31,1345106.31,1345106.31,1345106.31,1345183.08,1345183.08,1345183.08,1345183.08,1345232.31,1345232.31,1345232.31,1345232.31,1310108.6399999999,1310108.6399999999,1310108.6399999999,1310108.6399999999,1310188.1200000001,1310188.1200000001,1310188.1200000001,1310188.1200000001,1310238.19,1310238.19,1310238.19,1310238.19,1276329.92,1276329.92,1276329.92,1276329.92,1276413.1499999999,1276413.1499999999,1276413.1499999999,1276413.1499999999,1276464.3999999999,1276464.3999999999,1276464.3999999999,1276464.3999999999,1243742.3799999999,1243742.3799999999,1243742.3799999999,1243742.3799999999,1243828.17,1243828.17,1243828.17,1243828.17,1243881.3600000001,1243881.3600000001,1243881.3600000001,1243881.3600000001,1212386.32,1212386.32,1212386.32,1212386.32,1212474.48,1212474.48,1212474.48,1212474.48,1212529.94,1212529.94,1212529.94,1212529.94,1182553.21,1182553.21,1182553.21,1182553.21,1182314.17,1182314.17,1182314.17,1182314.17,1182369.98,1182369.98,1182369.98,1182369.98,1153972.79,1153972.79,1153972.79,1153972.79,1153752.1100000001,1153752.1100000001,1153752.1100000001,1153752.1100000001,1153809.52,1153809.52,1153809.52,1153809.52,1125783.72,1125783.72,1125783.72,1125783.72,1125580.8899999999,1125580.8899999999,1125580.8899999999,1125580.8899999999,1125641.47,1125641.47,1125641.47,1125641.47,1098789.7,1098789.7,1098789.7,1098789.7,1098896.52,1098896.52,1098896.52,1098896.52,1098667.58,1098667.58,1098667.58,1098667.58,1072480.1100000001,1072480.1100000001,1072480.1100000001,1072480.1100000001,1072593.3899999999,1072593.3899999999,1072593.3899999999,1072593.3899999999,1072379.23,1072379.23,1072379.23,1072379.23,1046807.27,1046807.27,1046807.27,1046807.27,1046927.31,1046927.31,1046927.31,1046927.31,1046993.98,1046993.98,1046993.98,1046993.98,1021785.87,1021785.87,1021785.87,1021785.87,1021913.13,1021913.13,1021913.13,1021913.13,1021982.52,1021982.52,1021982.52,1021982.52,997681.06,997681.06,997681.06,997681.06,997574.96,997574.96,997574.96,997574.96,997648.23,997648.23,997648.23,997648.23,974100.64,974100.64,974100.64,974100.64,974246.69,974246.69,974246.69,974246.69,974322.74,974322.74,974322.74,974322.74,952142.25,952142.25,952142.25,952142.25,952142.25,952142.25,952142.25,952142.25,952142.25,952142.25,952142.25,952142.25,516554.66,403587.19,535222.59,416279.48,933728.98,933728.98,933728.98,933728.98,933728.98,933728.98,933728.98,933728.98,427932.76,331669.57,461882.52,354210.65,915451.75,915451.75,915451.75,915451.75,915451.75,915451.75,915451.75,915451.75,348169.45,268075.75,394004.47999999998,297754.49,897255.28,897255.28,897255.28,897255.28,897255.28,897255.28,897255.28,897255.28,278208.03000000003,213595.15,332648.94,248013.36,879885.69,879885.69,879885.69,879885.69,879885.69,879885.69,879885.69,879885.69,216893.25,166712.74,276748.03000000003,203571.24,862797.53,862797.53,862797.53,862797.53,862797.53,862797.53,862797.53,862797.53,164100.22,127107.87,226263.85,164305.35999999999,458506.87,345943.35,476495.77,357973.78,846089.74,846089.74,846089.74,846089.74,161161.26999999999,124308.27,222837.89,161085.66,380018.47,284430.3,412671.53,305711.67,829806.23,829806.23,829806.23,829806.23,158480.67000000001,121758.95,219721.55,158150.68,310301.83,231058.93,354352.8,259010.63,814375.43,814375.43,814375.43,814375.43]
[2131080.11,2131080.11,2131080.11,2131080.11,2131148.73,2131148.73,2131148.73,2131148.73,2131193.4300000002,2131193.4300000002,2131193.4300000002,2131193.4300000002,2091892.3,2091892.3,2091892.3,2091892.3,2091961.55,2091961.55,2091961.55,2091961.55,2092006.53,2092006.53,2092006.53,2092006.53,2053724.46,2053724.46,2053724.46,2053724.46,2053794.97,2053794.97,2053794.97,2053794.97,2053841.84,2053841.84,2053841.84,2053841.84,2016579.37,2016579.37,2016579.37,2016579.37,2016652.02,2016652.02,2016652.02,2016652.02,2016698.32,2016698.32,2016698.32,2016698.32,1980333.37,1980333.37,1980333.37,1980333.37,1980407.96,1980407.96,1980407.96,1980407.96,1980455.02,1980455.02,1980455.02,1980455.02,1945080.08,1945080.08,1945080.08,1945080.08,1945158.32,1945158.32,1945158.32,1945158.32,1945206.63,1945206.63,1945206.63,1945206.63,1910769.84,1910769.84,1910769.84,1910769.84,1910849.94,1910849.94,1910849.94,1910849.94,1910899.7,1910899.7,1910899.7,1910899.7,1877564.84,1877564.84,1877564.84,1877564.84,1877646.06,1877646.06,1877646.06,1877646.06,1877698.26,1877698.26,1877698.26,1877698.26,1845799.05,1845799.05,1845799.05,1845799.05,1845578.78,1845578.78,1845578.78,1845578.78,1845630.09,1845630.09,1845630.09,1845630.09,1268330.8700000001,1044308.98,1328641.75,1078293.28,1815411.22,1815411.22,1815411.22,1815411.22,1815463.47,1815463.47,1815463.47,1815463.47,1057301.3600000001,855618.55,1169645.52,925671.9,1785510.62,1785510.62,1785510.62,1785510.62,1785565.77,1785565.77,1785565.77,1785565.77,868975.4,692752.74,1025628.44,803843.7,1756347.59,1756347.59,1756347.59,1756347.59,1756141.37,1756141.37,1756141.37,1756141.37,700829.01,553154.72,894456.21,694053.78,1727202.12,1727202.12,1727202.12,1727202.12,1727011.04,1727011.04,1727011.04,1727011.04,554839.28,444439.41,775389.45,595402.22,1698325.46,1698325.46,1698325.46,1698325.46,1698383.42,1698383.42,1698383.42,1698383.42,435653.01,347145.42,667686.1,507203.15,1152494.6000000001,922903.63,1207457.28,961196.98,1669823.47,1669823.47,1669823.47,1669823.47,332216.96000000002,264502.93,575470.22,435280.79,965189.05,762148.65,1067844.92,841365.73,1641668.5,1641668.5,1641668.5,1641668.5,240411.72,193323.8,492136.78,371751.02,796904.7,623923.44999999995,940713.69,733479.77,1613958.9,1613958.9,1613958.9,1613958.9,159557.76000000001,132423.34,419509.77,314326.32,645833.38,504402.31,824472.67,635905.82999999996,1586992.06,1586992.06,1586992.06,1586992.06,89863.05,81462.36,355024.23,262912.13,511388.33,404025.33,718008.2,547480.30000000005,1562854.6,1562854.6,1562854.6,1562854.6,79024.649999999994,71989.58,296881.67,217435.68,400643.1,314854,621290.52,468197.41,1069258.01,844973.6,1120831.1100000001,884827.47,67672.25,61930.66,242269.64,175517.4,297843.5,233322.61,529229.5,394805.07,883934.78,691324.45,978789.89,763529,58485.57,53756.61,194962.1,140443.48000000001,208035.39,164335.79999999999,448024.87,332050.01,721619.02,559097.14,852411.31,657278.65,50834.2,46984.9,154107.18,110878.17,130080.1,106273.35,376381.57,276373.95,578525.02,444667.21,738587.18,563224.28,44575.81,41629.29,119443.24,86576.9,63949.39,58668.13,314346.14,227605.28,453266.52,348930.98,637097.55000000005,480121.35,42549.8,39926.04,116033.57,84008.88,55171.44,51107.519999999997,259267.9,185374.46,346679.32,265291.24,546564.88,407015.49,43610.03,41048.449999999997,116649.72,84658.14,52339.12,48793.32,216292.81,153758.25,260001.89,199186.17,475373.71,349941.22]
[2722264.85,2722264.85,2722264.85,2722264.85,2722330.5,2722330.5,2722330.5,2722330.5,2722373.07,2722373.07,2722373.07,2722373.07,2681743.92,2681743.92,2681743.92,2681743.92,2681809.4700000002,2681809.4700000002,2681809.4700000002,2681809.4700000002,2681852.35,2681852.35,2681852.35,2681852.35,2642178.35,2642178.35,2642178.35,2642178.35,2642244.73,2642244.73,2642244.73,2642244.73,2642290.0299999998,2642290.0299999998,2642290.0299999998,2642290.0299999998,2603596.48,2603596.48,2603596.48,2603596.48,2603664.92,2603664.92,2603664.92,2603664.92,2603708.1800000002,2603708.1800000002,2603708.1800000002,2603708.1800000002,1949612.19,1659137.15,2041182.34,1713391.13,2565885.9300000002,2565885.9300000002,2565885.9300000002,2565885.9300000002,2565929.7599999998,2565929.7599999998,2565929.7599999998,2565929.7599999998,1641131.15,1371388.13,1813091.87,1508458.42,2528982.27,2528982.27,2528982.27,2528982.27,2529027.25,2529027.25,2529027.25,2529027.25,1362367.21,1139432.47,1604240.65,1324437.6499999999,2492833.52,2492833.52,2492833.52,2492833.52,2492879.6800000002,2492879.6800000002,2492879.6800000002,2492879.6800000002,1118960.1200000001,949939.79,1413495.99,1157707.98,2457541.62,2457541.62,2457541.62,2457541.62,2457590.17,2457590.17,2457590.17,2457590.17,918758.69,776353.25,1239741.97,1014782.11,2423205.83,2423205.83,2423205.83,2423205.83,2423252.52,2423252.52,2423252.52,2423252.52,734896.08,619163.17000000004,1082804.06,888803.56,1778683.94,1488953.27,1863371.32,1558609.46,2390998.71,2390998.71,2390998.71,2390998.71,573074.28,483319.73,954651.26,779275.15,1506547.06,1253105.21,1666567.02,1383436.04,2359115.85,2359115.85,2359115.85,2359115.85,425876.68,361729.74,839987.99,679293.61,1257972.56,1046545.46,1484116.17,1222165.17,2326986.63,2326986.63,2326986.63,2326986.63,292125.95,253017.06,733266.24,587335.98,1036573.76,871215.57,1315702.29,1074408.82,2294966.33,2294966.33,2294966.33,2294966.33,171670.34,156877.16,634451.93000000005,503143.81,849696.43,710878.36,1160538.42,944246.32,2263242,2263242,2263242,2263242,150277.35,136497.26999999999,543382.13,426604.7,677715.86,565300.17000000004,1018000.22,827927.52,1671756.47,1394251.51,1753049.52,1461016.68,126545.67,114232.17,454251.19,352672.06,513145.89,427355.24,883949.67,713987.27,1398517.31,1158095.8400000001,1550030.67,1281181.67,106681.55,96611.95,374222.73,287673.93,364765.4,305243.56,765053.01,610875.96,1153135.8400000001,951289.21,1364462.8,1118008.1399999999,89850.53,81877.42,302601.57,230629.34,231842.43,197887.51,655888.19999999995,517496.68,935328.69,773776.61,1195566.1200000001,970636.2,75746.350000000006,69575.75,239180.83,181349.76000000001,113949.42,104778.34,555837.11,433164.56,747120.02,613000.47,1041493.63,838358.87,64300.97,59584.44,184114.1,139475.82999999999,94487.23,86627.94,465240.09,358079.61,576320.25,469417.42,902160.33,720404.95,60248.17,56066.25,144050.01999999999,110400.32000000001,86877.93,79286.11,394832.67,301184.98,436253.33,355176.69,791874.05,626624.80000000005,56947.15,53222.05,110187.72,86914.03,80453.679999999993,73787.16,331873.09999999998,251178.26,311030.3,255166.98,693539.52,543114.84,54142.33,50799.81,82201.11,68054.259999999995,74949.06,69173.119999999995,275359.65999999997,207397.97,198797.8,167594.1,603132.78,468570.93,51774.49,48888.37,59840.54,53680.69,70346.38,65283.63,225289.58,169619.42,99196.02,91636.88,521848.53,401482.44,53010.19,50182.15,60878.95,54967.8,66609.33,62235.42,181442.37,137530.62,92107.81,84813.39,447907.48,341460.96,54430.64,51702.400000000001,62080.49,56260.160000000003,63740.89,59971.31,143890.43,111015.22,85884.57,78962.23,381332.07,288491.24]
[2865419.72,2865419.72,2865419.72,2865419.72,2865484.63,2865484.63,2865484.63,2865484.63,2865526.57,2865526.57,2865526.57,2865526.57,2824644.23,2824644.23,2824644.23,2824644.23,2824708.77,2824708.77,2824708.77,2824708.77,2824751.17,2824751.17,2824751.17,2824751.17,2784781.31,2784781.31,2784781.31,2784781.31,2784846.58,2784846.58,2784846.58,2784846.58,2784891.38,2784891.38,2784891.38,2784891.38,2116034.5,1810805.61,2215201.81,1872286.2,2745903.87,2745903.87,2745903.87,2745903.87,2745946.34,2745946.34,2745946.34,2745946.34,1784136.86,1500198.62,1970575.93,1653785.72,2707663.68,2707663.68,2707663.68,2707663.68,2707706.7,2707706.7,2707706.7,2707706.7,1483841.24,1257431.21,1746451,1455049.11,2670212.5099999998,2670212.5099999998,2670212.5099999998,2670212.5099999998,2670256.69,2670256.69,2670256.69,2670256.69,1227298.51,1051055.23,1541426.31,1274598.8799999999,2633468.58,2633468.58,2633468.58,2633468.58,2633513.7599999998,2633513.7599999998,2633513.7599999998,2633513.7599999998,1010150.87,861383.97,1354388.93,1123704.21,2597577.0499999998,2597577.0499999998,2597577.0499999998,2597577.0499999998,2597624.62,2597624.62,2597624.62,2597624.62,809429.16,688263.81,1184242.3400000001,985440.12,1929611.21,1628724.04,2021423.12,1704914.63,2562686.6800000002,2562686.6800000002,2562686.6800000002,2562686.6800000002,634214.26,540062.28,1051344.47,867302.18,1637566.32,1374002.22,1811204.03,1516776.38,2529950.7400000002,2529950.7400000002,2529950.7400000002,2529950.7400000002,472810.98,405395.1,926437.04,757267.69,1370321,1154129.18,1616468.77,1343630.23,2497663.12,2497663.12,2497663.12,2497663.12,326512.15999999997,285370.11,811156.57,657042.67000000004,1136059.06,963570.82,1436057.17,1184352.17,2464908.9500000002,2464908.9500000002,2464908.9500000002,2464908.9500000002,194172.5,178638.53,704099.63,565094.86,933831.75,788730.38,1269656.6599999999,1046808.41,2432224.9,2432224.9,2432224.9,2432224.9,170532.09,155946.6,605212.25,481131.99,747068.64,629345.23,1116467.21,920518.77,1817825.91,1529628.69,1906285.63,1603005,143795.81,130797.34,507715.61,399342.8,567438.94999999995,477447.54,974662.5,795515.31,1523376.2,1273362.98,1688540.44,1408957.79,120616.16,109103.91,419385.97,326468.51,404460.27,341833.83,844174.78,681802.34,1258777.42,1051061.68,1489684.98,1232968.03,101315.09,91989.52,340461.77,262757.42,258219.85,222489.38,725377.7,579230.51,1025552.69,857022.01,1308128.44,1073482.1499999999,85069.72,77779.399999999994,270273.55,207233.68,128032.33,118358.94,616689.27,486708.56,821507.56,681256.41,1143080.6399999999,932222.43,71557.48,66006.649999999994,208576.87,159691.76,105928.56,97679.95,517494.93,403557.63,634900.56999999995,522928.63,992757.82,803433.04,66656.27,61849.45,163534.5,126332.09,97421.61,89410.28,440624.53,340635.83,481973.1,396849.2,875045.85,701487.23,62550.93,58292.71,124881.03,98560.36,89647.73,81920.58,370887.44,284528.82,343713.59,284981.43,766749.04,607797.97,59219.7,55436.38,92523.64,76408.88,83097.91,76325.98,308706.71999999997,235441.77,220350.85,187333.14,668339.65,524501.04,56411.61,53023.02,66220.100000000006,58949.599999999999,77505.539999999994,71653.25,253143.79,192706.91,110214.99,102321.33,578018.25,450482.85,54065.34,51147.73,62230,55993.64,72852.05,67730.75,204181.32,156074.81,102035.51,94388.89,497193.61,384030.57,55376.85,52522.91,63322.48,57357.66,69099.22,64686.92,161593.68,125228.19,94831.21,87468.51,423840.31,324747.34999999998,56881.58,54137.01,64586.06,58722.62,66251.05,62460.67,125449.76,100028.39,88537.1,81571.41,357972.59,272610.86]
[2239269.77,1995729.91,2615759.56,2266626.62,3735715.16,3735715.16,3735715.16,3735715.16,3735753.37,3735753.37,3735753.37,3735753.37,1898843.74,1686675.75,2325490.7200000002,2031296.88,3692488.51,3692488.51,3692488.51,3692488.51,3692527.34,3692527.34,3692527.34,3692527.34,1579555.36,1399319.19,2070431.77,1810530.28,3649786.76,3649786.76,3649786.76,3649786.76,3649828.41,3649828.41,3649828.41,3649828.41,1281311.3799999999,1133420.6399999999,1847022.01,1603628.41,2864192.88,2507824.1,2999669.97,2624821.13,3607737.41,3607737.41,3607737.41,3607737.41,1018855.77,903083.52000000002,1652861.44,1425608.99,2443876.75,2134576.0499999998,2701331.29,2350644.13,3566123.17,3566123.17,3566123.17,3566123.17,775221.04,691736.08,1470431.6,1259587.55,2066213.45,1826685.48,2425246.92,2098370.98,3525243.3,3525243.3,3525243.3,3525243.3,550127.25,498925.49,1299446.42,1105254.53,1748671.37,1540649.34,2169972.52,1884773.81,3485029.34,3485029.34,3485029.34,3485029.34,343363.35,324346.23999999999,1139801.2,962491.21,1452125.97,1275973.18,1941158.48,1685787.29,3445697.37,3445697.37,3445697.37,3445697.37,304702.25,286580.25,991305.16,831049.63,1176051.3899999999,1032057.21,1739052.58,1499824.32,2702936.9,2361596.89,2834483.04,2475289.4,259589.64,243154.2,842440.99,700417.13,906201.39,795224.04,1535012.62,1313166.3799999999,2282887.41,1987792.24,2530453.75,2197439.9300000002,218848.34,204122.07,704866.93,581035.80000000005,656670.93999999994,578914.05000000005,1343776.68,1139655,1906718.4,1670580.03,2251879.17,1944309.57,183567.81,170509.19,580171.46,474500.01,428400.32,383739.64,1164921.6399999999,978879.57,1579861.64,1376268.28,1995518.61,1721156.5,152651.53,141219,466894.66,379226.28,220909.58,209133.81,998872.86,831057.76,1276200.24,1105608.22,1763168.43,1514316.24,125824.91,116032.67,364945.47,294781.07,182260.11,172052.27,845512.49,696073.06,995495.89,858194.02,1553108.78,1321891.31,115452.78,106053.2,290403.51,234876.16,168290.92,158291.07,728208.63,595388.59,765978.83,660861.56000000006,1387653.86,1172682.98,105979.61,96924.17,223440.05,182057.91,155199.41,145376.26,620246.56000000006,504894.03,554790.02,481722.98,1232660.93,1033943.38,97902.720000000001,89808.49,164311.62,136875.87,143142.79,133616.15,522935.13,423454.73,361434.06,320255.93,1087479.58,905032.71,90743.39,83729.240000000005,112674.12,98477.22,131988.87,122684.31,434067.76,350118.39,185571.48,175854.22,952035.95,785806.72,84400.55,78404.789999999994,103879.49,91283.67,121537.44,112630.44,353060.44,284328.53000000003,171074.02,161638.82,825381.74,675308.35,79143.83,74002.38,96137.52,84812.67,112060.4,103480.03,280098.13,226137.46,157667.87,148424.07999999999,708012.66,574037.46,74876.63,70353.039999999994,89469.11,79330.720000000001,103532.5,95345.5,215154.04,175502.88,145240.79,136308.72,599672.52,481636.69,71513.350000000006,67565.09,83684.62,75060.23,96461.3,89386.02,158430.22,132665.60999999999,134305.62,125625.68,501544.16,400378.43,68843.73,65352.5,78967.23,71458.929999999993,90577.35,84570.92,109386.14,96945.65,124299.02,116189.69,412507.27,330339.62,66778.490000000005,63833.74,75093.78,68733.88,85826.52,80633.97,102327.54,91227.69,115416.62,107663.48,335245.99,268504.15999999997,68498.44,65657.179999999993,76442.97,70507.759999999995,82150.73,77769.73,96267.67,86549.31,107768.94,100428.39,266187.26,214410.69,70426.070000000007,67762.87,77965.33,72216.86,79542.649999999994,75877.789999999994,91422.53,83004.56,101238.07,94465.45,205251.68,167954.87]
[1214864.46,1115488.24,2243937.0099999998,1991539.18,3072078.18,2792959.21,3556243.6,3200499.45,4931294.88,4931294.88,4931294.88,4931294.88,881936.9,821207.28,1998250.32,1764293.14,2617484.77,2373880.5099999998,3213290.77,2895621.9,4884042.6399999997,4884042.6399999997,4884042.6399999997,4884042.6399999997,572630.72,550718.32999999996,1767141.39,1552045.73,2190029.71,1982762.47,2908933.54,2608293.58,4837211.46,4837211.46,4837211.46,4837211.46,513356.88,492230.42,1550282.53,1354289.64,1789201.33,1618984.89,2621214.2400000002,2338111.52,3940938.23,3546476.29,4131936.9,3716818.64,440718.17,421297.54,1326990.8999999999,1151768.8999999999,1390436.21,1258576.32,2324262.81,2060063.93,3340690.03,3019305.34,3701303.75,3315059.56,374955,357297.17,1119982.31,965788.21,1020065.76,927221.45,2045530.56,1800873.83,2825146.07,2549459.66,3306481.69,2962082.72,315824.03000000003,299930.37,928995.65,795950.76,677680.39,624400.55000000005,1784699.08,1560134.08,2351284.4500000002,2112444.91,2951186.26,2639102.13,263107.65000000002,249073.7,753796.83,642019.11,363022.38,349379.08,1541556.29,1337512.73,1909239.59,1708197.38,2630457.5699999998,2337031.5,216545.3,204320.42,594118.11,503545.03,300336.01,288380.44,1315813.3899999999,1132570.25,1498445.9,1335803.06,2329768.0299999998,2055598.65,199867.1,187920.53,479694.24,407131.55,279330.17,267418.76,1148049.22,983158.96,1165332.27,1040179.12,2099345.48,1842943.84,183608.29,172006.54,373990.5,319062.46000000002,258456.21,246755.47,990922.08,844343.97,854604.62,767249.46,1882398.16,1643928.35,169166.3,157877.66,278625.78999999998,241013.4,239416.04,227851.64,843893.54,715677.41,566675.21,517385.7,1677304.95,1456922.22,155673.41,144690.88,192141.41,171542.41,221244.19,209931.17,707019.73,597028.86,300622.45,289500.40999999997,1484499.41,1282319.3600000001,143052.45000000001,132473.54,176797.52,156968.42000000001,204017.72,192989.64,580092.96,488243.88,278673.15000000002,267709.01,1303356.08,1119467.03,131350.82,121313.02,162346.42000000001,143425.64000000001,187873.46,177188.25,462916.38,389961.57,257728.04,246985.97,1133983.82,968441.26,120814.78,111252.69,149055.53,131195.23000000001,172904.17,162511.1,356479.97,303849.99,237906.13,227363.28,975813.8,828612.79,111973.1,103492.83,137322.23000000001,121128.62,159233.89000000001,149292.26999999999,262600.15999999997,227516.75,219324.7,209094.06,828320.14,699521.55,104275.23,97031.39,126875.61,112208.43,146764.87,137158.41,178247.17,160148.47,202016.92,191979.24,691349.56,580872.01,97553.25,91472.02,117309.71,104573.48,135237.76000000001,126208.32000000001,163817.54999999999,146713.26999999999,185472.46,175904.92,564224.93999999994,471892.66,92155.78,87038.33,109067.16,97796.68,124934.52,116374.98,150522.20000000001,134522.07,170317.39,161103.04999999999,447173.41,372905.75,87969.45,83534.570000000007,102190.69,92269.35,115841.64,107852.35,138641.19,123968.24,156419.07,147727.96,340015.8,283582.31,84815.79,81082.539999999994,96349.67,88211.63,108455.32,101751.09,128465.29,115365.54,144376.98000000001,136109.07,243441.47,206370.79,82601.600000000006,79395.37,91930.18,85003.69,102561.32,97087.01,119879.23,108409.72,133567.31,126162.02,157398.70000000001,143130.35,81216.740000000005,78634.95,88645,82948.13,98077.14,93480.84,112763.14,102858.14,124270.01,117407.03,145179.34,132199.39000000001,80962.720000000001,78817.94,87034.04,82560.210000000006,91248.68,87967.15,101955.19,94565.25,110588.42,105024.15,126517.24,116162.69,81193.490000000005,79566.490000000005,85956.46,82298.2,86824.59,84618.44,94268.72,89001.57,100253.39,96082.27,111914.6,104139.02]
[567506.52,548607.85,1553393.75,1387768.21,1128670.3999999999,1065081.19,2872937.09,2602164.91,3705378.12,3424353.29,4635459.6100000003,4268082.33,476166.56,459514.19,1271352.4099999999,1131036.1499999999,628188.89,612341.04,2495692.59,2248120.54,3023738.8799999999,2785876.79,4146543.81,3799433.17,394042.61,379449.51,1010943.62,896268.03,522063.67,508080.47,2142968.16,1919210.99,2385701.75,2192279.0099999998,3685783.38,3359850.79,366283.69,351728.14,826780.75,734087.31,488052.86,474104.14,1884899.9,1682307.59,1870321.46,1720737.64,3336983.79,3030743.52,339691.29,325278.11,655600.52,584959.99,455216.26,441284.83,1642283.5,1460990.18,1387676.09,1282695.1100000001,3007921.6,2721674.76,314221.24,300006.73,496898.85,448304.41,423529.62,409746.82,1414687.89,1254905.02,936425.63,876735.24,2697841.99,2431837.61,289931.82,275910.78999999998,350439.43,323689.46000000002,393114.37,379660.08,1201423.3400000001,1063409.17,515189.61,501813.45,2405791.48,2160390.83,266914.57,253253.34,323379.7,297345.94,364152.1,350871.08,1001986.3,885899.95,478954.19,466098.69,2131054.44,1906569.39,245225.91,231878.42,297737.15999999997,272504.59999999998,336586.28,323561.90999999997,815926.99,721823.47,444516.19,431878.14,1872987.7,1669648.97,225205.55,212342.08,273906.75,249609.99,310780.57,297941.76000000001,643391.72,571336.44999999995,411963.67,399608.92,1631894.94,1449908.5,205995.42,193702.73,250745.96,227298.39,285457.21999999997,273035.43,483047.47,432900.07,379839.23,367749.79,1405311,1244919.76,189042.61,177274.02,230200.58,207741.52,262465.59999999998,250363.06,334100.02,305959.96999999997,350347.38,338594.87,1191939.4099999999,1053391.8500000001,173420.67,162153.07,210854.37,189719.22,240691.61,229084.04,303207.67999999999,275782.39,322130.96000000002,310704.25,991968.45,875414.43,158981.71,148356.09,192893.26,172976.38,220208.46,209131.45,273395.67,246832.09,295188.8,284176.15000000002,804766.03,710373.75,145794.42000000001,135998.07999999999,176159.9,157623.9,201167.87,190725.47,244742.95,220728.04,269602.28000000003,259097.46,630578.81999999995,558313.03,134202.64000000001,125147.44,161075.06,144111.92000000001,183786.19,173899.33,219241.28,200518.81,245594.8,235564.84,468842.38,418675.85,124702.85,116865.73,147942.22,133082.16,168070.93,158971.93,199669.15,182331.95,223271.15,213897.63,319204.46999999997,291269.53000000003,116744.16,110326.92,136654.42000000001,123648.72,154141.16,145637.35999999999,181937.41,165955.47,202892.37,193995.57,285363.96999999997,258478.02,104711.02,100174.65,119448.2,110051.3,132870.72,126147.34,154213.76000000001,141455.09,170323.17,163191.74,235804.69,211688.7,96124.17,93014.54,106392.01,99547.88,116089.71,110831.52,131567.42000000001,121851.17,143632.63,137992.99,192245.85,170996.4,90545.279999999999,88377.44,97222.89,92431.25,103454.93,99669,113990.79,107374.44,122280.19,118244.04,154530.29,136014.51,87267.54,86111.49,90929.95,88467.77,94766.94,92639.99,101115.32,96959.06,106380.59,103606.1,123043.45,109904.76,86339.73,85812.92,87990.63,86736.29,89621.48,88877.23,92633.22,90582.49,94855.39,93795.32,98636,96295.5,90295.39,90074.96,91433.05,90505.5,92319.14,91767.23,94371.86,92893.52,95467.04,94642.27,97980.56,96419.81,95199.06,95027.85,95908.23,95570.99,95959.84,95775.4,96965.42,96212.94,97506.59,96992.92,98604.43,97828.19,100504.54,100554.03,100784.28,100500.05,100500.5,100655.65,100778.59,100602.12,100565.69,100601.21,100500.06,100664.17]
[522594.54,505285.48,1380567.53,1235492.24,685053.61,668947.24,2695202.6,2440388.79,3256691.84,3012784.77,4462825.24,4106837.02,432800.52,417789.9,1099245.82,980475.64,569905.43999999994,555613.30000000005,2316162.5099999998,2085648.98,2571720.91,2373194.6800000002,3969020.75,3634450.82,402792.05,387918.39,900897.45,804910.66,533292.87,519040.34,2039745.89,1830830.71,2019016.4,1865466.01,3596169.18,3281598.42,374019.14,359205.23,716065.88,642838.80000000005,497949.79,483755.34,1779757.25,1592753.5,1501084.04,1393296.24,3244453.01,2950230.74,346472.35,331829.58,544474.21,494070.68,463837.34,449683.33,1535417.6,1370459.12,1016273.19,955062.82,2912615.47,2639064.66,320100.15000000002,305688.5,385602.56,358007.95,430921.96,416948.95,1306280.8999999999,1163588.01,563229.56000000006,549333.69999999995,2599895.09,2347288.41,294983.14,280795.87,356188.52,329128.46999999997,399358.18,385750.46,1091685.31,971540.77,522880.4,509319.33,2305375.4,2074093.81,271216.53000000003,257431.64,328188.96000000002,301919.46000000002,369330.68,355929.32,891129.03,793698.54,485178.68,472202.64,2028342.87,1818721.06,248879.05,235443.77,301719.15000000002,276325.44,340811.75,327708.32,704211.23,629549.59,449425.47,436707.64,1768208.75,1580485.96,228295.51,215389.88,277156.55,252787.77,314154.40999999997,301270.40999999997,530995.35,479157.09,415669.13,403279.83,1525204.58,1359595.6,208590.63,196306.69,253331.38,229888.65,288033.59000000003,275614.84999999998,370275.02,341099.2,382393.21,370309.55,1296897.81,1153661.22,191181.98,179473.35,232163.06,209796.09,264276.71999999997,252224.46,337076.24,308682.5,351761.91999999998,340059.48,1081970.1299999999,961380.55,175155.79,163998.73000000001,212227.28,191298.91,241766.78,230272.77,304858.65000000002,277276.15999999997,322407.8,311089.13,880599.99,782819.39,160402.01,149945.26,193779.68,174178.94,220654.67,209753.53,273818.96000000002,247204.04,294443.24,283605.45,692287.02,617497.80000000005,147004.89000000001,137442.46,176676.08,158563.99,201112.16,190915.31,244062.94,220225.24,267981.77,257722.16,517341.14,465483.84,135327.75,126563.59,161371.49,144940.04999999999,183387.2,173805.8,217741.15,199606.33,243277.73,233557.64,355214.59,326247.95,125827.57,118294.98,148111.54999999999,133858.35,167424.32000000001,158703.62,197750.11,181121.36,220386.49,211399.9,318689.17,290791.63,111741.46,106314.48,128520.31,117515.17,143238.24,136050.13,166695.6,153207.22,184362.73,176836.37,264418.23,239494.39999999999,100912.2,97253.77,112796.9,105272.08,123646.69,118230.88,140871.03,130581.96,153839.91,148091.59,216532.15,194367.99,93536.92,91194.64,101266.45,96113.62,108600.26,104609.73,120221.16,112906,129328.06,125058.97,174794.02,155467.4,89202.8,87694.2,93699.3,90396.61,97793.79,95224.73,104790.96,100492.4,110339.29,107647.12,139133.26,122449.69,87126.02,86565.62,88968.06,87817.11,90893,89824.639999999999,94082.12,91994.07,96882.8,95380.5,109821.22,98568.08,90797.19,90428.07,92003.43,91075.91,93098.09,92641.23,95278.13,93771.62,96824.25,96146.65,99417.48,97778.82,95249.56,95186.98,95993.22,95361.26,96312.25,96022.25,97562.57,96614.24,97967.66,97533.94,99289.8,98468.6,100512.55,100500.86,100799.02,100796.97,100500.7,100570.19,100729.43,100505.67,100609.61,100500.83,100500.67,100500.93,0,0,0,0,0,0,0,0,0,0,0,0]
[474776.74,459159.59,1193832.18,1071037.26,621317.73,606794.23999999999,2501205.56,2263949.35,2770426.62,2566861.4,4271435.3600000003,3928301.57,442311.92,427012.62,980389.55,880983.35,582077.92000000004,567508.55000000005,2205281.02,1990077.31,2178054.4300000002,2020450.28,3873099.94,3550206.15,411183.76,396048.1,781151.12,705367.54,544004.07999999996,529499.93000000005,1926703.55,1733877.35,1622357.65,1511779.42,3497042.25,3194830.83,381349.96,366299.76,595672.61,543482.18000000005,507257.3,492838.48,1664724.34,1494612.04,1101836.1100000001,1039079.92,3142263.97,2861107.94,352801.73,337955.75,423704.35,395163.89,471795.43,457444.36,1418597.69,1271333.6100000001,614843.34,600777.65,2807505.42,2547751.84,325502.11,310923.32,391760.5,363851.4,437605.39,423471.51,1187897.55,1063709.54,571582.24,557477.76,2492041.79,2253987.64,299537.24,285217.57,361292.32,333987.44,404852.58,391124.54,971963.95,871160.55,529527.77,515810.82,2194962.94,1979010.02,275029.43,261157.73,332356.02,305921.09000000003,373756.66,360270.87,770335.98,693086.92,490340.88,477278.56,1915607.11,1722112.27,252045.31,238562.28,305054.08000000002,279575.82,344271.79,331129.34000000003,582605.71,528966.17000000004,453241.2,440482.03,1653369.58,1482581.33,230862.73,217961.64,279706.49,255354.99,316694.65000000002,303811.74,408691.7,378709.52,418172.87,405794.76,1408329.44,1260477.1499999999,210638.02,198416.54,255175.85,231839,289719.09999999998,277356.93,373562.46,344120.54,383648.97,371623.6,1178197.08,1053555.96,192731.87,181145.65,233321.94,211163.44,265114.76,253175.51,338900.71,310350.34999999998,351743.68,340152.37,961574.56,860450.29,176314.04,165334.89000000001,212800.4,192205.05,241863.15,230552.04,305314.61,277682.33,321219.34000000003,310076.53000000003,758802.04,681362.33,161282.4,151065.45000000001,193900.3,174748.63,220151.99,209500.61,273045.81,246494.89,292248.03000000003,281658.51,569447.69999999995,515885.96,147727.84,138473,176480.25,158929.06,200159.65,190286.35,242211.86,218680.87,264958.5,255022.41,393865.9,364094.17,136014.56,127618.32,161006.41,145248.85999999999,182138.69,172945.07,215095.94,197705.69,239596.16,230269.34,354677.18,325745.37,119383.29,113005.21,138139.88,126134.24,154420.19,147089.13,180002.67,165996.92000000001,199065.73,191505,295340.5,269477.40999999997,106640.36,102241.41,120167.99,111239.6,132011,126188.7,150963.65,140064.04,165217.14000000001,159113.41,242837.7,219935.2,97142.63,94387.91,106091.29,100493.83,114293.11,110223.28,127278.22,119531.18,137014.31,132689.66,196920.43,176741.95,91136.77,89572.84,96291.69,92854.34,101228.06,98523.14,108936.73,104056.91,115043.24,112164,157411.60999999999,139999.71,88195.02,87343,90516.89,88697.78,92479.15,91123.04,95947.27,93961.279999999999,98762.47,97410.55,124194.55,109287.67999999999,91344.11,90965.31,92637.74,91890.559999999998,93986.16,93236.86,96223.17,94758.39,98296.56,97166.88,110567.31,99419.07,95512.27,95318.38,96223.66,95659.93,96722.43,96584.6,97977.03,97076.26,98771.55,98518.7,100044.83,99186.58,100503.37,100615.59,100809.34,100505.96,100500.31,100500.78,100859.85,100500.13,100500.49,100500.46,100501.4,100500.34,0,0,0,0,0,0,0,0,0,0,0,0,0,0,0,0,0,0,0,0,0,0,0,0]
[485115.44,469193.7,1065600.8700000001,962852.98,634501.22,619697.46,2382169.7999999998,2160694.75,2347985.41,2186390.62,4168813.7,3837669.61,451415.61,435846.79,851030.18,772556.80000000005,593670.75,578842.1,2083816.26,1885208.45,1752176,1638675.48,3766954.3,3456761.31,419113.46,403738.75,650910.05000000005,596959.28,554054.61,539320.75,1802992.53,1627600.11,1193426.45,1129146.46,3387525.89,3098751.54,388163.63,372904.33,464804.88,435341.13,515820.23,501203.39,1538941.54,1387125.58,670275.42000000004,656021.73,3029519.42,2762562.66,358583.29,343565.19,430310.11,401438.64,478956.05,464437.89,1290992.1000000001,1162886.68,623898.89,609624.84,2691721.05,2446953.7200000002,330330.48,315619.84000000003,397183.98,369028.66,443443.41,429183,1058709.2,954549.8,578781.80000000005,564496.98,2373408.36,2151153.2799999998,303523.51,289109.49,365661.65,338185.37,409495.24,395684.33,841478.2,761597.43,534992.48,521152.36,2073732.69,1874411.48,278273.40999999997,264357,335779.49,309259.43,377313.48,363784.23,638816.06000000006,583388.68000000005,494280.76,481171.34,1792006.17,1615999.71,254599.89,241117.86,307584,282113.65000000002,346783.75,333650.52,450246.93,419333.39,455712.31,442958.3,1527525.67,1375097.5,232775.61,219935.44,281388.53000000003,257161.96,318205.76,305379.78000000003,412135.18,381895.5,419203.95,406891.96,1280302.31,1151698.76,211992.23,199898.44,256092.93,232984.58,290295.07,278054.59999999998,375569.73,345962.03,383300.61,371397.34,1048202.26,943716.86,193596.53,182203.7,233551.87,211734.09,264831.11,253076.17,339392.89,310798.28999999998,350080.8,338670.13,829863.85,749829.41,176822.87,166096.23000000001,212476.79,192354.44,240864.52,229813.11,304432.09999999998,276870.51,318396.51,307504.53999999998,625745.56000000006,570331.79,161567.09,151667.29,193178.72,174621.38,218607.07,208286.2,270958.98,244598.69,288464.08,278203.09000000003,435465.63,404874.4,147904.74,139038.64000000001,175491.20000000001,158651.73000000001,198210.25,188746.51,239061.39,215980.6,260381.38,250855.12,393244.8,363514.99,127946.2,120896.25,149019.10999999999,135754.19,166850.01999999999,159099.66,194619.76,179982.33,215267.55,207404.83,328730.73,301902.83,112784.28,107604.73,127877.9,118206.1,141009.39000000001,135121.44,161666.78,150384.81,177019.39,170939.24,271281.64,247514.79,101529.65,98188.78,111710.49,104919.47,120593.73,116177.25,134909.48000000001,126674.6,145649.07,141009.48000000001,220874.56,200028.88,93541.87,91704.04,99512.06,95870.48,105028.11,102323.76,113712.87,108544.48,120169.07,117288.69,177383.85,159182.79,89072,88284.28,91658.91,89932.67,94204.81,92781.46,98010.82,95560.04,101125.2,99631.85,140543.20000000001,124988.77,92161.71,91498.17,93834.43,92446.51,95144.639999999999,94147.56,97544.44,96272.76,99538.77,98590.8,125049.72,110028.54,95793,95615.98,96476.79,96178.04,97184.18,96789.59,98362.28,97590.7,99626.1,98911.38,111128.57,100123.27,100500.96,100501.43,100663.1,100503.23,100501.42,100716.95,100729.21,100500.75,100690.26,100907.97,100500.15,100507.38,0,0,0,0,0,0,0,0,0,0,0,0,0,0,0,0,0,0,0,0,0,0,0,0,0,0,0,0,0,0,0,0,0,0,0,0]
[495032.38,478824.29,926125.83,845036.68,647089.51,632022.91,2252102.1800000002,2047695.87,1891225.33,1774842.28,4055923.01,3737758.46,460031.91,444216.18,710381.31,654521.84,604573.48,589506.66,1951160.09,1770502.02,1291777.1000000001,1225782.57,3650274.75,3353832.42,426488.97,410902.26,509348.28,478981.89,563315.96,548378.34,1667938,1511401.35,729799.87,715385.12,3267213.64,2992988.71,394382.55,378945.36,471917.91,442111.52,523528.56,508743.73,1401713.56,1269684.51,680128.84,665663.97,2905772.18,2654190.15,363735.78,348581.09,436117.35,406983.22,485202.59,470551.68,1151861.45,1044473.48,631727.53,617272.98,2564745.35,2336204.5099999998,334530.05,319726.51,401801.61,373475.28,448353.62,434004.49,917984.63,835478.38,584715.43000000005,570281.28,2243473.14,2038321.89,306873.64,292407.63,369208.39,341642.89,413184.21,399332.05,699444.43,642179.02,539133.01,525206.38,1941083.33,1759764.6,280826.65000000002,266915.78000000003,338304.21,311794.77,379821.75,366297.93,495666.56,463826.84,496751.43,483641.47,1656769.81,1499695.51,256410.9,242987.75,309139.55,283787.51,348150.64,335084.25,454000.77,422822.48,456565.51,443872,1389831.63,1257282.31,233881.42,221170.23,282006.13,258034.24,318458,305756.38,414153.8,383760.8,418441.03,406261.46,1140180.44,1032423.49,212557.97,200665.57,255956.18,233215.29,289611.15000000002,277566.02,376121.32,346462.01,381132.61,369423.6,906062.48,823401.61,193704.99,182583.98,232756.31,211425.55,263308.77,251817.12,338414.21,309899.3,346601.24,335448.12,686010.96,628805.27,176628.91,166236.10999999999,211180.79999999999,191684.02,238677.41,227969.38,302097.45,274737.25,313797.13,303237.92,480615.83,449033.67,161198.13,151700.73000000001,191532.06,173728.78,215916.82,206015.39,267428.21000000002,241397.94,282932.76,273088.77,434777.07,404228.12,137974.6,130529.72,161228.47,147033.85999999999,180379.1,172421.41,215895.39,195358.79,232785.82,224770.17,364475.12,336915.7,119668.49,114017.31,136670.45000000001,125995,151072.06,144821.12,173453.09,161675.39000000001,190098.95,183757.01,302009.76,277348.53000000003,106138.93,102193.64,117459.4,110191.56,127347.62,122946.36,142932.35,134455.93,154462.91,149907.97,246805.73,225171.08,96576.62,94309.57,103359.58,98737.72,109237.69,106247.94,118846.34,113316.49,126018.58,122864.96000000001,198999.88,180202.27,90287.23,89364.67,93283.9,91596.03,96119.06,94778,100510.83,97916.93,103692.17,102253.81,158426.06,142142.48000000001,92721.43,92168.19,94531.94,93322.880000000005,96361.96,95319.45,98981.81,97265.31,101196.57,100117.38,141533.82,125861.01,96342.7,95889.98,97291.29,96385.08,97874.83,97278.55,99083.67,98607.46,100162.31,99664.83,125699.26,110587.5,100500.34,100547.58,100505.84,100705.43,100500.23,100500.19,100500.75,100500.12,100863.34,100610.62,111485.64,100665.55,0,0,0,0,0,0,0,0,0,0,0,0,0,0,0,0,0,0,0,0,0,0,0,0,0,0,0,0,0,0,0,0,0,0,0,0,0,0,0,0,0,0,0,0,0,0,0,0]
[504318,487849.04,774245.63,716574.69,658806.14,643500.61,2109303.39,1923430.35,1396938.84,1329289.48,3930360.94,3626370.31,467947.21,451914.81,557353.85,525932.1,614502.06000000006,599225.74,1805707.68,1644525.77,793868.65,779053.22,3520785.37,3239344.02,433122.26,417357.93,516942.62,486229.13,571536.4,556427.9,1520070.57,1383977.65,740397.63,725772.64,3134003.97,2875635.15,399823.62,384247.07,478058.64,447984.33,530135.01,515219.61,1251668.92,1141077.9099999999,688529.75,673884.47,2769049.29,2534207.12,368113.31,352863.98,440948.91,411632.95,490336.88,475593.71,999980.07,915020.86,638069.29,623468.22,2424793.37,2213901.65,337947.89,323097.59999999998,405427,377018.82,452126.12,437733.24,764567.37,705486.73,589106.25,574560.54,2100544.1800000002,1913979.24,309381.27,294916.67,371679.32,344127.55,415633.39,401792.11,544691.71,511882.15,541569.28000000003,527602.89,1795305.83,1633538.45,282477.37,268634.17,339668.99,313288.49,380984.72,367526.58,499677.78,467575.72,497355.56,484302.9,1508264.01,1371740.04,257249.02,243956.79,309436.34000000003,284339.49,348047.26,335119.15999999997,456102.13,424772.11,455362.07,442797.83,1238693.31,1127714.26,234018.91,221515.25,281358.14,257790.31,317219.95,304720.55,414461.79,384040.84,415570.3,403599.48,986603.88,901452.16,212208.13,200599.89,254606.61,232388.86,287483.69,275716.46000000002,374989.09,345410.26,376893.62,365459.77,750576.1,691559.57,192953.35,182190.36,230804.67,210121.68,260396.13,249254.43,335775.79,307480.31,341096.06,330284.82,528945.72,496449.98,175625.62,165656.65,208777.69,190074.93,235143.99,224872.09,298114.27,271103.86,307201.87,297065.96999999997,479789.81,448253.43,149193.37,141188.4,174776.58,159770.19,195308.68,186962.67,241478.68,217953.29,251791.55,243494,402903.22,374586.48,127744.51,121775.44,146499.91,135051.35999999999,161945.41,155551.53,191928.98,174027.48,204213.52,197766.62,334803.27,309482.14,111274.09,107063.09,124085.28,116075.66,134956.73000000001,130249.23,151790.20000000001,142956.6,164316.15,159539.82,274787.15999999997,252332.88,99608.19,96914.53,107100.63,102271.62,113698.91,110805.91,124137.97,118507.78,131791.01999999999,128783.66,222400.58,202891.53,91953.18,90756.74,95347.3,92887.78,98227.72,96660.53,103142.62,100310.21,106757.28,105084.93,177752.87,160943.63,93564.55,92917.74,95665.44,94580,97699.61,96770.91,100801.35,98983.07,102990.21,101987.08,159562.79999999999,143146.39000000001,96526.51,96233.25,97475.87,96840.46,98511.4,97891.69,99815.91,98913.84,101032.49,100413.05,142286.59,126521.02,100725.65,100506.52,100872.77,100500.36,100653,100500.45,100544.56,100947.37,100610.2,100611,126113.82,110938.78,0,0,0,0,0,0,0,0,0,0,0,0,0,0,0,0,0,0,0,0,0,0,0,0,0,0,0,0,0,0,0,0,0,0,0,0,0,0,0,0,0,0,0,0,0,0,0,0,0,0,0,0,0,0,0,0,0,0,0,0]
[512855.63,496155.64,609052.21,576679.98,669492.65,653976.43999999994,1953031.45,1787232.86,862524.17,847364.73,3791672.48,3503084.25,475062.69,458848.01,565506.75,533720.4,623320.47,607866.93999999994,1646698.09,1506602.96,805315.01,790284.09,3377990.95,3112842.33,438909.67,423006.71999999997,523485.74,492501.14,578572.01,563329.93999999994,1358579.57,1244612.0900000001,749452.68,734647.85,2987325.19,2746169.76,404415.15,388741.62,483136.98,452876.72,535537.39,520532.32,1088010.58,1000608.81,695342.86,680550.9,2618780.98,2402100.9700000002,371627.29,356330.3,444693.46,415285.82,494231.98,479441.76,834489.91,773781.31,642754.61,628044.78,2271205.1,2079451.96,340427.09,325584.78000000003,407864.19,379479.88,454538.18,440154.74,597455.26,563698.55000000005,591655.41,577043.32999999996,1943762.7,1777348.17,310875.33,296475.5,372859.81,345443.84000000003,416597.33,402828.69,549011.14,515935.96,541968.57999999996,528018.17000000004,1635454.84,1494880.47,283027.46999999997,269326.46000000002,339623.88,313514.46999999997,380515.05,367195.2,501887.9,469638.9,495701.25,482775.28,1345429.42,1231180.03,256986.18,243906.12,308309.88,283622.46000000002,346282.23,333572.74,456332.33,424978.38,451835.78,439478.37,1073164.01,985554.81,233091.36,220881.6,279317.73,256318.82,314342.21000000002,302130.84000000003,412888.27,382577.03,410379.79,398702.02,818659.64,757985.26,210869.15,199634.85,251945.19,230419.58,283793.65000000002,272393.96000000002,372036.48,342680.82,370411.19,359340.2,580850.54,547417.92000000004,191260.62,180950.22,227587.13,207728.31,255960.62,245264.15,331319.93,303397.18,333371.09000000003,322994.5,527996.24,495553.07,161347.13,152945.78,189305.16,173541.51,211505.8,202848.02,269145.24,244743.61,272234.67,263677.01,444586.5,415351.57,136822.76999999999,130367.01,157473.60999999999,145371.07,174005.54,167274.41,214649.02,193713.34,219552.66,212860.59,370065.23,344047.96,117352.12,112902.63,131476.16,122854.76,143107.28,138323.60999999999,167406.41,152206.35,174937.68,170105.98,304602.90000000002,281559.86,102975.58,100226.73,111533.61,106229.94,118822.57,115681.55,130025.45,124180.34,138369.99,135182.64000000001,247655.77,227400.38,93417.07,91971.9,97088.6,94693.66,100403.47,99016.36,105707.72,102918.39999999999,109490.66,108028.01,198702.28,181256.47,94835.49,93955.97,97206.91,95385.5,99176.77,98031.72,102685.75999999999,100660.87,105229.32,103994.71,179045.39,162101.87,96967.41,96627.21,98072.1,97655.79,99215.12,98744.92,100882.25,99926.31,101967.74,101448.4,160438.13,143914.35,100506.04,100501.14,100500.35,100501.12,100654.41,100504.01,100500.64,100501.64,100609.87,100500.49,142778.70000000001,126948.56,0,0,0,0,0,0,0,0,0,0,0,0,0,0,0,0,0,0,0,0,0,0,0,0,0,0,0,0,0,0,0,0,0,0,0,0,0,0,0,0,0,0,0,0,0,0,0,0,0,0,0,0,0,0,0,0,0,0,0,0,0,0,0,0,0,0,0,0,0,0,0,0]
[520494.71,503599.08,617805.63,585057.64,678947.29,663253.59,1782150.15,1638085.82,874868.95,859492.07,3638680.1,3366820.5,481225.59,464868.95,572484.64,540411.88,630822.27,615229.43000000005,1472994.35,1355720.48,815065.65,799850.79,3220705.3,2973243.94,443736.91,427739.34,528837.72,497667.39,584266.05000000005,568932.39,1182393.43,1092358.7,756761.32,741811.07,2826063.66,2603583.86,408026.47,392304.37,486992.42,456639.7,539555.24,524507.28,909646.53,847316.75,700331.81,685431.88,2453820.89,2256835.62,374073.08,358785.07,447099.54,417709.11,496604.67,481822.02,654183.32999999996,619689.69999999995,645409.32999999996,630637.30000000005,2102677.91,1931673.88,341749,326980.83,408843.04,380610.28,455284.1,440974.49,602091.42000000004,568066.14,591955.96,577332.66,1771788.61,1627216.19,311108.37,296850.34000000003,372442.52,345310.98,415726.51,402105.81,551330.92000000004,518110.1,539861.88,525995.65,1460119.03,1342515.51,282309.98,268836.21000000002,337959.52,312283.08,378172.79,365073.62,502016.57,469754.04,491461.92,478741.81,1167028.95,1076912.19,255492.92,242714.94,305595.52000000002,281488.64000000001,342664.75,330263.23,454468.61,423233.83,445724,433659.23,892091.17,829786.34,230995.16,219173.68,275751.61,253501.34,309669.13,297839.23,409250.2,379199.79,402651.65,391358.6,635258.68000000005,601070.55000000005,208431.75,197670.24,247829.94,227182.79,278374.03999999998,267440.68,367064.29,338090.34,361449.27,350837.99,579765.97,546389.31000000006,174490.51,165829.56,205149.2,188369.68,229040.43,220005.02,299090.15999999997,273884.09000000003,294290.57,285531.09000000003,489211.53,459144.16,146617.79999999999,139843.79,169183.77,156471.24,187059.87,180077.65,239197.26,217492.25,236027.54,229108.4,408323.24,381458.76,124229.22,119368.27,139802.87,130689.53,152217.01,147148.22,187200.68,168914.15,186506.89,181467.5,336647.8,312970.42,107028.54,104121.51,116452.93,110700.51,124213.55,121064.04,142762.51999999999,130285.52,145452.44,142259.85999999999,274510.76,253737.23,95016.92,93728.3,99329.58,96727.39,103042.94,101465.38,108625.06,105763.52,112795.75,111194.29,221304.14,203183.61,95821.1,94743.039999999994,98331.73,96673.61,100657.18,99730.51,104419.87,102490.62,107030.15,106037.85,200171.6,182586.32,97798.13,97271.39,99032.48,97921.279999999999,99990.03,99314.84,101935.23,100808.53,103287.54,102540.27,180046.11,162994.91,100500.69,100500.56,100500.64,100825.79,100655.07,100693.23,100730.9,100731.42,100593.19,100610.44,161022.10999999999,144419.37,0,0,0,0,0,0,0,0,0,0,0,0,0,0,0,0,0,0,0,0,0,0,0,0,0,0,0,0,0,0,0,0,0,0,0,0,0,0,0,0,0,0,0,0,0,0,0,0,0,0,0,0,0,0,0,0,0,0,0,0,0,0,0,0,0,0,0,0,0,0,0,0,0,0,0,0,0,0,0,0,0,0,0,0]
[527103.77,510052.88,625294.98,592249.91,686990.97,671157.98,1595648.3,1475085.49,885415.37,869852.59,3470678.59,3216931.3,486342.82,469888.52,578172.31999999995,545899.05000000005,636877.89,621187.48,1283598.06,1190995.01,822953.99,807589.66,3048221.05,2819906.71,447488.68,431445.53,532855.74,501595.06,588457.66,573079.35,990435.98,926268.42,762114.15,747057.14,2649399.62,2447133.88,410455.68,394742.56,489376.11,459042.39,541908.46,526873.18000000005,715321.08,680090.6,703129.06,688167.56,2273105.4300000002,2097439.98,375228.97,360017.64,447892.82,418649.76,497144.82,482435.23,659193.87,624432.82999999996,645623.03,630844.55000000005,1918038.95,1769499.85,341655.55,327041.28999999998,408043.13,380115.83,454000.3,439842.07,604553.34,570381.89,589522.07999999996,574954.80000000005,1583306.5,1462388.25,309909.36,295880.32000000001,370212.02,343533,412774.31,399386.66,551376.61,518146.74,534913.54,521208.94,1268114.8799999999,1175384.2,280192.81,267039.93,334506.61,309441.91999999998,373761.85,360974.63,499847.02,467718.24,484366.51,471939.8,971917,907921.93,252663.76,240285.9,301155.78999999998,277815.90999999997,337033.89,325037.40999999997,450332.62,419372.37,436800.02,425121.53,694348.05,659420.78,227614.46,216285.18,270507.7,249203.93,303020.98,291675.58,403342.71,373719.31,392131.32,381324.17,633627.1,599523.99,188962.56,179922.08,222168.56,204764.54,247904.47,238690.89,331326.24,305156.99,317913.84999999998,308985.90000000002,537170.27,506237,157182.85,150234.75,181956.68,168374.17,201193.52,193882.88,265782,243383.43,253817.13,246736.53,449290.49,421668.37,131603.54999999999,126505.27,148617.41,139046.74,162040.14000000001,156783.42000000001,208564.57,189617.58,198897.1,193664.93,371444.98,346990.76,111679.91,108437.83,122099.45,116020.76,130332.79,126951.7,159619.87,143994.39000000001,153194.62,149832.97,303369.64,282022.05,97056.320000000007,95690.5,101787.18,98899.94,105682.18,104165.19,118516.1,108730.95,116342.97,114787.93,245300.35,226729.48,96884.83,96046.7,99915.58,98136.19,102553.43,101448.62,106432.33,104479.88,109339.38,108217.23,222966.69,204697.9,98259.520000000004,97591.23,99476.22,98639.360000000001,100698.18,100284.52,102741.55,101771.14,104044.57,103576.44,201320.85,183623.34,100851.52,100717.51,100821.35,100500.84,100653.42,100501.18,100858.84,100731.49,100886.53,100681.65,180724.09,163594.5,0,0,0,0,0,0,0,0,0,0,0,0,0,0,0,0,0,0,0,0,0,0,0,0,0,0,0,0,0,0,0,0,0,0,0,0,0,0,0,0,0,0,0,0,0,0,0,0,0,0,0,0,0,0,0,0,0,0,0,0,0,0,0,0,0,0,0,0,0,0,0,0,0,0,0,0,0,0,0,0,0,0,0,0,0,0,0,0,0,0,0,0,0,0,0,0]
[532463.32999999996,515304.96000000002,631257.78,598008.82999999996,693334.3,677406.99,1391853.67,1296732.1499999999,893791.29,878080.78,3285263.56,3051215.54,490181.79,473682.56,582290.55000000005,549919.15,641178.16,625440.28,1076921.8899999999,1011007.08,828580.93,813109.18,2858248.66,2650739.7599999998,449846.5,433819.3,535155.78,503924.47999999998,590720.36,575356.24,781081.04,744883.69,764957.92,749843.66,2454999.33,2274685.65,411372,395739.38,489887.95,459711.56,542151.03,527197.34,720624.54,685129.82,703152.7,688188.49,2074390.28,1921866.34,374732.63,359681.93,446633.16,417699.05,495359.47,480803.83,661703.18000000005,626806.66,642748.81999999995,628034.49,1715083.65,1590920.33,339890.46,325522.32,405152.07,377707.84,450335.5,436418.37,604411.66,570240.57999999996,583890.29,569457.51,1376440.85,1281170.73,307073.28000000003,293371.40999999997,365917.41,339879.34,407457.41,394398.17,548799.84,515718.38,526747.89,513292.2,1057780.6299999999,991996.38,276508.31,263779.49,329058.99,304802.71999999997,367048.32,354673.42,495090.29,463261.18,474103.43,462066.19,758612.78,722890.69,248325.65,236456.44,294776.71999999997,272409.84000000003,329145.12,317661.08,443622.12,413112.36,424735.38,413546.44,692316.94,657485.15,205040.03,195497.77,241168.29,223267.69,268570.2,258997.15,363453.89,336751.39,343623.38,334554.36,586501.89,554933.30000000005,168838.43,161584.4,195617.86,181579.73,216363.45,208934.8,294371.02,271101.75,272812.24,265631.59000000003,493262.56,464847.62,139504.07,134318.72,158223.35,147929.79999999999,172671.1,167134.71,231704.22,212178.1,212302.95,206949.87,408647.2,383514.23,116590.68,113191.67,127974.65,121590,136880.95999999999,133374.06,177787.05,161610.47,161457.01,157935.32999999999,334692.71999999997,312639.88,99481.21,97853.69,104761.09,101708.76,108824.78,107126.61,132496.75,119486.87,120289.67,118601.13,271053.03999999998,251967.3,98309.92,97417.61,101626.84,99602.71,104357.33,103338.51,115819.78,106495.38,111831.41,110774.35,247138.12,228421.22,98713.68,98374.8,100322.76,99455.4,101767.23,101186.67,103757.14,102812.81,105262.73,104672.11,224263.67,205875.52,100714.8,100500.52,100500.63,100572.15,100501.88,100655.41,100642.92,100732.9,100500.29,100611.77,202103.84,184325.36,0,0,0,0,0,0,0,0,0,0,0,0,0,0,0,0,0,0,0,0,0,0,0,0,0,0,0,0,0,0,0,0,0,0,0,0,0,0,0,0,0,0,0,0,0,0,0,0,0,0,0,0,0,0,0,0,0,0,0,0,0,0,0,0,0,0,0,0,0,0,0,0,0,0,0,0,0,0,0,0,0,0,0,0,0,0,0,0,0,0,0,0,0,0,0,0,0,0,0,0,0,0,0,0,0,0,0,0]
[536430.46,519217.93,635519.81000000006,602170.59,697783.15,681811.5,1169595.1000000001,1101979.7,899748.74,883933.11,3081539.05,2868851.86,492491.56,476010.15,584534.19999999995,552186.12,643383.64,627657.03,851581.11,814514.92,831508.23,815979.3,2649606.88,2464653.36,450534.03,434595.68,535400.55000000005,504340.55,590677,575396.97,786740.57,750274.2,764802.43,749690,2241556.96,2085037.78,410452.41,394986.09,488132.15,458279.17,539838.69999999995,525049.4,723219.23,687593.61,699820.79,684925.22,1856203.71,1728762.12,372368.8,357573.4,443054.16,414610.89,490947.33,476637.03,661380.1,626497.15,636387.27,621816.56000000006,1492505.08,1394750.55,336286.15,322265.53000000003,399959.74,373194.09,444050.26,430472.88,601405.82999999996,567396.24,574738.62,560526.98,1149935.58,1082436.26,302465.56,289196.95,359387.61,334194.90000000002,399578.91,386951.71,543387.59,510624.97,515095.5,501983.3,827887.03,791259.36,271107.11,258915.57,321426.23,298193.8,357812.05,345959.36,487500.96,456153.06,460368.47,448826,756172.16,720562.87,222478.52,212461.45,261577.7,242731.07,290507.78999999998,280857.21000000002,399506.85,372013.67,371018.32,361596.15,640617.25,608376.39,181730.08,174040.62,210843.25,196471.64,232945.07,225209.76,322266.46999999997,298579.89,293421.84999999998,286155.2,538025.09,509064,148273.18,142857.53,168439.75,157864.94,184050.15,178458.33,256579.87,236275.83,226545.68,221163.09,448602.24,422748.79,121798.61,118401.45,134378.01,127419.46,143968.18,140230.79,197478.27,180836.89,170423.87,166822.51,368176.98,345522.24,101944.57,100240.52,107713.05,104506.39,112113.84,110352.27,147529.32,134075.57999999999,124439.62,122623.59,299031.78000000003,279308.19,100074.51,98933.81,103810.06,101669.89,106609.7,105418.74,129481.62,116746.22,114637.69,113453.52,273079.31,253842.56,99462.44,99096.2,101206.94,100142.73,102642.52,102177.19,112559.93,103767.94,106573.02,106069.44,248577.7,229744.37,100501.7,100715.86,100533.73,100677.69,100654.74,100655.37,100549.64,100722.92,100501.28,100500.12,225160.16,206684.28,0,0,0,0,0,0,0,0,0,0,0,0,0,0,0,0,0,0,0,0,0,0,0,0,0,0,0,0,0,0,0,0,0,0,0,0,0,0,0,0,0,0,0,0,0,0,0,0,0,0,0,0,0,0,0,0,0,0,0,0,0,0,0,0,0,0,0,0,0,0,0,0,0,0,0,0,0,0,0,0,0,0,0,0,0,0,0,0,0,0,0,0,0,0,0,0,0,0,0,0,0,0,0,0,0,0,0,0,0,0,0,0,0,0,0,0,0,0,0,0]
[538687.80000000005,521485.42,637698.41,604374.53,699913.99,683958.69,927209.39,889326.65,902744.71,886875.94,2857727.13,2668196.98,492929.59,476541.4,584488.94999999995,552310.71,643033.96,627390.05000000005,857600.57,820266.8,831142.1,815617.24,2420457.87,2259952.36,449159.36,433398.77,533114.32999999996,502398.5,587797.48,572686.46,789412.59,752815.19,760959.25,745921.75,2007124.36,1876394.88,407427.69,392225.71,483780.15,454439.49,534603.06999999995,520072.46,722685.95,687083.16,692651.18,677905.69,1616845.12,1516577.63,367924.47999999998,353489.24,436893.36,409142.97,483612.52,469648.85,657889.26,623186.71,626147.53,611809.24,1248721.3,1179560.99,330668.69,317106.46000000002,392250.07,366376.35,434899.66,421769.66,595259.18000000005,561587.64,561739.99,547844.06999999995,902297.39,864846.28,295898.02,283179.90999999997,350387.6,326265.7,388871.13,376789.92,534832.21,502577.35,499595.19,486930.79,824985.64,788481.95,241623.91,231359.66,283959.65000000002,264400.27,314593.64,304614.34999999998,438741.51,410519.76,400979.75,391233.82,699463.12,666523.57999999996,195785.98,187688.48,227264.28,212066.52,250556.95,242807.05,353972.02,329592.45,315436.48,307845.81,587457.77,557880.81000000006,157918.57,152133.66,179821.55,169077.8,196476.25,190629.59,280195.67,259589.5,241971,236557.43,488784.79,462472.03,127644.58,124093.57,141105.62,134042.70000000001,151508.82999999999,147779.32999999999,218631.67999999999,201304.66,179855.04,176295.95,404142.39,380838.31,104471.26,102858.01,110928.45,107294.79,115673.78,113730.37,163839.75,150033.20000000001,128989.66,127134.87,328920.84000000003,308669.5,101800.06,100606.95,105880.79,103632.06,108916.6,107681.08,144157.69,130993.94,117548.07,116241.55,301269.34999999998,281386.82,100492.22,99892.6,102510.22,101384.08,103904.63,103277.54,125836.05,113435.16,108110.73,107487.46,274664.77,255307.53,100500.08,100716.83,100500.77,100501.16,100500.22,100648.47,108684.64,100502.79,100501.09,100611.09,249573.26,230656.79,0,0,0,0,0,0,0,0,0,0,0,0,0,0,0,0,0,0,0,0,0,0,0,0,0,0,0,0,0,0,0,0,0,0,0,0,0,0,0,0,0,0,0,0,0,0,0,0,0,0,0,0,0,0,0,0,0,0,0,0,0,0,0,0,0,0,0,0,0,0,0,0,0,0,0,0,0,0,0,0,0,0,0,0,0,0,0,0,0,0,0,0,0,0,0,0,0,0,0,0,0,0,0,0,0,0,0,0,0,0,0,0,0,0,0,0,0,0,0,0,0,0,0,0,0,0,0,0,0,0,0,0]
[538886.44999999995,521771.45,637371.82999999996,604223.62,699259.45,683393.01,933668.42,895519.43,902180.43,886321.07,2612219.17,2447760.2000000002,491087.02,474883.11,581658.64,549827.44999999995,639577.39,624102.30000000005,860389.68,822928.61,826770.75,811324.42,2168987.38,2034957.35,445444.97,429962.79,527957.52,497781.63,581701.71,566855.97,788687.04,752115.44,752934.55,738054.29,1750079.33,1647273.78,402077.79,387248.18,476560.05,447940.69,526137.87,511970.1,718698.6,683288.77,681241.68,666736.43000000005,1354747.63,1283893.43,361218.71,347258.21,427925.43,401087.58,473099.05,459592.56,650960.81000000006,616619.88,611689.18999999994,597679.6,982193.05,943968.65,322837.25,309855.32,381771.29,357024.76,422596.86,410032.7,585659.71,552520.82999999996,544508.47,531032.34,898935.72,861621.41,262458.59000000003,251725.13,308294.24,287990.74,340686.1,330537.03999999998,481064.56,452039.65,434129.64,423237.83,762912.18,729149.13,211176.97,202910.44,245237.25,229484.96,269909.11,261871.93,388440.44,363443.47,339534.68,331650.67,641214.56000000006,611017.42000000004,168511.24,162386.64000000001,192156.26,180708.91,209654.33,203858.37,307482.68,286281.5,258467.66,252759.36,533515.56000000006,506641.3,134039.4,130183.85,148637.65,141570.09,159774.07,155840.35,238010.01,220492.36,190090.2,186554.41,439873.89,416191.49,107404.42,105714.81,114174.96,110616.11,119382.53,117511.03999999999,181335.93,166933.78,133610.43,131871.41,361040.54,340207.35999999999,103507.5,102442.62,108128.12,105485.35,111401.92,109993.92,160078.35,146584.54999999999,120749.13,119417.43,331384.39,310973.44,101396.31,100773.52,103595.04,102414.73,105108.95,104459.99,140071.38,127261.35,109621.15,108882.79,303026.73,283015.84000000003,100715.6,100717.82,100823.09,100824.86,100655.05,100655.2,121490.23,109490.32,100611.07,100611.47,275763.03000000003,256318.78,0,0,0,0,0,0,0,0,0,0,0,0,0,0,0,0,0,0,0,0,0,0,0,0,0,0,0,0,0,0,0,0,0,0,0,0,0,0,0,0,0,0,0,0,0,0,0,0,0,0,0,0,0,0,0,0,0,0,0,0,0,0,0,0,0,0,0,0,0,0,0,0,0,0,0,0,0,0,0,0,0,0,0,0,0,0,0,0,0,0,0,0,0,0,0,0,0,0,0,0,0,0,0,0,0,0,0,0,0,0,0,0,0,0,0,0,0,0,0,0,0,0,0,0,0,0,0,0,0,0,0,0,0,0,0,0,0,0,0,0,0,0,0,0]
[536475.66,519543.89,633881.15,601094.89,695092.55,679404.82,936439.52,898174.94,897121.15,881350.28,2342000.7400000002,2204744.54,486572.32,470657.93,575573.46,544294.26,632494.23,617287.35,859318.87,821897.94,817722.99,802442.38,1892635.26,1787311.6,439076.01,423984.79,519551.08,490134.44,571968.84,557496.15,784051.35,747686.05,740182.33,725552.66,1468151.9,1395597.2,394143.75,379805.22,466158.83,438490.44,514094.54,500404.02,710830.32,675804.13,665138.09,650972.73,1067886.82,1028867.58,351980.55,338621.4,415821.63,390139.79,459039.38,446112.16,640144.04,606369.6,592530.29,578957.14,978171.25,940102.74,285080.55,274155.78999999998,334648.23,313865.81,369004.89,358440.42,526420.30000000005,496615.85,472647.36,460937.98,830956.55,796461.37,227912.69,219234.76,264784.36,248436.08,290866.45,282718.92,425581.38,399889.44,366412.33,357355.13,699081.87,668136.91,180054.65,173839.41,205617.97,193774.65,224168.13,218125.12,337089.49,315384.63,276585.3,270612.86,582065.68999999994,554653.18000000005,141144.6,137015.4,156865.28,149211.53,168501.32,164682.21,260891.35,242874.85,201062.31,197258.26,479921.25,455731.72,110620.43,108683.68,117953.78,114543.56,123602.4,121570.98,196644.4,182154.7,138822.85,137155.56,392546.47,371409.06,105564.77,104445.02,110321.18,107816.51,113962.31,112650.39,177167.52,163079.41,123936.92,122750.7,363730.67,342733.69,102195.66,101738.71,104778.32,103235.72,106420.38,105606.49,155542.01999999999,142426.35999999999,111365.13,110614.41,333302.55,312765.01,100707.67,100715.58,100824.03,100825.71,100654.93,100654.9,135225.21,122836.42,100610.24000000001,100500.78,304234.46999999997,284130.31,0,0,0,0,0,0,0,0,0,0,0,0,0,0,0,0,0,0,0,0,0,0,0,0,0,0,0,0,0,0,0,0,0,0,0,0,0,0,0,0,0,0,0,0,0,0,0,0,0,0,0,0,0,0,0,0,0,0,0,0,0,0,0,0,0,0,0,0,0,0,0,0,0,0,0,0,0,0,0,0,0,0,0,0,0,0,0,0,0,0,0,0,0,0,0,0,0,0,0,0,0,0,0,0,0,0,0,0,0,0,0,0,0,0,0,0,0,0,0,0,0,0,0,0,0,0,0,0,0,0,0,0,0,0,0,0,0,0,0,0,0,0,0,0,0,0,0,0,0,0,0,0,0,0,0,0]
[531116.81999999995,514476.22,626816.35,594602.65,686958.7,671551.21,935033.76,896823.85,886984.8,871391.65,2045286.71,1937501.57,479116.73,463608.18,565905.96,535404.19999999995,621419.04,606590.31999999995,854001.52,816805.07,803527.98,788509.07,1589690.6,1515447.79,429831.64,415253.79,507623.64,479204.28,558294.73,544311.80000000005,775187.75,739223.85,722306.7,708028.85,1159670.26,1119846.51,383377.85,369660.86,452271.68,425806.11,498129.69,485041.96,698712.13,664279.07999999996,643889.68999999994,630173.06000000006,1063201.52,1024352.85,309552.93,298313,363281.48,341673.73,399620.97,388739.43,575014.94999999995,544672.13,513770.15,501997.74,903883.18,868707.02,246088.52,237294.22,285957.34999999998,269279.95,313615.71999999997,305121.90000000002,465340.91,438974.28,398349.14,388466.24,761146.48,729546.22,192604.68,186036.12,220274.46,207985.93,239879.28,233786.69,368982.28,346689.95,297056.07,289879.52,634347.07999999996,606259.89,148818.34,144677.29999999999,165787.72,157897.84,178146.72,174120.45,285664.15000000002,267255.57,213161.11,209121.21,523375.24,498725.8,114282.12,112135.98,122123.42,118241.36,127931.02,126077.93,215243.49,200346.47,144334.1,142423.26999999999,428139.14,406542.95,107822.96,106464.34,112966.72,110672.67,116966.69,115503.14,191803.36,177659.41,127636.44,126543.15,395318.59,374028.05,103277.56,102791.15,105793.91,104461.85,107693.26,107003.71,172131.23,158424.54999999999,112938.33,112366.75,365831.92,344704.32,100500.43,100716.73,100822.05,100500.43,100654.76,100500.49,150150.84,137484.99,100717.09,100610.93,334623.2,313995.21999999997,0,0,0,0,0,0,0,0,0,0,0,0,0,0,0,0,0,0,0,0,0,0,0,0,0,0,0,0,0,0,0,0,0,0,0,0,0,0,0,0,0,0,0,0,0,0,0,0,0,0,0,0,0,0,0,0,0,0,0,0,0,0,0,0,0,0,0,0,0,0,0,0,0,0,0,0,0,0,0,0,0,0,0,0,0,0,0,0,0,0,0,0,0,0,0,0,0,0,0,0,0,0,0,0,0,0,0,0,0,0,0,0,0,0,0,0,0,0,0,0,0,0,0,0,0,0,0,0,0,0,0,0,0,0,0,0,0,0,0,0,0,0,0,0,0,0,0,0,0,0,0,0,0,0,0,0,0,0,0,0,0,0,0,0,0,0,0,0]
[522478.89,506249.45,615778.74,584370.89,674416.15,659401.43999999994,928959.35,890994.92,871205.22,855889.14,1719928.6,1644052.44,468446.91,453470.45,552324.4,522846.03,605983.41,591652.25,844029.88,807259.82,783710.04,769057.25,1258125.81,1217512.05,417412.67,403482.64,491811.03,464650.78,540272.35,526908.34,761640.13,726293.82,698779.68,684965.21,1154241.1299999999,1114600.74,335882.06,324343.36,393834.95,371580,432410.14,421420.88,627222.37,596307.52,557684.79,545798.55000000005,982119.36,946234.66,265741.19,256694.9,309001.99,291611.74,338221.69,329457.69,507886.6,481080.51,432364.59,422453.43,827625.91,795418.72,206235.51999999999,199626.97,236152.43,223687.21,256937.77,250568.74,403059.59,380198.07,322281.63,314268.40999999997,690383.06,661717.31999999995,157158.35,152721.5,175526.58,167341.76000000001,188584.94,184569.5,312334.06,293443.8,227199.34,221919.46,570159.81999999995,544905.6,118136.51,116056.42,126567.67999999999,122605.32,132776.26,130753.33,235320.12,220137.91,150502.82,148381.87,466726.2,444743.37,110455.84,108900.28,115917.1,113167.87,119964.05,118709.98,209819.41,195279.98,131501.78,130161.5,431109.72,409354.62,104470.27,103754.64,107179.44,106125.48,109345.66,108513.84,185987.1,172260.07,114955.23,114499.45,397434.28,376025.65,100500.64,100715.66,100532.48,100501.17,100500.06,100500.92,166146.57999999999,152894.94,100500.44,100610.06,367276.68,346055.45,0,0,0,0,0,0,0,0,0,0,0,0,0,0,0,0,0,0,0,0,0,0,0,0,0,0,0,0,0,0,0,0,0,0,0,0,0,0,0,0,0,0,0,0,0,0,0,0,0,0,0,0,0,0,0,0,0,0,0,0,0,0,0,0,0,0,0,0,0,0,0,0,0,0,0,0,0,0,0,0,0,0,0,0,0,0,0,0,0,0,0,0,0,0,0,0,0,0,0,0,0,0,0,0,0,0,0,0,0,0,0,0,0,0,0,0,0,0,0,0,0,0,0,0,0,0,0,0,0,0,0,0,0,0,0,0,0,0,0,0,0,0,0,0,0,0,0,0,0,0,0,0,0,0,0,0,0,0,0,0,0,0,0,0,0,0,0,0,0,0,0,0,0,0,0,0,0,0,0,0]
[510275.69,494588.05,600419.94999999995,570072.29,657078.18000000005,642578.87,917819.2,880307.24,849287.36,834356.34,1363844.37,1322489.56,454241.29,439936.13,534436.76,506252.51,585750.11,572048.11,828942.54,792820.88,757705.32,743534.1,1251951.82,1211534.8,364450.01,352759.99,427018.04,404216.91,467775.01,456554.57,683303.79,651573.79,604554.16,592600.22,1065917.5900000001,1029306.82,286839.08,277555.27,333467.3,315570.74,364504.29,355687.21,553576.03,526285.44999999995,468598.74,458603.86,898973.97,866128.63,220955.39,214160.03,253475.3,240412.68,275389.28999999998,268797.96000000002,439467.48,416265.92,349026.71,341020.94,750403.01,721202.46,166209.07,161810.01,186066.23,177859.84,199904.38,195683.26,340752.08,321396.40999999997,245669.66,239539.27,620291.31999999995,594532.01,122311.19,119991.46,131437.99,127329.97,137993.09,136041.57,256906.7,241344.71,158173.70000000001,154771.65,508281.07,485757.7,113145.84,111688.46,118986.99,116211.73,123336.38,121919.11,229224.2,214424.41,135851.75,134301.76000000001,469909.36,447773.86,105946.78,105050.13,108753.81,107268.27,110838,110251.6,203297.14,189189.97,116949.69,116245.73,433366.8,411487.73,100501.23,100500.75,100502.61,100826.96,100628.87,100500.28,179087.94,165856.54,100611.06,100863.53,398824.15,377336.22,0,0,0,0,0,0,0,0,0,0,0,0,0,0,0,0,0,0,0,0,0,0,0,0,0,0,0,0,0,0,0,0,0,0,0,0,0,0,0,0,0,0,0,0,0,0,0,0,0,0,0,0,0,0,0,0,0,0,0,0,0,0,0,0,0,0,0,0,0,0,0,0,0,0,0,0,0,0,0,0,0,0,0,0,0,0,0,0,0,0,0,0,0,0,0,0,0,0,0,0,0,0,0,0,0,0,0,0,0,0,0,0,0,0,0,0,0,0,0,0,0,0,0,0,0,0,0,0,0,0,0,0,0,0,0,0,0,0,0,0,0,0,0,0,0,0,0,0,0,0,0,0,0,0,0,0,0,0,0,0,0,0,0,0,0,0,0,0,0,0,0,0,0,0,0,0,0,0,0,0,0,0,0,0,0,0,0,0,0,0,0,0]
[494098.28,479097,580252.16000000003,551245.02,634406.42000000004,620557.86,900957.98,864131.91,820539.13,806113.23,1356648.35,1315513.01,395349.28,383349.96,462780.15999999997,439082.28,505946.51,494425.66,743150.5,710752.26,654791.92000000004,642536.64,1155668.6200000001,1118356.94,309763.82,300390.90999999997,360094.86,341803.32,392882.82,383879.86,602584.31000000006,574580.31000000006,507212.34,497180.65,975246.62,941746.02,236716.51,229743.85,271736.99,258307.8,295047.11,288456.71999999997,478522.69,454925.6,377460.92,369400.95,814717.02,784951.64,175989.81,171466.14,197669.61,188974.61,212209.71,207811.08,371057.04,351459.34,265184.14,259095.12,673895.35,647673.38,126872.14,124663.51,136754.79999999999,132771.66,143705.01999999999,141613.78,279851.40000000002,263921.31,170086.64,165813.46,552741.80000000005,529783.22,116080.7,114389.22,122414.14,119534.16,127009.8,125686.64,250113.28,234949.3,141716.56,138805.57,511667.64,488988.09,107366.78,106600.16,110335.54,108877,112622.86,111877.16,221944.21,207602.69,119357.05,118441.02,472286.17,450035.59,100716.4,100549.14,100587.87,100500.3,100500.85,100652.76,195609.84,182013.7,100610.15,100610.2,434810.05,412847.15,0,0,0,0,0,0,0,0,0,0,0,0,0,0,0,0,0,0,0,0,0,0,0,0,0,0,0,0,0,0,0,0,0,0,0,0,0,0,0,0,0,0,0,0,0,0,0,0,0,0,0,0,0,0,0,0,0,0,0,0,0,0,0,0,0,0,0,0,0,0,0,0,0,0,0,0,0,0,0,0,0,0,0,0,0,0,0,0,0,0,0,0,0,0,0,0,0,0,0,0,0,0,0,0,0,0,0,0,0,0,0,0,0,0,0,0,0,0,0,0,0,0,0,0,0,0,0,0,0,0,0,0,0,0,0,0,0,0,0,0,0,0,0,0,0,0,0,0,0,0,0,0,0,0,0,0,0,0,0,0,0,0,0,0,0,0,0,0,0,0,0,0,0,0,0,0,0,0,0,0,0,0,0,0,0,0,0,0,0,0,0,0,0,0,0,0,0,0,0,0,0,0,0,0]
[428799.43,416173.99,501209.42,476824.16,546733.69999999995,535112.75,807172.95,774176.92,708276.99,695825.48,1251876.1299999999,1213922.25,334563.08,324948.05,388794.65,369735.66,423536.83,414271.5,654817.75,626253.09,548520.71,538243.96,1056954.6299999999,1022826.81,253884.67,246886.23,291675.49,278005.53000000003,316297.09999999998,309566.63,520380.82,496170.88,407663.01,399597.11,883476.95,853124.23,186391.54,181750.76,209699.38,200778.04,225212.91,220869.72,403532.17,383624.98,285800.56,279686.69,731347.36,704629.51,131785.38,129513.48,142721.48000000001,138355.64000000001,149952.47,147727.19,304243.40000000002,288165.08,182497.49,178298.55,600269.09,576913.67000000004,119286.04,117737.75,126153.46,123456.91,131027.69,129580.94,272268.78999999998,256753.27,151904.87,148072.69,556346.39,533234.17000000004,108909.99,107918.07,112137.86,110623.7,114555.02,113930.15,241996.53,227309.38,123170.09,120809.38,514182.41,491384.92,100716.47,100716.04,100500.42,100502.14,100501.02,100500.06,213357.53,199557.11,100822.99,100610.2,473778.85,451454.73,0,0,0,0,0,0,0,0,0,0,0,0,0,0,0,0,0,0,0,0,0,0,0,0,0,0,0,0,0,0,0,0,0,0,0,0,0,0,0,0,0,0,0,0,0,0,0,0,0,0,0,0,0,0,0,0,0,0,0,0,0,0,0,0,0,0,0,0,0,0,0,0,0,0,0,0,0,0,0,0,0,0,0,0,0,0,0,0,0,0,0,0,0,0,0,0,0,0,0,0,0,0,0,0,0,0,0,0,0,0,0,0,0,0,0,0,0,0,0,0,0,0,0,0,0,0,0,0,0,0,0,0,0,0,0,0,0,0,0,0,0,0,0,0,0,0,0,0,0,0,0,0,0,0,0,0,0,0,0,0,0,0,0,0,0,0,0,0,0,0,0,0,0,0,0,0,0,0,0,0,0,0,0,0,0,0,0,0,0,0,0,0,0,0,0,0,0,0,0,0,0,0,0,0,0,0,0,0,0,0,0,0,0,0,0,0]
[361412.83,351242.87,419615.88,400008.08,456219.39,446901.56,710643.55,681589.61,592387.47,581973.93999999994,1144502.6100000001,1109809.3400000001,272460.56,265288.21999999997,313171.90000000002,298864.63,339285.19,332329.95,564898.1,540235.41,439879.28,431625.05,957094.75,926187.26,197785.62,193182.45,222930.64,213922.17,239317.12,234878.87,438292.52,417870.74,307591.56,301501.59000000003,792736.59,765496,136917.25,134586.16,148625.07999999999,144168.60999999999,156417.64000000001,154300.24,330349.37,314042.90000000002,195463.14,191267.02,651197.27,627409.16,122732.21,121139.2,130434.72,127374.12,135455.49,133883.73000000001,295791.61,280153.18,162434.34,158691.67000000001,604093.53,580588.1,110608.3,109794.28,114122.72,112856.44,116688.57,115958.73,263225.39,248206.09,131425.88,128090.83,558994.61,535768.24,100716.69,100500.87,100501.02,100501.31,100502.05,100650.7,232435.27,218311.18,102357.02,100610.72,515726.71,492853.69,0,0,0,0,0,0,0,0,0,0,0,0,0,0,0,0,0,0,0,0,0,0,0,0,0,0,0,0,0,0,0,0,0,0,0,0,0,0,0,0,0,0,0,0,0,0,0,0,0,0,0,0,0,0,0,0,0,0,0,0,0,0,0,0,0,0,0,0,0,0,0,0,0,0,0,0,0,0,0,0,0,0,0,0,0,0,0,0,0,0,0,0,0,0,0,0,0,0,0,0,0,0,0,0,0,0,0,0,0,0,0,0,0,0,0,0,0,0,0,0,0,0,0,0,0,0,0,0,0,0,0,0,0,0,0,0,0,0,0,0,0,0,0,0,0,0,0,0,0,0,0,0,0,0,0,0,0,0,0,0,0,0,0,0,0,0,0,0,0,0,0,0,0,0,0,0,0,0,0,0,0,0,0,0,0,0,0,0,0,0,0,0,0,0,0,0,0,0,0,0,0,0,0,0,0,0,0,0,0,0,0,0,0,0,0,0,0,0,0,0,0,0,0,0,0,0,0,0]
[292561.42,284906.81,336211.4,321497.45,363677,356718.45,612420.1,587377.5,473918.58,465588.56,1035985.73,1004587.76,210099.05,205390.86,237175.91,227660.39,254587.4,249962.13,475141.15,454372.89,330670.24,324449.02,858454.81,830728.21,142610.4,140380.51,155232.31,150840.91,163462.94,161295.37,358222.82,341495.07,208968.7,204826.22,705604.53,681352.18,126237.38,124604.29,134439.03,131334.32,139897.94,138459.76,320927.96000000002,305079.93,173292.11,169563.31,655266.71,631328.98,112394.18,111558.04,116490.64,114885.5,119047.47,118204.14,285702.96000000002,270590.17,139785.31,136557.51,606879.85,583264.81000000006,100716.33,100718.78,100502.24,100825.82,100500.6,100567.58,252559.01,238126.38,108389.96,105614.51,560585.07999999996,537288.03,0,0,0,0,0,0,0,0,0,0,0,0,0,0,0,0,0,0,0,0,0,0,0,0,0,0,0,0,0,0,0,0,0,0,0,0,0,0,0,0,0,0,0,0,0,0,0,0,0,0,0,0,0,0,0,0,0,0,0,0,0,0,0,0,0,0,0,0,0,0,0,0,0,0,0,0,0,0,0,0,0,0,0,0,0,0,0,0,0,0,0,0,0,0,0,0,0,0,0,0,0,0,0,0,0,0,0,0,0,0,0,0,0,0,0,0,0,0,0,0,0,0,0,0,0,0,0,0,0,0,0,0,0,0,0,0,0,0,0,0,0,0,0,0,0,0,0,0,0,0,0,0,0,0,0,0,0,0,0,0,0,0,0,0,0,0,0,0,0,0,0,0,0,0,0,0,0,0,0,0,0,0,0,0,0,0,0,0,0,0,0,0,0,0,0,0,0,0,0,0,0,0,0,0,0,0,0,0,0,0,0,0,0,0,0,0,0,0,0,0,0,0,0,0,0,0,0,0,0,0,0,0,0,0,0,0,0,0,0,0]
[223476.83,218354.78,252471.69,242685.87,270736.15999999997,266153.38,514431.25,493390.05,354964.45,348726.06,928772.19,900629.89,148826.38,146554.29999999999,162427.43,157647.6,171239.38,168916.61,387684.98,370710.37,223212.44,218991.17,763768.69,739095.2,130246.5,128739.58,139095.4,136108.22,144869.79999999999,143392.69,347791.99,331533.59000000003,184633.86,180969.8,709892.95,685489.06,114148.18,113289.54,118461.09,116855.54,121331.34,120646.58,309755.90000000002,294452.27,148408.68,145204.78,658172.64,634127.57999999996,100715.99,100717.22,100823.66,100827.73,100654.7,100617.72,273880.38,259384.09,114454.89,111803.95,608486.97,584807.82999999996,0,0,0,0,0,0,0,0,0,0,0,0,0,0,0,0,0,0,0,0,0,0,0,0,0,0,0,0,0,0,0,0,0,0,0,0,0,0,0,0,0,0,0,0,0,0,0,0,0,0,0,0,0,0,0,0,0,0,0,0,0,0,0,0,0,0,0,0,0,0,0,0,0,0,0,0,0,0,0,0,0,0,0,0,0,0,0,0,0,0,0,0,0,0,0,0,0,0,0,0,0,0,0,0,0,0,0,0,0,0,0,0,0,0,0,0,0,0,0,0,0,0,0,0,0,0,0,0,0,0,0,0,0,0,0,0,0,0,0,0,0,0,0,0,0,0,0,0,0,0,0,0,0,0,0,0,0,0,0,0,0,0,0,0,0,0,0,0,0,0,0,0,0,0,0,0,0,0,0,0,0,0,0,0,0,0,0,0,0,0,0,0,0,0,0,0,0,0,0,0,0,0,0,0,0,0,0,0,0,0,0,0,0,0,0,0,0,0,0,0,0,0,0,0,0,0,0,0,0,0,0,0,0,0,0,0,0,0,0,0,0,0,0,0,0,0,0,0,0,0,0,0]
[0,0,170111.67,165194.64000000001,179284.82,177050.01,419025.24,401879.63,237954.3,233773.86,826002.3,800981.16,134619.84,133091,144159.25,140806.99,150385.84,148756.87,376114.38,359631.34,196462.28,192734.32,768294.82,743471.63,116256.25,115552.51,120909.88,119483.21,123952.62,123242.67,335415.84000000003,319715,157267.72,154142.38,712927.23,688414.67,100500.16,100500.37,100500.84,100558.29,100500.19,100650.59,296651.12,281986.46999999997,120523.13,117908.15,659802.01,635696.23,0,0,0,0,0,0,0,0,0,0,0,0,0,0,0,0,0,0,0,0,0,0,0,0,0,0,0,0,0,0,0,0,0,0,0,0,0,0,0,0,0,0,0,0,0,0,0,0,0,0,0,0,0,0,0,0,0,0,0,0,0,0,0,0,0,0,0,0,0,0,0,0,0,0,0,0,0,0,0,0,0,0,0,0,0,0,0,0,0,0,0,0,0,0,0,0,0,0,0,0,0,0,0,0,0,0,0,0,0,0,0,0,0,0,0,0,0,0,0,0,0,0,0,0,0,0,0,0,0,0,0,0,0,0,0,0,0,0,0,0,0,0,0,0,0,0,0,0,0,0,0,0,0,0,0,0,0,0,0,0,0,0,0,0,0,0,0,0,0,0,0,0,0,0,0,0,0,0,0,0,0,0,0,0,0,0,0,0,0,0,0,0,0,0,0,0,0,0,0,0,0,0,0,0,0,0,0,0,0,0,0,0,0,0,0,0,0,0,0,0,0,0,0,0,0,0,0,0,0,0,0,0,0,0,0,0,0,0,0,0,0,0,0,0,0,0,0,0,0,0,0,0,0,0,0,0,0,0,0,0,0,0,0,0]
[0,0,149549.64000000001,146099.53,155982.63,154462.03,406214.27,389587.49,208578.18,204913.65,830771.97,805607.62,118580.11,117877.73,123602.87,121838.5,126953.99,126097.37,362408.64,346509.49,166395.63,163223.1,771451.24,746522.33,100500.28,100687.32,100501.55,100804.58,100515.05,100654.6,320916.95,305871.52,126615.17,124093.01,714566.69,689993.16,0,0,0,0,0,0,0,0,0,0,0,0,0,0,0,0,0,0,0,0,0,0,0,0,0,0,0,0,0,0,0,0,0,0,0,0,0,0,0,0,0,0,0,0,0,0,0,0,0,0,0,0,0,0,0,0,0,0,0,0,0,0,0,0,0,0,0,0,0,0,0,0,0,0,0,0,0,0,0,0,0,0,0,0,0,0,0,0,0,0,0,0,0,0,0,0,0,0,0,0,0,0,0,0,0,0,0,0,0,0,0,0,0,0,0,0,0,0,0,0,0,0,0,0,0,0,0,0,0,0,0,0,0,0,0,0,0,0,0,0,0,0,0,0,0,0,0,0,0,0,0,0,0,0,0,0,0,0,0,0,0,0,0,0,0,0,0,0,0,0,0,0,0,0,0,0,0,0,0,0,0,0,0,0,0,0,0,0,0,0,0,0,0,0,0,0,0,0,0,0,0,0,0,0,0,0,0,0,0,0,0,0,0,0,0,0,0,0,0,0,0,0,0,0,0,0,0,0,0,0,0,0,0,0,0,0,0,0,0,0,0,0,0,0,0,0,0,0,0,0,0,0,0,0,0,0,0,0,0,0,0,0,0,0,0,0,0,0,0,0,0,0,0,0,0,0]
[0,0,126378.55,124564.76,129755.66,129030.93,391022.01,375011.28,175485.14,172401.54,834059.47,808797.06,100500.84,100717.34,100501.12,100501.6,100654.02,100655.56,346329.73,331117.15999999997,132638.57999999999,130089.46,773092.39,748106.35,0,0,0,0,0,0,0,0,0,0,0,0,0,0,0,0,0,0,0,0,0,0,0,0,0,0,0,0,0,0,0,0,0,0,0,0,0,0,0,0,0,0,0,0,0,0,0,0,0,0,0,0,0,0,0,0,0,0,0,0,0,0,0,0,0,0,0,0,0,0,0,0,0,0,0,0,0,0,0,0,0,0,0,0,0,0,0,0,0,0,0,0,0,0,0,0,0,0,0,0,0,0,0,0,0,0,0,0,0,0,0,0,0,0,0,0,0,0,0,0,0,0,0,0,0,0,0,0,0,0,0,0,0,0,0,0,0,0,0,0,0,0,0,0,0,0,0,0,0,0,0,0,0,0,0,0,0,0,0,0,0,0,0,0,0,0,0,0,0,0,0,0,0,0,0,0,0,0,0,0,0,0,0,0,0,0,0,0,0,0,0,0,0,0,0,0,0,0,0,0,0,0,0,0,0,0,0,0,0,0,0,0,0,0,0,0,0,0,0,0,0,0,0,0,0,0,0,0,0,0,0,0,0,0,0,0,0,0,0,0,0,0,0,0,0,0,0,0,0,0,0,0,0,0,0,0,0,0,0,0,0,0,0,0,0,0,0,0,0,0,0,0,0,0,0,0,0,0,0,0,0,0,0,0,0,0,0,0]
[0,0,100504.86,100500.48,100501.4,100656.34,373312.25,358019.78,138543.4,136108.04,835669.09,810359.52,0,0,0,0,0,0,0,0,0,0,0,0,0,0,0,0,0,0,0,0,0,0,0,0,0,0,0,0,0,0,0,0,0,0,0,0,0,0,0,0,0,0,0,0,0,0,0,0,0,0,0,0,0,0,0,0,0,0,0,0,0,0,0,0,0,0,0,0,0,0,0,0,0,0,0,0,0,0,0,0,0,0,0,0,0,0,0,0,0,0,0,0,0,0,0,0,0,0,0,0,0,0,0,0,0,0,0,0,0,0,0,0,0,0,0,0,0,0,0,0,0,0,0,0,0,0,0,0,0,0,0,0,0,0,0,0,0,0,0,0,0,0,0,0,0,0,0,0,0,0,0,0,0,0,0,0,0,0,0,0,0,0,0,0,0,0,0,0,0,0,0,0,0,0,0,0,0,0,0,0,0,0,0,0,0,0,0,0,0,0,0,0,0,0,0,0,0,0,0,0,0,0,0,0,0,0,0,0,0,0,0,0,0,0,0,0,0,0,0,0,0,0,0,0,0,0,0,0,0,0,0,0,0,0,0,0,0,0,0,0,0,0,0,0,0,0,0,0,0,0,0,0,0,0,0,0,0,0,0,0,0,0,0,0,0,0,0,0,0,0,0,0,0,0,0,0,0,0,0,0,0,0,0,0,0,0,0,0,0,0,0,0,0,0,0,0,0,0,0,0]
[0,0,0,0,0,0,0,0,0,0,0,0,0,0,0,0,0,0,0,0,0,0,0,0,0,0,0,0,0,0,0,0,0,0,0,0,0,0,0,0,0,0,0,0,0,0,0,0,0,0,0,0,0,0,0,0,0,0,0,0,0,0,0,0,0,0,0,0,0,0,0,0,0,0,0,0,0,0,0,0,0,0,0,0,0,0,0,0,0,0,0,0,0,0,0,0,0,0,0,0,0,0,0,0,0,0,0,0,0,0,0,0,0,0,0,0,0,0,0,0,0,0,0,0,0,0,0,0,0,0,0,0,0,0,0,0,0,0,0,0,0,0,0,0,0,0,0,0,0,0,0,0,0,0,0,0,0,0,0,0,0,0,0,0,0,0,0,0,0,0,0,0,0,0,0,0,0,0,0,0,0,0,0,0,0,0,0,0,0,0,0,0,0,0,0,0,0,0,0,0,0,0,0,0,0,0,0,0,0,0,0,0,0,0,0,0,0,0,0,0,0,0,0,0,0,0,0,0,0,0,0,0,0,0,0,0,0,0,0,0,0,0,0,0,0,0,0,0,0,0,0,0,0,0,0,0,0,0,0,0,0,0,0,0,0,0,0,0,0,0,0,0,0,0,0,0,0,0,0,0,0,0,0,0,0,0,0,0,0,0,0,0,0,0,0,0,0,0,0,0,0,0,0,0,0,0,0,0,0,0,0,0]
[0,0,0,0,0,0,0,0,0,0,0,0,0,0,0,0,0,0,0,0,0,0,0,0,0,0,0,0,0,0,0,0,0,0,0,0,0,0,0,0,0,0,0,0,0,0,0,0,0,0,0,0,0,0,0,0,0,0,0,0,0,0,0,0,0,0,0,0,0,0,0,0,0,0,0,0,0,0,0,0,0,0,0,0,0,0,0,0,0,0,0,0,0,0,0,0,0,0,0,0,0,0,0,0,0,0,0,0,0,0,0,0,0,0,0,0,0,0,0,0,0,0,0,0,0,0,0,0,0,0,0,0,0,0,0,0,0,0,0,0,0,0,0,0,0,0,0,0,0,0,0,0,0,0,0,0,0,0,0,0,0,0,0,0,0,0,0,0,0,0,0,0,0,0,0,0,0,0,0,0,0,0,0,0,0,0,0,0,0,0,0,0,0,0,0,0,0,0,0,0,0,0,0,0,0,0,0,0,0,0,0,0,0,0,0,0,0,0,0,0,0,0,0,0,0,0,0,0,0,0,0,0,0,0,0,0,0,0,0,0,0,0,0,0,0,0,0,0,0,0,0,0,0,0,0,0,0,0,0,0,0,0,0,0,0,0,0,0,0,0,0,0,0,0,0,0,0,0,0,0,0,0,0,0,0,0,0,0,0,0,0,0,0,0,0,0,0,0,0,0,0,0,0,0,0,0,0,0,0,0,0,0]
[0,0,0,0,0,0,0,0,0,0,0,0,0,0,0,0,0,0,0,0,0,0,0,0,0,0,0,0,0,0,0,0,0,0,0,0,0,0,0,0,0,0,0,0,0,0,0,0,0,0,0,0,0,0,0,0,0,0,0,0,0,0,0,0,0,0,0,0,0,0,0,0,0,0,0,0,0,0,0,0,0,0,0,0,0,0,0,0,0,0,0,0,0,0,0,0,0,0,0,0,0,0,0,0,0,0,0,0,0,0,0,0,0,0,0,0,0,0,0,0,0,0,0,0,0,0,0,0,0,0,0,0,0,0,0,0,0,0,0,0,0,0,0,0,0,0,0,0,0,0,0,0,0,0,0,0,0,0,0,0,0,0,0,0,0,0,0,0,0,0,0,0,0,0,0,0,0,0,0,0,0,0,0,0,0,0,0,0,0,0,0,0,0,0,0,0,0,0,0,0,0,0,0,0,0,0,0,0,0,0,0,0,0,0,0,0,0,0,0,0,0,0,0,0,0,0,0,0,0,0,0,0,0,0,0,0,0,0,0,0,0,0,0,0,0,0,0,0,0,0,0,0,0,0,0,0,0,0,0,0,0,0,0,0,0,0,0,0,0,0,0,0,0,0,0,0,0,0,0,0,0,0,0,0,0,0,0,0,0,0,0,0,0,0,0,0,0,0,0,0,0,0,0,0,0,0,0,0,0,0,0,0]
[0,0,0,0,0,0,0,0,0,0,0,0,0,0,0,0,0,0,0,0,0,0,0,0,0,0,0,0,0,0,0,0,0,0,0,0,0,0,0,0,0,0,0,0,0,0,0,0,0,0,0,0,0,0,0,0,0,0,0,0,0,0,0,0,0,0,0,0,0,0,0,0,0,0,0,0,0,0,0,0,0,0,0,0,0,0,0,0,0,0,0,0,0,0,0,0,0,0,0,0,0,0,0,0,0,0,0,0,0,0,0,0,0,0,0,0,0,0,0,0,0,0,0,0,0,0,0,0,0,0,0,0,0,0,0,0,0,0,0,0,0,0,0,0,0,0,0,0,0,0,0,0,0,0,0,0,0,0,0,0,0,0,0,0,0,0,0,0,0,0,0,0,0,0,0,0,0,0,0,0,0,0,0,0,0,0,0,0,0,0,0,0,0,0,0,0,0,0,0,0,0,0,0,0,0,0,0,0,0,0,0,0,0,0,0,0,0,0,0,0,0,0,0,0,0,0,0,0,0,0,0,0,0,0,0,0,0,0,0,0,0,0,0,0,0,0,0,0,0,0,0,0,0,0,0,0,0,0,0,0,0,0,0,0,0,0,0,0,0,0,0,0,0,0,0,0,0,0,0,0,0,0,0,0,0,0,0,0,0,0,0,0,0,0,0,0,0,0,0,0,0,0,0,0,0,0,0,0,0,0,0,0]
[0,0,0,0,0,0,0,0,0,0,0,0,0,0,0,0,0,0,0,0,0,0,0,0,0,0,0,0,0,0,0,0,0,0,0,0,0,0,0,0,0,0,0,0,0,0,0,0,0,0,0,0,0,0,0,0,0,0,0,0,0,0,0,0,0,0,0,0,0,0,0,0,0,0,0,0,0,0,0,0,0,0,0,0,0,0,0,0,0,0,0,0,0,0,0,0,0,0,0,0,0,0,0,0,0,0,0,0,0,0,0,0,0,0,0,0,0,0,0,0,0,0,0,0,0,0,0,0,0,0,0,0,0,0,0,0,0,0,0,0,0,0,0,0,0,0,0,0,0,0,0,0,0,0,0,0,0,0,0,0,0,0,0,0,0,0,0,0,0,0,0,0,0,0,0,0,0,0,0,0,0,0,0,0,0,0,0,0,0,0,0,0,0,0,0,0,0,0,0,0,0,0,0,0,0,0,0,0,0,0,0,0,0,0,0,0,0,0,0,0,0,0,0,0,0,0,0,0,0,0,0,0,0,0,0,0,0,0,0,0,0,0,0,0,0,0,0,0,0,0,0,0,0,0,0,0,0,0,0,0,0,0,0,0,0,0,0,0,0,0,0,0,0,0,0,0,0,0,0,0,0,0,0,0,0,0,0,0,0,0,0,0,0,0,0,0,0,0,0,0,0,0,0,0,0,0,0,0,0,0,0,0]
[0,0,0,0,0,0,0,0,0,0,0,0,0,0,0,0,0,0,0,0,0,0,0,0,0,0,0,0,0,0,0,0,0,0,0,0,0,0,0,0,0,0,0,0,0,0,0,0,0,0,0,0,0,0,0,0,0,0,0,0,0,0,0,0,0,0,0,0,0,0,0,0,0,0,0,0,0,0,0,0,0,0,0,0,0,0,0,0,0,0,0,0,0,0,0,0,0,0,0,0,0,0,0,0,0,0,0,0,0,0,0,0,0,0,0,0,0,0,0,0,0,0,0,0,0,0,0,0,0,0,0,0,0,0,0,0,0,0,0,0,0,0,0,0,0,0,0,0,0,0,0,0,0,0,0,0,0,0,0,0,0,0,0,0,0,0,0,0,0,0,0,0,0,0,0,0,0,0,0,0,0,0,0,0,0,0,0,0,0,0,0,0,0,0,0,0,0,0,0,0,0,0,0,0,0,0,0,0,0,0,0,0,0,0,0,0,0,0,0,0,0,0,0,0,0,0,0,0,0,0,0,0,0,0,0,0,0,0,0,0,0,0,0,0,0,0,0,0,0,0,0,0,0,0,0,0,0,0,0,0,0,0,0,0,0,0,0,0,0,0,0,0,0,0,0,0,0,0,0,0,0,0,0,0,0,0,0,0,0,0,0,0,0,0,0,0,0,0,0,0,0,0,0,0,0,0,0,0,0,0,0,0]
[0,0,0,0,0,0,0,0,0,0,0,0,0,0,0,0,0,0,0,0,0,0,0,0,0,0,0,0,0,0,0,0,0,0,0,0,0,0,0,0,0,0,0,0,0,0,0,0,0,0,0,0,0,0,0,0,0,0,0,0,0,0,0,0,0,0,0,0,0,0,0,0,0,0,0,0,0,0,0,0,0,0,0,0,0,0,0,0,0,0,0,0,0,0,0,0,0,0,0,0,0,0,0,0,0,0,0,0,0,0,0,0,0,0,0,0,0,0,0,0,0,0,0,0,0,0,0,0,0,0,0,0,0,0,0,0,0,0,0,0,0,0,0,0,0,0,0,0,0,0,0,0,0,0,0,0,0,0,0,0,0,0,0,0,0,0,0,0,0,0,0,0,0,0,0,0,0,0,0,0,0,0,0,0,0,0,0,0,0,0,0,0,0,0,0,0,0,0,0,0,0,0,0,0,0,0,0,0,0,0,0,0,0,0,0,0,0,0,0,0,0,0,0,0,0,0,0,0,0,0,0,0,0,0,0,0,0,0,0,0,0,0,0,0,0,0,0,0,0,0,0,0,0,0,0,0,0,0,0,0,0,0,0,0,0,0,0,0,0,0,0,0,0,0,0,0,0,0,0,0,0,0,0,0,0,0,0,0,0,0,0,0,0,0,0,0,0,0,0,0,0,0,0,0,0,0,0,0,0,0,0,0]
[0,0,0,0,0,0,0,0,0,0,0,0,0,0,0,0,0,0,0,0,0,0,0,0,0,0,0,0,0,0,0,0,0,0,0,0,0,0,0,0,0,0,0,0,0,0,0,0,0,0,0,0,0,0,0,0,0,0,0,0,0,0,0,0,0,0,0,0,0,0,0,0,0,0,0,0,0,0,0,0,0,0,0,0,0,0,0,0,0,0,0,0,0,0,0,0,0,0,0,0,0,0,0,0,0,0,0,0,0,0,0,0,0,0,0,0,0,0,0,0,0,0,0,0,0,0,0,0,0,0,0,0,0,0,0,0,0,0,0,0,0,0,0,0,0,0,0,0,0,0,0,0,0,0,0,0,0,0,0,0,0,0,0,0,0,0,0,0,0,0,0,0,0,0,0,0,0,0,0,0,0,0,0,0,0,0,0,0,0,0,0,0,0,0,0,0,0,0,0,0,0,0,0,0,0,0,0,0,0,0,0,0,0,0,0,0,0,0,0,0,0,0,0,0,0,0,0,0,0,0,0,0,0,0,0,0,0,0,0,0,0,0,0,0,0,0,0,0,0,0,0,0,0,0,0,0,0,0,0,0,0,0,0,0,0,0,0,0,0,0,0,0,0,0,0,0,0,0,0,0,0,0,0,0,0,0,0,0,0,0,0,0,0,0,0,0,0,0,0,0,0,0,0,0,0,0,0,0,0,0,0,0]
[0,0,0,0,0,0,0,0,0,0,0,0,0,0,0,0,0,0,0,0,0,0,0,0,0,0,0,0,0,0,0,0,0,0,0,0,0,0,0,0,0,0,0,0,0,0,0,0,0,0,0,0,0,0,0,0,0,0,0,0,0,0,0,0,0,0,0,0,0,0,0,0,0,0,0,0,0,0,0,0,0,0,0,0,0,0,0,0,0,0,0,0,0,0,0,0,0,0,0,0,0,0,0,0,0,0,0,0,0,0,0,0,0,0,0,0,0,0,0,0,0,0,0,0,0,0,0,0,0,0,0,0,0,0,0,0,0,0,0,0,0,0,0,0,0,0,0,0,0,0,0,0,0,0,0,0,0,0,0,0,0,0,0,0,0,0,0,0,0,0,0,0,0,0,0,0,0,0,0,0,0,0,0,0,0,0,0,0,0,0,0,0,0,0,0,0,0,0,0,0,0,0,0,0,0,0,0,0,0,0,0,0,0,0,0,0,0,0,0,0,0,0,0,0,0,0,0,0,0,0,0,0,0,0,0,0,0,0,0,0,0,0,0,0,0,0,0,0,0,0,0,0,0,0,0,0,0,0,0,0,0,0,0,0,0,0,0,0,0,0,0,0,0,0,0,0,0,0,0,0,0,0,0,0,0,0,0,0,0,0,0,0,0,0,0,0,0,0,0,0,0,0,0,0,0,0,0,0,0,0,0,0]
[0,0,0,0,0,0,0,0,0,0,0,0,0,0,0,0,0,0,0,0,0,0,0,0,0,0,0,0,0,0,0,0,0,0,0,0,0,0,0,0,0,0,0,0,0,0,0,0,0,0,0,0,0,0,0,0,0,0,0,0,0,0,0,0,0,0,0,0,0,0,0,0,0,0,0,0,0,0,0,0,0,0,0,0,0,0,0,0,0,0,0,0,0,0,0,0,0,0,0,0,0,0,0,0,0,0,0,0,0,0,0,0,0,0,0,0,0,0,0,0,0,0,0,0,0,0,0,0,0,0,0,0,0,0,0,0,0,0,0,0,0,0,0,0,0,0,0,0,0,0,0,0,0,0,0,0,0,0,0,0,0,0,0,0,0,0,0,0,0,0,0,0,0,0,0,0,0,0,0,0,0,0,0,0,0,0,0,0,0,0,0,0,0,0,0,0,0,0,0,0,0,0,0,0,0,0,0,0,0,0,0,0,0,0,0,0,0,0,0,0,0,0,0,0,0,0,0,0,0,0,0,0,0,0,0,0,0,0,0,0,0,0,0,0,0,0,0,0,0,0,0,0,0,0,0,0,0,0,0,0,0,0,0,0,0,0,0,0,0,0,0,0,0,0,0,0,0,0,0,0,0,0,0,0,0,0,0,0,0,0,0,0,0,0,0,0,0,0,0,0,0,0,0,0,0,0,0,0,0,0,0,0]
[0,0,0,0,0,0,0,0,0,0,0,0,0,0,0,0,0,0,0,0,0,0,0,0,0,0,0,0,0,0,0,0,0,0,0,0,0,0,0,0,0,0,0,0,0,0,0,0,0,0,0,0,0,0,0,0,0,0,0,0,0,0,0,0,0,0,0,0,0,0,0,0,0,0,0,0,0,0,0,0,0,0,0,0,0,0,0,0,0,0,0,0,0,0,0,0,0,0,0,0,0,0,0,0,0,0,0,0,0,0,0,0,0,0,0,0,0,0,0,0,0,0,0,0,0,0,0,0,0,0,0,0,0,0,0,0,0,0,0,0,0,0,0,0,0,0,0,0,0,0,0,0,0,0,0,0,0,0,0,0,0,0,0,0,0,0,0,0,0,0,0,0,0,0,0,0,0,0,0,0,0,0,0,0,0,0,0,0,0,0,0,0,0,0,0,0,0,0,0,0,0,0,0,0,0,0,0,0,0,0,0,0,0,0,0,0,0,0,0,0,0,0,0,0,0,0,0,0,0,0,0,0,0,0,0,0,0,0,0,0,0,0,0,0,0,0,0,0,0,0,0,0,0,0,0,0,0,0,0,0,0,0,0,0,0,0,0,0,0,0,0,0,0,0,0,0,0,0,0,0,0,0,0,0,0,0,0,0,0,0,0,0,0,0,0,0,0,0,0,0,0,0,0,0,0,0,0,0,0,0,0,0]
[0,0,0,0,0,0,0,0,0,0,0,0,0,0,0,0,0,0,0,0,0,0,0,0,0,0,0,0,0,0,0,0,0,0,0,0,0,0,0,0,0,0,0,0,0,0,0,0,0,0,0,0,0,0,0,0,0,0,0,0,0,0,0,0,0,0,0,0,0,0,0,0,0,0,0,0,0,0,0,0,0,0,0,0,0,0,0,0,0,0,0,0,0,0,0,0,0,0,0,0,0,0,0,0,0,0,0,0,0,0,0,0,0,0,0,0,0,0,0,0,0,0,0,0,0,0,0,0,0,0,0,0,0,0,0,0,0,0,0,0,0,0,0,0,0,0,0,0,0,0,0,0,0,0,0,0,0,0,0,0,0,0,0,0,0,0,0,0,0,0,0,0,0,0,0,0,0,0,0,0,0,0,0,0,0,0,0,0,0,0,0,0,0,0,0,0,0,0,0,0,0,0,0,0,0,0,0,0,0,0,0,0,0,0,0,0,0,0,0,0,0,0,0,0,0,0,0,0,0,0,0,0,0,0,0,0,0,0,0,0,0,0,0,0,0,0,0,0,0,0,0,0,0,0,0,0,0,0,0,0,0,0,0,0,0,0,0,0,0,0,0,0,0,0,0,0,0,0,0,0,0,0,0,0,0,0,0,0,0,0,0,0,0,0,0,0,0,0,0,0,0,0,0,0,0,0,0,0,0,0,0,0]
[0,0,0,0,0,0,0,0,0,0,0,0,0,0,0,0,0,0,0,0,0,0,0,0,0,0,0,0,0,0,0,0,0,0,0,0,0,0,0,0,0,0,0,0,0,0,0,0,0,0,0,0,0,0,0,0,0,0,0,0,0,0,0,0,0,0,0,0,0,0,0,0,0,0,0,0,0,0,0,0,0,0,0,0,0,0,0,0,0,0,0,0,0,0,0,0,0,0,0,0,0,0,0,0,0,0,0,0,0,0,0,0,0,0,0,0,0,0,0,0,0,0,0,0,0,0,0,0,0,0,0,0,0,0,0,0,0,0,0,0,0,0,0,0,0,0,0,0,0,0,0,0,0,0,0,0,0,0,0,0,0,0,0,0,0,0,0,0,0,0,0,0,0,0,0,0,0,0,0,0,0,0,0,0,0,0,0,0,0,0,0,0,0,0,0,0,0,0,0,0,0,0,0,0,0,0,0,0,0,0,0,0,0,0,0,0,0,0,0,0,0,0,0,0,0,0,0,0,0,0,0,0,0,0,0,0,0,0,0,0,0,0,0,0,0,0,0,0,0,0,0,0,0,0,0,0,0,0,0,0,0,0,0,0,0,0,0,0,0,0,0,0,0,0,0,0,0,0,0,0,0,0,0,0,0,0,0,0,0,0,0,0,0,0,0,0,0,0,0,0,0,0,0,0,0,0,0,0,0,0,0,0]
[0,0,0,0,0,0,0,0,0,0,0,0,0,0,0,0,0,0,0,0,0,0,0,0,0,0,0,0,0,0,0,0,0,0,0,0,0,0,0,0,0,0,0,0,0,0,0,0,0,0,0,0,0,0,0,0,0,0,0,0,0,0,0,0,0,0,0,0,0,0,0,0,0,0,0,0,0,0,0,0,0,0,0,0,0,0,0,0,0,0,0,0,0,0,0,0,0,0,0,0,0,0,0,0,0,0,0,0,0,0,0,0,0,0,0,0,0,0,0,0,0,0,0,0,0,0,0,0,0,0,0,0,0,0,0,0,0,0,0,0,0,0,0,0,0,0,0,0,0,0,0,0,0,0,0,0,0,0,0,0,0,0,0,0,0,0,0,0,0,0,0,0,0,0,0,0,0,0,0,0,0,0,0,0,0,0,0,0,0,0,0,0,0,0,0,0,0,0,0,0,0,0,0,0,0,0,0,0,0,0,0,0,0,0,0,0,0,0,0,0,0,0,0,0,0,0,0,0,0,0,0,0,0,0,0,0,0,0,0,0,0,0,0,0,0,0,0,0,0,0,0,0,0,0,0,0,0,0,0,0,0,0,0,0,0,0,0,0,0,0,0,0,0,0,0,0,0,0,0,0,0,0,0,0,0,0,0,0,0,0,0,0,0,0,0,0,0,0,0,0,0,0,0,0,0,0,0,0,0,0,0,0]
[0,0,0,0,0,0,0,0,0,0,0,0,0,0,0,0,0,0,0,0,0,0,0,0,0,0,0,0,0,0,0,0,0,0,0,0,0,0,0,0,0,0,0,0,0,0,0,0,0,0,0,0,0,0,0,0,0,0,0,0,0,0,0,0,0,0,0,0,0,0,0,0,0,0,0,0,0,0,0,0,0,0,0,0,0,0,0,0,0,0,0,0,0,0,0,0,0,0,0,0,0,0,0,0,0,0,0,0,0,0,0,0,0,0,0,0,0,0,0,0,0,0,0,0,0,0,0,0,0,0,0,0,0,0,0,0,0,0,0,0,0,0,0,0,0,0,0,0,0,0,0,0,0,0,0,0,0,0,0,0,0,0,0,0,0,0,0,0,0,0,0,0,0,0,0,0,0,0,0,0,0,0,0,0,0,0,0,0,0,0,0,0,0,0,0,0,0,0,0,0,0,0,0,0,0,0,0,0,0,0,0,0,0,0,0,0,0,0,0,0,0,0,0,0,0,0,0,0,0,0,0,0,0,0,0,0,0,0,0,0,0,0,0,0,0,0,0,0,0,0,0,0,0,0,0,0,0,0,0,0,0,0,0,0,0,0,0,0,0,0,0,0,0,0,0,0,0,0,0,0,0,0,0,0,0,0,0,0,0,0,0,0,0,0,0,0,0,0,0,0,0,0,0,0,0,0,0,0,0,0,0,0]
[0,0,0,0,0,0,0,0,0,0,0,0,0,0,0,0,0,0,0,0,0,0,0,0,0,0,0,0,0,0,0,0,0,0,0,0,0,0,0,0,0,0,0,0,0,0,0,0,0,0,0,0,0,0,0,0,0,0,0,0,0,0,0,0,0,0,0,0,0,0,0,0,0,0,0,0,0,0,0,0,0,0,0,0,0,0,0,0,0,0,0,0,0,0,0,0,0,0,0,0,0,0,0,0,0,0,0,0,0,0,0,0,0,0,0,0,0,0,0,0,0,0,0,0,0,0,0,0,0,0,0,0,0,0,0,0,0,0,0,0,0,0,0,0,0,0,0,0,0,0,0,0,0,0,0,0,0,0,0,0,0,0,0,0,0,0,0,0,0,0,0,0,0,0,0,0,0,0,0,0,0,0,0,0,0,0,0,0,0,0,0,0,0,0,0,0,0,0,0,0,0,0,0,0,0,0,0,0,0,0,0,0,0,0,0,0,0,0,0,0,0,0,0,0,0,0,0,0,0,0,0,0,0,0,0,0,0,0,0,0,0,0,0,0,0,0,0,0,0,0,0,0,0,0,0,0,0,0,0,0,0,0,0,0,0,0,0,0,0,0,0,0,0,0,0,0,0,0,0,0,0,0,0,0,0,0,0,0,0,0,0,0,0,0,0,0,0,0,0,0,0,0,0,0,0,0,0,0,0,0,0,0]
[0,0,0,0,0,0,0,0,0,0,0,0,0,0,0,0,0,0,0,0,0,0,0,0,0,0,0,0,0,0,0,0,0,0,0,0,0,0,0,0,0,0,0,0,0,0,0,0,0,0,0,0,0,0,0,0,0,0,0,0,0,0,0,0,0,0,0,0,0,0,0,0,0,0,0,0,0,0,0,0,0,0,0,0,0,0,0,0,0,0,0,0,0,0,0,0,0,0,0,0,0,0,0,0,0,0,0,0,0,0,0,0,0,0,0,0,0,0,0,0,0,0,0,0,0,0,0,0,0,0,0,0,0,0,0,0,0,0,0,0,0,0,0,0,0,0,0,0,0,0,0,0,0,0,0,0,0,0,0,0,0,0,0,0,0,0,0,0,0,0,0,0,0,0,0,0,0,0,0,0,0,0,0,0,0,0,0,0,0,0,0,0,0,0,0,0,0,0,0,0,0,0,0,0,0,0,0,0,0,0,0,0,0,0,0,0,0,0,0,0,0,0,0,0,0,0,0,0,0,0,0,0,0,0,0,0,0,0,0,0,0,0,0,0,0,0,0,0,0,0,0,0,0,0,0,0,0,0,0,0,0,0,0,0,0,0,0,0,0,0,0,0,0,0,0,0,0,0,0,0,0,0,0,0,0,0,0,0,0,0,0,0,0,0,0,0,0,0,0,0,0,0,0,0,0,0,0,0,0,0,0,0]
[0,0,0,0,0,0,0,0,0,0,0,0,0,0,0,0,0,0,0,0,0,0,0,0,0,0,0,0,0,0,0,0,0,0,0,0,0,0,0,0,0,0,0,0,0,0,0,0,0,0,0,0,0,0,0,0,0,0,0,0,0,0,0,0,0,0,0,0,0,0,0,0,0,0,0,0,0,0,0,0,0,0,0,0,0,0,0,0,0,0,0,0,0,0,0,0,0,0,0,0,0,0,0,0,0,0,0,0,0,0,0,0,0,0,0,0,0,0,0,0,0,0,0,0,0,0,0,0,0,0,0,0,0,0,0,0,0,0,0,0,0,0,0,0,0,0,0,0,0,0,0,0,0,0,0,0,0,0,0,0,0,0,0,0,0,0,0,0,0,0,0,0,0,0,0,0,0,0,0,0,0,0,0,0,0,0,0,0,0,0,0,0,0,0,0,0,0,0,0,0,0,0,0,0,0,0,0,0,0,0,0,0,0,0,0,0,0,0,0,0,0,0,0,0,0,0,0,0,0,0,0,0,0,0,0,0,0,0,0,0,0,0,0,0,0,0,0,0,0,0,0,0,0,0,0,0,0,0,0,0,0,0,0,0,0,0,0,0,0,0,0,0,0,0,0,0,0,0,0,0,0,0,0,0,0,0,0,0,0,0,0,0,0,0,0,0,0,0,0,0,0,0,0,0,0,0,0,0,0,0,0,0]
[0,0,0,0,0,0,0,0,0,0,0,0,0,0,0,0,0,0,0,0,0,0,0,0,0,0,0,0,0,0,0,0,0,0,0,0,0,0,0,0,0,0,0,0,0,0,0,0,0,0,0,0,0,0,0,0,0,0,0,0,0,0,0,0,0,0,0,0,0,0,0,0,0,0,0,0,0,0,0,0,0,0,0,0,0,0,0,0,0,0,0,0,0,0,0,0,0,0,0,0,0,0,0,0,0,0,0,0,0,0,0,0,0,0,0,0,0,0,0,0,0,0,0,0,0,0,0,0,0,0,0,0,0,0,0,0,0,0,0,0,0,0,0,0,0,0,0,0,0,0,0,0,0,0,0,0,0,0,0,0,0,0,0,0,0,0,0,0,0,0,0,0,0,0,0,0,0,0,0,0,0,0,0,0,0,0,0,0,0,0,0,0,0,0,0,0,0,0,0,0,0,0,0,0,0,0,0,0,0,0,0,0,0,0,0,0,0,0,0,0,0,0,0,0,0,0,0,0,0,0,0,0,0,0,0,0,0,0,0,0,0,0,0,0,0,0,0,0,0,0,0,0,0,0,0,0,0,0,0,0,0,0,0,0,0,0,0,0,0,0,0,0,0,0,0,0,0,0,0,0,0,0,0,0,0,0,0,0,0,0,0,0,0,0,0,0,0,0,0,0,0,0,0,0,0,0,0,0,0,0,0,0]
[0,0,0,0,0,0,0,0,0,0,0,0,0,0,0,0,0,0,0,0,0,0,0,0,0,0,0,0,0,0,0,0,0,0,0,0,0,0,0,0,0,0,0,0,0,0,0,0,0,0,0,0,0,0,0,0,0,0,0,0,0,0,0,0,0,0,0,0,0,0,0,0,0,0,0,0,0,0,0,0,0,0,0,0,0,0,0,0,0,0,0,0,0,0,0,0,0,0,0,0,0,0,0,0,0,0,0,0,0,0,0,0,0,0,0,0,0,0,0,0,0,0,0,0,0,0,0,0,0,0,0,0,0,0,0,0,0,0,0,0,0,0,0,0,0,0,0,0,0,0,0,0,0,0,0,0,0,0,0,0,0,0,0,0,0,0,0,0,0,0,0,0,0,0,0,0,0,0,0,0,0,0,0,0,0,0,0,0,0,0,0,0,0,0,0,0,0,0,0,0,0,0,0,0,0,0,0,0,0,0,0,0,0,0,0,0,0,0,0,0,0,0,0,0,0,0,0,0,0,0,0,0,0,0,0,0,0,0,0,0,0,0,0,0,0,0,0,0,0,0,0,0,0,0,0,0,0,0,0,0,0,0,0,0,0,0,0,0,0,0,0,0,0,0,0,0,0,0,0,0,0,0,0,0,0,0,0,0,0,0,0,0,0,0,0,0,0,0,0,0,0,0,0,0,0,0,0,0,0,0,0,0]
[0,0,0,0,0,0,0,0,0,0,0,0,0,0,0,0,0,0,0,0,0,0,0,0,0,0,0,0,0,0,0,0,0,0,0,0,0,0,0,0,0,0,0,0,0,0,0,0,0,0,0,0,0,0,0,0,0,0,0,0,0,0,0,0,0,0,0,0,0,0,0,0,0,0,0,0,0,0,0,0,0,0,0,0,0,0,0,0,0,0,0,0,0,0,0,0,0,0,0,0,0,0,0,0,0,0,0,0,0,0,0,0,0,0,0,0,0,0,0,0,0,0,0,0,0,0,0,0,0,0,0,0,0,0,0,0,0,0,0,0,0,0,0,0,0,0,0,0,0,0,0,0,0,0,0,0,0,0,0,0,0,0,0,0,0,0,0,0,0,0,0,0,0,0,0,0,0,0,0,0,0,0,0,0,0,0,0,0,0,0,0,0,0,0,0,0,0,0,0,0,0,0,0,0,0,0,0,0,0,0,0,0,0,0,0,0,0,0,0,0,0,0,0,0,0,0,0,0,0,0,0,0,0,0,0,0,0,0,0,0,0,0,0,0,0,0,0,0,0,0,0,0,0,0,0,0,0,0,0,0,0,0,0,0,0,0,0,0,0,0,0,0,0,0,0,0,0,0,0,0,0,0,0,0,0,0,0,0,0,0,0,0,0,0,0,0,0,0,0,0,0,0,0,0,0,0,0,0,0,0,0,0]
[0,0,0,0,0,0,0,0,0,0,0,0,0,0,0,0,0,0,0,0,0,0,0,0,0,0,0,0,0,0,0,0,0,0,0,0,0,0,0,0,0,0,0,0,0,0,0,0,0,0,0,0,0,0,0,0,0,0,0,0,0,0,0,0,0,0,0,0,0,0,0,0,0,0,0,0,0,0,0,0,0,0,0,0,0,0,0,0,0,0,0,0,0,0,0,0,0,0,0,0,0,0,0,0,0,0,0,0,0,0,0,0,0,0,0,0,0,0,0,0,0,0,0,0,0,0,0,0,0,0,0,0,0,0,0,0,0,0,0,0,0,0,0,0,0,0,0,0,0,0,0,0,0,0,0,0,0,0,0,0,0,0,0,0,0,0,0,0,0,0,0,0,0,0,0,0,0,0,0,0,0,0,0,0,0,0,0,0,0,0,0,0,0,0,0,0,0,0,0,0,0,0,0,0,0,0,0,0,0,0,0,0,0,0,0,0,0,0,0,0,0,0,0,0,0,0,0,0,0,0,0,0,0,0,0,0,0,0,0,0,0,0,0,0,0,0,0,0,0,0,0,0,0,0,0,0,0,0,0,0,0,0,0,0,0,0,0,0,0,0,0,0,0,0,0,0,0,0,0,0,0,0,0,0,0,0,0,0,0,0,0,0,0,0,0,0,0,0,0,0,0,0,0,0,0,0,0,0,0,0,0,0]
[0,0,0,0,0,0,0,0,0,0,0,0,0,0,0,0,0,0,0,0,0,0,0,0,0,0,0,0,0,0,0,0,0,0,0,0,0,0,0,0,0,0,0,0,0,0,0,0,0,0,0,0,0,0,0,0,0,0,0,0,0,0,0,0,0,0,0,0,0,0,0,0,0,0,0,0,0,0,0,0,0,0,0,0,0,0,0,0,0,0,0,0,0,0,0,0,0,0,0,0,0,0,0,0,0,0,0,0,0,0,0,0,0,0,0,0,0,0,0,0,0,0,0,0,0,0,0,0,0,0,0,0,0,0,0,0,0,0,0,0,0,0,0,0,0,0,0,0,0,0,0,0,0,0,0,0,0,0,0,0,0,0,0,0,0,0,0,0,0,0,0,0,0,0,0,0,0,0,0,0,0,0,0,0,0,0,0,0,0,0,0,0,0,0,0,0,0,0,0,0,0,0,0,0,0,0,0,0,0,0,0,0,0,0,0,0,0,0,0,0,0,0,0,0,0,0,0,0,0,0,0,0,0,0,0,0,0,0,0,0,0,0,0,0,0,0,0,0,0,0,0,0,0,0,0,0,0,0,0,0,0,0,0,0,0,0,0,0,0,0,0,0,0,0,0,0,0,0,0,0,0,0,0,0,0,0,0,0,0,0,0,0,0,0,0,0,0,0,0,0,0,0,0,0,0,0,0,0,0,0,0,0]
[0,0,0,0,0,0,0,0,0,0,0,0,0,0,0,0,0,0,0,0,0,0,0,0,0,0,0,0,0,0,0,0,0,0,0,0,0,0,0,0,0,0,0,0,0,0,0,0,0,0,0,0,0,0,0,0,0,0,0,0,0,0,0,0,0,0,0,0,0,0,0,0,0,0,0,0,0,0,0,0,0,0,0,0,0,0,0,0,0,0,0,0,0,0,0,0,0,0,0,0,0,0,0,0,0,0,0,0,0,0,0,0,0,0,0,0,0,0,0,0,0,0,0,0,0,0,0,0,0,0,0,0,0,0,0,0,0,0,0,0,0,0,0,0,0,0,0,0,0,0,0,0,0,0,0,0,0,0,0,0,0,0,0,0,0,0,0,0,0,0,0,0,0,0,0,0,0,0,0,0,0,0,0,0,0,0,0,0,0,0,0,0,0,0,0,0,0,0,0,0,0,0,0,0,0,0,0,0,0,0,0,0,0,0,0,0,0,0,0,0,0,0,0,0,0,0,0,0,0,0,0,0,0,0,0,0,0,0,0,0,0,0,0,0,0,0,0,0,0,0,0,0,0,0,0,0,0,0,0,0,0,0,0,0,0,0,0,0,0,0,0,0,0,0,0,0,0,0,0,0,0,0,0,0,0,0,0,0,0,0,0,0,0,0,0,0,0,0,0,0,0,0,0,0,0,0,0,0,0,0,0,0]
[0,0,0,0,0,0,0,0,0,0,0,0,0,0,0,0,0,0,0,0,0,0,0,0,0,0,0,0,0,0,0,0,0,0,0,0,0,0,0,0,0,0,0,0,0,0,0,0,0,0,0,0,0,0,0,0,0,0,0,0,0,0,0,0,0,0,0,0,0,0,0,0,0,0,0,0,0,0,0,0,0,0,0,0,0,0,0,0,0,0,0,0,0,0,0,0,0,0,0,0,0,0,0,0,0,0,0,0,0,0,0,0,0,0,0,0,0,0,0,0,0,0,0,0,0,0,0,0,0,0,0,0,0,0,0,0,0,0,0,0,0,0,0,0,0,0,0,0,0,0,0,0,0,0,0,0,0,0,0,0,0,0,0,0,0,0,0,0,0,0,0,0,0,0,0,0,0,0,0,0,0,0,0,0,0,0,0,0,0,0,0,0,0,0,0,0,0,0,0,0,0,0,0,0,0,0,0,0,0,0,0,0,0,0,0,0,0,0,0,0,0,0,0,0,0,0,0,0,0,0,0,0,0,0,0,0,0,0,0,0,0,0,0,0,0,0,0,0,0,0,0,0,0,0,0,0,0,0,0,0,0,0,0,0,0,0,0,0,0,0,0,0,0,0,0,0,0,0,0,0,0,0,0,0,0,0,0,0,0,0,0,0,0,0,0,0,0,0,0,0,0,0,0,0,0,0,0,0,0,0,0,0]
[0,0,0,0,0,0,0,0,0,0,0,0,0,0,0,0,0,0,0,0,0,0,0,0,0,0,0,0,0,0,0,0,0,0,0,0,0,0,0,0,0,0,0,0,0,0,0,0,0,0,0,0,0,0,0,0,0,0,0,0,0,0,0,0,0,0,0,0,0,0,0,0,0,0,0,0,0,0,0,0,0,0,0,0,0,0,0,0,0,0,0,0,0,0,0,0,0,0,0,0,0,0,0,0,0,0,0,0,0,0,0,0,0,0,0,0,0,0,0,0,0,0,0,0,0,0,0,0,0,0,0,0,0,0,0,0,0,0,0,0,0,0,0,0,0,0,0,0,0,0,0,0,0,0,0,0,0,0,0,0,0,0,0,0,0,0,0,0,0,0,0,0,0,0,0,0,0,0,0,0,0,0,0,0,0,0,0,0,0,0,0,0,0,0,0,0,0,0,0,0,0,0,0,0,0,0,0,0,0,0,0,0,0,0,0,0,0,0,0,0,0,0,0,0,0,0,0,0,0,0,0,0,0,0,0,0,0,0,0,0,0,0,0,0,0,0,0,0,0,0,0,0,0,0,0,0,0,0,0,0,0,0,0,0,0,0,0,0,0,0,0,0,0,0,0,0,0,0,0,0,0,0,0,0,0,0,0,0,0,0,0,0,0,0,0,0,0,0,0,0,0,0,0,0,0,0,0,0,0,0,0,0]
[0,0,0,0,0,0,0,0,0,0,0,0,0,0,0,0,0,0,0,0,0,0,0,0,0,0,0,0,0,0,0,0,0,0,0,0,0,0,0,0,0,0,0,0,0,0,0,0,0,0,0,0,0,0,0,0,0,0,0,0,0,0,0,0,0,0,0,0,0,0,0,0,0,0,0,0,0,0,0,0,0,0,0,0,0,0,0,0,0,0,0,0,0,0,0,0,0,0,0,0,0,0,0,0,0,0,0,0,0,0,0,0,0,0,0,0,0,0,0,0,0,0,0,0,0,0,0,0,0,0,0,0,0,0,0,0,0,0,0,0,0,0,0,0,0,0,0,0,0,0,0,0,0,0,0,0,0,0,0,0,0,0,0,0,0,0,0,0,0,0,0,0,0,0,0,0,0,0,0,0,0,0,0,0,0,0,0,0,0,0,0,0,0,0,0,0,0,0,0,0,0,0,0,0,0,0,0,0,0,0,0,0,0,0,0,0,0,0,0,0,0,0,0,0,0,0,0,0,0,0,0,0,0,0,0,0,0,0,0,0,0,0,0,0,0,0,0,0,0,0,0,0,0,0,0,0,0,0,0,0,0,0,0,0,0,0,0,0,0,0,0,0,0,0,0,0,0,0,0,0,0,0,0,0,0,0,0,0,0,0,0,0,0,0,0,0,0,0,0,0,0,0,0,0,0,0,0,0,0,0,0,0]
[0,0,0,0,0,0,0,0,0,0,0,0,0,0,0,0,0,0,0,0,0,0,0,0,0,0,0,0,0,0,0,0,0,0,0,0,0,0,0,0,0,0,0,0,0,0,0,0,0,0,0,0,0,0,0,0,0,0,0,0,0,0,0,0,0,0,0,0,0,0,0,0,0,0,0,0,0,0,0,0,0,0,0,0,0,0,0,0,0,0,0,0,0,0,0,0,0,0,0,0,0,0,0,0,0,0,0,0,0,0,0,0,0,0,0,0,0,0,0,0,0,0,0,0,0,0,0,0,0,0,0,0,0,0,0,0,0,0,0,0,0,0,0,0,0,0,0,0,0,0,0,0,0,0,0,0,0,0,0,0,0,0,0,0,0,0,0,0,0,0,0,0,0,0,0,0,0,0,0,0,0,0,0,0,0,0,0,0,0,0,0,0,0,0,0,0,0,0,0,0,0,0,0,0,0,0,0,0,0,0,0,0,0,0,0,0,0,0,0,0,0,0,0,0,0,0,0,0,0,0,0,0,0,0,0,0,0,0,0,0,0,0,0,0,0,0,0,0,0,0,0,0,0,0,0,0,0,0,0,0,0,0,0,0,0,0,0,0,0,0,0,0,0,0,0,0,0,0,0,0,0,0,0,0,0,0,0,0,0,0,0,0,0,0,0,0,0,0,0,0,0,0,0,0,0,0,0,0,0,0,0,0]
[0,0,0,0,0,0,0,0,0,0,0,0,0,0,0,0,0,0,0,0,0,0,0,0,0,0,0,0,0,0,0,0,0,0,0,0,0,0,0,0,0,0,0,0,0,0,0,0,0,0,0,0,0,0,0,0,0,0,0,0,0,0,0,0,0,0,0,0,0,0,0,0,0,0,0,0,0,0,0,0,0,0,0,0,0,0,0,0,0,0,0,0,0,0,0,0,0,0,0,0,0,0,0,0,0,0,0,0,0,0,0,0,0,0,0,0,0,0,0,0,0,0,0,0,0,0,0,0,0,0,0,0,0,0,0,0,0,0,0,0,0,0,0,0,0,0,0,0,0,0,0,0,0,0,0,0,0,0,0,0,0,0,0,0,0,0,0,0,0,0,0,0,0,0,0,0,0,0,0,0,0,0,0,0,0,0,0,0,0,0,0,0,0,0,0,0,0,0,0,0,0,0,0,0,0,0,0,0,0,0,0,0,0,0,0,0,0,0,0,0,0,0,0,0,0,0,0,0,0,0,0,0,0,0,0,0,0,0,0,0,0,0,0,0,0,0,0,0,0,0,0,0,0,0,0,0,0,0,0,0,0,0,0,0,0,0,0,0,0,0,0,0,0,0,0,0,0,0,0,0,0,0,0,0,0,0,0,0,0,0,0,0,0,0,0,0,0,0,0,0,0,0,0,0,0,0,0,0,0,0,0,0]
[0,0,0,0,0,0,0,0,0,0,0,0,0,0,0,0,0,0,0,0,0,0,0,0,0,0,0,0,0,0,0,0,0,0,0,0,0,0,0,0,0,0,0,0,0,0,0,0,0,0,0,0,0,0,0,0,0,0,0,0,0,0,0,0,0,0,0,0,0,0,0,0,0,0,0,0,0,0,0,0,0,0,0,0,0,0,0,0,0,0,0,0,0,0,0,0,0,0,0,0,0,0,0,0,0,0,0,0,0,0,0,0,0,0,0,0,0,0,0,0,0,0,0,0,0,0,0,0,0,0,0,0,0,0,0,0,0,0,0,0,0,0,0,0,0,0,0,0,0,0,0,0,0,0,0,0,0,0,0,0,0,0,0,0,0,0,0,0,0,0,0,0,0,0,0,0,0,0,0,0,0,0,0,0,0,0,0,0,0,0,0,0,0,0,0,0,0,0,0,0,0,0,0,0,0,0,0,0,0,0,0,0,0,0,0,0,0,0,0,0,0,0,0,0,0,0,0,0,0,0,0,0,0,0,0,0,0,0,0,0,0,0,0,0,0,0,0,0,0,0,0,0,0,0,0,0,0,0,0,0,0,0,0,0,0,0,0,0,0,0,0,0,0,0,0,0,0,0,0,0,0,0,0,0,0,0,0,0,0,0,0,0,0,0,0,0,0,0,0,0,0,0,0,0,0,0,0,0,0,0,0,0]
[0,0,0,0,0,0,0,0,0,0,0,0,0,0,0,0,0,0,0,0,0,0,0,0,0,0,0,0,0,0,0,0,0,0,0,0,0,0,0,0,0,0,0,0,0,0,0,0,0,0,0,0,0,0,0,0,0,0,0,0,0,0,0,0,0,0,0,0,0,0,0,0,0,0,0,0,0,0,0,0,0,0,0,0,0,0,0,0,0,0,0,0,0,0,0,0,0,0,0,0,0,0,0,0,0,0,0,0,0,0,0,0,0,0,0,0,0,0,0,0,0,0,0,0,0,0,0,0,0,0,0,0,0,0,0,0,0,0,0,0,0,0,0,0,0,0,0,0,0,0,0,0,0,0,0,0,0,0,0,0,0,0,0,0,0,0,0,0,0,0,0,0,0,0,0,0,0,0,0,0,0,0,0,0,0,0,0,0,0,0,0,0,0,0,0,0,0,0,0,0,0,0,0,0,0,0,0,0,0,0,0,0,0,0,0,0,0,0,0,0,0,0,0,0,0,0,0,0,0,0,0,0,0,0,0,0,0,0,0,0,0,0,0,0,0,0,0,0,0,0,0,0,0,0,0,0,0,0,0,0,0,0,0,0,0,0,0,0,0,0,0,0,0,0,0,0,0,0,0,0,0,0,0,0,0,0,0,0,0,0,0,0,0,0,0,0,0,0,0,0,0,0,0,0,0,0,0,0,0,0,0,0]
[0,0,0,0,0,0,0,0,0,0,0,0,0,0,0,0,0,0,0,0,0,0,0,0,0,0,0,0,0,0,0,0,0,0,0,0,0,0,0,0,0,0,0,0,0,0,0,0,0,0,0,0,0,0,0,0,0,0,0,0,0,0,0,0,0,0,0,0,0,0,0,0,0,0,0,0,0,0,0,0,0,0,0,0,0,0,0,0,0,0,0,0,0,0,0,0,0,0,0,0,0,0,0,0,0,0,0,0,0,0,0,0,0,0,0,0,0,0,0,0,0,0,0,0,0,0,0,0,0,0,0,0,0,0,0,0,0,0,0,0,0,0,0,0,0,0,0,0,0,0,0,0,0,0,0,0,0,0,0,0,0,0,0,0,0,0,0,0,0,0,0,0,0,0,0,0,0,0,0,0,0,0,0,0,0,0,0,0,0,0,0,0,0,0,0,0,0,0,0,0,0,0,0,0,0,0,0,0,0,0,0,0,0,0,0,0,0,0,0,0,0,0,0,0,0,0,0,0,0,0,0,0,0,0,0,0,0,0,0,0,0,0,0,0,0,0,0,0,0,0,0,0,0,0,0,0,0,0,0,0,0,0,0,0,0,0,0,0,0,0,0,0,0,0,0,0,0,0,0,0,0,0,0,0,0,0,0,0,0,0,0,0,0,0,0,0,0,0,0,0,0,0,0,0,0,0,0,0,0,0,0,0]
[0,0,0,0,0,0,0,0,0,0,0,0,0,0,0,0,0,0,0,0,0,0,0,0,0,0,0,0,0,0,0,0,0,0,0,0,0,0,0,0,0,0,0,0,0,0,0,0,0,0,0,0,0,0,0,0,0,0,0,0,0,0,0,0,0,0,0,0,0,0,0,0,0,0,0,0,0,0,0,0,0,0,0,0,0,0,0,0,0,0,0,0,0,0,0,0,0,0,0,0,0,0,0,0,0,0,0,0,0,0,0,0,0,0,0,0,0,0,0,0,0,0,0,0,0,0,0,0,0,0,0,0,0,0,0,0,0,0,0,0,0,0,0,0,0,0,0,0,0,0,0,0,0,0,0,0,0,0,0,0,0,0,0,0,0,0,0,0,0,0,0,0,0,0,0,0,0,0,0,0,0,0,0,0,0,0,0,0,0,0,0,0,0,0,0,0,0,0,0,0,0,0,0,0,0,0,0,0,0,0,0,0,0,0,0,0,0,0,0,0,0,0,0,0,0,0,0,0,0,0,0,0,0,0,0,0,0,0,0,0,0,0,0,0,0,0,0,0,0,0,0,0,0,0,0,0,0,0,0,0,0,0,0,0,0,0,0,0,0,0,0,0,0,0,0,0,0,0,0,0,0,0,0,0,0,0,0,0,0,0,0,0,0,0,0,0,0,0,0,0,0,0,0,0,0,0,0,0,0,0,0,0]
[0,0,0,0,0,0,0,0,0,0,0,0,0,0,0,0,0,0,0,0,0,0,0,0,0,0,0,0,0,0,0,0,0,0,0,0,0,0,0,0,0,0,0,0,0,0,0,0,0,0,0,0,0,0,0,0,0,0,0,0,0,0,0,0,0,0,0,0,0,0,0,0,0,0,0,0,0,0,0,0,0,0,0,0,0,0,0,0,0,0,0,0,0,0,0,0,0,0,0,0,0,0,0,0,0,0,0,0,0,0,0,0,0,0,0,0,0,0,0,0,0,0,0,0,0,0,0,0,0,0,0,0,0,0,0,0,0,0,0,0,0,0,0,0,0,0,0,0,0,0,0,0,0,0,0,0,0,0,0,0,0,0,0,0,0,0,0,0,0,0,0,0,0,0,0,0,0,0,0,0,0,0,0,0,0,0,0,0,0,0,0,0,0,0,0,0,0,0,0,0,0,0,0,0,0,0,0,0,0,0,0,0,0,0,0,0,0,0,0,0,0,0,0,0,0,0,0,0,0,0,0,0,0,0,0,0,0,0,0,0,0,0,0,0,0,0,0,0,0,0,0,0,0,0,0,0,0,0,0,0,0,0,0,0,0,0,0,0,0,0,0,0,0,0,0,0,0,0,0,0,0,0,0,0,0,0,0,0,0,0,0,0,0,0,0,0,0,0,0,0,0,0,0,0,0,0,0,0,0,0,0,0]
[0,0,0,0,0,0,0,0,0,0,0,0,0,0,0,0,0,0,0,0,0,0,0,0,0,0,0,0,0,0,0,0,0,0,0,0,0,0,0,0,0,0,0,0,0,0,0,0,0,0,0,0,0,0,0,0,0,0,0,0,0,0,0,0,0,0,0,0,0,0,0,0,0,0,0,0,0,0,0,0,0,0,0,0,0,0,0,0,0,0,0,0,0,0,0,0,0,0,0,0,0,0,0,0,0,0,0,0,0,0,0,0,0,0,0,0,0,0,0,0,0,0,0,0,0,0,0,0,0,0,0,0,0,0,0,0,0,0,0,0,0,0,0,0,0,0,0,0,0,0,0,0,0,0,0,0,0,0,0,0,0,0,0,0,0,0,0,0,0,0,0,0,0,0,0,0,0,0,0,0,0,0,0,0,0,0,0,0,0,0,0,0,0,0,0,0,0,0,0,0,0,0,0,0,0,0,0,0,0,0,0,0,0,0,0,0,0,0,0,0,0,0,0,0,0,0,0,0,0,0,0,0,0,0,0,0,0,0,0,0,0,0,0,0,0,0,0,0,0,0,0,0,0,0,0,0,0,0,0,0,0,0,0,0,0,0,0,0,0,0,0,0,0,0,0,0,0,0,0,0,0,0,0,0,0,0,0,0,0,0,0,0,0,0,0,0,0,0,0,0,0,0,0,0,0,0,0,0,0,0,0,0]
[0,0,0,0,0,0,0,0,0,0,0,0,0,0,0,0,0,0,0,0,0,0,0,0,0,0,0,0,0,0,0,0,0,0,0,0,0,0,0,0,0,0,0,0,0,0,0,0,0,0,0,0,0,0,0,0,0,0,0,0,0,0,0,0,0,0,0,0,0,0,0,0,0,0,0,0,0,0,0,0,0,0,0,0,0,0,0,0,0,0,0,0,0,0,0,0,0,0,0,0,0,0,0,0,0,0,0,0,0,0,0,0,0,0,0,0,0,0,0,0,0,0,0,0,0,0,0,0,0,0,0,0,0,0,0,0,0,0,0,0,0,0,0,0,0,0,0,0,0,0,0,0,0,0,0,0,0,0,0,0,0,0,0,0,0,0,0,0,0,0,0,0,0,0,0,0,0,0,0,0,0,0,0,0,0,0,0,0,0,0,0,0,0,0,0,0,0,0,0,0,0,0,0,0,0,0,0,0,0,0,0,0,0,0,0,0,0,0,0,0,0,0,0,0,0,0,0,0,0,0,0,0,0,0,0,0,0,0,0,0,0,0,0,0,0,0,0,0,0,0,0,0,0,0,0,0,0,0,0,0,0,0,0,0,0,0,0,0,0,0,0,0,0,0,0,0,0,0,0,0,0,0,0,0,0,0,0,0,0,0,0,0,0,0,0,0,0,0,0,0,0,0,0,0,0,0,0,0,0,0,0,0]

{"sheet":"Illustration Detail 6%","index":6,"n_rows":1609,"n_cols":312,"rows_kept":562,"cut":true,"hidden":true,"merged":[],"bounds":{"rows_first":250,"rows_last":62,"rows_between":250,"halvings":3}}
["A30 P 60 10 Wd 60_6","A30 P 60 10SDWd 60_6","A30 P 60 20 Wd 60_6","A30 P 60 20SDWd 60_6","A30 P 65 10 Wd 65_6","A30 P 65 10SDWd 65_6","A30 P 65 20 Wd 65_6","A30 P 65 20SDWd 65_6","A30 P 70 10 Wd 70_6","A30 P 70 10SDWd 70_6","A30 P 70 20 Wd 70_6","A30 P 70 20SDWd 70_6","A31 P 60 10 Wd 60_6","A31 P 60 10SDWd 60_6","A31 P 60 20 Wd 60_6","A31 P 60 20SDWd 60_6","A31 P 65 10 Wd 65_6","A31 P 65 10SDWd 65_6","A31 P 65 20 Wd 65_6","A31 P 65 20SDWd 65_6","A31 P 70 10 Wd 70_6","A31 P 70 10SDWd 70_6","A31 P 70 20 Wd 70_6","A31 P 70 20SDWd 70_6","A32 P 60 10 Wd 60_6","A32 P 60 10SDWd 60_6","A32 P 60 20 Wd 60_6","A32 P 60 20SDWd 60_6","A32 P 65 10 Wd 65_6","A32 P 65 10SDWd 65_6","A32 P 65 20 Wd 65_6","A32 P 65 20SDWd 65_6","A32 P 70 10 Wd 70_6","A32 P 70 10SDWd 70_6","A32 P 70 20 Wd 70_6","A32 P 70 20SDWd 70_6","A33 P 60 10 Wd 60_6","A33 P 60 10SDWd 60_6","A33 P 60 20 Wd 60_6","A33 P 60 20SDWd 60_6","A33 P 65 10 Wd 65_6","A33 P 65 10SDWd 65_6","A33 P 65 20 Wd 65_6","A33 P 65 20SDWd 65_6","A33 P 70 10 Wd 70_6","A33 P 70 10SDWd 70_6","A33 P 70 20 Wd 70_6","A33 P 70 20SDWd 70_6","A34 P 60 10 Wd 60_6","A34 P 60 10SDWd 60_6","A34 P 60 20 Wd 60_6","A34 P 60 20SDWd 60_6","A34 P 65 10 Wd 65_6","A34 P 65 10SDWd 65_6","A34 P 65 20 Wd 65_6","A34 P 65 20SDWd 65_6","A34 P 70 10 Wd 70_6","A34 P 70 10SDWd 70_6","A34 P 70 20 Wd 70_6","A34 P 70 20SDWd 70_6","A35 P 60 10 Wd 60_6","A35 P 60 10SDWd 60_6","A35 P 60 20 Wd 60_6","A35 P 60 20SDWd 60_6","A35 P 65 10 Wd 65_6","A35 P 65 10SDWd 65_6","A35 P 65 20 Wd 65_6","A35 P 65 20SDWd 65_6","A35 P 70 10 Wd 70_6","A35 P 70 10SDWd 70_6","A35 P 70 20 Wd 70_6","A35 P 70 20SDWd 70_6","A36 P 60 10 Wd 60_6","A36 P 60 10SDWd 60_6","A36 P 60 20 Wd 60_6","A36 P 60 20SDWd 60_6","A36 P 65 10 Wd 65_6","A36 P 65 10SDWd 65_6","A36 P 65 20 Wd 65_6","A36 P 65 20SDWd 65_6","A36 P 70 10 Wd 70_6","A36 P 70 10SDWd 70_6","A36 P 70 20 Wd 70_6","A36 P 70 20SDWd 70_6","A37 P 60 10 Wd 60_6","A37 P 60 10SDWd 60_6","A37 P 60 20 Wd 60_6","A37 P 60 20SDWd 60_6","A37 P 65 10 Wd 65_6","A37 P 65 10SDWd 65_6","A37 P 65 20 Wd 65_6","A37 P 65 20SDWd 65_6","A37 P 70 10 Wd 70_6","A37 P 70 10SDWd 70_6","A37 P 70 20 Wd 70_6","A37 P 70 20SDWd 70_6","A38 P 60 10 Wd 60_6","A38 P 60 10SDWd 60_6","A38 P 60 20 Wd 60_6","A38 P 60 20SDWd 60_6","A38 P 65 10 Wd 65_6","A38 P 65 10SDWd 65_6","A38 P 65 20 Wd 65_6","A38 P 65 20SDWd 65_6","A38 P 70 10 Wd 70_6","A38 P 70 10SDWd 70_6","A38 P 70 20 Wd 70_6","A38 P 70 20SDWd 70_6","A39 P 60 10 Wd 60_6","A39 P 60 10SDWd 60_6","A39 P 60 20 Wd 60_6","A39 P 60 20SDWd 60_6","A39 P 65 10 Wd 65_6","A39 P 65 10SDWd 65_6","A39 P 65 20 Wd 65_6","A39 P 65 20SDWd 65_6","A39 P 70 10 Wd 70_6","A39 P 70 10SDWd 70_6","A39 P 70 20 Wd 70_6","A39 P 70 20SDWd 70_6","A40 P 60 10 Wd 60_6","A40 P 60 10SDWd 60_6","A40 P 60 20 Wd 60_6","A40 P 60 20SDWd 60_6","A40 P 65 10 Wd 65_6","A40 P 65 10SDWd 65_6","A40 P 65 20 Wd 65_6","A40 P 65 20SDWd 65_6","A40 P 70 10 Wd 70_6","A40 P 70 10SDWd 70_6","A40 P 70 20 Wd 70_6","A40 P 70 20SDWd 70_6","A41 P 60 10 Wd 60_6","A41 P 60 10SDWd 60_6","A41 P 60 20 Wd 60_6","A41 P 60 20SDWd 60_6","A41 P 65 10 Wd 65_6","A41 P 65 10SDWd 65_6","A41 P 65 20 Wd 65_6","A41 P 65 20SDWd 65_6","A41 P 70 10 Wd 70_6","A41 P 70 10SDWd 70_6","A41 P 70 20 Wd 70_6","A41 P 70 20SDWd 70_6","A42 P 60 10 Wd 60_6","A42 P 60 10SDWd 60_6","A42 P 60 20 Wd 60_6","A42 P 60 20SDWd 60_6","A42 P 65 10 Wd 65_6","A42 P 65 10SDWd 65_6","A42 P 65 20 Wd 65_6","A42 P 65 20SDWd 65_6","A42 P 70 10 Wd 70_6","A42 P 70 10SDWd 70_6","A42 P 70 20 Wd 70_6","A42 P 70 20SDWd 70_6","A43 P 60 10 Wd 60_6","A43 P 60 10SDWd 60_6","A43 P 60 20 Wd 60_6","A43 P 60 20SDWd 60_6","A43 P 65 10 Wd 65_6","A43 P 65 10SDWd 65_6","A43 P 65 20 Wd 65_6","A43 P 65 20SDWd 65_6","A43 P 70 10 Wd 70_6","A43 P 70 10SDWd 70_6","A43 P 70 20 Wd 70_6","A43 P 70 20SDWd 70_6","A44 P 60 10 Wd 60_6","A44 P 60 10SDWd 60_6","A44 P 60 20 Wd 60_6","A44 P 60 20SDWd 60_6","A44 P 65 10 Wd 65_6","A44 P 65 10SDWd 65_6","A44 P 65 20 Wd 65_6","A44 P 65 20SDWd 65_6","A44 P 70 10 Wd 70_6","A44 P 70 10SDWd 70_6","A44 P 70 20 Wd 70_6","A44 P 70 20SDWd 70_6","A45 P 60 10 Wd 60_6","A45 P 60 10SDWd 60_6","A45 P 60 20 Wd 60_6","A45 P 60 20SDWd 60_6","A45 P 65 10 Wd 65_6","A45 P 65 10SDWd 65_6","A45 P 65 20 Wd 65_6","A45 P 65 20SDWd 65_6","A45 P 70 10 Wd 70_6","A45 P 70 10SDWd 70_6","A45 P 70 20 Wd 70_6","A45 P 70 20SDWd 70_6","A46 P 60 10 Wd 60_6","A46 P 60 10SDWd 60_6","A46 P 60 20 Wd 60_6","A46 P 60 20SDWd 60_6","A46 P 65 10 Wd 65_6","A46 P 65 10SDWd 65_6","A46 P 65 20 Wd 65_6","A46 P 65 20SDWd 65_6","A46 P 70 10 Wd 70_6","A46 P 70 10SDWd 70_6","A46 P 70 20 Wd 70_6","A46 P 70 20SDWd 70_6","A47 P 60 10 Wd 60_6","A47 P 60 10SDWd 60_6","A47 P 60 20 Wd 60_6","A47 P 60 20SDWd 60_6","A47 P 65 10 Wd 65_6","A47 P 65 10SDWd 65_6","A47 P 65 20 Wd 65_6","A47 P 65 20SDWd 65_6","A47 P 70 10 Wd 70_6","A47 P 70 10SDWd 70_6","A47 P 70 20 Wd 70_6","A47 P 70 20SDWd 70_6","A48 P 60 10 Wd 60_6","A48 P 60 10SDWd 60_6","A48 P 60 20 Wd 60_6","A48 P 60 20SDWd 60_6","A48 P 65 10 Wd 65_6","A48 P 65 10SDWd 65_6","A48 P 65 20 Wd 65_6","A48 P 65 20SDWd 65_6","A48 P 70 10 Wd 70_6","A48 P 70 10SDWd 70_6","A48 P 70 20 Wd 70_6","A48 P 70 20SDWd 70_6","A49 P 60 10 Wd 60_6","A49 P 60 10SDWd 60_6","A49 P 60 20 Wd 60_6","A49 P 60 20SDWd 60_6","A49 P 65 10 Wd 65_6","A49 P 65 10SDWd 65_6","A49 P 65 20 Wd 65_6","A49 P 65 20SDWd 65_6","A49 P 70 10 Wd 70_6","A49 P 70 10SDWd 70_6","A49 P 70 20 Wd 70_6","A49 P 70 20SDWd 70_6","A50 P 60 10 Wd 60_6","A50 P 60 10SDWd 60_6","A50 P 60 20 Wd 60_6","A50 P 60 20SDWd 60_6","A50 P 65 10 Wd 65_6","A50 P 65 10SDWd 65_6","A50 P 65 20 Wd 65_6","A50 P 65 20SDWd 65_6","A50 P 70 10 Wd 70_6","A50 P 70 10SDWd 70_6","A50 P 70 20 Wd 70_6","A50 P 70 20SDWd 70_6","A51 P 60 10 Wd 60_6","A51 P 60 10SDWd 60_6","A51 P 60 20 Wd 60_6","A51 P 60 20SDWd 60_6","A51 P 65 10 Wd 65_6","A51 P 65 10SDWd 65_6","A51 P 65 20 Wd 65_6","A51 P 65 20SDWd 65_6","A51 P 70 10 Wd 70_6","A51 P 70 10SDWd 70_6","A51 P 70 20 Wd 70_6","A51 P 70 20SDWd 70_6","A52 P 60 10 Wd 60_6","A52 P 60 10SDWd 60_6","A52 P 60 20 Wd 60_6","A52 P 60 20SDWd 60_6","A52 P 65 10 Wd 65_6","A52 P 65 10SDWd 65_6","A52 P 65 20 Wd 65_6","A52 P 65 20SDWd 65_6","A52 P 70 10 Wd 70_6","A52 P 70 10SDWd 70_6","A52 P 70 20 Wd 70_6","A52 P 70 20SDWd 70_6","A53 P 60 10 Wd 60_6","A53 P 60 10SDWd 60_6","A53 P 60 20 Wd 60_6","A53 P 60 20SDWd 60_6","A53 P 65 10 Wd 65_6","A53 P 65 10SDWd 65_6","A53 P 65 20 Wd 65_6","A53 P 65 20SDWd 65_6","A53 P 70 10 Wd 70_6","A53 P 70 10SDWd 70_6","A53 P 70 20 Wd 70_6","A53 P 70 20SDWd 70_6","A54 P 60 10 Wd 61_6","A54 P 60 10SDWd 61_6","A54 P 60 20 Wd 61_6","A54 P 60 20SDWd 61_6","A54 P 65 10 Wd 65_6","A54 P 65 10SDWd 65_6","A54 P 65 20 Wd 65_6","A54 P 65 20SDWd 65_6","A54 P 70 10 Wd 70_6","A54 P 70 10SDWd 70_6","A54 P 70 20 Wd 70_6","A54 P 70 20SDWd 70_6","A55 P 60 10 Wd 62_6","A55 P 60 10SDWd 62_6","A55 P 60 20 Wd 62_6","A55 P 60 20SDWd 62_6","A55 P 65 10 Wd 65_6","A55 P 65 10SDWd 65_6","A55 P 65 20 Wd 65_6","A55 P 65 20SDWd 65_6","A55 P 70 10 Wd 70_6","A55 P 70 10SDWd 70_6","A55 P 70 20 Wd 70_6","A55 P 70 20SDWd 70_6"]
[]
["Attained","Attained","Attained","Attained","Attained","Attained","Attained","Attained","Attained","Attained","Attained","Attained","Attained","Attained","Attained","Attained","Attained","Attained","Attained","Attained","Attained","Attained","Attained","Attained","Attained","Attained","Attained","Attained","Attained","Attained","Attained","Attained","Attained","Attained","Attained","Attained","Attained","Attained","Attained","Attained","Attained","Attained","Attained","Attained","Attained","Attained","Attained","Attained","Attained","Attained","Attained","Attained","Attained","Attained","Attained","Attained","Attained","Attained","Attained","Attained","Attained","Attained","Attained","Attained","Attained","Attained","Attained","Attained","Attained","Attained","Attained","Attained","Attained","Attained","Attained","Attained","Attained","Attained","Attained","Attained","Attained","Attained","Attained","Attained","Attained","Attained","Attained","Attained","Attained","Attained","Attained","Attained","Attained","Attained","Attained","Attained","Attained","Attained","Attained","Attained","Attained","Attained","Attained","Attained","Attained","Attained","Attained","Attained","Attained","Attained","Attained","Attained","Attained","Attained","Attained","Attained","Attained","Attained","Attained","Attained","Attained","Attained","Attained","Attained","Attained","Attained","Attained","Attained","Attained","Attained","Attained","Attained","Attained","Attained","Attained","Attained","Attained","Attained","Attained","Attained","Attained","Attained","Attained","Attained","Attained","Attained","Attained","Attained","Attained","Attained","Attained","Attained","Attained","Attained","Attained","Attained","Attained","Attained","Attained","Attained","Attained","Attained","Attained","Attained","Attained","Attained","Attained","Attained","Attained","Attained","Attained","Attained","Attained","Attained","Attained","Attained","Attained","Attained","Attained","Attained","Attained","Attained","Attained","Attained","Attained","Attained","Attained","Attained","Attained","Attained","Attained","Attained","Attained","Attained","Attained","Attained","Attained","Attained","Attained","Attained","Attained","Attained","Attained","Attained","Attained","Attained","Attained","Attained","Attained","Attained","Attained","Attained","Attained","Attained","Attained","Attained","Attained","Attained","Attained","Attained","Attained","Attained","Attained","Attained","Attained","Attained","Attained","Attained","Attained","Attained","Attained","Attained","Attained","Attained","Attained","Attained","Attained","Attained","Attained","Attained","Attained","Attained","Attained","Attained","Attained","Attained","Attained","Attained","Attained","Attained","Attained","Attained","Attained","Attained","Attained","Attained","Attained","Attained","Attained","Attained","Attained","Attained","Attained","Attained","Attained","Attained","Attained","Attained","Attained","Attained","Attained","Attained","Attained","Attained","Attained","Attained","Attained","Attained","Attained","Attained","Attained","Attained","Attained","Attained","Attained","Attained","Attained","Attained","Attained","Attained","Attained","Attained","Attained","Attained","Attained","Attained","Attained","Attained","Attained","Attained","Attained","Attained","Attained","Attained","Attained","Attained","Attained","Attained","Attained","Attained","Attained","Attained"]
["Age","Age","Age","Age","Age","Age","Age","Age","Age","Age","Age","Age","Age","Age","Age","Age","Age","Age","Age","Age","Age","Age","Age","Age","Age","Age","Age","Age","Age","Age","Age","Age","Age","Age","Age","Age","Age","Age","Age","Age","Age","Age","Age","Age","Age","Age","Age","Age","Age","Age","Age","Age","Age","Age","Age","Age","Age","Age","Age","Age","Age","Age","Age","Age","Age","Age","Age","Age","Age","Age","Age","Age","Age","Age","Age","Age","Age","Age","Age","Age","Age","Age","Age","Age","Age","Age","Age","Age","Age","Age","Age","Age","Age","Age","Age","Age","Age","Age","Age","Age","Age","Age","Age","Age","Age","Age","Age","Age","Age","Age","Age","Age","Age","Age","Age","Age","Age","Age","Age","Age","Age","Age","Age","Age","Age","Age","Age","Age","Age","Age","Age","Age","Age","Age","Age","Age","Age","Age","Age","Age","Age","Age","Age","Age","Age","Age","Age","Age","Age","Age","Age","Age","Age","Age","Age","Age","Age","Age","Age","Age","Age","Age","Age","Age","Age","Age","Age","Age","Age","Age","Age","Age","Age","Age","Age","Age","Age","Age","Age","Age","Age","Age","Age","Age","Age","Age","Age","Age","Age","Age","Age","Age","Age","Age","Age","Age","Age","Age","Age","Age","Age","Age","Age","Age","Age","Age","Age","Age","Age","Age","Age","Age","Age","Age","Age","Age","Age","Age","Age","Age","Age","Age","Age","Age","Age","Age","Age","Age","Age","Age","Age","Age","Age","Age","Age","Age","Age","Age","Age","Age","Age","Age","Age","Age","Age","Age","Age","Age","Age","Age","Age","Age","Age","Age","Age","Age","Age","Age","Age","Age","Age","Age","Age","Age","Age","Age","Age","Age","Age","Age","Age","Age","Age","Age","Age","Age","Age","Age","Age","Age","Age","Age","Age","Age","Age","Age","Age","Age","Age","Age","Age","Age","Age","Age","Age","Age","Age","Age","Age","Age","Age","Age","Age","Age","Age","Age","Age","Age","Age","Age","Age","Age"]
[30,30,30,30,30,30,30,30,30,30,30,30,31,31,31,31,31,31,31,31,31,31,31,31,32,32,32,32,32,32,32,32,32,32,32,32,33,33,33,33,33,33,33,33,33,33,33,33,34,34,34,34,34,34,34,34,34,34,34,34,35,35,35,35,35,35,35,35,35,35,35,35,36,36,36,36,36,36,36,36,36,36,36,36,37,37,37,37,37,37,37,37,37,37,37,37,38,38,38,38,38,38,38,38,38,38,38,38,39,39,39,39,39,39,39,39,39,39,39,39,40,40,40,40,40,40,40,40,40,40,40,40,41,41,41,41,41,41,41,41,41,41,41,41,42,42,42,42,42,42,42,42,42,42,42,42,43,43,43,43,43,43,43,43,43,43,43,43,44,44,44,44,44,44,44,44,44,44,44,44,45,45,45,45,45,45,45,45,45,45,45,45,46,46,46,46,46,46,46,46,46,46,46,46,47,47,47,47,47,47,47,47,47,47,47,47,48,48,48,48,48,48,48,48,48,48,48,48,49,49,49,49,49,49,49,49,49,49,49,49,50,50,50,50,50,50,50,50,50,50,50,50,51,51,51,51,51,51,51,51,51,51,51,51,52,52,52,52,52,52,52,52,52,52,52,52,53,53,53,53,53,53,53,53,53,53,53,53,54,54,54,54,54,54,54,54,54,54,54,54,55,55,55,55,55,55,55,55,55,55,55,55]
[31,31,31,31,31,31,31,31,31,31,31,31,32,32,32,32,32,32,32,32,32,32,32,32,33,33,33,33,33,33,33,33,33,33,33,33,34,34,34,34,34,34,34,34,34,34,34,34,35,35,35,35,35,35,35,35,35,35,35,35,36,36,36,36,36,36,36,36,36,36,36,36,37,37,37,37,37,37,37,37,37,37,37,37,38,38,38,38,38,38,38,38,38,38,38,38,39,39,39,39,39,39,39,39,39,39,39,39,40,40,40,40,40,40,40,40,40,40,40,40,41,41,41,41,41,41,41,41,41,41,41,41,42,42,42,42,42,42,42,42,42,42,42,42,43,43,43,43,43,43,43,43,43,43,43,43,44,44,44,44,44,44,44,44,44,44,44,44,45,45,45,45,45,45,45,45,45,45,45,45,46,46,46,46,46,46,46,46,46,46,46,46,47,47,47,47,47,47,47,47,47,47,47,47,48,48,48,48,48,48,48,48,48,48,48,48,49,49,49,49,49,49,49,49,49,49,49,49,50,50,50,50,50,50,50,50,50,50,50,50,51,51,51,51,51,51,51,51,51,51,51,51,52,52,52,52,52,52,52,52,52,52,52,52,53,53,53,53,53,53,53,53,53,53,53,53,54,54,54,54,54,54,54,54,54,54,54,54,55,55,55,55,55,55,55,55,55,55,55,55,56,56,56,56,56,56,56,56,56,56,56,56]
[32,32,32,32,32,32,32,32,32,32,32,32,33,33,33,33,33,33,33,33,33,33,33,33,34,34,34,34,34,34,34,34,34,34,34,34,35,35,35,35,35,35,35,35,35,35,35,35,36,36,36,36,36,36,36,36,36,36,36,36,37,37,37,37,37,37,37,37,37,37,37,37,38,38,38,38,38,38,38,38,38,38,38,38,39,39,39,39,39,39,39,39,39,39,39,39,40,40,40,40,40,40,40,40,40,40,40,40,41,41,41,41,41,41,41,41,41,41,41,41,42,42,42,42,42,42,42,42,42,42,42,42,43,43,43,43,43,43,43,43,43,43,43,43,44,44,44,44,44,44,44,44,44,44,44,44,45,45,45,45,45,45,45,45,45,45,45,45,46,46,46,46,46,46,46,46,46,46,46,46,47,47,47,47,47,47,47,47,47,47,47,47,48,48,48,48,48,48,48,48,48,48,48,48,49,49,49,49,49,49,49,49,49,49,49,49,50,50,50,50,50,50,50,50,50,50,50,50,51,51,51,51,51,51,51,51,51,51,51,51,52,52,52,52,52,52,52,52,52,52,52,52,53,53,53,53,53,53,53,53,53,53,53,53,54,54,54,54,54,54,54,54,54,54,54,54,55,55,55,55,55,55,55,55,55,55,55,55,56,56,56,56,56,56,56,56,56,56,56,56,57,57,57,57,57,57,57,57,57,57,57,57]
[33,33,33,33,33,33,33,33,33,33,33,33,34,34,34,34,34,34,34,34,34,34,34,34,35,35,35,35,35,35,35,35,35,35,35,35,36,36,36,36,36,36,36,36,36,36,36,36,37,37,37,37,37,37,37,37,37,37,37,37,38,38,38,38,38,38,38,38,38,38,38,38,39,39,39,39,39,39,39,39,39,39,39,39,40,40,40,40,40,40,40,40,40,40,40,40,41,41,41,41,41,41,41,41,41,41,41,41,42,42,42,42,42,42,42,42,42,42,42,42,43,43,43,43,43,43,43,43,43,43,43,43,44,44,44,44,44,44,44,44,44,44,44,44,45,45,45,45,45,45,45,45,45,45,45,45,46,46,46,46,46,46,46,46,46,46,46,46,47,47,47,47,47,47,47,47,47,47,47,47,48,48,48,48,48,48,48,48,48,48,48,48,49,49,49,49,49,49,49,49,49,49,49,49,50,50,50,50,50,50,50,50,50,50,50,50,51,51,51,51,51,51,51,51,51,51,51,51,52,52,52,52,52,52,52,52,52,52,52,52,53,53,53,53,53,53,53,53,53,53,53,53,54,54,54,54,54,54,54,54,54,54,54,54,55,55,55,55,55,55,55,55,55,55,55,55,56,56,56,56,56,56,56,56,56,56,56,56,57,57,57,57,57,57,57,57,57,57,57,57,58,58,58,58,58,58,58,58,58,58,58,58]
[34,34,34,34,34,34,34,34,34,34,34,34,35,35,35,35,35,35,35,35,35,35,35,35,36,36,36,36,36,36,36,36,36,36,36,36,37,37,37,37,37,37,37,37,37,37,37,37,38,38,38,38,38,38,38,38,38,38,38,38,39,39,39,39,39,39,39,39,39,39,39,39,40,40,40,40,40,40,40,40,40,40,40,40,41,41,41,41,41,41,41,41,41,41,41,41,42,42,42,42,42,42,42,42,42,42,42,42,43,43,43,43,43,43,43,43,43,43,43,43,44,44,44,44,44,44,44,44,44,44,44,44,45,45,45,45,45,45,45,45,45,45,45,45,46,46,46,46,46,46,46,46,46,46,46,46,47,47,47,47,47,47,47,47,47,47,47,47,48,48,48,48,48,48,48,48,48,48,48,48,49,49,49,49,49,49,49,49,49,49,49,49,50,50,50,50,50,50,50,50,50,50,50,50,51,51,51,51,51,51,51,51,51,51,51,51,52,52,52,52,52,52,52,52,52,52,52,52,53,53,53,53,53,53,53,53,53,53,53,53,54,54,54,54,54,54,54,54,54,54,54,54,55,55,55,55,55,55,55,55,55,55,55,55,56,56,56,56,56,56,56,56,56,56,56,56,57,57,57,57,57,57,57,57,57,57,57,57,58,58,58,58,58,58,58,58,58,58,58,58,59,59,59,59,59,59,59,59,59,59,59,59]
[35,35,35,35,35,35,35,35,35,35,35,35,36,36,36,36,36,36,36,36,36,36,36,36,37,37,37,37,37,37,37,37,37,37,37,37,38,38,38,38,38,38,38,38,38,38,38,38,39,39,39,39,39,39,39,39,39,39,39,39,40,40,40,40,40,40,40,40,40,40,40,40,41,41,41,41,41,41,41,41,41,41,41,41,42,42,42,42,42,42,42,42,42,42,42,42,43,43,43,43,43,43,43,43,43,43,43,43,44,44,44,44,44,44,44,44,44,44,44,44,45,45,45,45,45,45,45,45,45,45,45,45,46,46,46,46,46,46,46,46,46,46,46,46,47,47,47,47,47,47,47,47,47,47,47,47,48,48,48,48,48,48,48,48,48,48,48,48,49,49,49,49,49,49,49,49,49,49,49,49,50,50,50,50,50,50,50,50,50,50,50,50,51,51,51,51,51,51,51,51,51,51,51,51,52,52,52,52,52,52,52,52,52,52,52,52,53,53,53,53,53,53,53,53,53,53,53,53,54,54,54,54,54,54,54,54,54,54,54,54,55,55,55,55,55,55,55,55,55,55,55,55,56,56,56,56,56,56,56,56,56,56,56,56,57,57,57,57,57,57,57,57,57,57,57,57,58,58,58,58,58,58,58,58,58,58,58,58,59,59,59,59,59,59,59,59,59,59,59,59,60,60,60,60,60,60,60,60,60,60,60,60]
[36,36,36,36,36,36,36,36,36,36,36,36,37,37,37,37,37,37,37,37,37,37,37,37,38,38,38,38,38,38,38,38,38,38,38,38,39,39,39,39,39,39,39,39,39,39,39,39,40,40,40,40,40,40,40,40,40,40,40,40,41,41,41,41,41,41,41,41,41,41,41,41,42,42,42,42,42,42,42,42,42,42,42,42,43,43,43,43,43,43,43,43,43,43,43,43,44,44,44,44,44,44,44,44,44,44,44,44,45,45,45,45,45,45,45,45,45,45,45,45,46,46,46,46,46,46,46,46,46,46,46,46,47,47,47,47,47,47,47,47,47,47,47,47,48,48,48,48,48,48,48,48,48,48,48,48,49,49,49,49,49,49,49,49,49,49,49,49,50,50,50,50,50,50,50,50,50,50,50,50,51,51,51,51,51,51,51,51,51,51,51,51,52,52,52,52,52,52,52,52,52,52,52,52,53,53,53,53,53,53,53,53,53,53,53,53,54,54,54,54,54,54,54,54,54,54,54,54,55,55,55,55,55,55,55,55,55,55,55,55,56,56,56,56,56,56,56,56,56,56,56,56,57,57,57,57,57,57,57,57,57,57,57,57,58,58,58,58,58,58,58,58,58,58,58,58,59,59,59,59,59,59,59,59,59,59,59,59,60,60,60,60,60,60,60,60,60,60,60,60,61,61,61,61,61,61,61,61,61,61,61,61]
[37,37,37,37,37,37,37,37,37,37,37,37,38,38,38,38,38,38,38,38,38,38,38,38,39,39,39,39,39,39,39,39,39,39,39,39,40,40,40,40,40,40,40,40,40,40,40,40,41,41,41,41,41,41,41,41,41,41,41,41,42,42,42,42,42,42,42,42,42,42,42,42,43,43,43,43,43,43,43,43,43,43,43,43,44,44,44,44,44,44,44,44,44,44,44,44,45,45,45,45,45,45,45,45,45,45,45,45,46,46,46,46,46,46,46,46,46,46,46,46,47,47,47,47,47,47,47,47,47,47,47,47,48,48,48,48,48,48,48,48,48,48,48,48,49,49,49,49,49,49,49,49,49,49,49,49,50,50,50,50,50,50,50,50,50,50,50,50,51,51,51,51,51,51,51,51,51,51,51,51,52,52,52,52,52,52,52,52,52,52,52,52,53,53,53,53,53,53,53,53,53,53,53,53,54,54,54,54,54,54,54,54,54,54,54,54,55,55,55,55,55,55,55,55,55,55,55,55,56,56,56,56,56,56,56,56,56,56,56,56,57,57,57,57,57,57,57,57,57,57,57,57,58,58,58,58,58,58,58,58,58,58,58,58,59,59,59,59,59,59,59,59,59,59,59,59,60,60,60,60,60,60,60,60,60,60,60,60,61,61,61,61,61,61,61,61,61,61,61,61,62,62,62,62,62,62,62,62,62,62,62,62]
[38,38,38,38,38,38,38,38,38,38,38,38,39,39,39,39,39,39,39,39,39,39,39,39,40,40,40,40,40,40,40,40,40,40,40,40,41,41,41,41,41,41,41,41,41,41,41,41,42,42,42,42,42,42,42,42,42,42,42,42,43,43,43,43,43,43,43,43,43,43,43,43,44,44,44,44,44,44,44,44,44,44,44,44,45,45,45,45,45,45,45,45,45,45,45,45,46,46,46,46,46,46,46,46,46,46,46,46,47,47,47,47,47,47,47,47,47,47,47,47,48,48,48,48,48,48,48,48,48,48,48,48,49,49,49,49,49,49,49,49,49,49,49,49,50,50,50,50,50,50,50,50,50,50,50,50,51,51,51,51,51,51,51,51,51,51,51,51,52,52,52,52,52,52,52,52,52,52,52,52,53,53,53,53,53,53,53,53,53,53,53,53,54,54,54,54,54,54,54,54,54,54,54,54,55,55,55,55,55,55,55,55,55,55,55,55,56,56,56,56,56,56,56,56,56,56,56,56,57,57,57,57,57,57,57,57,57,57,57,57,58,58,58,58,58,58,58,58,58,58,58,58,59,59,59,59,59,59,59,59,59,59,59,59,60,60,60,60,60,60,60,60,60,60,60,60,61,61,61,61,61,61,61,61,61,61,61,61,62,62,62,62,62,62,62,62,62,62,62,62,63,63,63,63,63,63,63,63,63,63,63,63]
[39,39,39,39,39,39,39,39,39,39,39,39,40,40,40,40,40,40,40,40,40,40,40,40,41,41,41,41,41,41,41,41,41,41,41,41,42,42,42,42,42,42,42,42,42,42,42,42,43,43,43,43,43,43,43,43,43,43,43,43,44,44,44,44,44,44,44,44,44,44,44,44,45,45,45,45,45,45,45,45,45,45,45,45,46,46,46,46,46,46,46,46,46,46,46,46,47,47,47,47,47,47,47,47,47,47,47,47,48,48,48,48,48,48,48,48,48,48,48,48,49,49,49,49,49,49,49,49,49,49,49,49,50,50,50,50,50,50,50,50,50,50,50,50,51,51,51,51,51,51,51,51,51,51,51,51,52,52,52,52,52,52,52,52,52,52,52,52,53,53,53,53,53,53,53,53,53,53,53,53,54,54,54,54,54,54,54,54,54,54,54,54,55,55,55,55,55,55,55,55,55,55,55,55,56,56,56,56,56,56,56,56,56,56,56,56,57,57,57,57,57,57,57,57,57,57,57,57,58,58,58,58,58,58,58,58,58,58,58,58,59,59,59,59,59,59,59,59,59,59,59,59,60,60,60,60,60,60,60,60,60,60,60,60,61,61,61,61,61,61,61,61,61,61,61,61,62,62,62,62,62,62,62,62,62,62,62,62,63,63,63,63,63,63,63,63,63,63,63,63,64,64,64,64,64,64,64,64,64,64,64,64]
[40,40,40,40,40,40,40,40,40,40,40,40,41,41,41,41,41,41,41,41,41,41,41,41,42,42,42,42,42,42,42,42,42,42,42,42,43,43,43,43,43,43,43,43,43,43,43,43,44,44,44,44,44,44,44,44,44,44,44,44,45,45,45,45,45,45,45,45,45,45,45,45,46,46,46,46,46,46,46,46,46,46,46,46,47,47,47,47,47,47,47,47,47,47,47,47,48,48,48,48,48,48,48,48,48,48,48,48,49,49,49,49,49,49,49,49,49,49,49,49,50,50,50,50,50,50,50,50,50,50,50,50,51,51,51,51,51,51,51,51,51,51,51,51,52,52,52,52,52,52,52,52,52,52,52,52,53,53,53,53,53,53,53,53,53,53,53,53,54,54,54,54,54,54,54,54,54,54,54,54,55,55,55,55,55,55,55,55,55,55,55,55,56,56,56,56,56,56,56,56,56,56,56,56,57,57,57,57,57,57,57,57,57,57,57,57,58,58,58,58,58,58,58,58,58,58,58,58,59,59,59,59,59,59,59,59,59,59,59,59,60,60,60,60,60,60,60,60,60,60,60,60,61,61,61,61,61,61,61,61,61,61,61,61,62,62,62,62,62,62,62,62,62,62,62,62,63,63,63,63,63,63,63,63,63,63,63,63,64,64,64,64,64,64,64,64,64,64,64,64,65,65,65,65,65,65,65,65,65,65,65,65]
[41,41,41,41,41,41,41,41,41,41,41,41,42,42,42,42,42,42,42,42,42,42,42,42,43,43,43,43,43,43,43,43,43,43,43,43,44,44,44,44,44,44,44,44,44,44,44,44,45,45,45,45,45,45,45,45,45,45,45,45,46,46,46,46,46,46,46,46,46,46,46,46,47,47,47,47,47,47,47,47,47,47,47,47,48,48,48,48,48,48,48,48,48,48,48,48,49,49,49,49,49,49,49,49,49,49,49,49,50,50,50,50,50,50,50,50,50,50,50,50,51,51,51,51,51,51,51,51,51,51,51,51,52,52,52,52,52,52,52,52,52,52,52,52,53,53,53,53,53,53,53,53,53,53,53,53,54,54,54,54,54,54,54,54,54,54,54,54,55,55,55,55,55,55,55,55,55,55,55,55,56,56,56,56,56,56,56,56,56,56,56,56,57,57,57,57,57,57,57,57,57,57,57,57,58,58,58,58,58,58,58,58,58,58,58,58,59,59,59,59,59,59,59,59,59,59,59,59,60,60,60,60,60,60,60,60,60,60,60,60,61,61,61,61,61,61,61,61,61,61,61,61,62,62,62,62,62,62,62,62,62,62,62,62,63,63,63,63,63,63,63,63,63,63,63,63,64,64,64,64,64,64,64,64,64,64,64,64,65,65,65,65,65,65,65,65,65,65,65,65,66,66,66,66,66,66,66,66,66,66,66,66]
[42,42,42,42,42,42,42,42,42,42,42,42,43,43,43,43,43,43,43,43,43,43,43,43,44,44,44,44,44,44,44,44,44,44,44,44,45,45,45,45,45,45,45,45,45,45,45,45,46,46,46,46,46,46,46,46,46,46,46,46,47,47,47,47,47,47,47,47,47,47,47,47,48,48,48,48,48,48,48,48,48,48,48,48,49,49,49,49,49,49,49,49,49,49,49,49,50,50,50,50,50,50,50,50,50,50,50,50,51,51,51,51,51,51,51,51,51,51,51,51,52,52,52,52,52,52,52,52,52,52,52,52,53,53,53,53,53,53,53,53,53,53,53,53,54,54,54,54,54,54,54,54,54,54,54,54,55,55,55,55,55,55,55,55,55,55,55,55,56,56,56,56,56,56,56,56,56,56,56,56,57,57,57,57,57,57,57,57,57,57,57,57,58,58,58,58,58,58,58,58,58,58,58,58,59,59,59,59,59,59,59,59,59,59,59,59,60,60,60,60,60,60,60,60,60,60,60,60,61,61,61,61,61,61,61,61,61,61,61,61,62,62,62,62,62,62,62,62,62,62,62,62,63,63,63,63,63,63,63,63,63,63,63,63,64,64,64,64,64,64,64,64,64,64,64,64,65,65,65,65,65,65,65,65,65,65,65,65,66,66,66,66,66,66,66,66,66,66,66,66,67,67,67,67,67,67,67,67,67,67,67,67]
[43,43,43,43,43,43,43,43,43,43,43,43,44,44,44,44,44,44,44,44,44,44,44,44,45,45,45,45,45,45,45,45,45,45,45,45,46,46,46,46,46,46,46,46,46,46,46,46,47,47,47,47,47,47,47,47,47,47,47,47,48,48,48,48,48,48,48,48,48,48,48,48,49,49,49,49,49,49,49,49,49,49,49,49,50,50,50,50,50,50,50,50,50,50,50,50,51,51,51,51,51,51,51,51,51,51,51,51,52,52,52,52,52,52,52,52,52,52,52,52,53,53,53,53,53,53,53,53,53,53,53,53,54,54,54,54,54,54,54,54,54,54,54,54,55,55,55,55,55,55,55,55,55,55,55,55,56,56,56,56,56,56,56,56,56,56,56,56,57,57,57,57,57,57,57,57,57,57,57,57,58,58,58,58,58,58,58,58,58,58,58,58,59,59,59,59,59,59,59,59,59,59,59,59,60,60,60,60,60,60,60,60,60,60,60,60,61,61,61,61,61,61,61,61,61,61,61,61,62,62,62,62,62,62,62,62,62,62,62,62,63,63,63,63,63,63,63,63,63,63,63,63,64,64,64,64,64,64,64,64,64,64,64,64,65,65,65,65,65,65,65,65,65,65,65,65,66,66,66,66,66,66,66,66,66,66,66,66,67,67,67,67,67,67,67,67,67,67,67,67,68,68,68,68,68,68,68,68,68,68,68,68]
[44,44,44,44,44,44,44,44,44,44,44,44,45,45,45,45,45,45,45,45,45,45,45,45,46,46,46,46,46,46,46,46,46,46,46,46,47,47,47,47,47,47,47,47,47,47,47,47,48,48,48,48,48,48,48,48,48,48,48,48,49,49,49,49,49,49,49,49,49,49,49,49,50,50,50,50,50,50,50,50,50,50,50,50,51,51,51,51,51,51,51,51,51,51,51,51,52,52,52,52,52,52,52,52,52,52,52,52,53,53,53,53,53,53,53,53,53,53,53,53,54,54,54,54,54,54,54,54,54,54,54,54,55,55,55,55,55,55,55,55,55,55,55,55,56,56,56,56,56,56,56,56,56,56,56,56,57,57,57,57,57,57,57,57,57,57,57,57,58,58,58,58,58,58,58,58,58,58,58,58,59,59,59,59,59,59,59,59,59,59,59,59,60,60,60,60,60,60,60,60,60,60,60,60,61,61,61,61,61,61,61,61,61,61,61,61,62,62,62,62,62,62,62,62,62,62,62,62,63,63,63,63,63,63,63,63,63,63,63,63,64,64,64,64,64,64,64,64,64,64,64,64,65,65,65,65,65,65,65,65,65,65,65,65,66,66,66,66,66,66,66,66,66,66,66,66,67,67,67,67,67,67,67,67,67,67,67,67,68,68,68,68,68,68,68,68,68,68,68,68,69,69,69,69,69,69,69,69,69,69,69,69]
[45,45,45,45,45,45,45,45,45,45,45,45,46,46,46,46,46,46,46,46,46,46,46,46,47,47,47,47,47,47,47,47,47,47,47,47,48,48,48,48,48,48,48,48,48,48,48,48,49,49,49,49,49,49,49,49,49,49,49,49,50,50,50,50,50,50,50,50,50,50,50,50,51,51,51,51,51,51,51,51,51,51,51,51,52,52,52,52,52,52,52,52,52,52,52,52,53,53,53,53,53,53,53,53,53,53,53,53,54,54,54,54,54,54,54,54,54,54,54,54,55,55,55,55,55,55,55,55,55,55,55,55,56,56,56,56,56,56,56,56,56,56,56,56,57,57,57,57,57,57,57,57,57,57,57,57,58,58,58,58,58,58,58,58,58,58,58,58,59,59,59,59,59,59,59,59,59,59,59,59,60,60,60,60,60,60,60,60,60,60,60,60,61,61,61,61,61,61,61,61,61,61,61,61,62,62,62,62,62,62,62,62,62,62,62,62,63,63,63,63,63,63,63,63,63,63,63,63,64,64,64,64,64,64,64,64,64,64,64,64,65,65,65,65,65,65,65,65,65,65,65,65,66,66,66,66,66,66,66,66,66,66,66,66,67,67,67,67,67,67,67,67,67,67,67,67,68,68,68,68,68,68,68,68,68,68,68,68,69,69,69,69,69,69,69,69,69,69,69,69,70,70,70,70,70,70,70,70,70,70,70,70]
[46,46,46,46,46,46,46,46,46,46,46,46,47,47,47,47,47,47,47,47,47,47,47,47,48,48,48,48,48,48,48,48,48,48,48,48,49,49,49,49,49,49,49,49,49,49,49,49,50,50,50,50,50,50,50,50,50,50,50,50,51,51,51,51,51,51,51,51,51,51,51,51,52,52,52,52,52,52,52,52,52,52,52,52,53,53,53,53,53,53,53,53,53,53,53,53,54,54,54,54,54,54,54,54,54,54,54,54,55,55,55,55,55,55,55,55,55,55,55,55,56,56,56,56,56,56,56,56,56,56,56,56,57,57,57,57,57,57,57,57,57,57,57,57,58,58,58,58,58,58,58,58,58,58,58,58,59,59,59,59,59,59,59,59,59,59,59,59,60,60,60,60,60,60,60,60,60,60,60,60,61,61,61,61,61,61,61,61,61,61,61,61,62,62,62,62,62,62,62,62,62,62,62,62,63,63,63,63,63,63,63,63,63,63,63,63,64,64,64,64,64,64,64,64,64,64,64,64,65,65,65,65,65,65,65,65,65,65,65,65,66,66,66,66,66,66,66,66,66,66,66,66,67,67,67,67,67,67,67,67,67,67,67,67,68,68,68,68,68,68,68,68,68,68,68,68,69,69,69,69,69,69,69,69,69,69,69,69,70,70,70,70,70,70,70,70,70,70,70,70,71,71,71,71,71,71,71,71,71,71,71,71]
[47,47,47,47,47,47,47,47,47,47,47,47,48,48,48,48,48,48,48,48,48,48,48,48,49,49,49,49,49,49,49,49,49,49,49,49,50,50,50,50,50,50,50,50,50,50,50,50,51,51,51,51,51,51,51,51,51,51,51,51,52,52,52,52,52,52,52,52,52,52,52,52,53,53,53,53,53,53,53,53,53,53,53,53,54,54,54,54,54,54,54,54,54,54,54,54,55,55,55,55,55,55,55,55,55,55,55,55,56,56,56,56,56,56,56,56,56,56,56,56,57,57,57,57,57,57,57,57,57,57,57,57,58,58,58,58,58,58,58,58,58,58,58,58,59,59,59,59,59,59,59,59,59,59,59,59,60,60,60,60,60,60,60,60,60,60,60,60,61,61,61,61,61,61,61,61,61,61,61,61,62,62,62,62,62,62,62,62,62,62,62,62,63,63,63,63,63,63,63,63,63,63,63,63,64,64,64,64,64,64,64,64,64,64,64,64,65,65,65,65,65,65,65,65,65,65,65,65,66,66,66,66,66,66,66,66,66,66,66,66,67,67,67,67,67,67,67,67,67,67,67,67,68,68,68,68,68,68,68,68,68,68,68,68,69,69,69,69,69,69,69,69,69,69,69,69,70,70,70,70,70,70,70,70,70,70,70,70,71,71,71,71,71,71,71,71,71,71,71,71,72,72,72,72,72,72,72,72,72,72,72,72]
[48,48,48,48,48,48,48,48,48,48,48,48,49,49,49,49,49,49,49,49,49,49,49,49,50,50,50,50,50,50,50,50,50,50,50,50,51,51,51,51,51,51,51,51,51,51,51,51,52,52,52,52,52,52,52,52,52,52,52,52,53,53,53,53,53,53,53,53,53,53,53,53,54,54,54,54,54,54,54,54,54,54,54,54,55,55,55,55,55,55,55,55,55,55,55,55,56,56,56,56,56,56,56,56,56,56,56,56,57,57,57,57,57,57,57,57,57,57,57,57,58,58,58,58,58,58,58,58,58,58,58,58,59,59,59,59,59,59,59,59,59,59,59,59,60,60,60,60,60,60,60,60,60,60,60,60,61,61,61,61,61,61,61,61,61,61,61,61,62,62,62,62,62,62,62,62,62,62,62,62,63,63,63,63,63,63,63,63,63,63,63,63,64,64,64,64,64,64,64,64,64,64,64,64,65,65,65,65,65,65,65,65,65,65,65,65,66,66,66,66,66,66,66,66,66,66,66,66,67,67,67,67,67,67,67,67,67,67,67,67,68,68,68,68,68,68,68,68,68,68,68,68,69,69,69,69,69,69,69,69,69,69,69,69,70,70,70,70,70,70,70,70,70,70,70,70,71,71,71,71,71,71,71,71,71,71,71,71,72,72,72,72,72,72,72,72,72,72,72,72,73,73,73,73,73,73,73,73,73,73,73,73]
[49,49,49,49,49,49,49,49,49,49,49,49,50,50,50,50,50,50,50,50,50,50,50,50,51,51,51,51,51,51,51,51,51,51,51,51,52,52,52,52,52,52,52,52,52,52,52,52,53,53,53,53,53,53,53,53,53,53,53,53,54,54,54,54,54,54,54,54,54,54,54,54,55,55,55,55,55,55,55,55,55,55,55,55,56,56,56,56,56,56,56,56,56,56,56,56,57,57,57,57,57,57,57,57,57,57,57,57,58,58,58,58,58,58,58,58,58,58,58,58,59,59,59,59,59,59,59,59,59,59,59,59,60,60,60,60,60,60,60,60,60,60,60,60,61,61,61,61,61,61,61,61,61,61,61,61,62,62,62,62,62,62,62,62,62,62,62,62,63,63,63,63,63,63,63,63,63,63,63,63,64,64,64,64,64,64,64,64,64,64,64,64,65,65,65,65,65,65,65,65,65,65,65,65,66,66,66,66,66,66,66,66,66,66,66,66,67,67,67,67,67,67,67,67,67,67,67,67,68,68,68,68,68,68,68,68,68,68,68,68,69,69,69,69,69,69,69,69,69,69,69,69,70,70,70,70,70,70,70,70,70,70,70,70,71,71,71,71,71,71,71,71,71,71,71,71,72,72,72,72,72,72,72,72,72,72,72,72,73,73,73,73,73,73,73,73,73,73,73,73,74,74,74,74,74,74,74,74,74,74,74,74]
[50,50,50,50,50,50,50,50,50,50,50,50,51,51,51,51,51,51,51,51,51,51,51,51,52,52,52,52,52,52,52,52,52,52,52,52,53,53,53,53,53,53,53,53,53,53,53,53,54,54,54,54,54,54,54,54,54,54,54,54,55,55,55,55,55,55,55,55,55,55,55,55,56,56,56,56,56,56,56,56,56,56,56,56,57,57,57,57,57,57,57,57,57,57,57,57,58,58,58,58,58,58,58,58,58,58,58,58,59,59,59,59,59,59,59,59,59,59,59,59,60,60,60,60,60,60,60,60,60,60,60,60,61,61,61,61,61,61,61,61,61,61,61,61,62,62,62,62,62,62,62,62,62,62,62,62,63,63,63,63,63,63,63,63,63,63,63,63,64,64,64,64,64,64,64,64,64,64,64,64,65,65,65,65,65,65,65,65,65,65,65,65,66,66,66,66,66,66,66,66,66,66,66,66,67,67,67,67,67,67,67,67,67,67,67,67,68,68,68,68,68,68,68,68,68,68,68,68,69,69,69,69,69,69,69,69,69,69,69,69,70,70,70,70,70,70,70,70,70,70,70,70,71,71,71,71,71,71,71,71,71,71,71,71,72,72,72,72,72,72,72,72,72,72,72,72,73,73,73,73,73,73,73,73,73,73,73,73,74,74,74,74,74,74,74,74,74,74,74,74,75,75,75,75,75,75,75,75,75,75,75,75]
[51,51,51,51,51,51,51,51,51,51,51,51,52,52,52,52,52,52,52,52,52,52,52,52,53,53,53,53,53,53,53,53,53,53,53,53,54,54,54,54,54,54,54,54,54,54,54,54,55,55,55,55,55,55,55,55,55,55,55,55,56,56,56,56,56,56,56,56,56,56,56,56,57,57,57,57,57,57,57,57,57,57,57,57,58,58,58,58,58,58,58,58,58,58,58,58,59,59,59,59,59,59,59,59,59,59,59,59,60,60,60,60,60,60,60,60,60,60,60,60,61,61,61,61,61,61,61,61,61,61,61,61,62,62,62,62,62,62,62,62,62,62,62,62,63,63,63,63,63,63,63,63,63,63,63,63,64,64,64,64,64,64,64,64,64,64,64,64,65,65,65,65,65,65,65,65,65,65,65,65,66,66,66,66,66,66,66,66,66,66,66,66,67,67,67,67,67,67,67,67,67,67,67,67,68,68,68,68,68,68,68,68,68,68,68,68,69,69,69,69,69,69,69,69,69,69,69,69,70,70,70,70,70,70,70,70,70,70,70,70,71,71,71,71,71,71,71,71,71,71,71,71,72,72,72,72,72,72,72,72,72,72,72,72,73,73,73,73,73,73,73,73,73,73,73,73,74,74,74,74,74,74,74,74,74,74,74,74,75,75,75,75,75,75,75,75,75,75,75,75,76,76,76,76,76,76,76,76,76,76,76,76]
[52,52,52,52,52,52,52,52,52,52,52,52,53,53,53,53,53,53,53,53,53,53,53,53,54,54,54,54,54,54,54,54,54,54,54,54,55,55,55,55,55,55,55,55,55,55,55,55,56,56,56,56,56,56,56,56,56,56,56,56,57,57,57,57,57,57,57,57,57,57,57,57,58,58,58,58,58,58,58,58,58,58,58,58,59,59,59,59,59,59,59,59,59,59,59,59,60,60,60,60,60,60,60,60,60,60,60,60,61,61,61,61,61,61,61,61,61,61,61,61,62,62,62,62,62,62,62,62,62,62,62,62,63,63,63,63,63,63,63,63,63,63,63,63,64,64,64,64,64,64,64,64,64,64,64,64,65,65,65,65,65,65,65,65,65,65,65,65,66,66,66,66,66,66,66,66,66,66,66,66,67,67,67,67,67,67,67,67,67,67,67,67,68,68,68,68,68,68,68,68,68,68,68,68,69,69,69,69,69,69,69,69,69,69,69,69,70,70,70,70,70,70,70,70,70,70,70,70,71,71,71,71,71,71,71,71,71,71,71,71,72,72,72,72,72,72,72,72,72,72,72,72,73,73,73,73,73,73,73,73,73,73,73,73,74,74,74,74,74,74,74,74,74,74,74,74,75,75,75,75,75,75,75,75,75,75,75,75,76,76,76,76,76,76,76,76,76,76,76,76,77,77,77,77,77,77,77,77,77,77,77,77]
[53,53,53,53,53,53,53,53,53,53,53,53,54,54,54,54,54,54,54,54,54,54,54,54,55,55,55,55,55,55,55,55,55,55,55,55,56,56,56,56,56,56,56,56,56,56,56,56,57,57,57,57,57,57,57,57,57,57,57,57,58,58,58,58,58,58,58,58,58,58,58,58,59,59,59,59,59,59,59,59,59,59,59,59,60,60,60,60,60,60,60,60,60,60,60,60,61,61,61,61,61,61,61,61,61,61,61,61,62,62,62,62,62,62,62,62,62,62,62,62,63,63,63,63,63,63,63,63,63,63,63,63,64,64,64,64,64,64,64,64,64,64,64,64,65,65,65,65,65,65,65,65,65,65,65,65,66,66,66,66,66,66,66,66,66,66,66,66,67,67,67,67,67,67,67,67,67,67,67,67,68,68,68,68,68,68,68,68,68,68,68,68,69,69,69,69,69,69,69,69,69,69,69,69,70,70,70,70,70,70,70,70,70,70,70,70,71,71,71,71,71,71,71,71,71,71,71,71,72,72,72,72,72,72,72,72,72,72,72,72,73,73,73,73,73,73,73,73,73,73,73,73,74,74,74,74,74,74,74,74,74,74,74,74,75,75,75,75,75,75,75,75,75,75,75,75,76,76,76,76,76,76,76,76,76,76,76,76,77,77,77,77,77,77,77,77,77,77,77,77,78,78,78,78,78,78,78,78,78,78,78,78]
[54,54,54,54,54,54,54,54,54,54,54,54,55,55,55,55,55,55,55,55,55,55,55,55,56,56,56,56,56,56,56,56,56,56,56,56,57,57,57,57,57,57,57,57,57,57,57,57,58,58,58,58,58,58,58,58,58,58,58,58,59,59,59,59,59,59,59,59,59,59,59,59,60,60,60,60,60,60,60,60,60,60,60,60,61,61,61,61,61,61,61,61,61,61,61,61,62,62,62,62,62,62,62,62,62,62,62,62,63,63,63,63,63,63,63,63,63,63,63,63,64,64,64,64,64,64,64,64,64,64,64,64,65,65,65,65,65,65,65,65,65,65,65,65,66,66,66,66,66,66,66,66,66,66,66,66,67,67,67,67,67,67,67,67,67,67,67,67,68,68,68,68,68,68,68,68,68,68,68,68,69,69,69,69,69,69,69,69,69,69,69,69,70,70,70,70,70,70,70,70,70,70,70,70,71,71,71,71,71,71,71,71,71,71,71,71,72,72,72,72,72,72,72,72,72,72,72,72,73,73,73,73,73,73,73,73,73,73,73,73,74,74,74,74,74,74,74,74,74,74,74,74,75,75,75,75,75,75,75,75,75,75,75,75,76,76,76,76,76,76,76,76,76,76,76,76,77,77,77,77,77,77,77,77,77,77,77,77,78,78,78,78,78,78,78,78,78,78,78,78,79,79,79,79,79,79,79,79,79,79,79,79]
[55,55,55,55,55,55,55,55,55,55,55,55,56,56,56,56,56,56,56,56,56,56,56,56,57,57,57,57,57,57,57,57,57,57,57,57,58,58,58,58,58,58,58,58,58,58,58,58,59,59,59,59,59,59,59,59,59,59,59,59,60,60,60,60,60,60,60,60,60,60,60,60,61,61,61,61,61,61,61,61,61,61,61,61,62,62,62,62,62,62,62,62,62,62,62,62,63,63,63,63,63,63,63,63,63,63,63,63,64,64,64,64,64,64,64,64,64,64,64,64,65,65,65,65,65,65,65,65,65,65,65,65,66,66,66,66,66,66,66,66,66,66,66,66,67,67,67,67,67,67,67,67,67,67,67,67,68,68,68,68,68,68,68,68,68,68,68,68,69,69,69,69,69,69,69,69,69,69,69,69,70,70,70,70,70,70,70,70,70,70,70,70,71,71,71,71,71,71,71,71,71,71,71,71,72,72,72,72,72,72,72,72,72,72,72,72,73,73,73,73,73,73,73,73,73,73,73,73,74,74,74,74,74,74,74,74,74,74,74,74,75,75,75,75,75,75,75,75,75,75,75,75,76,76,76,76,76,76,76,76,76,76,76,76,77,77,77,77,77,77,77,77,77,77,77,77,78,78,78,78,78,78,78,78,78,78,78,78,79,79,79,79,79,79,79,79,79,79,79,79,80,80,80,80,80,80,80,80,80,80,80,80]
[56,56,56,56,56,56,56,56,56,56,56,56,57,57,57,57,57,57,57,57,57,57,57,57,58,58,58,58,58,58,58,58,58,58,58,58,59,59,59,59,59,59,59,59,59,59,59,59,60,60,60,60,60,60,60,60,60,60,60,60,61,61,61,61,61,61,61,61,61,61,61,61,62,62,62,62,62,62,62,62,62,62,62,62,63,63,63,63,63,63,63,63,63,63,63,63,64,64,64,64,64,64,64,64,64,64,64,64,65,65,65,65,65,65,65,65,65,65,65,65,66,66,66,66,66,66,66,66,66,66,66,66,67,67,67,67,67,67,67,67,67,67,67,67,68,68,68,68,68,68,68,68,68,68,68,68,69,69,69,69,69,69,69,69,69,69,69,69,70,70,70,70,70,70,70,70,70,70,70,70,71,71,71,71,71,71,71,71,71,71,71,71,72,72,72,72,72,72,72,72,72,72,72,72,73,73,73,73,73,73,73,73,73,73,73,73,74,74,74,74,74,74,74,74,74,74,74,74,75,75,75,75,75,75,75,75,75,75,75,75,76,76,76,76,76,76,76,76,76,76,76,76,77,77,77,77,77,77,77,77,77,77,77,77,78,78,78,78,78,78,78,78,78,78,78,78,79,79,79,79,79,79,79,79,79,79,79,79,80,80,80,80,80,80,80,80,80,80,80,80,81,81,81,81,81,81,81,81,81,81,81,81]
[57,57,57,57,57,57,57,57,57,57,57,57,58,58,58,58,58,58,58,58,58,58,58,58,59,59,59,59,59,59,59,59,59,59,59,59,60,60,60,60,60,60,60,60,60,60,60,60,61,61,61,61,61,61,61,61,61,61,61,61,62,62,62,62,62,62,62,62,62,62,62,62,63,63,63,63,63,63,63,63,63,63,63,63,64,64,64,64,64,64,64,64,64,64,64,64,65,65,65,65,65,65,65,65,65,65,65,65,66,66,66,66,66,66,66,66,66,66,66,66,67,67,67,67,67,67,67,67,67,67,67,67,68,68,68,68,68,68,68,68,68,68,68,68,69,69,69,69,69,69,69,69,69,69,69,69,70,70,70,70,70,70,70,70,70,70,70,70,71,71,71,71,71,71,71,71,71,71,71,71,72,72,72,72,72,72,72,72,72,72,72,72,73,73,73,73,73,73,73,73,73,73,73,73,74,74,74,74,74,74,74,74,74,74,74,74,75,75,75,75,75,75,75,75,75,75,75,75,76,76,76,76,76,76,76,76,76,76,76,76,77,77,77,77,77,77,77,77,77,77,77,77,78,78,78,78,78,78,78,78,78,78,78,78,79,79,79,79,79,79,79,79,79,79,79,79,80,80,80,80,80,80,80,80,80,80,80,80,81,81,81,81,81,81,81,81,81,81,81,81,82,82,82,82,82,82,82,82,82,82,82,82]
[58,58,58,58,58,58,58,58,58,58,58,58,59,59,59,59,59,59,59,59,59,59,59,59,60,60,60,60,60,60,60,60,60,60,60,60,61,61,61,61,61,61,61,61,61,61,61,61,62,62,62,62,62,62,62,62,62,62,62,62,63,63,63,63,63,63,63,63,63,63,63,63,64,64,64,64,64,64,64,64,64,64,64,64,65,65,65,65,65,65,65,65,65,65,65,65,66,66,66,66,66,66,66,66,66,66,66,66,67,67,67,67,67,67,67,67,67,67,67,67,68,68,68,68,68,68,68,68,68,68,68,68,69,69,69,69,69,69,69,69,69,69,69,69,70,70,70,70,70,70,70,70,70,70,70,70,71,71,71,71,71,71,71,71,71,71,71,71,72,72,72,72,72,72,72,72,72,72,72,72,73,73,73,73,73,73,73,73,73,73,73,73,74,74,74,74,74,74,74,74,74,74,74,74,75,75,75,75,75,75,75,75,75,75,75,75,76,76,76,76,76,76,76,76,76,76,76,76,77,77,77,77,77,77,77,77,77,77,77,77,78,78,78,78,78,78,78,78,78,78,78,78,79,79,79,79,79,79,79,79,79,79,79,79,80,80,80,80,80,80,80,80,80,80,80,80,81,81,81,81,81,81,81,81,81,81,81,81,82,82,82,82,82,82,82,82,82,82,82,82,83,83,83,83,83,83,83,83,83,83,83,83]
[59,59,59,59,59,59,59,59,59,59,59,59,60,60,60,60,60,60,60,60,60,60,60,60,61,61,61,61,61,61,61,61,61,61,61,61,62,62,62,62,62,62,62,62,62,62,62,62,63,63,63,63,63,63,63,63,63,63,63,63,64,64,64,64,64,64,64,64,64,64,64,64,65,65,65,65,65,65,65,65,65,65,65,65,66,66,66,66,66,66,66,66,66,66,66,66,67,67,67,67,67,67,67,67,67,67,67,67,68,68,68,68,68,68,68,68,68,68,68,68,69,69,69,69,69,69,69,69,69,69,69,69,70,70,70,70,70,70,70,70,70,70,70,70,71,71,71,71,71,71,71,71,71,71,71,71,72,72,72,72,72,72,72,72,72,72,72,72,73,73,73,73,73,73,73,73,73,73,73,73,74,74,74,74,74,74,74,74,74,74,74,74,75,75,75,75,75,75,75,75,75,75,75,75,76,76,76,76,76,76,76,76,76,76,76,76,77,77,77,77,77,77,77,77,77,77,77,77,78,78,78,78,78,78,78,78,78,78,78,78,79,79,79,79,79,79,79,79,79,79,79,79,80,80,80,80,80,80,80,80,80,80,80,80,81,81,81,81,81,81,81,81,81,81,81,81,82,82,82,82,82,82,82,82,82,82,82,82,83,83,83,83,83,83,83,83,83,83,83,83,84,84,84,84,84,84,84,84,84,84,84,84]
[60,60,60,60,60,60,60,60,60,60,60,60,61,61,61,61,61,61,61,61,61,61,61,61,62,62,62,62,62,62,62,62,62,62,62,62,63,63,63,63,63,63,63,63,63,63,63,63,64,64,64,64,64,64,64,64,64,64,64,64,65,65,65,65,65,65,65,65,65,65,65,65,66,66,66,66,66,66,66,66,66,66,66,66,67,67,67,67,67,67,67,67,67,67,67,67,68,68,68,68,68,68,68,68,68,68,68,68,69,69,69,69,69,69,69,69,69,69,69,69,70,70,70,70,70,70,70,70,70,70,70,70,71,71,71,71,71,71,71,71,71,71,71,71,72,72,72,72,72,72,72,72,72,72,72,72,73,73,73,73,73,73,73,73,73,73,73,73,74,74,74,74,74,74,74,74,74,74,74,74,75,75,75,75,75,75,75,75,75,75,75,75,76,76,76,76,76,76,76,76,76,76,76,76,77,77,77,77,77,77,77,77,77,77,77,77,78,78,78,78,78,78,78,78,78,78,78,78,79,79,79,79,79,79,79,79,79,79,79,79,80,80,80,80,80,80,80,80,80,80,80,80,81,81,81,81,81,81,81,81,81,81,81,81,82,82,82,82,82,82,82,82,82,82,82,82,83,83,83,83,83,83,83,83,83,83,83,83,84,84,84,84,84,84,84,84,84,84,84,84,85,85,85,85,85,85,85,85,85,85,85,85]
[61,61,61,61,61,61,61,61,61,61,61,61,62,62,62,62,62,62,62,62,62,62,62,62,63,63,63,63,63,63,63,63,63,63,63,63,64,64,64,64,64,64,64,64,64,64,64,64,65,65,65,65,65,65,65,65,65,65,65,65,66,66,66,66,66,66,66,66,66,66,66,66,67,67,67,67,67,67,67,67,67,67,67,67,68,68,68,68,68,68,68,68,68,68,68,68,69,69,69,69,69,69,69,69,69,69,69,69,70,70,70,70,70,70,70,70,70,70,70,70,71,71,71,71,71,71,71,71,71,71,71,71,72,72,72,72,72,72,72,72,72,72,72,72,73,73,73,73,73,73,73,73,73,73,73,73,74,74,74,74,74,74,74,74,74,74,74,74,75,75,75,75,75,75,75,75,75,75,75,75,76,76,76,76,76,76,76,76,76,76,76,76,77,77,77,77,77,77,77,77,77,77,77,77,78,78,78,78,78,78,78,78,78,78,78,78,79,79,79,79,79,79,79,79,79,79,79,79,80,80,80,80,80,80,80,80,80,80,80,80,81,81,81,81,81,81,81,81,81,81,81,81,82,82,82,82,82,82,82,82,82,82,82,82,83,83,83,83,83,83,83,83,83,83,83,83,84,84,84,84,84,84,84,84,84,84,84,84,85,85,85,85,85,85,85,85,85,85,85,85,86,86,86,86,86,86,86,86,86,86,86,86]
[62,62,62,62,62,62,62,62,62,62,62,62,63,63,63,63,63,63,63,63,63,63,63,63,64,64,64,64,64,64,64,64,64,64,64,64,65,65,65,65,65,65,65,65,65,65,65,65,66,66,66,66,66,66,66,66,66,66,66,66,67,67,67,67,67,67,67,67,67,67,67,67,68,68,68,68,68,68,68,68,68,68,68,68,69,69,69,69,69,69,69,69,69,69,69,69,70,70,70,70,70,70,70,70,70,70,70,70,71,71,71,71,71,71,71,71,71,71,71,71,72,72,72,72,72,72,72,72,72,72,72,72,73,73,73,73,73,73,73,73,73,73,73,73,74,74,74,74,74,74,74,74,74,74,74,74,75,75,75,75,75,75,75,75,75,75,75,75,76,76,76,76,76,76,76,76,76,76,76,76,77,77,77,77,77,77,77,77,77,77,77,77,78,78,78,78,78,78,78,78,78,78,78,78,79,79,79,79,79,79,79,79,79,79,79,79,80,80,80,80,80,80,80,80,80,80,80,80,81,81,81,81,81,81,81,81,81,81,81,81,82,82,82,82,82,82,82,82,82,82,82,82,83,83,83,83,83,83,83,83,83,83,83,83,84,84,84,84,84,84,84,84,84,84,84,84,85,85,85,85,85,85,85,85,85,85,85,85,86,86,86,86,86,86,86,86,86,86,86,86,87,87,87,87,87,87,87,87,87,87,87,87]
[63,63,63,63,63,63,63,63,63,63,63,63,64,64,64,64,64,64,64,64,64,64,64,64,65,65,65,65,65,65,65,65,65,65,65,65,66,66,66,66,66,66,66,66,66,66,66,66,67,67,67,67,67,67,67,67,67,67,67,67,68,68,68,68,68,68,68,68,68,68,68,68,69,69,69,69,69,69,69,69,69,69,69,69,70,70,70,70,70,70,70,70,70,70,70,70,71,71,71,71,71,71,71,71,71,71,71,71,72,72,72,72,72,72,72,72,72,72,72,72,73,73,73,73,73,73,73,73,73,73,73,73,74,74,74,74,74,74,74,74,74,74,74,74,75,75,75,75,75,75,75,75,75,75,75,75,76,76,76,76,76,76,76,76,76,76,76,76,77,77,77,77,77,77,77,77,77,77,77,77,78,78,78,78,78,78,78,78,78,78,78,78,79,79,79,79,79,79,79,79,79,79,79,79,80,80,80,80,80,80,80,80,80,80,80,80,81,81,81,81,81,81,81,81,81,81,81,81,82,82,82,82,82,82,82,82,82,82,82,82,83,83,83,83,83,83,83,83,83,83,83,83,84,84,84,84,84,84,84,84,84,84,84,84,85,85,85,85,85,85,85,85,85,85,85,85,86,86,86,86,86,86,86,86,86,86,86,86,87,87,87,87,87,87,87,87,87,87,87,87,88,88,88,88,88,88,88,88,88,88,88,88]
[64,64,64,64,64,64,64,64,64,64,64,64,65,65,65,65,65,65,65,65,65,65,65,65,66,66,66,66,66,66,66,66,66,66,66,66,67,67,67,67,67,67,67,67,67,67,67,67,68,68,68,68,68,68,68,68,68,68,68,68,69,69,69,69,69,69,69,69,69,69,69,69,70,70,70,70,70,70,70,70,70,70,70,70,71,71,71,71,71,71,71,71,71,71,71,71,72,72,72,72,72,72,72,72,72,72,72,72,73,73,73,73,73,73,73,73,73,73,73,73,74,74,74,74,74,74,74,74,74,74,74,74,75,75,75,75,75,75,75,75,75,75,75,75,76,76,76,76,76,76,76,76,76,76,76,76,77,77,77,77,77,77,77,77,77,77,77,77,78,78,78,78,78,78,78,78,78,78,78,78,79,79,79,79,79,79,79,79,79,79,79,79,80,80,80,80,80,80,80,80,80,80,80,80,81,81,81,81,81,81,81,81,81,81,81,81,82,82,82,82,82,82,82,82,82,82,82,82,83,83,83,83,83,83,83,83,83,83,83,83,84,84,84,84,84,84,84,84,84,84,84,84,85,85,85,85,85,85,85,85,85,85,85,85,86,86,86,86,86,86,86,86,86,86,86,86,87,87,87,87,87,87,87,87,87,87,87,87,88,88,88,88,88,88,88,88,88,88,88,88,89,89,89,89,89,89,89,89,89,89,89,89]
[65,65,65,65,65,65,65,65,65,65,65,65,66,66,66,66,66,66,66,66,66,66,66,66,67,67,67,67,67,67,67,67,67,67,67,67,68,68,68,68,68,68,68,68,68,68,68,68,69,69,69,69,69,69,69,69,69,69,69,69,70,70,70,70,70,70,70,70,70,70,70,70,71,71,71,71,71,71,71,71,71,71,71,71,72,72,72,72,72,72,72,72,72,72,72,72,73,73,73,73,73,73,73,73,73,73,73,73,74,74,74,74,74,74,74,74,74,74,74,74,75,75,75,75,75,75,75,75,75,75,75,75,76,76,76,76,76,76,76,76,76,76,76,76,77,77,77,77,77,77,77,77,77,77,77,77,78,78,78,78,78,78,78,78,78,78,78,78,79,79,79,79,79,79,79,79,79,79,79,79,80,80,80,80,80,80,80,80,80,80,80,80,81,81,81,81,81,81,81,81,81,81,81,81,82,82,82,82,82,82,82,82,82,82,82,82,83,83,83,83,83,83,83,83,83,83,83,83,84,84,84,84,84,84,84,84,84,84,84,84,85,85,85,85,85,85,85,85,85,85,85,85,86,86,86,86,86,86,86,86,86,86,86,86,87,87,87,87,87,87,87,87,87,87,87,87,88,88,88,88,88,88,88,88,88,88,88,88,89,89,89,89,89,89,89,89,89,89,89,89,90,90,90,90,90,90,90,90,90,90,90,90]
[66,66,66,66,66,66,66,66,66,66,66,66,67,67,67,67,67,67,67,67,67,67,67,67,68,68,68,68,68,68,68,68,68,68,68,68,69,69,69,69,69,69,69,69,69,69,69,69,70,70,70,70,70,70,70,70,70,70,70,70,71,71,71,71,71,71,71,71,71,71,71,71,72,72,72,72,72,72,72,72,72,72,72,72,73,73,73,73,73,73,73,73,73,73,73,73,74,74,74,74,74,74,74,74,74,74,74,74,75,75,75,75,75,75,75,75,75,75,75,75,76,76,76,76,76,76,76,76,76,76,76,76,77,77,77,77,77,77,77,77,77,77,77,77,78,78,78,78,78,78,78,78,78,78,78,78,79,79,79,79,79,79,79,79,79,79,79,79,80,80,80,80,80,80,80,80,80,80,80,80,81,81,81,81,81,81,81,81,81,81,81,81,82,82,82,82,82,82,82,82,82,82,82,82,83,83,83,83,83,83,83,83,83,83,83,83,84,84,84,84,84,84,84,84,84,84,84,84,85,85,85,85,85,85,85,85,85,85,85,85,86,86,86,86,86,86,86,86,86,86,86,86,87,87,87,87,87,87,87,87,87,87,87,87,88,88,88,88,88,88,88,88,88,88,88,88,89,89,89,89,89,89,89,89,89,89,89,89,90,90,90,90,90,90,90,90,90,90,90,90,91,91,91,91,91,91,91,91,91,91,91,91]
[67,67,67,67,67,67,67,67,67,67,67,67,68,68,68,68,68,68,68,68,68,68,68,68,69,69,69,69,69,69,69,69,69,69,69,69,70,70,70,70,70,70,70,70,70,70,70,70,71,71,71,71,71,71,71,71,71,71,71,71,72,72,72,72,72,72,72,72,72,72,72,72,73,73,73,73,73,73,73,73,73,73,73,73,74,74,74,74,74,74,74,74,74,74,74,74,75,75,75,75,75,75,75,75,75,75,75,75,76,76,76,76,76,76,76,76,76,76,76,76,77,77,77,77,77,77,77,77,77,77,77,77,78,78,78,78,78,78,78,78,78,78,78,78,79,79,79,79,79,79,79,79,79,79,79,79,80,80,80,80,80,80,80,80,80,80,80,80,81,81,81,81,81,81,81,81,81,81,81,81,82,82,82,82,82,82,82,82,82,82,82,82,83,83,83,83,83,83,83,83,83,83,83,83,84,84,84,84,84,84,84,84,84,84,84,84,85,85,85,85,85,85,85,85,85,85,85,85,86,86,86,86,86,86,86,86,86,86,86,86,87,87,87,87,87,87,87,87,87,87,87,87,88,88,88,88,88,88,88,88,88,88,88,88,89,89,89,89,89,89,89,89,89,89,89,89,90,90,90,90,90,90,90,90,90,90,90,90,91,91,91,91,91,91,91,91,91,91,91,91,92,92,92,92,92,92,92,92,92,92,92,92]
[68,68,68,68,68,68,68,68,68,68,68,68,69,69,69,69,69,69,69,69,69,69,69,69,70,70,70,70,70,70,70,70,70,70,70,70,71,71,71,71,71,71,71,71,71,71,71,71,72,72,72,72,72,72,72,72,72,72,72,72,73,73,73,73,73,73,73,73,73,73,73,73,74,74,74,74,74,74,74,74,74,74,74,74,75,75,75,75,75,75,75,75,75,75,75,75,76,76,76,76,76,76,76,76,76,76,76,76,77,77,77,77,77,77,77,77,77,77,77,77,78,78,78,78,78,78,78,78,78,78,78,78,79,79,79,79,79,79,79,79,79,79,79,79,80,80,80,80,80,80,80,80,80,80,80,80,81,81,81,81,81,81,81,81,81,81,81,81,82,82,82,82,82,82,82,82,82,82,82,82,83,83,83,83,83,83,83,83,83,83,83,83,84,84,84,84,84,84,84,84,84,84,84,84,85,85,85,85,85,85,85,85,85,85,85,85,86,86,86,86,86,86,86,86,86,86,86,86,87,87,87,87,87,87,87,87,87,87,87,87,88,88,88,88,88,88,88,88,88,88,88,88,89,89,89,89,89,89,89,89,89,89,89,89,90,90,90,90,90,90,90,90,90,90,90,90,91,91,91,91,91,91,91,91,91,91,91,91,92,92,92,92,92,92,92,92,92,92,92,92,93,93,93,93,93,93,93,93,93,93,93,93]
[69,69,69,69,69,69,69,69,69,69,69,69,70,70,70,70,70,70,70,70,70,70,70,70,71,71,71,71,71,71,71,71,71,71,71,71,72,72,72,72,72,72,72,72,72,72,72,72,73,73,73,73,73,73,73,73,73,73,73,73,74,74,74,74,74,74,74,74,74,74,74,74,75,75,75,75,75,75,75,75,75,75,75,75,76,76,76,76,76,76,76,76,76,76,76,76,77,77,77,77,77,77,77,77,77,77,77,77,78,78,78,78,78,78,78,78,78,78,78,78,79,79,79,79,79,79,79,79,79,79,79,79,80,80,80,80,80,80,80,80,80,80,80,80,81,81,81,81,81,81,81,81,81,81,81,81,82,82,82,82,82,82,82,82,82,82,82,82,83,83,83,83,83,83,83,83,83,83,83,83,84,84,84,84,84,84,84,84,84,84,84,84,85,85,85,85,85,85,85,85,85,85,85,85,86,86,86,86,86,86,86,86,86,86,86,86,87,87,87,87,87,87,87,87,87,87,87,87,88,88,88,88,88,88,88,88,88,88,88,88,89,89,89,89,89,89,89,89,89,89,89,89,90,90,90,90,90,90,90,90,90,90,90,90,91,91,91,91,91,91,91,91,91,91,91,91,92,92,92,92,92,92,92,92,92,92,92,92,93,93,93,93,93,93,93,93,93,93,93,93,94,94,94,94,94,94,94,94,94,94,94,94]
[70,70,70,70,70,70,70,70,70,70,70,70,71,71,71,71,71,71,71,71,71,71,71,71,72,72,72,72,72,72,72,72,72,72,72,72,73,73,73,73,73,73,73,73,73,73,73,73,74,74,74,74,74,74,74,74,74,74,74,74,75,75,75,75,75,75,75,75,75,75,75,75,76,76,76,76,76,76,76,76,76,76,76,76,77,77,77,77,77,77,77,77,77,77,77,77,78,78,78,78,78,78,78,78,78,78,78,78,79,79,79,79,79,79,79,79,79,79,79,79,80,80,80,80,80,80,80,80,80,80,80,80,81,81,81,81,81,81,81,81,81,81,81,81,82,82,82,82,82,82,82,82,82,82,82,82,83,83,83,83,83,83,83,83,83,83,83,83,84,84,84,84,84,84,84,84,84,84,84,84,85,85,85,85,85,85,85,85,85,85,85,85,86,86,86,86,86,86,86,86,86,86,86,86,87,87,87,87,87,87,87,87,87,87,87,87,88,88,88,88,88,88,88,88,88,88,88,88,89,89,89,89,89,89,89,89,89,89,89,89,90,90,90,90,90,90,90,90,90,90,90,90,91,91,91,91,91,91,91,91,91,91,91,91,92,92,92,92,92,92,92,92,92,92,92,92,93,93,93,93,93,93,93,93,93,93,93,93,94,94,94,94,94,94,94,94,94,94,94,94,95,95,95,95,95,95,95,95,95,95,95,95]
[71,71,71,71,71,71,71,71,71,71,71,71,72,72,72,72,72,72,72,72,72,72,72,72,73,73,73,73,73,73,73,73,73,73,73,73,74,74,74,74,74,74,74,74,74,74,74,74,75,75,75,75,75,75,75,75,75,75,75,75,76,76,76,76,76,76,76,76,76,76,76,76,77,77,77,77,77,77,77,77,77,77,77,77,78,78,78,78,78,78,78,78,78,78,78,78,79,79,79,79,79,79,79,79,79,79,79,79,80,80,80,80,80,80,80,80,80,80,80,80,81,81,81,81,81,81,81,81,81,81,81,81,82,82,82,82,82,82,82,82,82,82,82,82,83,83,83,83,83,83,83,83,83,83,83,83,84,84,84,84,84,84,84,84,84,84,84,84,85,85,85,85,85,85,85,85,85,85,85,85,86,86,86,86,86,86,86,86,86,86,86,86,87,87,87,87,87,87,87,87,87,87,87,87,88,88,88,88,88,88,88,88,88,88,88,88,89,89,89,89,89,89,89,89,89,89,89,89,90,90,90,90,90,90,90,90,90,90,90,90,91,91,91,91,91,91,91,91,91,91,91,91,92,92,92,92,92,92,92,92,92,92,92,92,93,93,93,93,93,93,93,93,93,93,93,93,94,94,94,94,94,94,94,94,94,94,94,94,95,95,95,95,95,95,95,95,95,95,95,95,96,96,96,96,96,96,96,96,96,96,96,96]
[72,72,72,72,72,72,72,72,72,72,72,72,73,73,73,73,73,73,73,73,73,73,73,73,74,74,74,74,74,74,74,74,74,74,74,74,75,75,75,75,75,75,75,75,75,75,75,75,76,76,76,76,76,76,76,76,76,76,76,76,77,77,77,77,77,77,77,77,77,77,77,77,78,78,78,78,78,78,78,78,78,78,78,78,79,79,79,79,79,79,79,79,79,79,79,79,80,80,80,80,80,80,80,80,80,80,80,80,81,81,81,81,81,81,81,81,81,81,81,81,82,82,82,82,82,82,82,82,82,82,82,82,83,83,83,83,83,83,83,83,83,83,83,83,84,84,84,84,84,84,84,84,84,84,84,84,85,85,85,85,85,85,85,85,85,85,85,85,86,86,86,86,86,86,86,86,86,86,86,86,87,87,87,87,87,87,87,87,87,87,87,87,88,88,88,88,88,88,88,88,88,88,88,88,89,89,89,89,89,89,89,89,89,89,89,89,90,90,90,90,90,90,90,90,90,90,90,90,91,91,91,91,91,91,91,91,91,91,91,91,92,92,92,92,92,92,92,92,92,92,92,92,93,93,93,93,93,93,93,93,93,93,93,93,94,94,94,94,94,94,94,94,94,94,94,94,95,95,95,95,95,95,95,95,95,95,95,95,96,96,96,96,96,96,96,96,96,96,96,96,97,97,97,97,97,97,97,97,97,97,97,97]
[73,73,73,73,73,73,73,73,73,73,73,73,74,74,74,74,74,74,74,74,74,74,74,74,75,75,75,75,75,75,75,75,75,75,75,75,76,76,76,76,76,76,76,76,76,76,76,76,77,77,77,77,77,77,77,77,77,77,77,77,78,78,78,78,78,78,78,78,78,78,78,78,79,79,79,79,79,79,79,79,79,79,79,79,80,80,80,80,80,80,80,80,80,80,80,80,81,81,81,81,81,81,81,81,81,81,81,81,82,82,82,82,82,82,82,82,82,82,82,82,83,83,83,83,83,83,83,83,83,83,83,83,84,84,84,84,84,84,84,84,84,84,84,84,85,85,85,85,85,85,85,85,85,85,85,85,86,86,86,86,86,86,86,86,86,86,86,86,87,87,87,87,87,87,87,87,87,87,87,87,88,88,88,88,88,88,88,88,88,88,88,88,89,89,89,89,89,89,89,89,89,89,89,89,90,90,90,90,90,90,90,90,90,90,90,90,91,91,91,91,91,91,91,91,91,91,91,91,92,92,92,92,92,92,92,92,92,92,92,92,93,93,93,93,93,93,93,93,93,93,93,93,94,94,94,94,94,94,94,94,94,94,94,94,95,95,95,95,95,95,95,95,95,95,95,95,96,96,96,96,96,96,96,96,96,96,96,96,97,97,97,97,97,97,97,97,97,97,97,97,98,98,98,98,98,98,98,98,98,98,98,98]
[74,74,74,74,74,74,74,74,74,74,74,74,75,75,75,75,75,75,75,75,75,75,75,75,76,76,76,76,76,76,76,76,76,76,76,76,77,77,77,77,77,77,77,77,77,77,77,77,78,78,78,78,78,78,78,78,78,78,78,78,79,79,79,79,79,79,79,79,79,79,79,79,80,80,80,80,80,80,80,80,80,80,80,80,81,81,81,81,81,81,81,81,81,81,81,81,82,82,82,82,82,82,82,82,82,82,82,82,83,83,83,83,83,83,83,83,83,83,83,83,84,84,84,84,84,84,84,84,84,84,84,84,85,85,85,85,85,85,85,85,85,85,85,85,86,86,86,86,86,86,86,86,86,86,86,86,87,87,87,87,87,87,87,87,87,87,87,87,88,88,88,88,88,88,88,88,88,88,88,88,89,89,89,89,89,89,89,89,89,89,89,89,90,90,90,90,90,90,90,90,90,90,90,90,91,91,91,91,91,91,91,91,91,91,91,91,92,92,92,92,92,92,92,92,92,92,92,92,93,93,93,93,93,93,93,93,93,93,93,93,94,94,94,94,94,94,94,94,94,94,94,94,95,95,95,95,95,95,95,95,95,95,95,95,96,96,96,96,96,96,96,96,96,96,96,96,97,97,97,97,97,97,97,97,97,97,97,97,98,98,98,98,98,98,98,98,98,98,98,98,99,99,99,99,99,99,99,99,99,99,99,99]
[75,75,75,75,75,75,75,75,75,75,75,75,76,76,76,76,76,76,76,76,76,76,76,76,77,77,77,77,77,77,77,77,77,77,77,77,78,78,78,78,78,78,78,78,78,78,78,78,79,79,79,79,79,79,79,79,79,79,79,79,80,80,80,80,80,80,80,80,80,80,80,80,81,81,81,81,81,81,81,81,81,81,81,81,82,82,82,82,82,82,82,82,82,82,82,82,83,83,83,83,83,83,83,83,83,83,83,83,84,84,84,84,84,84,84,84,84,84,84,84,85,85,85,85,85,85,85,85,85,85,85,85,86,86,86,86,86,86,86,86,86,86,86,86,87,87,87,87,87,87,87,87,87,87,87,87,88,88,88,88,88,88,88,88,88,88,88,88,89,89,89,89,89,89,89,89,89,89,89,89,90,90,90,90,90,90,90,90,90,90,90,90,91,91,91,91,91,91,91,91,91,91,91,91,92,92,92,92,92,92,92,92,92,92,92,92,93,93,93,93,93,93,93,93,93,93,93,93,94,94,94,94,94,94,94,94,94,94,94,94,95,95,95,95,95,95,95,95,95,95,95,95,96,96,96,96,96,96,96,96,96,96,96,96,97,97,97,97,97,97,97,97,97,97,97,97,98,98,98,98,98,98,98,98,98,98,98,98,99,99,99,99,99,99,99,99,99,99,99,99,100,100,100,100,100,100,100,100,100,100,100,100]
[76,76,76,76,76,76,76,76,76,76,76,76,77,77,77,77,77,77,77,77,77,77,77,77,78,78,78,78,78,78,78,78,78,78,78,78,79,79,79,79,79,79,79,79,79,79,79,79,80,80,80,80,80,80,80,80,80,80,80,80,81,81,81,81,81,81,81,81,81,81,81,81,82,82,82,82,82,82,82,82,82,82,82,82,83,83,83,83,83,83,83,83,83,83,83,83,84,84,84,84,84,84,84,84,84,84,84,84,85,85,85,85,85,85,85,85,85,85,85,85,86,86,86,86,86,86,86,86,86,86,86,86,87,87,87,87,87,87,87,87,87,87,87,87,88,88,88,88,88,88,88,88,88,88,88,88,89,89,89,89,89,89,89,89,89,89,89,89,90,90,90,90,90,90,90,90,90,90,90,90,91,91,91,91,91,91,91,91,91,91,91,91,92,92,92,92,92,92,92,92,92,92,92,92,93,93,93,93,93,93,93,93,93,93,93,93,94,94,94,94,94,94,94,94,94,94,94,94,95,95,95,95,95,95,95,95,95,95,95,95,96,96,96,96,96,96,96,96,96,96,96,96,97,97,97,97,97,97,97,97,97,97,97,97,98,98,98,98,98,98,98,98,98,98,98,98,99,99,99,99,99,99,99,99,99,99,99,99,100,100,100,100,100,100,100,100,100,100,100,100,101,101,101,101,101,101,101,101,101,101,101,101]
[77,77,77,77,77,77,77,77,77,77,77,77,78,78,78,78,78,78,78,78,78,78,78,78,79,79,79,79,79,79,79,79,79,79,79,79,80,80,80,80,80,80,80,80,80,80,80,80,81,81,81,81,81,81,81,81,81,81,81,81,82,82,82,82,82,82,82,82,82,82,82,82,83,83,83,83,83,83,83,83,83,83,83,83,84,84,84,84,84,84,84,84,84,84,84,84,85,85,85,85,85,85,85,85,85,85,85,85,86,86,86,86,86,86,86,86,86,86,86,86,87,87,87,87,87,87,87,87,87,87,87,87,88,88,88,88,88,88,88,88,88,88,88,88,89,89,89,89,89,89,89,89,89,89,89,89,90,90,90,90,90,90,90,90,90,90,90,90,91,91,91,91,91,91,91,91,91,91,91,91,92,92,92,92,92,92,92,92,92,92,92,92,93,93,93,93,93,93,93,93,93,93,93,93,94,94,94,94,94,94,94,94,94,94,94,94,95,95,95,95,95,95,95,95,95,95,95,95,96,96,96,96,96,96,96,96,96,96,96,96,97,97,97,97,97,97,97,97,97,97,97,97,98,98,98,98,98,98,98,98,98,98,98,98,99,99,99,99,99,99,99,99,99,99,99,99,100,100,100,100,100,100,100,100,100,100,100,100,101,101,101,101,101,101,101,101,101,101,101,101,102,102,102,102,102,102,102,102,102,102,102,102]
[78,78,78,78,78,78,78,78,78,78,78,78,79,79,79,79,79,79,79,79,79,79,79,79,80,80,80,80,80,80,80,80,80,80,80,80,81,81,81,81,81,81,81,81,81,81,81,81,82,82,82,82,82,82,82,82,82,82,82,82,83,83,83,83,83,83,83,83,83,83,83,83,84,84,84,84,84,84,84,84,84,84,84,84,85,85,85,85,85,85,85,85,85,85,85,85,86,86,86,86,86,86,86,86,86,86,86,86,87,87,87,87,87,87,87,87,87,87,87,87,88,88,88,88,88,88,88,88,88,88,88,88,89,89,89,89,89,89,89,89,89,89,89,89,90,90,90,90,90,90,90,90,90,90,90,90,91,91,91,91,91,91,91,91,91,91,91,91,92,92,92,92,92,92,92,92,92,92,92,92,93,93,93,93,93,93,93,93,93,93,93,93,94,94,94,94,94,94,94,94,94,94,94,94,95,95,95,95,95,95,95,95,95,95,95,95,96,96,96,96,96,96,96,96,96,96,96,96,97,97,97,97,97,97,97,97,97,97,97,97,98,98,98,98,98,98,98,98,98,98,98,98,99,99,99,99,99,99,99,99,99,99,99,99,100,100,100,100,100,100,100,100,100,100,100,100,101,101,101,101,101,101,101,101,101,101,101,101,102,102,102,102,102,102,102,102,102,102,102,102,103,103,103,103,103,103,103,103,103,103,103,103]
[79,79,79,79,79,79,79,79,79,79,79,79,80,80,80,80,80,80,80,80,80,80,80,80,81,81,81,81,81,81,81,81,81,81,81,81,82,82,82,82,82,82,82,82,82,82,82,82,83,83,83,83,83,83,83,83,83,83,83,83,84,84,84,84,84,84,84,84,84,84,84,84,85,85,85,85,85,85,85,85,85,85,85,85,86,86,86,86,86,86,86,86,86,86,86,86,87,87,87,87,87,87,87,87,87,87,87,87,88,88,88,88,88,88,88,88,88,88,88,88,89,89,89,89,89,89,89,89,89,89,89,89,90,90,90,90,90,90,90,90,90,90,90,90,91,91,91,91,91,91,91,91,91,91,91,91,92,92,92,92,92,92,92,92,92,92,92,92,93,93,93,93,93,93,93,93,93,93,93,93,94,94,94,94,94,94,94,94,94,94,94,94,95,95,95,95,95,95,95,95,95,95,95,95,96,96,96,96,96,96,96,96,96,96,96,96,97,97,97,97,97,97,97,97,97,97,97,97,98,98,98,98,98,98,98,98,98,98,98,98,99,99,99,99,99,99,99,99,99,99,99,99,100,100,100,100,100,100,100,100,100,100,100,100,101,101,101,101,101,101,101,101,101,101,101,101,102,102,102,102,102,102,102,102,102,102,102,102,103,103,103,103,103,103,103,103,103,103,103,103,104,104,104,104,104,104,104,104,104,104,104,104]
[80,80,80,80,80,80,80,80,80,80,80,80,81,81,81,81,81,81,81,81,81,81,81,81,82,82,82,82,82,82,82,82,82,82,82,82,83,83,83,83,83,83,83,83,83,83,83,83,84,84,84,84,84,84,84,84,84,84,84,84,85,85,85,85,85,85,85,85,85,85,85,85,86,86,86,86,86,86,86,86,86,86,86,86,87,87,87,87,87,87,87,87,87,87,87,87,88,88,88,88,88,88,88,88,88,88,88,88,89,89,89,89,89,89,89,89,89,89,89,89,90,90,90,90,90,90,90,90,90,90,90,90,91,91,91,91,91,91,91,91,91,91,91,91,92,92,92,92,92,92,92,92,92,92,92,92,93,93,93,93,93,93,93,93,93,93,93,93,94,94,94,94,94,94,94,94,94,94,94,94,95,95,95,95,95,95,95,95,95,95,95,95,96,96,96,96,96,96,96,96,96,96,96,96,97,97,97,97,97,97,97,97,97,97,97,97,98,98,98,98,98,98,98,98,98,98,98,98,99,99,99,99,99,99,99,99,99,99,99,99,100,100,100,100,100,100,100,100,100,100,100,100,101,101,101,101,101,101,101,101,101,101,101,101,102,102,102,102,102,102,102,102,102,102,102,102,103,103,103,103,103,103,103,103,103,103,103,103,104,104,104,104,104,104,104,104,104,104,104,104,105,105,105,105,105,105,105,105,105,105,105,105]
[81,81,81,81,81,81,81,81,81,81,81,81,82,82,82,82,82,82,82,82,82,82,82,82,83,83,83,83,83,83,83,83,83,83,83,83,84,84,84,84,84,84,84,84,84,84,84,84,85,85,85,85,85,85,85,85,85,85,85,85,86,86,86,86,86,86,86,86,86,86,86,86,87,87,87,87,87,87,87,87,87,87,87,87,88,88,88,88,88,88,88,88,88,88,88,88,89,89,89,89,89,89,89,89,89,89,89,89,90,90,90,90,90,90,90,90,90,90,90,90,91,91,91,91,91,91,91,91,91,91,91,91,92,92,92,92,92,92,92,92,92,92,92,92,93,93,93,93,93,93,93,93,93,93,93,93,94,94,94,94,94,94,94,94,94,94,94,94,95,95,95,95,95,95,95,95,95,95,95,95,96,96,96,96,96,96,96,96,96,96,96,96,97,97,97,97,97,97,97,97,97,97,97,97,98,98,98,98,98,98,98,98,98,98,98,98,99,99,99,99,99,99,99,99,99,99,99,99,100,100,100,100,100,100,100,100,100,100,100,100,101,101,101,101,101,101,101,101,101,101,101,101,102,102,102,102,102,102,102,102,102,102,102,102,103,103,103,103,103,103,103,103,103,103,103,103,104,104,104,104,104,104,104,104,104,104,104,104,105,105,105,105,105,105,105,105,105,105,105,105,106,106,106,106,106,106,106,106,106,106,106,106]
[82,82,82,82,82,82,82,82,82,82,82,82,83,83,83,83,83,83,83,83,83,83,83,83,84,84,84,84,84,84,84,84,84,84,84,84,85,85,85,85,85,85,85,85,85,85,85,85,86,86,86,86,86,86,86,86,86,86,86,86,87,87,87,87,87,87,87,87,87,87,87,87,88,88,88,88,88,88,88,88,88,88,88,88,89,89,89,89,89,89,89,89,89,89,89,89,90,90,90,90,90,90,90,90,90,90,90,90,91,91,91,91,91,91,91,91,91,91,91,91,92,92,92,92,92,92,92,92,92,92,92,92,93,93,93,93,93,93,93,93,93,93,93,93,94,94,94,94,94,94,94,94,94,94,94,94,95,95,95,95,95,95,95,95,95,95,95,95,96,96,96,96,96,96,96,96,96,96,96,96,97,97,97,97,97,97,97,97,97,97,97,97,98,98,98,98,98,98,98,98,98,98,98,98,99,99,99,99,99,99,99,99,99,99,99,99,100,100,100,100,100,100,100,100,100,100,100,100,101,101,101,101,101,101,101,101,101,101,101,101,102,102,102,102,102,102,102,102,102,102,102,102,103,103,103,103,103,103,103,103,103,103,103,103,104,104,104,104,104,104,104,104,104,104,104,104,105,105,105,105,105,105,105,105,105,105,105,105,106,106,106,106,106,106,106,106,106,106,106,106,107,107,107,107,107,107,107,107,107,107,107,107]
[83,83,83,83,83,83,83,83,83,83,83,83,84,84,84,84,84,84,84,84,84,84,84,84,85,85,85,85,85,85,85,85,85,85,85,85,86,86,86,86,86,86,86,86,86,86,86,86,87,87,87,87,87,87,87,87,87,87,87,87,88,88,88,88,88,88,88,88,88,88,88,88,89,89,89,89,89,89,89,89,89,89,89,89,90,90,90,90,90,90,90,90,90,90,90,90,91,91,91,91,91,91,91,91,91,91,91,91,92,92,92,92,92,92,92,92,92,92,92,92,93,93,93,93,93,93,93,93,93,93,93,93,94,94,94,94,94,94,94,94,94,94,94,94,95,95,95,95,95,95,95,95,95,95,95,95,96,96,96,96,96,96,96,96,96,96,96,96,97,97,97,97,97,97,97,97,97,97,97,97,98,98,98,98,98,98,98,98,98,98,98,98,99,99,99,99,99,99,99,99,99,99,99,99,100,100,100,100,100,100,100,100,100,100,100,100,101,101,101,101,101,101,101,101,101,101,101,101,102,102,102,102,102,102,102,102,102,102,102,102,103,103,103,103,103,103,103,103,103,103,103,103,104,104,104,104,104,104,104,104,104,104,104,104,105,105,105,105,105,105,105,105,105,105,105,105,106,106,106,106,106,106,106,106,106,106,106,106,107,107,107,107,107,107,107,107,107,107,107,107,108,108,108,108,108,108,108,108,108,108,108,108]
[84,84,84,84,84,84,84,84,84,84,84,84,85,85,85,85,85,85,85,85,85,85,85,85,86,86,86,86,86,86,86,86,86,86,86,86,87,87,87,87,87,87,87,87,87,87,87,87,88,88,88,88,88,88,88,88,88,88,88,88,89,89,89,89,89,89,89,89,89,89,89,89,90,90,90,90,90,90,90,90,90,90,90,90,91,91,91,91,91,91,91,91,91,91,91,91,92,92,92,92,92,92,92,92,92,92,92,92,93,93,93,93,93,93,93,93,93,93,93,93,94,94,94,94,94,94,94,94,94,94,94,94,95,95,95,95,95,95,95,95,95,95,95,95,96,96,96,96,96,96,96,96,96,96,96,96,97,97,97,97,97,97,97,97,97,97,97,97,98,98,98,98,98,98,98,98,98,98,98,98,99,99,99,99,99,99,99,99,99,99,99,99,100,100,100,100,100,100,100,100,100,100,100,100,101,101,101,101,101,101,101,101,101,101,101,101,102,102,102,102,102,102,102,102,102,102,102,102,103,103,103,103,103,103,103,103,103,103,103,103,104,104,104,104,104,104,104,104,104,104,104,104,105,105,105,105,105,105,105,105,105,105,105,105,106,106,106,106,106,106,106,106,106,106,106,106,107,107,107,107,107,107,107,107,107,107,107,107,108,108,108,108,108,108,108,108,108,108,108,108,109,109,109,109,109,109,109,109,109,109,109,109]
[85,85,85,85,85,85,85,85,85,85,85,85,86,86,86,86,86,86,86,86,86,86,86,86,87,87,87,87,87,87,87,87,87,87,87,87,88,88,88,88,88,88,88,88,88,88,88,88,89,89,89,89,89,89,89,89,89,89,89,89,90,90,90,90,90,90,90,90,90,90,90,90,91,91,91,91,91,91,91,91,91,91,91,91,92,92,92,92,92,92,92,92,92,92,92,92,93,93,93,93,93,93,93,93,93,93,93,93,94,94,94,94,94,94,94,94,94,94,94,94,95,95,95,95,95,95,95,95,95,95,95,95,96,96,96,96,96,96,96,96,96,96,96,96,97,97,97,97,97,97,97,97,97,97,97,97,98,98,98,98,98,98,98,98,98,98,98,98,99,99,99,99,99,99,99,99,99,99,99,99,100,100,100,100,100,100,100,100,100,100,100,100,101,101,101,101,101,101,101,101,101,101,101,101,102,102,102,102,102,102,102,102,102,102,102,102,103,103,103,103,103,103,103,103,103,103,103,103,104,104,104,104,104,104,104,104,104,104,104,104,105,105,105,105,105,105,105,105,105,105,105,105,106,106,106,106,106,106,106,106,106,106,106,106,107,107,107,107,107,107,107,107,107,107,107,107,108,108,108,108,108,108,108,108,108,108,108,108,109,109,109,109,109,109,109,109,109,109,109,109,110,110,110,110,110,110,110,110,110,110,110,110]
[86,86,86,86,86,86,86,86,86,86,86,86,87,87,87,87,87,87,87,87,87,87,87,87,88,88,88,88,88,88,88,88,88,88,88,88,89,89,89,89,89,89,89,89,89,89,89,89,90,90,90,90,90,90,90,90,90,90,90,90,91,91,91,91,91,91,91,91,91,91,91,91,92,92,92,92,92,92,92,92,92,92,92,92,93,93,93,93,93,93,93,93,93,93,93,93,94,94,94,94,94,94,94,94,94,94,94,94,95,95,95,95,95,95,95,95,95,95,95,95,96,96,96,96,96,96,96,96,96,96,96,96,97,97,97,97,97,97,97,97,97,97,97,97,98,98,98,98,98,98,98,98,98,98,98,98,99,99,99,99,99,99,99,99,99,99,99,99,100,100,100,100,100,100,100,100,100,100,100,100,101,101,101,101,101,101,101,101,101,101,101,101,102,102,102,102,102,102,102,102,102,102,102,102,103,103,103,103,103,103,103,103,103,103,103,103,104,104,104,104,104,104,104,104,104,104,104,104,105,105,105,105,105,105,105,105,105,105,105,105,106,106,106,106,106,106,106,106,106,106,106,106,107,107,107,107,107,107,107,107,107,107,107,107,108,108,108,108,108,108,108,108,108,108,108,108,109,109,109,109,109,109,109,109,109,109,109,109,110,110,110,110,110,110,110,110,110,110,110,110,111,111,111,111,111,111,111,111,111,111,111,111]
[87,87,87,87,87,87,87,87,87,87,87,87,88,88,88,88,88,88,88,88,88,88,88,88,89,89,89,89,89,89,89,89,89,89,89,89,90,90,90,90,90,90,90,90,90,90,90,90,91,91,91,91,91,91,91,91,91,91,91,91,92,92,92,92,92,92,92,92,92,92,92,92,93,93,93,93,93,93,93,93,93,93,93,93,94,94,94,94,94,94,94,94,94,94,94,94,95,95,95,95,95,95,95,95,95,95,95,95,96,96,96,96,96,96,96,96,96,96,96,96,97,97,97,97,97,97,97,97,97,97,97,97,98,98,98,98,98,98,98,98,98,98,98,98,99,99,99,99,99,99,99,99,99,99,99,99,100,100,100,100,100,100,100,100,100,100,100,100,101,101,101,101,101,101,101,101,101,101,101,101,102,102,102,102,102,102,102,102,102,102,102,102,103,103,103,103,103,103,103,103,103,103,103,103,104,104,104,104,104,104,104,104,104,104,104,104,105,105,105,105,105,105,105,105,105,105,105,105,106,106,106,106,106,106,106,106,106,106,106,106,107,107,107,107,107,107,107,107,107,107,107,107,108,108,108,108,108,108,108,108,108,108,108,108,109,109,109,109,109,109,109,109,109,109,109,109,110,110,110,110,110,110,110,110,110,110,110,110,111,111,111,111,111,111,111,111,111,111,111,111,112,112,112,112,112,112,112,112,112,112,112,112]
[88,88,88,88,88,88,88,88,88,88,88,88,89,89,89,89,89,89,89,89,89,89,89,89,90,90,90,90,90,90,90,90,90,90,90,90,91,91,91,91,91,91,91,91,91,91,91,91,92,92,92,92,92,92,92,92,92,92,92,92,93,93,93,93,93,93,93,93,93,93,93,93,94,94,94,94,94,94,94,94,94,94,94,94,95,95,95,95,95,95,95,95,95,95,95,95,96,96,96,96,96,96,96,96,96,96,96,96,97,97,97,97,97,97,97,97,97,97,97,97,98,98,98,98,98,98,98,98,98,98,98,98,99,99,99,99,99,99,99,99,99,99,99,99,100,100,100,100,100,100,100,100,100,100,100,100,101,101,101,101,101,101,101,101,101,101,101,101,102,102,102,102,102,102,102,102,102,102,102,102,103,103,103,103,103,103,103,103,103,103,103,103,104,104,104,104,104,104,104,104,104,104,104,104,105,105,105,105,105,105,105,105,105,105,105,105,106,106,106,106,106,106,106,106,106,106,106,106,107,107,107,107,107,107,107,107,107,107,107,107,108,108,108,108,108,108,108,108,108,108,108,108,109,109,109,109,109,109,109,109,109,109,109,109,110,110,110,110,110,110,110,110,110,110,110,110,111,111,111,111,111,111,111,111,111,111,111,111,112,112,112,112,112,112,112,112,112,112,112,112,113,113,113,113,113,113,113,113,113,113,113,113]
[89,89,89,89,89,89,89,89,89,89,89,89,90,90,90,90,90,90,90,90,90,90,90,90,91,91,91,91,91,91,91,91,91,91,91,91,92,92,92,92,92,92,92,92,92,92,92,92,93,93,93,93,93,93,93,93,93,93,93,93,94,94,94,94,94,94,94,94,94,94,94,94,95,95,95,95,95,95,95,95,95,95,95,95,96,96,96,96,96,96,96,96,96,96,96,96,97,97,97,97,97,97,97,97,97,97,97,97,98,98,98,98,98,98,98,98,98,98,98,98,99,99,99,99,99,99,99,99,99,99,99,99,100,100,100,100,100,100,100,100,100,100,100,100,101,101,101,101,101,101,101,101,101,101,101,101,102,102,102,102,102,102,102,102,102,102,102,102,103,103,103,103,103,103,103,103,103,103,103,103,104,104,104,104,104,104,104,104,104,104,104,104,105,105,105,105,105,105,105,105,105,105,105,105,106,106,106,106,106,106,106,106,106,106,106,106,107,107,107,107,107,107,107,107,107,107,107,107,108,108,108,108,108,108,108,108,108,108,108,108,109,109,109,109,109,109,109,109,109,109,109,109,110,110,110,110,110,110,110,110,110,110,110,110,111,111,111,111,111,111,111,111,111,111,111,111,112,112,112,112,112,112,112,112,112,112,112,112,113,113,113,113,113,113,113,113,113,113,113,113,114,114,114,114,114,114,114,114,114,114,114,114]
[90,90,90,90,90,90,90,90,90,90,90,90,91,91,91,91,91,91,91,91,91,91,91,91,92,92,92,92,92,92,92,92,92,92,92,92,93,93,93,93,93,93,93,93,93,93,93,93,94,94,94,94,94,94,94,94,94,94,94,94,95,95,95,95,95,95,95,95,95,95,95,95,96,96,96,96,96,96,96,96,96,96,96,96,97,97,97,97,97,97,97,97,97,97,97,97,98,98,98,98,98,98,98,98,98,98,98,98,99,99,99,99,99,99,99,99,99,99,99,99,100,100,100,100,100,100,100,100,100,100,100,100,101,101,101,101,101,101,101,101,101,101,101,101,102,102,102,102,102,102,102,102,102,102,102,102,103,103,103,103,103,103,103,103,103,103,103,103,104,104,104,104,104,104,104,104,104,104,104,104,105,105,105,105,105,105,105,105,105,105,105,105,106,106,106,106,106,106,106,106,106,106,106,106,107,107,107,107,107,107,107,107,107,107,107,107,108,108,108,108,108,108,108,108,108,108,108,108,109,109,109,109,109,109,109,109,109,109,109,109,110,110,110,110,110,110,110,110,110,110,110,110,111,111,111,111,111,111,111,111,111,111,111,111,112,112,112,112,112,112,112,112,112,112,112,112,113,113,113,113,113,113,113,113,113,113,113,113,114,114,114,114,114,114,114,114,114,114,114,114,115,115,115,115,115,115,115,115,115,115,115,115]
[91,91,91,91,91,91,91,91,91,91,91,91,92,92,92,92,92,92,92,92,92,92,92,92,93,93,93,93,93,93,93,93,93,93,93,93,94,94,94,94,94,94,94,94,94,94,94,94,95,95,95,95,95,95,95,95,95,95,95,95,96,96,96,96,96,96,96,96,96,96,96,96,97,97,97,97,97,97,97,97,97,97,97,97,98,98,98,98,98,98,98,98,98,98,98,98,99,99,99,99,99,99,99,99,99,99,99,99,100,100,100,100,100,100,100,100,100,100,100,100,101,101,101,101,101,101,101,101,101,101,101,101,102,102,102,102,102,102,102,102,102,102,102,102,103,103,103,103,103,103,103,103,103,103,103,103,104,104,104,104,104,104,104,104,104,104,104,104,105,105,105,105,105,105,105,105,105,105,105,105,106,106,106,106,106,106,106,106,106,106,106,106,107,107,107,107,107,107,107,107,107,107,107,107,108,108,108,108,108,108,108,108,108,108,108,108,109,109,109,109,109,109,109,109,109,109,109,109,110,110,110,110,110,110,110,110,110,110,110,110,111,111,111,111,111,111,111,111,111,111,111,111,112,112,112,112,112,112,112,112,112,112,112,112,113,113,113,113,113,113,113,113,113,113,113,113,114,114,114,114,114,114,114,114,114,114,114,114,115,115,115,115,115,115,115,115,115,115,115,115,116,116,116,116,116,116,116,116,116,116,116,116]
[92,92,92,92,92,92,92,92,92,92,92,92,93,93,93,93,93,93,93,93,93,93,93,93,94,94,94,94,94,94,94,94,94,94,94,94,95,95,95,95,95,95,95,95,95,95,95,95,96,96,96,96,96,96,96,96,96,96,96,96,97,97,97,97,97,97,97,97,97,97,97,97,98,98,98,98,98,98,98,98,98,98,98,98,99,99,99,99,99,99,99,99,99,99,99,99,100,100,100,100,100,100,100,100,100,100,100,100,101,101,101,101,101,101,101,101,101,101,101,101,102,102,102,102,102,102,102,102,102,102,102,102,103,103,103,103,103,103,103,103,103,103,103,103,104,104,104,104,104,104,104,104,104,104,104,104,105,105,105,105,105,105,105,105,105,105,105,105,106,106,106,106,106,106,106,106,106,106,106,106,107,107,107,107,107,107,107,107,107,107,107,107,108,108,108,108,108,108,108,108,108,108,108,108,109,109,109,109,109,109,109,109,109,109,109,109,110,110,110,110,110,110,110,110,110,110,110,110,111,111,111,111,111,111,111,111,111,111,111,111,112,112,112,112,112,112,112,112,112,112,112,112,113,113,113,113,113,113,113,113,113,113,113,113,114,114,114,114,114,114,114,114,114,114,114,114,115,115,115,115,115,115,115,115,115,115,115,115,116,116,116,116,116,116,116,116,116,116,116,116,117,117,117,117,117,117,117,117,117,117,117,117]
[93,93,93,93,93,93,93,93,93,93,93,93,94,94,94,94,94,94,94,94,94,94,94,94,95,95,95,95,95,95,95,95,95,95,95,95,96,96,96,96,96,96,96,96,96,96,96,96,97,97,97,97,97,97,97,97,97,97,97,97,98,98,98,98,98,98,98,98,98,98,98,98,99,99,99,99,99,99,99,99,99,99,99,99,100,100,100,100,100,100,100,100,100,100,100,100,101,101,101,101,101,101,101,101,101,101,101,101,102,102,102,102,102,102,102,102,102,102,102,102,103,103,103,103,103,103,103,103,103,103,103,103,104,104,104,104,104,104,104,104,104,104,104,104,105,105,105,105,105,105,105,105,105,105,105,105,106,106,106,106,106,106,106,106,106,106,106,106,107,107,107,107,107,107,107,107,107,107,107,107,108,108,108,108,108,108,108,108,108,108,108,108,109,109,109,109,109,109,109,109,109,109,109,109,110,110,110,110,110,110,110,110,110,110,110,110,111,111,111,111,111,111,111,111,111,111,111,111,112,112,112,112,112,112,112,112,112,112,112,112,113,113,113,113,113,113,113,113,113,113,113,113,114,114,114,114,114,114,114,114,114,114,114,114,115,115,115,115,115,115,115,115,115,115,115,115,116,116,116,116,116,116,116,116,116,116,116,116,117,117,117,117,117,117,117,117,117,117,117,117,118,118,118,118,118,118,118,118,118,118,118,118]
[94,94,94,94,94,94,94,94,94,94,94,94,95,95,95,95,95,95,95,95,95,95,95,95,96,96,96,96,96,96,96,96,96,96,96,96,97,97,97,97,97,97,97,97,97,97,97,97,98,98,98,98,98,98,98,98,98,98,98,98,99,99,99,99,99,99,99,99,99,99,99,99,100,100,100,100,100,100,100,100,100,100,100,100,101,101,101,101,101,101,101,101,101,101,101,101,102,102,102,102,102,102,102,102,102,102,102,102,103,103,103,103,103,103,103,103,103,103,103,103,104,104,104,104,104,104,104,104,104,104,104,104,105,105,105,105,105,105,105,105,105,105,105,105,106,106,106,106,106,106,106,106,106,106,106,106,107,107,107,107,107,107,107,107,107,107,107,107,108,108,108,108,108,108,108,108,108,108,108,108,109,109,109,109,109,109,109,109,109,109,109,109,110,110,110,110,110,110,110,110,110,110,110,110,111,111,111,111,111,111,111,111,111,111,111,111,112,112,112,112,112,112,112,112,112,112,112,112,113,113,113,113,113,113,113,113,113,113,113,113,114,114,114,114,114,114,114,114,114,114,114,114,115,115,115,115,115,115,115,115,115,115,115,115,116,116,116,116,116,116,116,116,116,116,116,116,117,117,117,117,117,117,117,117,117,117,117,117,118,118,118,118,118,118,118,118,118,118,118,118,119,119,119,119,119,119,119,119,119,119,119,119]
[0,0,95,95,95,95,95,95,95,95,95,95,96,96,96,96,96,96,96,96,96,96,96,96,97,97,97,97,97,97,97,97,97,97,97,97,98,98,98,98,98,98,98,98,98,98,98,98,99,99,99,99,99,99,99,99,99,99,99,99,100,100,100,100,100,100,100,100,100,100,100,100,101,101,101,101,101,101,101,101,101,101,101,101,102,102,102,102,102,102,102,102,102,102,102,102,103,103,103,103,103,103,103,103,103,103,103,103,104,104,104,104,104,104,104,104,104,104,104,104,105,105,105,105,105,105,105,105,105,105,105,105,106,106,106,106,106,106,106,106,106,106,106,106,107,107,107,107,107,107,107,107,107,107,107,107,108,108,108,108,108,108,108,108,108,108,108,108,109,109,109,109,109,109,109,109,109,109,109,109,110,110,110,110,110,110,110,110,110,110,110,110,111,111,111,111,111,111,111,111,111,111,111,111,112,112,112,112,112,112,112,112,112,112,112,112,113,113,113,113,113,113,113,113,113,113,113,113,114,114,114,114,114,114,114,114,114,114,114,114,115,115,115,115,115,115,115,115,115,115,115,115,116,116,116,116,116,116,116,116,116,116,116,116,117,117,117,117,117,117,117,117,117,117,117,117,118,118,118,118,118,118,118,118,118,118,118,118,119,119,119,119,119,119,119,119,119,119,119,119,120,120,120,120,120,120,120,120,120,120,120,120]
[0,0,96,96,96,96,96,96,96,96,96,96,97,97,97,97,97,97,97,97,97,97,97,97,98,98,98,98,98,98,98,98,98,98,98,98,99,99,99,99,99,99,99,99,99,99,99,99,100,100,100,100,100,100,100,100,100,100,100,100,101,101,101,101,101,101,101,101,101,101,101,101,102,102,102,102,102,102,102,102,102,102,102,102,103,103,103,103,103,103,103,103,103,103,103,103,104,104,104,104,104,104,104,104,104,104,104,104,105,105,105,105,105,105,105,105,105,105,105,105,106,106,106,106,106,106,106,106,106,106,106,106,107,107,107,107,107,107,107,107,107,107,107,107,108,108,108,108,108,108,108,108,108,108,108,108,109,109,109,109,109,109,109,109,109,109,109,109,110,110,110,110,110,110,110,110,110,110,110,110,111,111,111,111,111,111,111,111,111,111,111,111,112,112,112,112,112,112,112,112,112,112,112,112,113,113,113,113,113,113,113,113,113,113,113,113,114,114,114,114,114,114,114,114,114,114,114,114,115,115,115,115,115,115,115,115,115,115,115,115,116,116,116,116,116,116,116,116,116,116,116,116,117,117,117,117,117,117,117,117,117,117,117,117,118,118,118,118,118,118,118,118,118,118,118,118,119,119,119,119,119,119,119,119,119,119,119,119,120,120,120,120,120,120,120,120,120,120,120,120,121,121,121,121,121,121,121,121,121,121,121,121]
[0,0,97,97,97,97,97,97,97,97,97,97,98,98,98,98,98,98,98,98,98,98,98,98,99,99,99,99,99,99,99,99,99,99,99,99,100,100,100,100,100,100,100,100,100,100,100,100,101,101,101,101,101,101,101,101,101,101,101,101,102,102,102,102,102,102,102,102,102,102,102,102,103,103,103,103,103,103,103,103,103,103,103,103,104,104,104,104,104,104,104,104,104,104,104,104,105,105,105,105,105,105,105,105,105,105,105,105,106,106,106,106,106,106,106,106,106,106,106,106,107,107,107,107,107,107,107,107,107,107,107,107,108,108,108,108,108,108,108,108,108,108,108,108,109,109,109,109,109,109,109,109,109,109,109,109,110,110,110,110,110,110,110,110,110,110,110,110,111,111,111,111,111,111,111,111,111,111,111,111,112,112,112,112,112,112,112,112,112,112,112,112,113,113,113,113,113,113,113,113,113,113,113,113,114,114,114,114,114,114,114,114,114,114,114,114,115,115,115,115,115,115,115,115,115,115,115,115,116,116,116,116,116,116,116,116,116,116,116,116,117,117,117,117,117,117,117,117,117,117,117,117,118,118,118,118,118,118,118,118,118,118,118,118,119,119,119,119,119,119,119,119,119,119,119,119,120,120,120,120,120,120,120,120,120,120,120,120,121,121,121,121,121,121,121,121,121,121,121,121,122,122,122,122,122,122,122,122,122,122,122,122]
[0,0,98,98,98,98,98,98,98,98,98,98,99,99,99,99,99,99,99,99,99,99,99,99,100,100,100,100,100,100,100,100,100,100,100,100,101,101,101,101,101,101,101,101,101,101,101,101,102,102,102,102,102,102,102,102,102,102,102,102,103,103,103,103,103,103,103,103,103,103,103,103,104,104,104,104,104,104,104,104,104,104,104,104,105,105,105,105,105,105,105,105,105,105,105,105,106,106,106,106,106,106,106,106,106,106,106,106,107,107,107,107,107,107,107,107,107,107,107,107,108,108,108,108,108,108,108,108,108,108,108,108,109,109,109,109,109,109,109,109,109,109,109,109,110,110,110,110,110,110,110,110,110,110,110,110,111,111,111,111,111,111,111,111,111,111,111,111,112,112,112,112,112,112,112,112,112,112,112,112,113,113,113,113,113,113,113,113,113,113,113,113,114,114,114,114,114,114,114,114,114,114,114,114,115,115,115,115,115,115,115,115,115,115,115,115,116,116,116,116,116,116,116,116,116,116,116,116,117,117,117,117,117,117,117,117,117,117,117,117,118,118,118,118,118,118,118,118,118,118,118,118,119,119,119,119,119,119,119,119,119,119,119,119,120,120,120,120,120,120,120,120,120,120,120,120,121,121,121,121,121,121,121,121,121,121,121,121,122,122,122,122,122,122,122,122,122,122,122,122,123,123,123,123,123,123,123,123,123,123,123,123]
[0,0,99,99,99,99,99,99,99,99,99,99,100,100,100,100,100,100,100,100,100,100,100,100,101,101,101,101,101,101,101,101,101,101,101,101,102,102,102,102,102,102,102,102,102,102,102,102,103,103,103,103,103,103,103,103,103,103,103,103,104,104,104,104,104,104,104,104,104,104,104,104,105,105,105,105,105,105,105,105,105,105,105,105,106,106,106,106,106,106,106,106,106,106,106,106,107,107,107,107,107,107,107,107,107,107,107,107,108,108,108,108,108,108,108,108,108,108,108,108,109,109,109,109,109,109,109,109,109,109,109,109,110,110,110,110,110,110,110,110,110,110,110,110,111,111,111,111,111,111,111,111,111,111,111,111,112,112,112,112,112,112,112,112,112,112,112,112,113,113,113,113,113,113,113,113,113,113,113,113,114,114,114,114,114,114,114,114,114,114,114,114,115,115,115,115,115,115,115,115,115,115,115,115,116,116,116,116,116,116,116,116,116,116,116,116,117,117,117,117,117,117,117,117,117,117,117,117,118,118,118,118,118,118,118,118,118,118,118,118,119,119,119,119,119,119,119,119,119,119,119,119,120,120,120,120,120,120,120,120,120,120,120,120,121,121,121,121,121,121,121,121,121,121,121,121,122,122,122,122,122,122,122,122,122,122,122,122,123,123,123,123,123,123,123,123,123,123,123,123,124,124,124,124,124,124,124,124,124,124,124,124]
[0,0,0,0,0,0,0,0,0,0,0,0,0,0,0,0,0,0,0,0,0,0,0,0,0,0,0,0,0,0,0,0,0,0,0,0,0,0,0,0,0,0,0,0,0,0,0,0,0,0,0,0,0,0,0,0,0,0,0,0,0,0,0,0,0,0,0,0,0,0,0,0,0,0,0,0,0,0,0,0,0,0,0,0,0,0,0,0,0,0,0,0,0,0,0,0,0,0,0,0,0,0,0,0,0,0,0,0,0,0,0,0,0,0,0,0,0,0,0,0,0,0,0,0,0,0,0,0,0,0,0,0,0,0,0,0,0,0,0,0,0,0,0,0,0,0,0,0,0,0,0,0,0,0,0,0,0,0,0,0,0,0,0,0,0,0,0,0,0,0,0,0,0,0,0,0,0,0,0,0,0,0,0,0,0,0,0,0,0,0,0,0,0,0,0,0,0,0,0,0,0,0,0,0,0,0,0,0,0,0,0,0,0,0,0,0,0,0,0,0,0,0,0,0,0,0,0,0,0,0,0,0,0,0,0,0,0,0,0,0,0,0,0,0,0,0,0,0,0,0,0,0,0,0,0,0,0,0,0,0,0,0,0,0,0,0,0,0,0,0,0,0,0,0,0,0,0,0,0,0,0,0,0,0,0,0,0,0,0,0,0,0,0,0,0,0,0,0,0,0,0,0,0,0,0,0,0,0,0,0,0,0]
[0,0,0,0,0,0,0,0,0,0,0,0,0,0,0,0,0,0,0,0,0,0,0,0,0,0,0,0,0,0,0,0,0,0,0,0,0,0,0,0,0,0,0,0,0,0,0,0,0,0,0,0,0,0,0,0,0,0,0,0,0,0,0,0,0,0,0,0,0,0,0,0,0,0,0,0,0,0,0,0,0,0,0,0,0,0,0,0,0,0,0,0,0,0,0,0,0,0,0,0,0,0,0,0,0,0,0,0,0,0,0,0,0,0,0,0,0,0,0,0,0,0,0,0,0,0,0,0,0,0,0,0,0,0,0,0,0,0,0,0,0,0,0,0,0,0,0,0,0,0,0,0,0,0,0,0,0,0,0,0,0,0,0,0,0,0,0,0,0,0,0,0,0,0,0,0,0,0,0,0,0,0,0,0,0,0,0,0,0,0,0,0,0,0,0,0,0,0,0,0,0,0,0,0,0,0,0,0,0,0,0,0,0,0,0,0,0,0,0,0,0,0,0,0,0,0,0,0,0,0,0,0,0,0,0,0,0,0,0,0,0,0,0,0,0,0,0,0,0,0,0,0,0,0,0,0,0,0,0,0,0,0,0,0,0,0,0,0,0,0,0,0,0,0,0,0,0,0,0,0,0,0,0,0,0,0,0,0,0,0,0,0,0,0,0,0,0,0,0,0,0,0,0,0,0,0,0,0,0,0,0,0]
[0,0,0,0,0,0,0,0,0,0,0,0,0,0,0,0,0,0,0,0,0,0,0,0,0,0,0,0,0,0,0,0,0,0,0,0,0,0,0,0,0,0,0,0,0,0,0,0,0,0,0,0,0,0,0,0,0,0,0,0,0,0,0,0,0,0,0,0,0,0,0,0,0,0,0,0,0,0,0,0,0,0,0,0,0,0,0,0,0,0,0,0,0,0,0,0,0,0,0,0,0,0,0,0,0,0,0,0,0,0,0,0,0,0,0,0,0,0,0,0,0,0,0,0,0,0,0,0,0,0,0,0,0,0,0,0,0,0,0,0,0,0,0,0,0,0,0,0,0,0,0,0,0,0,0,0,0,0,0,0,0,0,0,0,0,0,0,0,0,0,0,0,0,0,0,0,0,0,0,0,0,0,0,0,0,0,0,0,0,0,0,0,0,0,0,0,0,0,0,0,0,0,0,0,0,0,0,0,0,0,0,0,0,0,0,0,0,0,0,0,0,0,0,0,0,0,0,0,0,0,0,0,0,0,0,0,0,0,0,0,0,0,0,0,0,0,0,0,0,0,0,0,0,0,0,0,0,0,0,0,0,0,0,0,0,0,0,0,0,0,0,0,0,0,0,0,0,0,0,0,0,0,0,0,0,0,0,0,0,0,0,0,0,0,0,0,0,0,0,0,0,0,0,0,0,0,0,0,0,0,0,0]
[0,0,0,0,0,0,0,0,0,0,0,0,0,0,0,0,0,0,0,0,0,0,0,0,0,0,0,0,0,0,0,0,0,0,0,0,0,0,0,0,0,0,0,0,0,0,0,0,0,0,0,0,0,0,0,0,0,0,0,0,0,0,0,0,0,0,0,0,0,0,0,0,0,0,0,0,0,0,0,0,0,0,0,0,0,0,0,0,0,0,0,0,0,0,0,0,0,0,0,0,0,0,0,0,0,0,0,0,0,0,0,0,0,0,0,0,0,0,0,0,0,0,0,0,0,0,0,0,0,0,0,0,0,0,0,0,0,0,0,0,0,0,0,0,0,0,0,0,0,0,0,0,0,0,0,0,0,0,0,0,0,0,0,0,0,0,0,0,0,0,0,0,0,0,0,0,0,0,0,0,0,0,0,0,0,0,0,0,0,0,0,0,0,0,0,0,0,0,0,0,0,0,0,0,0,0,0,0,0,0,0,0,0,0,0,0,0,0,0,0,0,0,0,0,0,0,0,0,0,0,0,0,0,0,0,0,0,0,0,0,0,0,0,0,0,0,0,0,0,0,0,0,0,0,0,0,0,0,0,0,0,0,0,0,0,0,0,0,0,0,0,0,0,0,0,0,0,0,0,0,0,0,0,0,0,0,0,0,0,0,0,0,0,0,0,0,0,0,0,0,0,0,0,0,0,0,0,0,0,0,0,0]
[0,0,0,0,0,0,0,0,0,0,0,0,0,0,0,0,0,0,0,0,0,0,0,0,0,0,0,0,0,0,0,0,0,0,0,0,0,0,0,0,0,0,0,0,0,0,0,0,0,0,0,0,0,0,0,0,0,0,0,0,0,0,0,0,0,0,0,0,0,0,0,0,0,0,0,0,0,0,0,0,0,0,0,0,0,0,0,0,0,0,0,0,0,0,0,0,0,0,0,0,0,0,0,0,0,0,0,0,0,0,0,0,0,0,0,0,0,0,0,0,0,0,0,0,0,0,0,0,0,0,0,0,0,0,0,0,0,0,0,0,0,0,0,0,0,0,0,0,0,0,0,0,0,0,0,0,0,0,0,0,0,0,0,0,0,0,0,0,0,0,0,0,0,0,0,0,0,0,0,0,0,0,0,0,0,0,0,0,0,0,0,0,0,0,0,0,0,0,0,0,0,0,0,0,0,0,0,0,0,0,0,0,0,0,0,0,0,0,0,0,0,0,0,0,0,0,0,0,0,0,0,0,0,0,0,0,0,0,0,0,0,0,0,0,0,0,0,0,0,0,0,0,0,0,0,0,0,0,0,0,0,0,0,0,0,0,0,0,0,0,0,0,0,0,0,0,0,0,0,0,0,0,0,0,0,0,0,0,0,0,0,0,0,0,0,0,0,0,0,0,0,0,0,0,0,0,0,0,0,0,0,0]
[0,0,0,0,0,0,0,0,0,0,0,0,0,0,0,0,0,0,0,0,0,0,0,0,0,0,0,0,0,0,0,0,0,0,0,0,0,0,0,0,0,0,0,0,0,0,0,0,0,0,0,0,0,0,0,0,0,0,0,0,0,0,0,0,0,0,0,0,0,0,0,0,0,0,0,0,0,0,0,0,0,0,0,0,0,0,0,0,0,0,0,0,0,0,0,0,0,0,0,0,0,0,0,0,0,0,0,0,0,0,0,0,0,0,0,0,0,0,0,0,0,0,0,0,0,0,0,0,0,0,0,0,0,0,0,0,0,0,0,0,0,0,0,0,0,0,0,0,0,0,0,0,0,0,0,0,0,0,0,0,0,0,0,0,0,0,0,0,0,0,0,0,0,0,0,0,0,0,0,0,0,0,0,0,0,0,0,0,0,0,0,0,0,0,0,0,0,0,0,0,0,0,0,0,0,0,0,0,0,0,0,0,0,0,0,0,0,0,0,0,0,0,0,0,0,0,0,0,0,0,0,0,0,0,0,0,0,0,0,0,0,0,0,0,0,0,0,0,0,0,0,0,0,0,0,0,0,0,0,0,0,0,0,0,0,0,0,0,0,0,0,0,0,0,0,0,0,0,0,0,0,0,0,0,0,0,0,0,0,0,0,0,0,0,0,0,0,0,0,0,0,0,0,0,0,0,0,0,0,0,0,0]
[0,0,0,0,0,0,0,0,0,0,0,0,0,0,0,0,0,0,0,0,0,0,0,0,0,0,0,0,0,0,0,0,0,0,0,0,0,0,0,0,0,0,0,0,0,0,0,0,0,0,0,0,0,0,0,0,0,0,0,0,0,0,0,0,0,0,0,0,0,0,0,0,0,0,0,0,0,0,0,0,0,0,0,0,0,0,0,0,0,0,0,0,0,0,0,0,0,0,0,0,0,0,0,0,0,0,0,0,0,0,0,0,0,0,0,0,0,0,0,0,0,0,0,0,0,0,0,0,0,0,0,0,0,0,0,0,0,0,0,0,0,0,0,0,0,0,0,0,0,0,0,0,0,0,0,0,0,0,0,0,0,0,0,0,0,0,0,0,0,0,0,0,0,0,0,0,0,0,0,0,0,0,0,0,0,0,0,0,0,0,0,0,0,0,0,0,0,0,0,0,0,0,0,0,0,0,0,0,0,0,0,0,0,0,0,0,0,0,0,0,0,0,0,0,0,0,0,0,0,0,0,0,0,0,0,0,0,0,0,0,0,0,0,0,0,0,0,0,0,0,0,0,0,0,0,0,0,0,0,0,0,0,0,0,0,0,0,0,0,0,0,0,0,0,0,0,0,0,0,0,0,0,0,0,0,0,0,0,0,0,0,0,0,0,0,0,0,0,0,0,0,0,0,0,0,0,0,0,0,0,0,0]
[0,0,0,0,0,0,0,0,0,0,0,0,0,0,0,0,0,0,0,0,0,0,0,0,0,0,0,0,0,0,0,0,0,0,0,0,0,0,0,0,0,0,0,0,0,0,0,0,0,0,0,0,0,0,0,0,0,0,0,0,0,0,0,0,0,0,0,0,0,0,0,0,0,0,0,0,0,0,0,0,0,0,0,0,0,0,0,0,0,0,0,0,0,0,0,0,0,0,0,0,0,0,0,0,0,0,0,0,0,0,0,0,0,0,0,0,0,0,0,0,0,0,0,0,0,0,0,0,0,0,0,0,0,0,0,0,0,0,0,0,0,0,0,0,0,0,0,0,0,0,0,0,0,0,0,0,0,0,0,0,0,0,0,0,0,0,0,0,0,0,0,0,0,0,0,0,0,0,0,0,0,0,0,0,0,0,0,0,0,0,0,0,0,0,0,0,0,0,0,0,0,0,0,0,0,0,0,0,0,0,0,0,0,0,0,0,0,0,0,0,0,0,0,0,0,0,0,0,0,0,0,0,0,0,0,0,0,0,0,0,0,0,0,0,0,0,0,0,0,0,0,0,0,0,0,0,0,0,0,0,0,0,0,0,0,0,0,0,0,0,0,0,0,0,0,0,0,0,0,0,0,0,0,0,0,0,0,0,0,0,0,0,0,0,0,0,0,0,0,0,0,0,0,0,0,0,0,0,0,0,0,0]
[0,0,0,0,0,0,0,0,0,0,0,0,0,0,0,0,0,0,0,0,0,0,0,0,0,0,0,0,0,0,0,0,0,0,0,0,0,0,0,0,0,0,0,0,0,0,0,0,0,0,0,0,0,0,0,0,0,0,0,0,0,0,0,0,0,0,0,0,0,0,0,0,0,0,0,0,0,0,0,0,0,0,0,0,0,0,0,0,0,0,0,0,0,0,0,0,0,0,0,0,0,0,0,0,0,0,0,0,0,0,0,0,0,0,0,0,0,0,0,0,0,0,0,0,0,0,0,0,0,0,0,0,0,0,0,0,0,0,0,0,0,0,0,0,0,0,0,0,0,0,0,0,0,0,0,0,0,0,0,0,0,0,0,0,0,0,0,0,0,0,0,0,0,0,0,0,0,0,0,0,0,0,0,0,0,0,0,0,0,0,0,0,0,0,0,0,0,0,0,0,0,0,0,0,0,0,0,0,0,0,0,0,0,0,0,0,0,0,0,0,0,0,0,0,0,0,0,0,0,0,0,0,0,0,0,0,0,0,0,0,0,0,0,0,0,0,0,0,0,0,0,0,0,0,0,0,0,0,0,0,0,0,0,0,0,0,0,0,0,0,0,0,0,0,0,0,0,0,0,0,0,0,0,0,0,0,0,0,0,0,0,0,0,0,0,0,0,0,0,0,0,0,0,0,0,0,0,0,0,0,0,0]
[0,0,0,0,0,0,0,0,0,0,0,0,0,0,0,0,0,0,0,0,0,0,0,0,0,0,0,0,0,0,0,0,0,0,0,0,0,0,0,0,0,0,0,0,0,0,0,0,0,0,0,0,0,0,0,0,0,0,0,0,0,0,0,0,0,0,0,0,0,0,0,0,0,0,0,0,0,0,0,0,0,0,0,0,0,0,0,0,0,0,0,0,0,0,0,0,0,0,0,0,0,0,0,0,0,0,0,0,0,0,0,0,0,0,0,0,0,0,0,0,0,0,0,0,0,0,0,0,0,0,0,0,0,0,0,0,0,0,0,0,0,0,0,0,0,0,0,0,0,0,0,0,0,0,0,0,0,0,0,0,0,0,0,0,0,0,0,0,0,0,0,0,0,0,0,0,0,0,0,0,0,0,0,0,0,0,0,0,0,0,0,0,0,0,0,0,0,0,0,0,0,0,0,0,0,0,0,0,0,0,0,0,0,0,0,0,0,0,0,0,0,0,0,0,0,0,0,0,0,0,0,0,0,0,0,0,0,0,0,0,0,0,0,0,0,0,0,0,0,0,0,0,0,0,0,0,0,0,0,0,0,0,0,0,0,0,0,0,0,0,0,0,0,0,0,0,0,0,0,0,0,0,0,0,0,0,0,0,0,0,0,0,0,0,0,0,0,0,0,0,0,0,0,0,0,0,0,0,0,0,0,0]
[0,0,0,0,0,0,0,0,0,0,0,0,0,0,0,0,0,0,0,0,0,0,0,0,0,0,0,0,0,0,0,0,0,0,0,0,0,0,0,0,0,0,0,0,0,0,0,0,0,0,0,0,0,0,0,0,0,0,0,0,0,0,0,0,0,0,0,0,0,0,0,0,0,0,0,0,0,0,0,0,0,0,0,0,0,0,0,0,0,0,0,0,0,0,0,0,0,0,0,0,0,0,0,0,0,0,0,0,0,0,0,0,0,0,0,0,0,0,0,0,0,0,0,0,0,0,0,0,0,0,0,0,0,0,0,0,0,0,0,0,0,0,0,0,0,0,0,0,0,0,0,0,0,0,0,0,0,0,0,0,0,0,0,0,0,0,0,0,0,0,0,0,0,0,0,0,0,0,0,0,0,0,0,0,0,0,0,0,0,0,0,0,0,0,0,0,0,0,0,0,0,0,0,0,0,0,0,0,0,0,0,0,0,0,0,0,0,0,0,0,0,0,0,0,0,0,0,0,0,0,0,0,0,0,0,0,0,0,0,0,0,0,0,0,0,0,0,0,0,0,0,0,0,0,0,0,0,0,0,0,0,0,0,0,0,0,0,0,0,0,0,0,0,0,0,0,0,0,0,0,0,0,0,0,0,0,0,0,0,0,0,0,0,0,0,0,0,0,0,0,0,0,0,0,0,0,0,0,0,0,0,0]
[0,0,0,0,0,0,0,0,0,0,0,0,0,0,0,0,0,0,0,0,0,0,0,0,0,0,0,0,0,0,0,0,0,0,0,0,0,0,0,0,0,0,0,0,0,0,0,0,0,0,0,0,0,0,0,0,0,0,0,0,0,0,0,0,0,0,0,0,0,0,0,0,0,0,0,0,0,0,0,0,0,0,0,0,0,0,0,0,0,0,0,0,0,0,0,0,0,0,0,0,0,0,0,0,0,0,0,0,0,0,0,0,0,0,0,0,0,0,0,0,0,0,0,0,0,0,0,0,0,0,0,0,0,0,0,0,0,0,0,0,0,0,0,0,0,0,0,0,0,0,0,0,0,0,0,0,0,0,0,0,0,0,0,0,0,0,0,0,0,0,0,0,0,0,0,0,0,0,0,0,0,0,0,0,0,0,0,0,0,0,0,0,0,0,0,0,0,0,0,0,0,0,0,0,0,0,0,0,0,0,0,0,0,0,0,0,0,0,0,0,0,0,0,0,0,0,0,0,0,0,0,0,0,0,0,0,0,0,0,0,0,0,0,0,0,0,0,0,0,0,0,0,0,0,0,0,0,0,0,0,0,0,0,0,0,0,0,0,0,0,0,0,0,0,0,0,0,0,0,0,0,0,0,0,0,0,0,0,0,0,0,0,0,0,0,0,0,0,0,0,0,0,0,0,0,0,0,0,0,0,0,0]
[0,0,0,0,0,0,0,0,0,0,0,0,0,0,0,0,0,0,0,0,0,0,0,0,0,0,0,0,0,0,0,0,0,0,0,0,0,0,0,0,0,0,0,0,0,0,0,0,0,0,0,0,0,0,0,0,0,0,0,0,0,0,0,0,0,0,0,0,0,0,0,0,0,0,0,0,0,0,0,0,0,0,0,0,0,0,0,0,0,0,0,0,0,0,0,0,0,0,0,0,0,0,0,0,0,0,0,0,0,0,0,0,0,0,0,0,0,0,0,0,0,0,0,0,0,0,0,0,0,0,0,0,0,0,0,0,0,0,0,0,0,0,0,0,0,0,0,0,0,0,0,0,0,0,0,0,0,0,0,0,0,0,0,0,0,0,0,0,0,0,0,0,0,0,0,0,0,0,0,0,0,0,0,0,0,0,0,0,0,0,0,0,0,0,0,0,0,0,0,0,0,0,0,0,0,0,0,0,0,0,0,0,0,0,0,0,0,0,0,0,0,0,0,0,0,0,0,0,0,0,0,0,0,0,0,0,0,0,0,0,0,0,0,0,0,0,0,0,0,0,0,0,0,0,0,0,0,0,0,0,0,0,0,0,0,0,0,0,0,0,0,0,0,0,0,0,0,0,0,0,0,0,0,0,0,0,0,0,0,0,0,0,0,0,0,0,0,0,0,0,0,0,0,0,0,0,0,0,0,0,0,0]
[0,0,0,0,0,0,0,0,0,0,0,0,0,0,0,0,0,0,0,0,0,0,0,0,0,0,0,0,0,0,0,0,0,0,0,0,0,0,0,0,0,0,0,0,0,0,0,0,0,0,0,0,0,0,0,0,0,0,0,0,0,0,0,0,0,0,0,0,0,0,0,0,0,0,0,0,0,0,0,0,0,0,0,0,0,0,0,0,0,0,0,0,0,0,0,0,0,0,0,0,0,0,0,0,0,0,0,0,0,0,0,0,0,0,0,0,0,0,0,0,0,0,0,0,0,0,0,0,0,0,0,0,0,0,0,0,0,0,0,0,0,0,0,0,0,0,0,0,0,0,0,0,0,0,0,0,0,0,0,0,0,0,0,0,0,0,0,0,0,0,0,0,0,0,0,0,0,0,0,0,0,0,0,0,0,0,0,0,0,0,0,0,0,0,0,0,0,0,0,0,0,0,0,0,0,0,0,0,0,0,0,0,0,0,0,0,0,0,0,0,0,0,0,0,0,0,0,0,0,0,0,0,0,0,0,0,0,0,0,0,0,0,0,0,0,0,0,0,0,0,0,0,0,0,0,0,0,0,0,0,0,0,0,0,0,0,0,0,0,0,0,0,0,0,0,0,0,0,0,0,0,0,0,0,0,0,0,0,0,0,0,0,0,0,0,0,0,0,0,0,0,0,0,0,0,0,0,0,0,0,0,0]
[0,0,0,0,0,0,0,0,0,0,0,0,0,0,0,0,0,0,0,0,0,0,0,0,0,0,0,0,0,0,0,0,0,0,0,0,0,0,0,0,0,0,0,0,0,0,0,0,0,0,0,0,0,0,0,0,0,0,0,0,0,0,0,0,0,0,0,0,0,0,0,0,0,0,0,0,0,0,0,0,0,0,0,0,0,0,0,0,0,0,0,0,0,0,0,0,0,0,0,0,0,0,0,0,0,0,0,0,0,0,0,0,0,0,0,0,0,0,0,0,0,0,0,0,0,0,0,0,0,0,0,0,0,0,0,0,0,0,0,0,0,0,0,0,0,0,0,0,0,0,0,0,0,0,0,0,0,0,0,0,0,0,0,0,0,0,0,0,0,0,0,0,0,0,0,0,0,0,0,0,0,0,0,0,0,0,0,0,0,0,0,0,0,0,0,0,0,0,0,0,0,0,0,0,0,0,0,0,0,0,0,0,0,0,0,0,0,0,0,0,0,0,0,0,0,0,0,0,0,0,0,0,0,0,0,0,0,0,0,0,0,0,0,0,0,0,0,0,0,0,0,0,0,0,0,0,0,0,0,0,0,0,0,0,0,0,0,0,0,0,0,0,0,0,0,0,0,0,0,0,0,0,0,0,0,0,0,0,0,0,0,0,0,0,0,0,0,0,0,0,0,0,0,0,0,0,0,0,0,0,0,0]
[0,0,0,0,0,0,0,0,0,0,0,0,0,0,0,0,0,0,0,0,0,0,0,0,0,0,0,0,0,0,0,0,0,0,0,0,0,0,0,0,0,0,0,0,0,0,0,0,0,0,0,0,0,0,0,0,0,0,0,0,0,0,0,0,0,0,0,0,0,0,0,0,0,0,0,0,0,0,0,0,0,0,0,0,0,0,0,0,0,0,0,0,0,0,0,0,0,0,0,0,0,0,0,0,0,0,0,0,0,0,0,0,0,0,0,0,0,0,0,0,0,0,0,0,0,0,0,0,0,0,0,0,0,0,0,0,0,0,0,0,0,0,0,0,0,0,0,0,0,0,0,0,0,0,0,0,0,0,0,0,0,0,0,0,0,0,0,0,0,0,0,0,0,0,0,0,0,0,0,0,0,0,0,0,0,0,0,0,0,0,0,0,0,0,0,0,0,0,0,0,0,0,0,0,0,0,0,0,0,0,0,0,0,0,0,0,0,0,0,0,0,0,0,0,0,0,0,0,0,0,0,0,0,0,0,0,0,0,0,0,0,0,0,0,0,0,0,0,0,0,0,0,0,0,0,0,0,0,0,0,0,0,0,0,0,0,0,0,0,0,0,0,0,0,0,0,0,0,0,0,0,0,0,0,0,0,0,0,0,0,0,0,0,0,0,0,0,0,0,0,0,0,0,0,0,0,0,0,0,0,0,0]
[0,0,0,0,0,0,0,0,0,0,0,0,0,0,0,0,0,0,0,0,0,0,0,0,0,0,0,0,0,0,0,0,0,0,0,0,0,0,0,0,0,0,0,0,0,0,0,0,0,0,0,0,0,0,0,0,0,0,0,0,0,0,0,0,0,0,0,0,0,0,0,0,0,0,0,0,0,0,0,0,0,0,0,0,0,0,0,0,0,0,0,0,0,0,0,0,0,0,0,0,0,0,0,0,0,0,0,0,0,0,0,0,0,0,0,0,0,0,0,0,0,0,0,0,0,0,0,0,0,0,0,0,0,0,0,0,0,0,0,0,0,0,0,0,0,0,0,0,0,0,0,0,0,0,0,0,0,0,0,0,0,0,0,0,0,0,0,0,0,0,0,0,0,0,0,0,0,0,0,0,0,0,0,0,0,0,0,0,0,0,0,0,0,0,0,0,0,0,0,0,0,0,0,0,0,0,0,0,0,0,0,0,0,0,0,0,0,0,0,0,0,0,0,0,0,0,0,0,0,0,0,0,0,0,0,0,0,0,0,0,0,0,0,0,0,0,0,0,0,0,0,0,0,0,0,0,0,0,0,0,0,0,0,0,0,0,0,0,0,0,0,0,0,0,0,0,0,0,0,0,0,0,0,0,0,0,0,0,0,0,0,0,0,0,0,0,0,0,0,0,0,0,0,0,0,0,0,0,0,0,0,0]
[0,0,0,0,0,0,0,0,0,0,0,0,0,0,0,0,0,0,0,0,0,0,0,0,0,0,0,0,0,0,0,0,0,0,0,0,0,0,0,0,0,0,0,0,0,0,0,0,0,0,0,0,0,0,0,0,0,0,0,0,0,0,0,0,0,0,0,0,0,0,0,0,0,0,0,0,0,0,0,0,0,0,0,0,0,0,0,0,0,0,0,0,0,0,0,0,0,0,0,0,0,0,0,0,0,0,0,0,0,0,0,0,0,0,0,0,0,0,0,0,0,0,0,0,0,0,0,0,0,0,0,0,0,0,0,0,0,0,0,0,0,0,0,0,0,0,0,0,0,0,0,0,0,0,0,0,0,0,0,0,0,0,0,0,0,0,0,0,0,0,0,0,0,0,0,0,0,0,0,0,0,0,0,0,0,0,0,0,0,0,0,0,0,0,0,0,0,0,0,0,0,0,0,0,0,0,0,0,0,0,0,0,0,0,0,0,0,0,0,0,0,0,0,0,0,0,0,0,0,0,0,0,0,0,0,0,0,0,0,0,0,0,0,0,0,0,0,0,0,0,0,0,0,0,0,0,0,0,0,0,0,0,0,0,0,0,0,0,0,0,0,0,0,0,0,0,0,0,0,0,0,0,0,0,0,0,0,0,0,0,0,0,0,0,0,0,0,0,0,0,0,0,0,0,0,0,0,0,0,0,0,0]
[0,0,0,0,0,0,0,0,0,0,0,0,0,0,0,0,0,0,0,0,0,0,0,0,0,0,0,0,0,0,0,0,0,0,0,0,0,0,0,0,0,0,0,0,0,0,0,0,0,0,0,0,0,0,0,0,0,0,0,0,0,0,0,0,0,0,0,0,0,0,0,0,0,0,0,0,0,0,0,0,0,0,0,0,0,0,0,0,0,0,0,0,0,0,0,0,0,0,0,0,0,0,0,0,0,0,0,0,0,0,0,0,0,0,0,0,0,0,0,0,0,0,0,0,0,0,0,0,0,0,0,0,0,0,0,0,0,0,0,0,0,0,0,0,0,0,0,0,0,0,0,0,0,0,0,0,0,0,0,0,0,0,0,0,0,0,0,0,0,0,0,0,0,0,0,0,0,0,0,0,0,0,0,0,0,0,0,0,0,0,0,0,0,0,0,0,0,0,0,0,0,0,0,0,0,0,0,0,0,0,0,0,0,0,0,0,0,0,0,0,0,0,0,0,0,0,0,0,0,0,0,0,0,0,0,0,0,0,0,0,0,0,0,0,0,0,0,0,0,0,0,0,0,0,0,0,0,0,0,0,0,0,0,0,0,0,0,0,0,0,0,0,0,0,0,0,0,0,0,0,0,0,0,0,0,0,0,0,0,0,0,0,0,0,0,0,0,0,0,0,0,0,0,0,0,0,0,0,0,0,0,0]
[0,0,0,0,0,0,0,0,0,0,0,0,0,0,0,0,0,0,0,0,0,0,0,0,0,0,0,0,0,0,0,0,0,0,0,0,0,0,0,0,0,0,0,0,0,0,0,0,0,0,0,0,0,0,0,0,0,0,0,0,0,0,0,0,0,0,0,0,0,0,0,0,0,0,0,0,0,0,0,0,0,0,0,0,0,0,0,0,0,0,0,0,0,0,0,0,0,0,0,0,0,0,0,0,0,0,0,0,0,0,0,0,0,0,0,0,0,0,0,0,0,0,0,0,0,0,0,0,0,0,0,0,0,0,0,0,0,0,0,0,0,0,0,0,0,0,0,0,0,0,0,0,0,0,0,0,0,0,0,0,0,0,0,0,0,0,0,0,0,0,0,0,0,0,0,0,0,0,0,0,0,0,0,0,0,0,0,0,0,0,0,0,0,0,0,0,0,0,0,0,0,0,0,0,0,0,0,0,0,0,0,0,0,0,0,0,0,0,0,0,0,0,0,0,0,0,0,0,0,0,0,0,0,0,0,0,0,0,0,0,0,0,0,0,0,0,0,0,0,0,0,0,0,0,0,0,0,0,0,0,0,0,0,0,0,0,0,0,0,0,0,0,0,0,0,0,0,0,0,0,0,0,0,0,0,0,0,0,0,0,0,0,0,0,0,0,0,0,0,0,0,0,0,0,0,0,0,0,0,0,0,0]
[0,0,0,0,0,0,0,0,0,0,0,0,0,0,0,0,0,0,0,0,0,0,0,0,0,0,0,0,0,0,0,0,0,0,0,0,0,0,0,0,0,0,0,0,0,0,0,0,0,0,0,0,0,0,0,0,0,0,0,0,0,0,0,0,0,0,0,0,0,0,0,0,0,0,0,0,0,0,0,0,0,0,0,0,0,0,0,0,0,0,0,0,0,0,0,0,0,0,0,0,0,0,0,0,0,0,0,0,0,0,0,0,0,0,0,0,0,0,0,0,0,0,0,0,0,0,0,0,0,0,0,0,0,0,0,0,0,0,0,0,0,0,0,0,0,0,0,0,0,0,0,0,0,0,0,0,0,0,0,0,0,0,0,0,0,0,0,0,0,0,0,0,0,0,0,0,0,0,0,0,0,0,0,0,0,0,0,0,0,0,0,0,0,0,0,0,0,0,0,0,0,0,0,0,0,0,0,0,0,0,0,0,0,0,0,0,0,0,0,0,0,0,0,0,0,0,0,0,0,0,0,0,0,0,0,0,0,0,0,0,0,0,0,0,0,0,0,0,0,0,0,0,0,0,0,0,0,0,0,0,0,0,0,0,0,0,0,0,0,0,0,0,0,0,0,0,0,0,0,0,0,0,0,0,0,0,0,0,0,0,0,0,0,0,0,0,0,0,0,0,0,0,0,0,0,0,0,0,0,0,0,0]
[0,0,0,0,0,0,0,0,0,0,0,0,0,0,0,0,0,0,0,0,0,0,0,0,0,0,0,0,0,0,0,0,0,0,0,0,0,0,0,0,0,0,0,0,0,0,0,0,0,0,0,0,0,0,0,0,0,0,0,0,0,0,0,0,0,0,0,0,0,0,0,0,0,0,0,0,0,0,0,0,0,0,0,0,0,0,0,0,0,0,0,0,0,0,0,0,0,0,0,0,0,0,0,0,0,0,0,0,0,0,0,0,0,0,0,0,0,0,0,0,0,0,0,0,0,0,0,0,0,0,0,0,0,0,0,0,0,0,0,0,0,0,0,0,0,0,0,0,0,0,0,0,0,0,0,0,0,0,0,0,0,0,0,0,0,0,0,0,0,0,0,0,0,0,0,0,0,0,0,0,0,0,0,0,0,0,0,0,0,0,0,0,0,0,0,0,0,0,0,0,0,0,0,0,0,0,0,0,0,0,0,0,0,0,0,0,0,0,0,0,0,0,0,0,0,0,0,0,0,0,0,0,0,0,0,0,0,0,0,0,0,0,0,0,0,0,0,0,0,0,0,0,0,0,0,0,0,0,0,0,0,0,0,0,0,0,0,0,0,0,0,0,0,0,0,0,0,0,0,0,0,0,0,0,0,0,0,0,0,0,0,0,0,0,0,0,0,0,0,0,0,0,0,0,0,0,0,0,0,0,0,0]
[0,0,0,0,0,0,0,0,0,0,0,0,0,0,0,0,0,0,0,0,0,0,0,0,0,0,0,0,0,0,0,0,0,0,0,0,0,0,0,0,0,0,0,0,0,0,0,0,0,0,0,0,0,0,0,0,0,0,0,0,0,0,0,0,0,0,0,0,0,0,0,0,0,0,0,0,0,0,0,0,0,0,0,0,0,0,0,0,0,0,0,0,0,0,0,0,0,0,0,0,0,0,0,0,0,0,0,0,0,0,0,0,0,0,0,0,0,0,0,0,0,0,0,0,0,0,0,0,0,0,0,0,0,0,0,0,0,0,0,0,0,0,0,0,0,0,0,0,0,0,0,0,0,0,0,0,0,0,0,0,0,0,0,0,0,0,0,0,0,0,0,0,0,0,0,0,0,0,0,0,0,0,0,0,0,0,0,0,0,0,0,0,0,0,0,0,0,0,0,0,0,0,0,0,0,0,0,0,0,0,0,0,0,0,0,0,0,0,0,0,0,0,0,0,0,0,0,0,0,0,0,0,0,0,0,0,0,0,0,0,0,0,0,0,0,0,0,0,0,0,0,0,0,0,0,0,0,0,0,0,0,0,0,0,0,0,0,0,0,0,0,0,0,0,0,0,0,0,0,0,0,0,0,0,0,0,0,0,0,0,0,0,0,0,0,0,0,0,0,0,0,0,0,0,0,0,0,0,0,0,0,0]
[0,0,0,0,0,0,0,0,0,0,0,0,0,0,0,0,0,0,0,0,0,0,0,0,0,0,0,0,0,0,0,0,0,0,0,0,0,0,0,0,0,0,0,0,0,0,0,0,0,0,0,0,0,0,0,0,0,0,0,0,0,0,0,0,0,0,0,0,0,0,0,0,0,0,0,0,0,0,0,0,0,0,0,0,0,0,0,0,0,0,0,0,0,0,0,0,0,0,0,0,0,0,0,0,0,0,0,0,0,0,0,0,0,0,0,0,0,0,0,0,0,0,0,0,0,0,0,0,0,0,0,0,0,0,0,0,0,0,0,0,0,0,0,0,0,0,0,0,0,0,0,0,0,0,0,0,0,0,0,0,0,0,0,0,0,0,0,0,0,0,0,0,0,0,0,0,0,0,0,0,0,0,0,0,0,0,0,0,0,0,0,0,0,0,0,0,0,0,0,0,0,0,0,0,0,0,0,0,0,0,0,0,0,0,0,0,0,0,0,0,0,0,0,0,0,0,0,0,0,0,0,0,0,0,0,0,0,0,0,0,0,0,0,0,0,0,0,0,0,0,0,0,0,0,0,0,0,0,0,0,0,0,0,0,0,0,0,0,0,0,0,0,0,0,0,0,0,0,0,0,0,0,0,0,0,0,0,0,0,0,0,0,0,0,0,0,0,0,0,0,0,0,0,0,0,0,0,0,0,0,0,0]
[0,0,0,0,0,0,0,0,0,0,0,0,0,0,0,0,0,0,0,0,0,0,0,0,0,0,0,0,0,0,0,0,0,0,0,0,0,0,0,0,0,0,0,0,0,0,0,0,0,0,0,0,0,0,0,0,0,0,0,0,0,0,0,0,0,0,0,0,0,0,0,0,0,0,0,0,0,0,0,0,0,0,0,0,0,0,0,0,0,0,0,0,0,0,0,0,0,0,0,0,0,0,0,0,0,0,0,0,0,0,0,0,0,0,0,0,0,0,0,0,0,0,0,0,0,0,0,0,0,0,0,0,0,0,0,0,0,0,0,0,0,0,0,0,0,0,0,0,0,0,0,0,0,0,0,0,0,0,0,0,0,0,0,0,0,0,0,0,0,0,0,0,0,0,0,0,0,0,0,0,0,0,0,0,0,0,0,0,0,0,0,0,0,0,0,0,0,0,0,0,0,0,0,0,0,0,0,0,0,0,0,0,0,0,0,0,0,0,0,0,0,0,0,0,0,0,0,0,0,0,0,0,0,0,0,0,0,0,0,0,0,0,0,0,0,0,0,0,0,0,0,0,0,0,0,0,0,0,0,0,0,0,0,0,0,0,0,0,0,0,0,0,0,0,0,0,0,0,0,0,0,0,0,0,0,0,0,0,0,0,0,0,0,0,0,0,0,0,0,0,0,0,0,0,0,0,0,0,0,0,0,0]
[0,0,0,0,0,0,0,0,0,0,0,0,0,0,0,0,0,0,0,0,0,0,0,0,0,0,0,0,0,0,0,0,0,0,0,0,0,0,0,0,0,0,0,0,0,0,0,0,0,0,0,0,0,0,0,0,0,0,0,0,0,0,0,0,0,0,0,0,0,0,0,0,0,0,0,0,0,0,0,0,0,0,0,0,0,0,0,0,0,0,0,0,0,0,0,0,0,0,0,0,0,0,0,0,0,0,0,0,0,0,0,0,0,0,0,0,0,0,0,0,0,0,0,0,0,0,0,0,0,0,0,0,0,0,0,0,0,0,0,0,0,0,0,0,0,0,0,0,0,0,0,0,0,0,0,0,0,0,0,0,0,0,0,0,0,0,0,0,0,0,0,0,0,0,0,0,0,0,0,0,0,0,0,0,0,0,0,0,0,0,0,0,0,0,0,0,0,0,0,0,0,0,0,0,0,0,0,0,0,0,0,0,0,0,0,0,0,0,0,0,0,0,0,0,0,0,0,0,0,0,0,0,0,0,0,0,0,0,0,0,0,0,0,0,0,0,0,0,0,0,0,0,0,0,0,0,0,0,0,0,0,0,0,0,0,0,0,0,0,0,0,0,0,0,0,0,0,0,0,0,0,0,0,0,0,0,0,0,0,0,0,0,0,0,0,0,0,0,0,0,0,0,0,0,0,0,0,0,0,0,0,0]
[0,0,0,0,0,0,0,0,0,0,0,0,0,0,0,0,0,0,0,0,0,0,0,0,0,0,0,0,0,0,0,0,0,0,0,0,0,0,0,0,0,0,0,0,0,0,0,0,0,0,0,0,0,0,0,0,0,0,0,0,0,0,0,0,0,0,0,0,0,0,0,0,0,0,0,0,0,0,0,0,0,0,0,0,0,0,0,0,0,0,0,0,0,0,0,0,0,0,0,0,0,0,0,0,0,0,0,0,0,0,0,0,0,0,0,0,0,0,0,0,0,0,0,0,0,0,0,0,0,0,0,0,0,0,0,0,0,0,0,0,0,0,0,0,0,0,0,0,0,0,0,0,0,0,0,0,0,0,0,0,0,0,0,0,0,0,0,0,0,0,0,0,0,0,0,0,0,0,0,0,0,0,0,0,0,0,0,0,0,0,0,0,0,0,0,0,0,0,0,0,0,0,0,0,0,0,0,0,0,0,0,0,0,0,0,0,0,0,0,0,0,0,0,0,0,0,0,0,0,0,0,0,0,0,0,0,0,0,0,0,0,0,0,0,0,0,0,0,0,0,0,0,0,0,0,0,0,0,0,0,0,0,0,0,0,0,0,0,0,0,0,0,0,0,0,0,0,0,0,0,0,0,0,0,0,0,0,0,0,0,0,0,0,0,0,0,0,0,0,0,0,0,0,0,0,0,0,0,0,0,0,0]
[0,0,0,0,0,0,0,0,0,0,0,0,0,0,0,0,0,0,0,0,0,0,0,0,0,0,0,0,0,0,0,0,0,0,0,0,0,0,0,0,0,0,0,0,0,0,0,0,0,0,0,0,0,0,0,0,0,0,0,0,0,0,0,0,0,0,0,0,0,0,0,0,0,0,0,0,0,0,0,0,0,0,0,0,0,0,0,0,0,0,0,0,0,0,0,0,0,0,0,0,0,0,0,0,0,0,0,0,0,0,0,0,0,0,0,0,0,0,0,0,0,0,0,0,0,0,0,0,0,0,0,0,0,0,0,0,0,0,0,0,0,0,0,0,0,0,0,0,0,0,0,0,0,0,0,0,0,0,0,0,0,0,0,0,0,0,0,0,0,0,0,0,0,0,0,0,0,0,0,0,0,0,0,0,0,0,0,0,0,0,0,0,0,0,0,0,0,0,0,0,0,0,0,0,0,0,0,0,0,0,0,0,0,0,0,0,0,0,0,0,0,0,0,0,0,0,0,0,0,0,0,0,0,0,0,0,0,0,0,0,0,0,0,0,0,0,0,0,0,0,0,0,0,0,0,0,0,0,0,0,0,0,0,0,0,0,0,0,0,0,0,0,0,0,0,0,0,0,0,0,0,0,0,0,0,0,0,0,0,0,0,0,0,0,0,0,0,0,0,0,0,0,0,0,0,0,0,0,0,0,0,0]
[0,0,0,0,0,0,0,0,0,0,0,0,0,0,0,0,0,0,0,0,0,0,0,0,0,0,0,0,0,0,0,0,0,0,0,0,0,0,0,0,0,0,0,0,0,0,0,0,0,0,0,0,0,0,0,0,0,0,0,0,0,0,0,0,0,0,0,0,0,0,0,0,0,0,0,0,0,0,0,0,0,0,0,0,0,0,0,0,0,0,0,0,0,0,0,0,0,0,0,0,0,0,0,0,0,0,0,0,0,0,0,0,0,0,0,0,0,0,0,0,0,0,0,0,0,0,0,0,0,0,0,0,0,0,0,0,0,0,0,0,0,0,0,0,0,0,0,0,0,0,0,0,0,0,0,0,0,0,0,0,0,0,0,0,0,0,0,0,0,0,0,0,0,0,0,0,0,0,0,0,0,0,0,0,0,0,0,0,0,0,0,0,0,0,0,0,0,0,0,0,0,0,0,0,0,0,0,0,0,0,0,0,0,0,0,0,0,0,0,0,0,0,0,0,0,0,0,0,0,0,0,0,0,0,0,0,0,0,0,0,0,0,0,0,0,0,0,0,0,0,0,0,0,0,0,0,0,0,0,0,0,0,0,0,0,0,0,0,0,0,0,0,0,0,0,0,0,0,0,0,0,0,0,0,0,0,0,0,0,0,0,0,0,0,0,0,0,0,0,0,0,0,0,0,0,0,0,0,0,0,0,0]
[0,0,0,0,0,0,0,0,0,0,0,0,0,0,0,0,0,0,0,0,0,0,0,0,0,0,0,0,0,0,0,0,0,0,0,0,0,0,0,0,0,0,0,0,0,0,0,0,0,0,0,0,0,0,0,0,0,0,0,0,0,0,0,0,0,0,0,0,0,0,0,0,0,0,0,0,0,0,0,0,0,0,0,0,0,0,0,0,0,0,0,0,0,0,0,0,0,0,0,0,0,0,0,0,0,0,0,0,0,0,0,0,0,0,0,0,0,0,0,0,0,0,0,0,0,0,0,0,0,0,0,0,0,0,0,0,0,0,0,0,0,0,0,0,0,0,0,0,0,0,0,0,0,0,0,0,0,0,0,0,0,0,0,0,0,0,0,0,0,0,0,0,0,0,0,0,0,0,0,0,0,0,0,0,0,0,0,0,0,0,0,0,0,0,0,0,0,0,0,0,0,0,0,0,0,0,0,0,0,0,0,0,0,0,0,0,0,0,0,0,0,0,0,0,0,0,0,0,0,0,0,0,0,0,0,0,0,0,0,0,0,0,0,0,0,0,0,0,0,0,0,0,0,0,0,0,0,0,0,0,0,0,0,0,0,0,0,0,0,0,0,0,0,0,0,0,0,0,0,0,0,0,0,0,0,0,0,0,0,0,0,0,0,0,0,0,0,0,0,0,0,0,0,0,0,0,0,0,0,0,0,0]
[0,0,0,0,0,0,0,0,0,0,0,0,0,0,0,0,0,0,0,0,0,0,0,0,0,0,0,0,0,0,0,0,0,0,0,0,0,0,0,0,0,0,0,0,0,0,0,0,0,0,0,0,0,0,0,0,0,0,0,0,0,0,0,0,0,0,0,0,0,0,0,0,0,0,0,0,0,0,0,0,0,0,0,0,0,0,0,0,0,0,0,0,0,0,0,0,0,0,0,0,0,0,0,0,0,0,0,0,0,0,0,0,0,0,0,0,0,0,0,0,0,0,0,0,0,0,0,0,0,0,0,0,0,0,0,0,0,0,0,0,0,0,0,0,0,0,0,0,0,0,0,0,0,0,0,0,0,0,0,0,0,0,0,0,0,0,0,0,0,0,0,0,0,0,0,0,0,0,0,0,0,0,0,0,0,0,0,0,0,0,0,0,0,0,0,0,0,0,0,0,0,0,0,0,0,0,0,0,0,0,0,0,0,0,0,0,0,0,0,0,0,0,0,0,0,0,0,0,0,0,0,0,0,0,0,0,0,0,0,0,0,0,0,0,0,0,0,0,0,0,0,0,0,0,0,0,0,0,0,0,0,0,0,0,0,0,0,0,0,0,0,0,0,0,0,0,0,0,0,0,0,0,0,0,0,0,0,0,0,0,0,0,0,0,0,0,0,0,0,0,0,0,0,0,0,0,0,0,0,0,0,0]
[0,0,0,0,0,0,0,0,0,0,0,0,0,0,0,0,0,0,0,0,0,0,0,0,0,0,0,0,0,0,0,0,0,0,0,0,0,0,0,0,0,0,0,0,0,0,0,0,0,0,0,0,0,0,0,0,0,0,0,0,0,0,0,0,0,0,0,0,0,0,0,0,0,0,0,0,0,0,0,0,0,0,0,0,0,0,0,0,0,0,0,0,0,0,0,0,0,0,0,0,0,0,0,0,0,0,0,0,0,0,0,0,0,0,0,0,0,0,0,0,0,0,0,0,0,0,0,0,0,0,0,0,0,0,0,0,0,0,0,0,0,0,0,0,0,0,0,0,0,0,0,0,0,0,0,0,0,0,0,0,0,0,0,0,0,0,0,0,0,0,0,0,0,0,0,0,0,0,0,0,0,0,0,0,0,0,0,0,0,0,0,0,0,0,0,0,0,0,0,0,0,0,0,0,0,0,0,0,0,0,0,0,0,0,0,0,0,0,0,0,0,0,0,0,0,0,0,0,0,0,0,0,0,0,0,0,0,0,0,0,0,0,0,0,0,0,0,0,0,0,0,0,0,0,0,0,0,0,0,0,0,0,0,0,0,0,0,0,0,0,0,0,0,0,0,0,0,0,0,0,0,0,0,0,0,0,0,0,0,0,0,0,0,0,0,0,0,0,0,0,0,0,0,0,0,0,0,0,0,0,0,0]
[0,0,0,0,0,0,0,0,0,0,0,0,0,0,0,0,0,0,0,0,0,0,0,0,0,0,0,0,0,0,0,0,0,0,0,0,0,0,0,0,0,0,0,0,0,0,0,0,0,0,0,0,0,0,0,0,0,0,0,0,0,0,0,0,0,0,0,0,0,0,0,0,0,0,0,0,0,0,0,0,0,0,0,0,0,0,0,0,0,0,0,0,0,0,0,0,0,0,0,0,0,0,0,0,0,0,0,0,0,0,0,0,0,0,0,0,0,0,0,0,0,0,0,0,0,0,0,0,0,0,0,0,0,0,0,0,0,0,0,0,0,0,0,0,0,0,0,0,0,0,0,0,0,0,0,0,0,0,0,0,0,0,0,0,0,0,0,0,0,0,0,0,0,0,0,0,0,0,0,0,0,0,0,0,0,0,0,0,0,0,0,0,0,0,0,0,0,0,0,0,0,0,0,0,0,0,0,0,0,0,0,0,0,0,0,0,0,0,0,0,0,0,0,0,0,0,0,0,0,0,0,0,0,0,0,0,0,0,0,0,0,0,0,0,0,0,0,0,0,0,0,0,0,0,0,0,0,0,0,0,0,0,0,0,0,0,0,0,0,0,0,0,0,0,0,0,0,0,0,0,0,0,0,0,0,0,0,0,0,0,0,0,0,0,0,0,0,0,0,0,0,0,0,0,0,0,0,0,0,0,0,0]
[0,0,0,0,0,0,0,0,0,0,0,0,0,0,0,0,0,0,0,0,0,0,0,0,0,0,0,0,0,0,0,0,0,0,0,0,0,0,0,0,0,0,0,0,0,0,0,0,0,0,0,0,0,0,0,0,0,0,0,0,0,0,0,0,0,0,0,0,0,0,0,0,0,0,0,0,0,0,0,0,0,0,0,0,0,0,0,0,0,0,0,0,0,0,0,0,0,0,0,0,0,0,0,0,0,0,0,0,0,0,0,0,0,0,0,0,0,0,0,0,0,0,0,0,0,0,0,0,0,0,0,0,0,0,0,0,0,0,0,0,0,0,0,0,0,0,0,0,0,0,0,0,0,0,0,0,0,0,0,0,0,0,0,0,0,0,0,0,0,0,0,0,0,0,0,0,0,0,0,0,0,0,0,0,0,0,0,0,0,0,0,0,0,0,0,0,0,0,0,0,0,0,0,0,0,0,0,0,0,0,0,0,0,0,0,0,0,0,0,0,0,0,0,0,0,0,0,0,0,0,0,0,0,0,0,0,0,0,0,0,0,0,0,0,0,0,0,0,0,0,0,0,0,0,0,0,0,0,0,0,0,0,0,0,0,0,0,0,0,0,0,0,0,0,0,0,0,0,0,0,0,0,0,0,0,0,0,0,0,0,0,0,0,0,0,0,0,0,0,0,0,0,0,0,0,0,0,0,0,0,0,0]
[0,0,0,0,0,0,0,0,0,0,0,0,0,0,0,0,0,0,0,0,0,0,0,0,0,0,0,0,0,0,0,0,0,0,0,0,0,0,0,0,0,0,0,0,0,0,0,0,0,0,0,0,0,0,0,0,0,0,0,0,0,0,0,0,0,0,0,0,0,0,0,0,0,0,0,0,0,0,0,0,0,0,0,0,0,0,0,0,0,0,0,0,0,0,0,0,0,0,0,0,0,0,0,0,0,0,0,0,0,0,0,0,0,0,0,0,0,0,0,0,0,0,0,0,0,0,0,0,0,0,0,0,0,0,0,0,0,0,0,0,0,0,0,0,0,0,0,0,0,0,0,0,0,0,0,0,0,0,0,0,0,0,0,0,0,0,0,0,0,0,0,0,0,0,0,0,0,0,0,0,0,0,0,0,0,0,0,0,0,0,0,0,0,0,0,0,0,0,0,0,0,0,0,0,0,0,0,0,0,0,0,0,0,0,0,0,0,0,0,0,0,0,0,0,0,0,0,0,0,0,0,0,0,0,0,0,0,0,0,0,0,0,0,0,0,0,0,0,0,0,0,0,0,0,0,0,0,0,0,0,0,0,0,0,0,0,0,0,0,0,0,0,0,0,0,0,0,0,0,0,0,0,0,0,0,0,0,0,0,0,0,0,0,0,0,0,0,0,0,0,0,0,0,0,0,0,0,0,0,0,0,0]
[]
[]
[]
[]
[]
[]
[]
[]
[]
[]
[]
[]
[]
[]
[]
[]
[]
[]
[]
[]
[]
[]
[]
[]
[]
[]
[]
[]
[]
[]
[]
[]
[]
[]
[]
[]
[]
[]
[]
[]
[]
[]
[]
[]
[]
[]
[]
[]
[]
[]
[]
[]
[]
[]
[]
[]
[]
[]
[]
[]
[]
[]
[]
[]
[]
[]
[]
[]
[]
[]
[]
[]
[]
[]
[]
[]
[]
[]
[]
[]
[]
[]
[]
[]
[]
[]
[]
[]
[]
[]
[]
[]
[]
[]
[]
[]
[]
[]
[]
[]
[]
[]
[]
[]
[]
[]
[]
[]
[]
[]
[]
[]
[]
[]
[]
[]
[]
[]
[]
[]
[]
[]
[]
[]
[]
[]
[]
[]
[]
[]
[]
[]
[]
[]
[]
[]
[]
[]
[]
[]
[]
[]
[]
[]
[]
[]
[]
[]
[]
[]
["A30 P 60 10 Wd 60_6","A30 P 60 10SDWd 60_6","A30 P 60 20 Wd 60_6","A30 P 60 20SDWd 60_6","A30 P 65 10 Wd 65_6","A30 P 65 10SDWd 65_6","A30 P 65 20 Wd 65_6","A30 P 65 20SDWd 65_6","A30 P 70 10 Wd 70_6","A30 P 70 10SDWd 70_6","A30 P 70 20 Wd 70_6","A30 P 70 20SDWd 70_6","A31 P 60 10 Wd 60_6","A31 P 60 10SDWd 60_6","A31 P 60 20 Wd 60_6","A31 P 60 20SDWd 60_6","A31 P 65 10 Wd 65_6","A31 P 65 10SDWd 65_6","A31 P 65 20 Wd 65_6","A31 P 65 20SDWd 65_6","A31 P 70 10 Wd 70_6","A31 P 70 10SDWd 70_6","A31 P 70 20 Wd 70_6","A31 P 70 20SDWd 70_6","A32 P 60 10 Wd 60_6","A32 P 60 10SDWd 60_6","A32 P 60 20 Wd 60_6","A32 P 60 20SDWd 60_6","A32 P 65 10 Wd 65_6","A32 P 65 10SDWd 65_6","A32 P 65 20 Wd 65_6","A32 P 65 20SDWd 65_6","A32 P 70 10 Wd 70_6","A32 P 70 10SDWd 70_6","A32 P 70 20 Wd 70_6","A32 P 70 20SDWd 70_6","A33 P 60 10 Wd 60_6","A33 P 60 10SDWd 60_6","A33 P 60 20 Wd 60_6","A33 P 60 20SDWd 60_6","A33 P 65 10 Wd 65_6","A33 P 65 10SDWd 65_6","A33 P 65 20 Wd 65_6","A33 P 65 20SDWd 65_6","A33 P 70 10 Wd 70_6","A33 P 70 10SDWd 70_6","A33 P 70 20 Wd 70_6","A33 P 70 20SDWd 70_6","A34 P 60 10 Wd 60_6","A34 P 60 10SDWd 60_6","A34 P 60 20 Wd 60_6","A34 P 60 20SDWd 60_6","A34 P 65 10 Wd 65_6","A34 P 65 10SDWd 65_6","A34 P 65 20 Wd 65_6","A34 P 65 20SDWd 65_6","A34 P 70 10 Wd 70_6","A34 P 70 10SDWd 70_6","A34 P 70 20 Wd 70_6","A34 P 70 20SDWd 70_6","A35 P 60 10 Wd 60_6","A35 P 60 10SDWd 60_6","A35 P 60 20 Wd 60_6","A35 P 60 20SDWd 60_6","A35 P 65 10 Wd 65_6","A35 P 65 10SDWd 65_6","A35 P 65 20 Wd 65_6","A35 P 65 20SDWd 65_6","A35 P 70 10 Wd 70_6","A35 P 70 10SDWd 70_6","A35 P 70 20 Wd 70_6","A35 P 70 20SDWd 70_6","A36 P 60 10 Wd 60_6","A36 P 60 10SDWd 60_6","A36 P 60 20 Wd 60_6","A36 P 60 20SDWd 60_6","A36 P 65 10 Wd 65_6","A36 P 65 10SDWd 65_6","A36 P 65 20 Wd 65_6","A36 P 65 20SDWd 65_6","A36 P 70 10 Wd 70_6","A36 P 70 10SDWd 70_6","A36 P 70 20 Wd 70_6","A36 P 70 20SDWd 70_6","A37 P 60 10 Wd 60_6","A37 P 60 10SDWd 60_6","A37 P 60 20 Wd 60_6","A37 P 60 20SDWd 60_6","A37 P 65 10 Wd 65_6","A37 P 65 10SDWd 65_6","A37 P 65 20 Wd 65_6","A37 P 65 20SDWd 65_6","A37 P 70 10 Wd 70_6","A37 P 70 10SDWd 70_6","A37 P 70 20 Wd 70_6","A37 P 70 20SDWd 70_6","A38 P 60 10 Wd 60_6","A38 P 60 10SDWd 60_6","A38 P 60 20 Wd 60_6","A38 P 60 20SDWd 60_6","A38 P 65 10 Wd 65_6","A38 P 65 10SDWd 65_6","A38 P 65 20 Wd 65_6","A38 P 65 20SDWd 65_6","A38 P 70 10 Wd 70_6","A38 P 70 10SDWd 70_6","A38 P 70 20 Wd 70_6","A38 P 70 20SDWd 70_6","A39 P 60 10 Wd 60_6","A39 P 60 10SDWd 60_6","A39 P 60 20 Wd 60_6","A39 P 60 20SDWd 60_6","A39 P 65 10 Wd 65_6","A39 P 65 10SDWd 65_6","A39 P 65 20 Wd 65_6","A39 P 65 20SDWd 65_6","A39 P 70 10 Wd 70_6","A39 P 70 10SDWd 70_6","A39 P 70 20 Wd 70_6","A39 P 70 20SDWd 70_6","A40 P 60 10 Wd 60_6","A40 P 60 10SDWd 60_6","A40 P 60 20 Wd 60_6","A40 P 60 20SDWd 60_6","A40 P 65 10 Wd 65_6","A40 P 65 10SDWd 65_6","A40 P 65 20 Wd 65_6","A40 P 65 20SDWd 65_6","A40 P 70 10 Wd 70_6","A40 P 70 10SDWd 70_6","A40 P 70 20 Wd 70_6","A40 P 70 20SDWd 70_6","A41 P 60 10 Wd 60_6","A41 P 60 10SDWd 60_6","A41 P 60 20 Wd 60_6","A41 P 60 20SDWd 60_6","A41 P 65 10 Wd 65_6","A41 P 65 10SDWd 65_6","A41 P 65 20 Wd 65_6","A41 P 65 20SDWd 65_6","A41 P 70 10 Wd 70_6","A41 P 70 10SDWd 70_6","A41 P 70 20 Wd 70_6","A41 P 70 20SDWd 70_6","A42 P 60 10 Wd 60_6","A42 P 60 10SDWd 60_6","A42 P 60 20 Wd 60_6","A42 P 60 20SDWd 60_6","A42 P 65 10 Wd 65_6","A42 P 65 10SDWd 65_6","A42 P 65 20 Wd 65_6","A42 P 65 20SDWd 65_6","A42 P 70 10 Wd 70_6","A42 P 70 10SDWd 70_6","A42 P 70 20 Wd 70_6","A42 P 70 20SDWd 70_6","A43 P 60 10 Wd 60_6","A43 P 60 10SDWd 60_6","A43 P 60 20 Wd 60_6","A43 P 60 20SDWd 60_6","A43 P 65 10 Wd 65_6","A43 P 65 10SDWd 65_6","A43 P 65 20 Wd 65_6","A43 P 65 20SDWd 65_6","A43 P 70 10 Wd 70_6","A43 P 70 10SDWd 70_6","A43 P 70 20 Wd 70_6","A43 P 70 20SDWd 70_6","A44 P 60 10 Wd 60_6","A44 P 60 10SDWd 60_6","A44 P 60 20 Wd 60_6","A44 P 60 20SDWd 60_6","A44 P 65 10 Wd 65_6","A44 P 65 10SDWd 65_6","A44 P 65 20 Wd 65_6","A44 P 65 20SDWd 65_6","A44 P 70 10 Wd 70_6","A44 P 70 10SDWd 70_6","A44 P 70 20 Wd 70_6","A44 P 70 20SDWd 70_6","A45 P 60 10 Wd 60_6","A45 P 60 10SDWd 60_6","A45 P 60 20 Wd 60_6","A45 P 60 20SDWd 60_6","A45 P 65 10 Wd 65_6","A45 P 65 10SDWd 65_6","A45 P 65 20 Wd 65_6","A45 P 65 20SDWd 65_6","A45 P 70 10 Wd 70_6","A45 P 70 10SDWd 70_6","A45 P 70 20 Wd 70_6","A45 P 70 20SDWd 70_6","A46 P 60 10 Wd 60_6","A46 P 60 10SDWd 60_6","A46 P 60 20 Wd 60_6","A46 P 60 20SDWd 60_6","A46 P 65 10 Wd 65_6","A46 P 65 10SDWd 65_6","A46 P 65 20 Wd 65_6","A46 P 65 20SDWd 65_6","A46 P 70 10 Wd 70_6","A46 P 70 10SDWd 70_6","A46 P 70 20 Wd 70_6","A46 P 70 20SDWd 70_6","A47 P 60 10 Wd 60_6","A47 P 60 10SDWd 60_6","A47 P 60 20 Wd 60_6","A47 P 60 20SDWd 60_6","A47 P 65 10 Wd 65_6","A47 P 65 10SDWd 65_6","A47 P 65 20 Wd 65_6","A47 P 65 20SDWd 65_6","A47 P 70 10 Wd 70_6","A47 P 70 10SDWd 70_6","A47 P 70 20 Wd 70_6","A47 P 70 20SDWd 70_6","A48 P 60 10 Wd 60_6","A48 P 60 10SDWd 60_6","A48 P 60 20 Wd 60_6","A48 P 60 20SDWd 60_6","A48 P 65 10 Wd 65_6","A48 P 65 10SDWd 65_6","A48 P 65 20 Wd 65_6","A48 P 65 20SDWd 65_6","A48 P 70 10 Wd 70_6","A48 P 70 10SDWd 70_6","A48 P 70 20 Wd 70_6","A48 P 70 20SDWd 70_6","A49 P 60 10 Wd 60_6","A49 P 60 10SDWd 60_6","A49 P 60 20 Wd 60_6","A49 P 60 20SDWd 60_6","A49 P 65 10 Wd 65_6","A49 P 65 10SDWd 65_6","A49 P 65 20 Wd 65_6","A49 P 65 20SDWd 65_6","A49 P 70 10 Wd 70_6","A49 P 70 10SDWd 70_6","A49 P 70 20 Wd 70_6","A49 P 70 20SDWd 70_6","A50 P 60 10 Wd 60_6","A50 P 60 10SDWd 60_6","A50 P 60 20 Wd 60_6","A50 P 60 20SDWd 60_6","A50 P 65 10 Wd 65_6","A50 P 65 10SDWd 65_6","A50 P 65 20 Wd 65_6","A50 P 65 20SDWd 65_6","A50 P 70 10 Wd 70_6","A50 P 70 10SDWd 70_6","A50 P 70 20 Wd 70_6","A50 P 70 20SDWd 70_6","A51 P 60 10 Wd 60_6","A51 P 60 10SDWd 60_6","A51 P 60 20 Wd 60_6","A51 P 60 20SDWd 60_6","A51 P 65 10 Wd 65_6","A51 P 65 10SDWd 65_6","A51 P 65 20 Wd 65_6","A51 P 65 20SDWd 65_6","A51 P 70 10 Wd 70_6","A51 P 70 10SDWd 70_6","A51 P 70 20 Wd 70_6","A51 P 70 20SDWd 70_6","A52 P 60 10 Wd 60_6","A52 P 60 10SDWd 60_6","A52 P 60 20 Wd 60_6","A52 P 60 20SDWd 60_6","A52 P 65 10 Wd 65_6","A52 P 65 10SDWd 65_6","A52 P 65 20 Wd 65_6","A52 P 65 20SDWd 65_6","A52 P 70 10 Wd 70_6","A52 P 70 10SDWd 70_6","A52 P 70 20 Wd 70_6","A52 P 70 20SDWd 70_6","A53 P 60 10 Wd 60_6","A53 P 60 10SDWd 60_6","A53 P 60 20 Wd 60_6","A53 P 60 20SDWd 60_6","A53 P 65 10 Wd 65_6","A53 P 65 10SDWd 65_6","A53 P 65 20 Wd 65_6","A53 P 65 20SDWd 65_6","A53 P 70 10 Wd 70_6","A53 P 70 10SDWd 70_6","A53 P 70 20 Wd 70_6","A53 P 70 20SDWd 70_6","A54 P 60 10 Wd 61_6","A54 P 60 10SDWd 61_6","A54 P 60 20 Wd 61_6","A54 P 60 20SDWd 61_6","A54 P 65 10 Wd 65_6","A54 P 65 10SDWd 65_6","A54 P 65 20 Wd 65_6","A54 P 65 20SDWd 65_6","A54 P 70 10 Wd 70_6","A54 P 70 10SDWd 70_6","A54 P 70 20 Wd 70_6","A54 P 70 20SDWd 70_6","A55 P 60 10 Wd 62_6","A55 P 60 10SDWd 62_6","A55 P 60 20 Wd 62_6","A55 P 60 20SDWd 62_6","A55 P 65 10 Wd 65_6","A55 P 65 10SDWd 65_6","A55 P 65 20 Wd 65_6","A55 P 65 20SDWd 65_6","A55 P 70 10 Wd 70_6","A55 P 70 10SDWd 70_6","A55 P 70 20 Wd 70_6","A55 P 70 20SDWd 70_6"]
["Premium","Premium","Premium","Premium","Premium","Premium","Premium","Premium","Premium","Premium","Premium","Premium","Premium","Premium","Premium","Premium","Premium","Premium","Premium","Premium","Premium","Premium","Premium","Premium","Premium","Premium","Premium","Premium","Premium","Premium","Premium","Premium","Premium","Premium","Premium","Premium","Premium","Premium","Premium","Premium","Premium","Premium","Premium","Premium","Premium","Premium","Premium","Premium","Premium","Premium","Premium","Premium","Premium","Premium","Premium","Premium","Premium","Premium","Premium","Premium","Premium","Premium","Premium","Premium","Premium","Premium","Premium","Premium","Premium","Premium","Premium","Premium","Premium","Premium","Premium","Premium","Premium","Premium","Premium","Premium","Premium","Premium","Premium","Premium","Premium","Premium","Premium","Premium","Premium","Premium","Premium","Premium","Premium","Premium","Premium","Premium","Premium","Premium","Premium","Premium","Premium","Premium","Premium","Premium","Premium","Premium","Premium","Premium","Premium","Premium","Premium","Premium","Premium","Premium","Premium","Premium","Premium","Premium","Premium","Premium","Premium","Premium","Premium","Premium","Premium","Premium","Premium","Premium","Premium","Premium","Premium","Premium","Premium","Premium","Premium","Premium","Premium","Premium","Premium","Premium","Premium","Premium","Premium","Premium","Premium","Premium","Premium","Premium","Premium","Premium","Premium","Premium","Premium","Premium","Premium","Premium","Premium","Premium","Premium","Premium","Premium","Premium","Premium","Premium","Premium","Premium","Premium","Premium","Premium","Premium","Premium","Premium","Premium","Premium","Premium","Premium","Premium","Premium","Premium","Premium","Premium","Premium","Premium","Premium","Premium","Premium","Premium","Premium","Premium","Premium","Premium","Premium","Premium","Premium","Premium","Premium","Premium","Premium","Premium","Premium","Premium","Premium","Premium","Premium","Premium","Premium","Premium","Premium","Premium","Premium","Premium","Premium","Premium","Premium","Premium","Premium","Premium","Premium","Premium","Premium","Premium","Premium","Premium","Premium","Premium","Premium","Premium","Premium","Premium","Premium","Premium","Premium","Premium","Premium","Premium","Premium","Premium","Premium","Premium","Premium","Premium","Premium","Premium","Premium","Premium","Premium","Premium","Premium","Premium","Premium","Premium","Premium","Premium","Premium","Premium","Premium","Premium","Premium","Premium","Premium","Premium","Premium","Premium","Premium","Premium","Premium","Premium","Premium","Premium","Premium","Premium","Premium","Premium","Premium","Premium","Premium","Premium","Premium","Premium","Premium","Premium","Premium","Premium","Premium","Premium","Premium","Premium","Premium","Premium","Premium","Premium","Premium","Premium","Premium","Premium","Premium","Premium","Premium","Premium","Premium","Premium","Premium","Premium","Premium","Premium","Premium","Premium","Premium","Premium","Premium","Premium","Premium"]
[25000,25000,25000,25000,25000,25000,25000,25000,25000,25000,25000,25000,25000,25000,25000,25000,25000,25000,25000,25000,25000,25000,25000,25000,25000,25000,25000,25000,25000,25000,25000,25000,25000,25000,25000,25000,25000,25000,25000,25000,25000,25000,25000,25000,25000,25000,25000,25000,25000,25000,25000,25000,25000,25000,25000,25000,25000,25000,25000,25000,25000,25000,25000,25000,25000,25000,25000,25000,25000,25000,25000,25000,25000,25000,25000,25000,25000,25000,25000,25000,25000,25000,25000,25000,25000,25000,25000,25000,25000,25000,25000,25000,25000,25000,25000,25000,25000,25000,25000,25000,25000,25000,25000,25000,25000,25000,25000,25000,25000,25000,25000,25000,25000,25000,25000,25000,25000,25000,25000,25000,25000,25000,25000,25000,25000,25000,25000,25000,25000,25000,25000,25000,25000,25000,25000,25000,25000,25000,25000,25000,25000,25000,25000,25000,25000,25000,25000,25000,25000,25000,25000,25000,25000,25000,25000,25000,25000,25000,25000,25000,25000,25000,25000,25000,25000,25000,25000,25000,25000,25000,25000,25000,25000,25000,25000,25000,25000,25000,25000,25000,25000,25000,25000,25000,25000,25000,25000,25000,25000,25000,25000,25000,25000,25000,25000,25000,25000,25000,25000,25000,25000,25000,25000,25000,25000,25000,25000,25000,25000,25000,25000,25000,25000,25000,25000,25000,25000,25000,25000,25000,25000,25000,25000,25000,25000,25000,25000,25000,25000,25000,25000,25000,25000,25000,25000,25000,25000,25000,25000,25000,25000,25000,25000,25000,25000,25000,25000,25000,25000,25000,25000,25000,25000,25000,25000,25000,25000,25000,25000,25000,25000,25000,25000,25000,25000,25000,25000,25000,25000,25000,25000,25000,25000,25000,25000,25000,25000,25000,25000,25000,25000,25000,25000,25000,25000,25000,25000,25000,25000,25000,25000,25000,25000,25000,25000,25000,25000,25000,25000,25000,25000,25000,25000,25000,25000,25000,25000,25000,25000,25000,25000,25000]
[25000,25000,25000,25000,25000,25000,25000,25000,25000,25000,25000,25000,25000,25000,25000,25000,25000,25000,25000,25000,25000,25000,25000,25000,25000,25000,25000,25000,25000,25000,25000,25000,25000,25000,25000,25000,25000,25000,25000,25000,25000,25000,25000,25000,25000,25000,25000,25000,25000,25000,25000,25000,25000,25000,25000,25000,25000,25000,25000,25000,25000,25000,25000,25000,25000,25000,25000,25000,25000,25000,25000,25000,25000,25000,25000,25000,25000,25000,25000,25000,25000,25000,25000,25000,25000,25000,25000,25000,25000,25000,25000,25000,25000,25000,25000,25000,25000,25000,25000,25000,25000,25000,25000,25000,25000,25000,25000,25000,25000,25000,25000,25000,25000,25000,25000,25000,25000,25000,25000,25000,25000,25000,25000,25000,25000,25000,25000,25000,25000,25000,25000,25000,25000,25000,25000,25000,25000,25000,25000,25000,25000,25000,25000,25000,25000,25000,25000,25000,25000,25000,25000,25000,25000,25000,25000,25000,25000,25000,25000,25000,25000,25000,25000,25000,25000,25000,25000,25000,25000,25000,25000,25000,25000,25000,25000,25000,25000,25000,25000,25000,25000,25000,25000,25000,25000,25000,25000,25000,25000,25000,25000,25000,25000,25000,25000,25000,25000,25000,25000,25000,25000,25000,25000,25000,25000,25000,25000,25000,25000,25000,25000,25000,25000,25000,25000,25000,25000,25000,25000,25000,25000,25000,25000,25000,25000,25000,25000,25000,25000,25000,25000,25000,25000,25000,25000,25000,25000,25000,25000,25000,25000,25000,25000,25000,25000,25000,25000,25000,25000,25000,25000,25000,25000,25000,25000,25000,25000,25000,25000,25000,25000,25000,25000,25000,0,0,0,0,25000,25000,25000,25000,25000,25000,25000,25000,0,0,0,0,25000,25000,25000,25000,25000,25000,25000,25000,0,0,0,0,25000,25000,25000,25000,25000,25000,25000,25000,0,0,0,0,25000,25000,25000,25000,25000,25000,25000,25000]
[25000,25000,25000,25000,25000,25000,25000,25000,25000,25000,25000,25000,25000,25000,25000,25000,25000,25000,25000,25000,25000,25000,25000,25000,25000,25000,25000,25000,25000,25000,25000,25000,25000,25000,25000,25000,25000,25000,25000,25000,25000,25000,25000,25000,25000,25000,25000,25000,25000,25000,25000,25000,25000,25000,25000,25000,25000,25000,25000,25000,25000,25000,25000,25000,25000,25000,25000,25000,25000,25000,25000,25000,25000,25000,25000,25000,25000,25000,25000,25000,25000,25000,25000,25000,25000,25000,25000,25000,25000,25000,25000,25000,25000,25000,25000,25000,25000,25000,25000,25000,25000,25000,25000,25000,25000,25000,25000,25000,25000,25000,25000,25000,25000,25000,25000,25000,25000,25000,25000,25000,25000,25000,25000,25000,25000,25000,25000,25000,25000,25000,25000,25000,25000,25000,25000,25000,25000,25000,25000,25000,25000,25000,25000,25000,25000,25000,25000,25000,25000,25000,25000,25000,25000,25000,25000,25000,25000,25000,25000,25000,25000,25000,25000,25000,25000,25000,25000,25000,25000,25000,25000,25000,25000,25000,25000,25000,25000,25000,25000,25000,25000,25000,25000,25000,25000,25000,25000,25000,25000,25000,25000,25000,25000,25000,25000,25000,25000,25000,25000,25000,25000,25000,25000,25000,0,0,0,0,25000,25000,25000,25000,25000,25000,25000,25000,0,0,0,0,25000,25000,25000,25000,25000,25000,25000,25000,0,0,0,0,25000,25000,25000,25000,25000,25000,25000,25000,0,0,0,0,25000,25000,25000,25000,25000,25000,25000,25000,0,0,0,0,25000,25000,25000,25000,25000,25000,25000,25000,0,0,0,0,0,0,0,0,25000,25000,25000,25000,0,0,0,0,0,0,0,0,25000,25000,25000,25000,0,0,0,0,0,0,0,0,25000,25000,25000,25000,0,0,0,0,0,0,0,0,25000,25000,25000,25000]
[25000,25000,25000,25000,25000,25000,25000,25000,25000,25000,25000,25000,25000,25000,25000,25000,25000,25000,25000,25000,25000,25000,25000,25000,25000,25000,25000,25000,25000,25000,25000,25000,25000,25000,25000,25000,25000,25000,25000,25000,25000,25000,25000,25000,25000,25000,25000,25000,25000,25000,25000,25000,25000,25000,25000,25000,25000,25000,25000,25000,25000,25000,25000,25000,25000,25000,25000,25000,25000,25000,25000,25000,25000,25000,25000,25000,25000,25000,25000,25000,25000,25000,25000,25000,25000,25000,25000,25000,25000,25000,25000,25000,25000,25000,25000,25000,25000,25000,25000,25000,25000,25000,25000,25000,25000,25000,25000,25000,25000,25000,25000,25000,25000,25000,25000,25000,25000,25000,25000,25000,25000,25000,25000,25000,25000,25000,25000,25000,25000,25000,25000,25000,0,0,0,0,25000,25000,25000,25000,25000,25000,25000,25000,0,0,0,0,25000,25000,25000,25000,25000,25000,25000,25000,0,0,0,0,25000,25000,25000,25000,25000,25000,25000,25000,0,0,0,0,25000,25000,25000,25000,25000,25000,25000,25000,0,0,0,0,25000,25000,25000,25000,25000,25000,25000,25000,0,0,0,0,0,0,0,0,25000,25000,25000,25000,0,0,0,0,0,0,0,0,25000,25000,25000,25000,0,0,0,0,0,0,0,0,25000,25000,25000,25000,0,0,0,0,0,0,0,0,25000,25000,25000,25000,0,0,0,0,0,0,0,0,25000,25000,25000,25000,0,0,0,0,0,0,0,0,0,0,0,0,0,0,0,0,0,0,0,0,0,0,0,0,0,0,0,0,0,0,0,0,0,0,0,0,0,0,0,0,0,0,0,0,0,0,0,0,0,0,0,0,0,0,0,0,0,0,0,0]
[25000,25000,25000,25000,25000,25000,25000,25000,25000,25000,25000,25000,25000,25000,25000,25000,25000,25000,25000,25000,25000,25000,25000,25000,25000,25000,25000,25000,25000,25000,25000,25000,25000,25000,25000,25000,25000,25000,25000,25000,25000,25000,25000,25000,25000,25000,25000,25000,25000,25000,25000,25000,25000,25000,25000,25000,25000,25000,25000,25000,25000,25000,25000,25000,25000,25000,25000,25000,25000,25000,25000,25000,25000,25000,25000,25000,25000,25000,25000,25000,25000,25000,25000,25000,0,0,0,0,25000,25000,25000,25000,25000,25000,25000,25000,0,0,0,0,25000,25000,25000,25000,25000,25000,25000,25000,0,0,0,0,25000,25000,25000,25000,25000,25000,25000,25000,0,0,0,0,25000,25000,25000,25000,25000,25000,25000,25000,0,0,0,0,25000,25000,25000,25000,25000,25000,25000,25000,0,0,0,0,0,0,0,0,25000,25000,25000,25000,0,0,0,0,0,0,0,0,25000,25000,25000,25000,0,0,0,0,0,0,0,0,25000,25000,25000,25000,0,0,0,0,0,0,0,0,25000,25000,25000,25000,0,0,0,0,0,0,0,0,25000,25000,25000,25000,0,0,0,0,0,0,0,0,0,0,0,0,0,0,0,0,0,0,0,0,0,0,0,0,0,0,0,0,0,0,0,0,0,0,0,0,0,0,0,0,0,0,0,0,0,0,0,0,0,0,0,0,0,0,0,0,0,0,0,0,0,0,0,0,0,0,0,0,0,0,0,0,0,0,0,0,0,0,0,0,0,0,0,0,0,0,0,0,0,0,0,0,0,0,0,0,0,0,0,0,0,0,0,0,0,0,0,0]
[0,0,0,0,25000,25000,25000,25000,25000,25000,25000,25000,0,0,0,0,25000,25000,25000,25000,25000,25000,25000,25000,0,0,0,0,25000,25000,25000,25000,25000,25000,25000,25000,0,0,0,0,25000,25000,25000,25000,25000,25000,25000,25000,0,0,0,0,0,0,0,0,25000,25000,25000,25000,0,0,0,0,0,0,0,0,25000,25000,25000,25000,0,0,0,0,0,0,0,0,25000,25000,25000,25000,0,0,0,0,0,0,0,0,25000,25000,25000,25000,0,0,0,0,0,0,0,0,25000,25000,25000,25000,0,0,0,0,0,0,0,0,0,0,0,0,0,0,0,0,0,0,0,0,0,0,0,0,0,0,0,0,0,0,0,0,0,0,0,0,0,0,0,0,0,0,0,0,0,0,0,0,0,0,0,0,0,0,0,0,0,0,0,0,0,0,0,0,0,0,0,0,0,0,0,0,0,0,0,0,0,0,0,0,0,0,0,0,0,0,0,0,0,0,0,0,0,0,0,0,0,0,0,0,0,0,0,0,0,0,0,0,0,0,0,0,0,0,0,0,0,0,0,0,0,0,0,0,0,0,0,0,0,0,0,0,0,0,0,0,0,0,0,0,0,0,0,0,0,0,0,0,0,0,0,0,0,0,0,0,0,0,0,0,0,0,0,0,0,0,0,0,0,0,0,0,0,0,0,0,0,0,0,0,0,0,0,0,0,0,0,0,0,0,0,0,0,0,0,0,0,0,0,0,0,0,0,0]
[0,0,0,0,0,0,0,0,25000,25000,25000,25000,0,0,0,0,0,0,0,0,25000,25000,25000,25000,0,0,0,0,0,0,0,0,25000,25000,25000,25000,0,0,0,0,0,0,0,0,25000,25000,25000,25000,0,0,0,0,0,0,0,0,0,0,0,0,0,0,0,0,0,0,0,0,0,0,0,0,0,0,0,0,0,0,0,0,0,0,0,0,0,0,0,0,0,0,0,0,0,0,0,0,0,0,0,0,0,0,0,0,0,0,0,0,0,0,0,0,0,0,0,0,0,0,0,0,0,0,0,0,0,0,0,0,0,0,0,0,0,0,0,0,0,0,0,0,0,0,0,0,0,0,0,0,0,0,0,0,0,0,0,0,0,0,0,0,0,0,0,0,0,0,0,0,0,0,0,0,0,0,0,0,0,0,0,0,0,0,0,0,0,0,0,0,0,0,0,0,0,0,0,0,0,0,0,0,0,0,0,0,0,0,0,0,0,0,0,0,0,0,0,0,0,0,0,0,0,0,0,0,0,0,0,0,0,0,0,0,0,0,0,0,0,0,0,0,0,0,0,0,0,0,0,0,0,0,0,0,0,0,0,0,0,0,0,0,0,0,0,0,0,0,0,0,0,0,0,0,0,0,0,0,0,0,0,0,0,0,0,0,0,0,0,0,0,0,0,0,0,0,0,0,0,0,0,0,0,0,0,0,0,0,0,0,0,0,0,0]
[0,0,0,0,0,0,0,0,0,0,0,0,0,0,0,0,0,0,0,0,0,0,0,0,0,0,0,0,0,0,0,0,0,0,0,0,0,0,0,0,0,0,0,0,0,0,0,0,0,0,0,0,0,0,0,0,0,0,0,0,0,0,0,0,0,0,0,0,0,0,0,0,0,0,0,0,0,0,0,0,0,0,0,0,0,0,0,0,0,0,0,0,0,0,0,0,0,0,0,0,0,0,0,0,0,0,0,0,0,0,0,0,0,0,0,0,0,0,0,0,0,0,0,0,0,0,0,0,0,0,0,0,0,0,0,0,0,0,0,0,0,0,0,0,0,0,0,0,0,0,0,0,0,0,0,0,0,0,0,0,0,0,0,0,0,0,0,0,0,0,0,0,0,0,0,0,0,0,0,0,0,0,0,0,0,0,0,0,0,0,0,0,0,0,0,0,0,0,0,0,0,0,0,0,0,0,0,0,0,0,0,0,0,0,0,0,0,0,0,0,0,0,0,0,0,0,0,0,0,0,0,0,0,0,0,0,0,0,0,0,0,0,0,0,0,0,0,0,0,0,0,0,0,0,0,0,0,0,0,0,0,0,0,0,0,0,0,0,0,0,0,0,0,0,0,0,0,0,0,0,0,0,0,0,0,0,0,0,0,0,0,0,0,0,0,0,0,0,0,0,0,0,0,0,0,0,0,0,0,0,0,0]
[0,0,0,0,0,0,0,0,0,0,0,0,0,0,0,0,0,0,0,0,0,0,0,0,0,0,0,0,0,0,0,0,0,0,0,0,0,0,0,0,0,0,0,0,0,0,0,0,0,0,0,0,0,0,0,0,0,0,0,0,0,0,0,0,0,0,0,0,0,0,0,0,0,0,0,0,0,0,0,0,0,0,0,0,0,0,0,0,0,0,0,0,0,0,0,0,0,0,0,0,0,0,0,0,0,0,0,0,0,0,0,0,0,0,0,0,0,0,0,0,0,0,0,0,0,0,0,0,0,0,0,0,0,0,0,0,0,0,0,0,0,0,0,0,0,0,0,0,0,0,0,0,0,0,0,0,0,0,0,0,0,0,0,0,0,0,0,0,0,0,0,0,0,0,0,0,0,0,0,0,0,0,0,0,0,0,0,0,0,0,0,0,0,0,0,0,0,0,0,0,0,0,0,0,0,0,0,0,0,0,0,0,0,0,0,0,0,0,0,0,0,0,0,0,0,0,0,0,0,0,0,0,0,0,0,0,0,0,0,0,0,0,0,0,0,0,0,0,0,0,0,0,0,0,0,0,0,0,0,0,0,0,0,0,0,0,0,0,0,0,0,0,0,0,0,0,0,0,0,0,0,0,0,0,0,0,0,0,0,0,0,0,0,0,0,0,0,0,0,0,0,0,0,0,0,0,0,0,0,0,0,0]
[0,0,0,0,0,0,0,0,0,0,0,0,0,0,0,0,0,0,0,0,0,0,0,0,0,0,0,0,0,0,0,0,0,0,0,0,0,0,0,0,0,0,0,0,0,0,0,0,0,0,0,0,0,0,0,0,0,0,0,0,0,0,0,0,0,0,0,0,0,0,0,0,0,0,0,0,0,0,0,0,0,0,0,0,0,0,0,0,0,0,0,0,0,0,0,0,0,0,0,0,0,0,0,0,0,0,0,0,0,0,0,0,0,0,0,0,0,0,0,0,0,0,0,0,0,0,0,0,0,0,0,0,0,0,0,0,0,0,0,0,0,0,0,0,0,0,0,0,0,0,0,0,0,0,0,0,0,0,0,0,0,0,0,0,0,0,0,0,0,0,0,0,0,0,0,0,0,0,0,0,0,0,0,0,0,0,0,0,0,0,0,0,0,0,0,0,0,0,0,0,0,0,0,0,0,0,0,0,0,0,0,0,0,0,0,0,0,0,0,0,0,0,0,0,0,0,0,0,0,0,0,0,0,0,0,0,0,0,0,0,0,0,0,0,0,0,0,0,0,0,0,0,0,0,0,0,0,0,0,0,0,0,0,0,0,0,0,0,0,0,0,0,0,0,0,0,0,0,0,0,0,0,0,0,0,0,0,0,0,0,0,0,0,0,0,0,0,0,0,0,0,0,0,0,0,0,0,0,0,0,0,0]
[0,0,0,0,0,0,0,0,0,0,0,0,0,0,0,0,0,0,0,0,0,0,0,0,0,0,0,0,0,0,0,0,0,0,0,0,0,0,0,0,0,0,0,0,0,0,0,0,0,0,0,0,0,0,0,0,0,0,0,0,0,0,0,0,0,0,0,0,0,0,0,0,0,0,0,0,0,0,0,0,0,0,0,0,0,0,0,0,0,0,0,0,0,0,0,0,0,0,0,0,0,0,0,0,0,0,0,0,0,0,0,0,0,0,0,0,0,0,0,0,0,0,0,0,0,0,0,0,0,0,0,0,0,0,0,0,0,0,0,0,0,0,0,0,0,0,0,0,0,0,0,0,0,0,0,0,0,0,0,0,0,0,0,0,0,0,0,0,0,0,0,0,0,0,0,0,0,0,0,0,0,0,0,0,0,0,0,0,0,0,0,0,0,0,0,0,0,0,0,0,0,0,0,0,0,0,0,0,0,0,0,0,0,0,0,0,0,0,0,0,0,0,0,0,0,0,0,0,0,0,0,0,0,0,0,0,0,0,0,0,0,0,0,0,0,0,0,0,0,0,0,0,0,0,0,0,0,0,0,0,0,0,0,0,0,0,0,0,0,0,0,0,0,0,0,0,0,0,0,0,0,0,0,0,0,0,0,0,0,0,0,0,0,0,0,0,0,0,0,0,0,0,0,0,0,0,0,0,0,0,0,0]
[0,0,0,0,0,0,0,0,0,0,0,0,0,0,0,0,0,0,0,0,0,0,0,0,0,0,0,0,0,0,0,0,0,0,0,0,0,0,0,0,0,0,0,0,0,0,0,0,0,0,0,0,0,0,0,0,0,0,0,0,0,0,0,0,0,0,0,0,0,0,0,0,0,0,0,0,0,0,0,0,0,0,0,0,0,0,0,0,0,0,0,0,0,0,0,0,0,0,0,0,0,0,0,0,0,0,0,0,0,0,0,0,0,0,0,0,0,0,0,0,0,0,0,0,0,0,0,0,0,0,0,0,0,0,0,0,0,0,0,0,0,0,0,0,0,0,0,0,0,0,0,0,0,0,0,0,0,0,0,0,0,0,0,0,0,0,0,0,0,0,0,0,0,0,0,0,0,0,0,0,0,0,0,0,0,0,0,0,0,0,0,0,0,0,0,0,0,0,0,0,0,0,0,0,0,0,0,0,0,0,0,0,0,0,0,0,0,0,0,0,0,0,0,0,0,0,0,0,0,0,0,0,0,0,0,0,0,0,0,0,0,0,0,0,0,0,0,0,0,0,0,0,0,0,0,0,0,0,0,0,0,0,0,0,0,0,0,0,0,0,0,0,0,0,0,0,0,0,0,0,0,0,0,0,0,0,0,0,0,0,0,0,0,0,0,0,0,0,0,0,0,0,0,0,0,0,0,0,0,0,0,0]
[0,0,0,0,0,0,0,0,0,0,0,0,0,0,0,0,0,0,0,0,0,0,0,0,0,0,0,0,0,0,0,0,0,0,0,0,0,0,0,0,0,0,0,0,0,0,0,0,0,0,0,0,0,0,0,0,0,0,0,0,0,0,0,0,0,0,0,0,0,0,0,0,0,0,0,0,0,0,0,0,0,0,0,0,0,0,0,0,0,0,0,0,0,0,0,0,0,0,0,0,0,0,0,0,0,0,0,0,0,0,0,0,0,0,0,0,0,0,0,0,0,0,0,0,0,0,0,0,0,0,0,0,0,0,0,0,0,0,0,0,0,0,0,0,0,0,0,0,0,0,0,0,0,0,0,0,0,0,0,0,0,0,0,0,0,0,0,0,0,0,0,0,0,0,0,0,0,0,0,0,0,0,0,0,0,0,0,0,0,0,0,0,0,0,0,0,0,0,0,0,0,0,0,0,0,0,0,0,0,0,0,0,0,0,0,0,0,0,0,0,0,0,0,0,0,0,0,0,0,0,0,0,0,0,0,0,0,0,0,0,0,0,0,0,0,0,0,0,0,0,0,0,0,0,0,0,0,0,0,0,0,0,0,0,0,0,0,0,0,0,0,0,0,0,0,0,0,0,0,0,0,0,0,0,0,0,0,0,0,0,0,0,0,0,0,0,0,0,0,0,0,0,0,0,0,0,0,0,0,0,0,0]
[0,0,0,0,0,0,0,0,0,0,0,0,0,0,0,0,0,0,0,0,0,0,0,0,0,0,0,0,0,0,0,0,0,0,0,0,0,0,0,0,0,0,0,0,0,0,0,0,0,0,0,0,0,0,0,0,0,0,0,0,0,0,0,0,0,0,0,0,0,0,0,0,0,0,0,0,0,0,0,0,0,0,0,0,0,0,0,0,0,0,0,0,0,0,0,0,0,0,0,0,0,0,0,0,0,0,0,0,0,0,0,0,0,0,0,0,0,0,0,0,0,0,0,0,0,0,0,0,0,0,0,0,0,0,0,0,0,0,0,0,0,0,0,0,0,0,0,0,0,0,0,0,0,0,0,0,0,0,0,0,0,0,0,0,0,0,0,0,0,0,0,0,0,0,0,0,0,0,0,0,0,0,0,0,0,0,0,0,0,0,0,0,0,0,0,0,0,0,0,0,0,0,0,0,0,0,0,0,0,0,0,0,0,0,0,0,0,0,0,0,0,0,0,0,0,0,0,0,0,0,0,0,0,0,0,0,0,0,0,0,0,0,0,0,0,0,0,0,0,0,0,0,0,0,0,0,0,0,0,0,0,0,0,0,0,0,0,0,0,0,0,0,0,0,0,0,0,0,0,0,0,0,0,0,0,0,0,0,0,0,0,0,0,0,0,0,0,0,0,0,0,0,0,0,0,0,0,0,0,0,0,0]
[0,0,0,0,0,0,0,0,0,0,0,0,0,0,0,0,0,0,0,0,0,0,0,0,0,0,0,0,0,0,0,0,0,0,0,0,0,0,0,0,0,0,0,0,0,0,0,0,0,0,0,0,0,0,0,0,0,0,0,0,0,0,0,0,0,0,0,0,0,0,0,0,0,0,0,0,0,0,0,0,0,0,0,0,0,0,0,0,0,0,0,0,0,0,0,0,0,0,0,0,0,0,0,0,0,0,0,0,0,0,0,0,0,0,0,0,0,0,0,0,0,0,0,0,0,0,0,0,0,0,0,0,0,0,0,0,0,0,0,0,0,0,0,0,0,0,0,0,0,0,0,0,0,0,0,0,0,0,0,0,0,0,0,0,0,0,0,0,0,0,0,0,0,0,0,0,0,0,0,0,0,0,0,0,0,0,0,0,0,0,0,0,0,0,0,0,0,0,0,0,0,0,0,0,0,0,0,0,0,0,0,0,0,0,0,0,0,0,0,0,0,0,0,0,0,0,0,0,0,0,0,0,0,0,0,0,0,0,0,0,0,0,0,0,0,0,0,0,0,0,0,0,0,0,0,0,0,0,0,0,0,0,0,0,0,0,0,0,0,0,0,0,0,0,0,0,0,0,0,0,0,0,0,0,0,0,0,0,0,0,0,0,0,0,0,0,0,0,0,0,0,0,0,0,0,0,0,0,0,0,0,0]
[0,0,0,0,0,0,0,0,0,0,0,0,0,0,0,0,0,0,0,0,0,0,0,0,0,0,0,0,0,0,0,0,0,0,0,0,0,0,0,0,0,0,0,0,0,0,0,0,0,0,0,0,0,0,0,0,0,0,0,0,0,0,0,0,0,0,0,0,0,0,0,0,0,0,0,0,0,0,0,0,0,0,0,0,0,0,0,0,0,0,0,0,0,0,0,0,0,0,0,0,0,0,0,0,0,0,0,0,0,0,0,0,0,0,0,0,0,0,0,0,0,0,0,0,0,0,0,0,0,0,0,0,0,0,0,0,0,0,0,0,0,0,0,0,0,0,0,0,0,0,0,0,0,0,0,0,0,0,0,0,0,0,0,0,0,0,0,0,0,0,0,0,0,0,0,0,0,0,0,0,0,0,0,0,0,0,0,0,0,0,0,0,0,0,0,0,0,0,0,0,0,0,0,0,0,0,0,0,0,0,0,0,0,0,0,0,0,0,0,0,0,0,0,0,0,0,0,0,0,0,0,0,0,0,0,0,0,0,0,0,0,0,0,0,0,0,0,0,0,0,0,0,0,0,0,0,0,0,0,0,0,0,0,0,0,0,0,0,0,0,0,0,0,0,0,0,0,0,0,0,0,0,0,0,0,0,0,0,0,0,0,0,0,0,0,0,0,0,0,0,0,0,0,0,0,0,0,0,0,0,0,0]
[0,0,0,0,0,0,0,0,0,0,0,0,0,0,0,0,0,0,0,0,0,0,0,0,0,0,0,0,0,0,0,0,0,0,0,0,0,0,0,0,0,0,0,0,0,0,0,0,0,0,0,0,0,0,0,0,0,0,0,0,0,0,0,0,0,0,0,0,0,0,0,0,0,0,0,0,0,0,0,0,0,0,0,0,0,0,0,0,0,0,0,0,0,0,0,0,0,0,0,0,0,0,0,0,0,0,0,0,0,0,0,0,0,0,0,0,0,0,0,0,0,0,0,0,0,0,0,0,0,0,0,0,0,0,0,0,0,0,0,0,0,0,0,0,0,0,0,0,0,0,0,0,0,0,0,0,0,0,0,0,0,0,0,0,0,0,0,0,0,0,0,0,0,0,0,0,0,0,0,0,0,0,0,0,0,0,0,0,0,0,0,0,0,0,0,0,0,0,0,0,0,0,0,0,0,0,0,0,0,0,0,0,0,0,0,0,0,0,0,0,0,0,0,0,0,0,0,0,0,0,0,0,0,0,0,0,0,0,0,0,0,0,0,0,0,0,0,0,0,0,0,0,0,0,0,0,0,0,0,0,0,0,0,0,0,0,0,0,0,0,0,0,0,0,0,0,0,0,0,0,0,0,0,0,0,0,0,0,0,0,0,0,0,0,0,0,0,0,0,0,0,0,0,0,0,0,0,0,0,0,0,0]
[0,0,0,0,0,0,0,0,0,0,0,0,0,0,0,0,0,0,0,0,0,0,0,0,0,0,0,0,0,0,0,0,0,0,0,0,0,0,0,0,0,0,0,0,0,0,0,0,0,0,0,0,0,0,0,0,0,0,0,0,0,0,0,0,0,0,0,0,0,0,0,0,0,0,0,0,0,0,0,0,0,0,0,0,0,0,0,0,0,0,0,0,0,0,0,0,0,0,0,0,0,0,0,0,0,0,0,0,0,0,0,0,0,0,0,0,0,0,0,0,0,0,0,0,0,0,0,0,0,0,0,0,0,0,0,0,0,0,0,0,0,0,0,0,0,0,0,0,0,0,0,0,0,0,0,0,0,0,0,0,0,0,0,0,0,0,0,0,0,0,0,0,0,0,0,0,0,0,0,0,0,0,0,0,0,0,0,0,0,0,0,0,0,0,0,0,0,0,0,0,0,0,0,0,0,0,0,0,0,0,0,0,0,0,0,0,0,0,0,0,0,0,0,0,0,0,0,0,0,0,0,0,0,0,0,0,0,0,0,0,0,0,0,0,0,0,0,0,0,0,0,0,0,0,0,0,0,0,0,0,0,0,0,0,0,0,0,0,0,0,0,0,0,0,0,0,0,0,0,0,0,0,0,0,0,0,0,0,0,0,0,0,0,0,0,0,0,0,0,0,0,0,0,0,0,0,0,0,0,0,0,0]
[0,0,0,0,0,0,0,0,0,0,0,0,0,0,0,0,0,0,0,0,0,0,0,0,0,0,0,0,0,0,0,0,0,0,0,0,0,0,0,0,0,0,0,0,0,0,0,0,0,0,0,0,0,0,0,0,0,0,0,0,0,0,0,0,0,0,0,0,0,0,0,0,0,0,0,0,0,0,0,0,0,0,0,0,0,0,0,0,0,0,0,0,0,0,0,0,0,0,0,0,0,0,0,0,0,0,0,0,0,0,0,0,0,0,0,0,0,0,0,0,0,0,0,0,0,0,0,0,0,0,0,0,0,0,0,0,0,0,0,0,0,0,0,0,0,0,0,0,0,0,0,0,0,0,0,0,0,0,0,0,0,0,0,0,0,0,0,0,0,0,0,0,0,0,0,0,0,0,0,0,0,0,0,0,0,0,0,0,0,0,0,0,0,0,0,0,0,0,0,0,0,0,0,0,0,0,0,0,0,0,0,0,0,0,0,0,0,0,0,0,0,0,0,0,0,0,0,0,0,0,0,0,0,0,0,0,0,0,0,0,0,0,0,0,0,0,0,0,0,0,0,0,0,0,0,0,0,0,0,0,0,0,0,0,0,0,0,0,0,0,0,0,0,0,0,0,0,0,0,0,0,0,0,0,0,0,0,0,0,0,0,0,0,0,0,0,0,0,0,0,0,0,0,0,0,0,0,0,0,0,0,0]
[0,0,0,0,0,0,0,0,0,0,0,0,0,0,0,0,0,0,0,0,0,0,0,0,0,0,0,0,0,0,0,0,0,0,0,0,0,0,0,0,0,0,0,0,0,0,0,0,0,0,0,0,0,0,0,0,0,0,0,0,0,0,0,0,0,0,0,0,0,0,0,0,0,0,0,0,0,0,0,0,0,0,0,0,0,0,0,0,0,0,0,0,0,0,0,0,0,0,0,0,0,0,0,0,0,0,0,0,0,0,0,0,0,0,0,0,0,0,0,0,0,0,0,0,0,0,0,0,0,0,0,0,0,0,0,0,0,0,0,0,0,0,0,0,0,0,0,0,0,0,0,0,0,0,0,0,0,0,0,0,0,0,0,0,0,0,0,0,0,0,0,0,0,0,0,0,0,0,0,0,0,0,0,0,0,0,0,0,0,0,0,0,0,0,0,0,0,0,0,0,0,0,0,0,0,0,0,0,0,0,0,0,0,0,0,0,0,0,0,0,0,0,0,0,0,0,0,0,0,0,0,0,0,0,0,0,0,0,0,0,0,0,0,0,0,0,0,0,0,0,0,0,0,0,0,0,0,0,0,0,0,0,0,0,0,0,0,0,0,0,0,0,0,0,0,0,0,0,0,0,0,0,0,0,0,0,0,0,0,0,0,0,0,0,0,0,0,0,0,0,0,0,0,0,0,0,0,0,0,0,0,0]
[]
[]
[]
[]
[]
[]
[]
[]
[]
[]
[]
[]
[]
[]
[]
[]
[]
[]
[]
[]
[]
[]
[]
[]
[]
[]
[]
[]
[]
[]
[]
[]
[]
[]
[]
[]
[]
["Outlay","Outlay","Outlay","Outlay","Outlay","Outlay","Outlay","Outlay","Outlay","Outlay","Outlay","Outlay","Outlay","Outlay","Outlay","Outlay","Outlay","Outlay","Outlay","Outlay","Outlay","Outlay","Outlay","Outlay","Outlay","Outlay","Outlay","Outlay","Outlay","Outlay","Outlay","Outlay","Outlay","Outlay","Outlay","Outlay","Outlay","Outlay","Outlay","Outlay","Outlay","Outlay","Outlay","Outlay","Outlay","Outlay","Outlay","Outlay","Outlay","Outlay","Outlay","Outlay","Outlay","Outlay","Outlay","Outlay","Outlay","Outlay","Outlay","Outlay","Outlay","Outlay","Outlay","Outlay","Outlay","Outlay","Outlay","Outlay","Outlay","Outlay","Outlay","Outlay","Outlay","Outlay","Outlay","Outlay","Outlay","Outlay","Outlay","Outlay","Outlay","Outlay","Outlay","Outlay","Outlay","Outlay","Outlay","Outlay","Outlay","Outlay","Outlay","Outlay","Outlay","Outlay","Outlay","Outlay","Outlay","Outlay","Outlay","Outlay","Outlay","Outlay","Outlay","Outlay","Outlay","Outlay","Outlay","Outlay","Outlay","Outlay","Outlay","Outlay","Outlay","Outlay","Outlay","Outlay","Outlay","Outlay","Outlay","Outlay","Outlay","Outlay","Outlay","Outlay","Outlay","Outlay","Outlay","Outlay","Outlay","Outlay","Outlay","Outlay","Outlay","Outlay","Outlay","Outlay","Outlay","Outlay","Outlay","Outlay","Outlay","Outlay","Outlay","Outlay","Outlay","Outlay","Outlay","Outlay","Outlay","Outlay","Outlay","Outlay","Outlay","Outlay","Outlay","Outlay","Outlay","Outlay","Outlay","Outlay","Outlay","Outlay","Outlay","Outlay","Outlay","Outlay","Outlay","Outlay","Outlay","Outlay","Outlay","Outlay","Outlay","Outlay","Outlay","Outlay","Outlay","Outlay","Outlay","Outlay","Outlay","Outlay","Outlay","Outlay","Outlay","Outlay","Outlay","Outlay","Outlay","Outlay","Outlay","Outlay","Outlay","Outlay","Outlay","Outlay","Outlay","Outlay","Outlay","Outlay","Outlay","Outlay","Outlay","Outlay","Outlay","Outlay","Outlay","Outlay","Outlay","Outlay","Outlay","Outlay","Outlay","Outlay","Outlay","Outlay","Outlay","Outlay","Outlay","Outlay","Outlay","Outlay","Outlay","Outlay","Outlay","Outlay","Outlay","Outlay","Outlay","Outlay","Outlay","Outlay","Outlay","Outlay","Outlay","Outlay","Outlay","Outlay","Outlay","Outlay","Outlay","Outlay","Outlay","Outlay","Outlay","Outlay","Outlay","Outlay","Outlay","Outlay","Outlay","Outlay","Outlay","Outlay","Outlay","Outlay","Outlay","Outlay","Outlay","Outlay","Outlay","Outlay","Outlay","Outlay","Outlay","Outlay","Outlay","Outlay","Outlay","Outlay","Outlay","Outlay","Outlay","Outlay","Outlay","Outlay","Outlay","Outlay","Outlay","Outlay","Outlay","Outlay","Outlay","Outlay","Outlay","Outlay","Outlay","Outlay","Outlay","Outlay","Outlay","Outlay","Outlay","Outlay","Outlay","Outlay","Outlay","Outlay","Outlay","Outlay","Outlay","Outlay","Outlay","Outlay","Outlay","Outlay","Outlay","Outlay","Outlay","Outlay","Outlay","Outlay"]
[-25000,-25000,-25000,-25000,-25000,-25000,-25000,-25000,-25000,-25000,-25000,-25000,-25000,-25000,-25000,-25000,-25000,-25000,-25000,-25000,-25000,-25000,-25000,-25000,-25000,-25000,-25000,-25000,-25000,-25000,-25000,-25000,-25000,-25000,-25000,-25000,-25000,-25000,-25000,-25000,-25000,-25000,-25000,-25000,-25000,-25000,-25000,-25000,-25000,-25000,-25000,-25000,-25000,-25000,-25000,-25000,-25000,-25000,-25000,-25000,-25000,-25000,-25000,-25000,-25000,-25000,-25000,-25000,-25000,-25000,-25000,-25000,-25000,-25000,-25000,-25000,-25000,-25000,-25000,-25000,-25000,-25000,-25000,-25000,-25000,-25000,-25000,-25000,-25000,-25000,-25000,-25000,-25000,-25000,-25000,-25000,-25000,-25000,-25000,-25000,-25000,-25000,-25000,-25000,-25000,-25000,-25000,-25000,-25000,-25000,-25000,-25000,-25000,-25000,-25000,-25000,-25000,-25000,-25000,-25000,-25000,-25000,-25000,-25000,-25000,-25000,-25000,-25000,-25000,-25000,-25000,-25000,-25000,-25000,-25000,-25000,-25000,-25000,-25000,-25000,-25000,-25000,-25000,-25000,-25000,-25000,-25000,-25000,-25000,-25000,-25000,-25000,-25000,-25000,-25000,-25000,-25000,-25000,-25000,-25000,-25000,-25000,-25000,-25000,-25000,-25000,-25000,-25000,-25000,-25000,-25000,-25000,-25000,-25000,-25000,-25000,-25000,-25000,-25000,-25000,-25000,-25000,-25000,-25000,-25000,-25000,-25000,-25000,-25000,-25000,-25000,-25000,-25000,-25000,-25000,-25000,-25000,-25000,-25000,-25000,-25000,-25000,-25000,-25000,-25000,-25000,-25000,-25000,-25000,-25000,-25000,-25000,-25000,-25000,-25000,-25000,-25000,-25000,-25000,-25000,-25000,-25000,-25000,-25000,-25000,-25000,-25000,-25000,-25000,-25000,-25000,-25000,-25000,-25000,-25000,-25000,-25000,-25000,-25000,-25000,-25000,-25000,-25000,-25000,-25000,-25000,-25000,-25000,-25000,-25000,-25000,-25000,-25000,-25000,-25000,-25000,-25000,-25000,-25000,-25000,-25000,-25000,-25000,-25000,-25000,-25000,-25000,-25000,-25000,-25000,-25000,-25000,-25000,-25000,-25000,-25000,-25000,-25000,-25000,-25000,-25000,-25000,-25000,-25000,-25000,-25000,-25000,-25000,-25000,-25000,-25000,-25000,-25000,-25000,-25000,-25000,-25000,-25000,-25000,-25000,-25000,-25000,-25000,-25000,-25000,-25000,-25000,-25000,-25000,-25000,-25000,-25000]
[-25000,-25000,-25000,-25000,-25000,-25000,-25000,-25000,-25000,-25000,-25000,-25000,-25000,-25000,-25000,-25000,-25000,-25000,-25000,-25000,-25000,-25000,-25000,-25000,-25000,-25000,-25000,-25000,-25000,-25000,-25000,-25000,-25000,-25000,-25000,-25000,-25000,-25000,-25000,-25000,-25000,-25000,-25000,-25000,-25000,-25000,-25000,-25000,-25000,-25000,-25000,-25000,-25000,-25000,-25000,-25000,-25000,-25000,-25000,-25000,-25000,-25000,-25000,-25000,-25000,-25000,-25000,-25000,-25000,-25000,-25000,-25000,-25000,-25000,-25000,-25000,-25000,-25000,-25000,-25000,-25000,-25000,-25000,-25000,-25000,-25000,-25000,-25000,-25000,-25000,-25000,-25000,-25000,-25000,-25000,-25000,-25000,-25000,-25000,-25000,-25000,-25000,-25000,-25000,-25000,-25000,-25000,-25000,-25000,-25000,-25000,-25000,-25000,-25000,-25000,-25000,-25000,-25000,-25000,-25000,-25000,-25000,-25000,-25000,-25000,-25000,-25000,-25000,-25000,-25000,-25000,-25000,-25000,-25000,-25000,-25000,-25000,-25000,-25000,-25000,-25000,-25000,-25000,-25000,-25000,-25000,-25000,-25000,-25000,-25000,-25000,-25000,-25000,-25000,-25000,-25000,-25000,-25000,-25000,-25000,-25000,-25000,-25000,-25000,-25000,-25000,-25000,-25000,-25000,-25000,-25000,-25000,-25000,-25000,-25000,-25000,-25000,-25000,-25000,-25000,-25000,-25000,-25000,-25000,-25000,-25000,-25000,-25000,-25000,-25000,-25000,-25000,-25000,-25000,-25000,-25000,-25000,-25000,-25000,-25000,-25000,-25000,-25000,-25000,-25000,-25000,-25000,-25000,-25000,-25000,-25000,-25000,-25000,-25000,-25000,-25000,-25000,-25000,-25000,-25000,-25000,-25000,-25000,-25000,-25000,-25000,-25000,-25000,39372.980000000003,135269.94,25103.02,126211.46,-25000,-25000,-25000,-25000,-25000,-25000,-25000,-25000,34261.22,21421.96,21872.65,13759.96,-25000,-25000,-25000,-25000,-25000,-25000,-25000,-25000,29533.64,17984.5,18890.93,11569.06,-25000,-25000,-25000,-25000,-25000,-25000,-25000,-25000,25109.95,14860.74,16091.59,9568.91,-25000,-25000,-25000,-25000,-25000,-25000,-25000,-25000,20983.35,12004.01,13465.35,7738.69,-25000,-25000,-25000,-25000,-25000,-25000,-25000,-25000,20841.13,11821.8,13378.3,7644.18,37979.589999999997,133871.48000000001,24222.560000000001,125321.62,-25000,-25000,-25000,-25000,20721.150000000001,11664.13,13302.74,7562.52,33059.269999999997,20217.8,21130.67,12997.59,-25000,-25000,-25000,-25000]
[-25000,-25000,-25000,-25000,-25000,-25000,-25000,-25000,-25000,-25000,-25000,-25000,-25000,-25000,-25000,-25000,-25000,-25000,-25000,-25000,-25000,-25000,-25000,-25000,-25000,-25000,-25000,-25000,-25000,-25000,-25000,-25000,-25000,-25000,-25000,-25000,-25000,-25000,-25000,-25000,-25000,-25000,-25000,-25000,-25000,-25000,-25000,-25000,-25000,-25000,-25000,-25000,-25000,-25000,-25000,-25000,-25000,-25000,-25000,-25000,-25000,-25000,-25000,-25000,-25000,-25000,-25000,-25000,-25000,-25000,-25000,-25000,-25000,-25000,-25000,-25000,-25000,-25000,-25000,-25000,-25000,-25000,-25000,-25000,-25000,-25000,-25000,-25000,-25000,-25000,-25000,-25000,-25000,-25000,-25000,-25000,-25000,-25000,-25000,-25000,-25000,-25000,-25000,-25000,-25000,-25000,-25000,-25000,-25000,-25000,-25000,-25000,-25000,-25000,-25000,-25000,-25000,-25000,-25000,-25000,-25000,-25000,-25000,-25000,-25000,-25000,-25000,-25000,-25000,-25000,-25000,-25000,-25000,-25000,-25000,-25000,-25000,-25000,-25000,-25000,-25000,-25000,-25000,-25000,-25000,-25000,-25000,-25000,-25000,-25000,-25000,-25000,-25000,-25000,-25000,-25000,76228.72,224933.81,48540.36,205115.64,-25000,-25000,-25000,-25000,-25000,-25000,-25000,-25000,69328.08,49291.99,44115.06,31496.82,-25000,-25000,-25000,-25000,-25000,-25000,-25000,-25000,62789.94,44006.34,39923.81,28106.62,-25000,-25000,-25000,-25000,-25000,-25000,-25000,-25000,56545.38,38847.1,35942.14,24822.3,-25000,-25000,-25000,-25000,-25000,-25000,-25000,-25000,50527.49,33999.449999999997,32143.18,21746.76,-25000,-25000,-25000,-25000,-25000,-25000,-25000,-25000,44794.29,29461.38,28525.040000000001,18873.009999999998,74402.23,223169.39,47426.04,203986.11,-25000,-25000,-25000,-25000,39372.980000000003,25269.94,25103.02,16211.46,67429.460000000006,47463.09,42943.79,30314.23,-25000,-25000,-25000,-25000,34261.22,21421.96,21872.65,13759.96,60842.79,42136.91,38717.620000000003,26893.55,-25000,-25000,-25000,-25000,29533.64,17984.5,18890.93,11569.06,54686.63,37055.4,34785.050000000003,23659.27,-25000,-25000,-25000,-25000,25109.95,14860.74,16091.59,9568.91,48810.96,32309.64,31052.2,20655.39,-25000,-25000,-25000,-25000,0,0,13465.35,7738.69,43242.19,27912.57,27533.599999999999,17879.71,71531.960000000006,220256.06,45661.86,202162.16,0,0,13378.3,7644.18,37979.589999999997,23871.48,24222.560000000001,15321.62,64783.08,44765.14,41324.730000000003,28629.54,0,0,13302.74,7562.52,33059.269999999997,20217.8,21130.67,12997.59,58474.09,39722.26,37280.01,25391.5]
[-25000,-25000,-25000,-25000,-25000,-25000,-25000,-25000,-25000,-25000,-25000,-25000,-25000,-25000,-25000,-25000,-25000,-25000,-25000,-25000,-25000,-25000,-25000,-25000,-25000,-25000,-25000,-25000,-25000,-25000,-25000,-25000,-25000,-25000,-25000,-25000,-25000,-25000,-25000,-25000,-25000,-25000,-25000,-25000,-25000,-25000,-25000,-25000,-25000,-25000,-25000,-25000,-25000,-25000,-25000,-25000,-25000,-25000,-25000,-25000,-25000,-25000,-25000,-25000,-25000,-25000,-25000,-25000,-25000,-25000,-25000,-25000,-25000,-25000,-25000,-25000,-25000,-25000,-25000,-25000,-25000,-25000,-25000,-25000,-25000,-25000,-25000,-25000,-25000,-25000,-25000,-25000,-25000,-25000,-25000,-25000,116865.42,309253.61,74596.210000000006,277141.2,-25000,-25000,-25000,-25000,-25000,-25000,-25000,-25000,107846.5,81497.009999999995,68807.350000000006,52162.39,-25000,-25000,-25000,-25000,-25000,-25000,-25000,-25000,99288.39,74197.649999999994,63326.67,47476.15,-25000,-25000,-25000,-25000,-25000,-25000,-25000,-25000,91189.22,67365.16,58136.49,43097.5,-25000,-25000,-25000,-25000,-25000,-25000,-25000,-25000,83511.27,60955.54,53209.26,38982.68,-25000,-25000,-25000,-25000,-25000,-25000,-25000,-25000,76228.72,54933.81,48540.36,35115.64,115762.83,308165.07,73995.899999999994,276498.93,-25000,-25000,-25000,-25000,69328.08,49291.99,44115.06,31496.82,106526.87,80195.39,68057.61,51367.9,-25000,-25000,-25000,-25000,62789.94,44006.34,39923.81,28106.62,97775.23,72718.820000000007,62441.05,46558.29,-25000,-25000,-25000,-25000,56545.38,38847.1,35942.14,24822.3,89556.99,65776.87,57160.71,42097.99,-25000,-25000,-25000,-25000,50527.49,33999.449999999997,32143.18,21746.76,81788.69,59278.29,52170.34,37922.67,-25000,-25000,-25000,-25000,0,0,28525.040000000001,18873.009999999998,74402.23,53169.39,47426.04,33986.11,112779.97,305131.39,72200.3,274627.49,0,0,25103.02,16211.46,67429.460000000006,47463.09,42943.79,30314.23,103376.05,77001.81,66148.55,49388.37,0,0,21872.65,13759.96,60842.79,42136.91,38717.620000000003,26893.55,94487.83,69388.12,60435.4,44493.5,0,0,18890.93,11569.06,54686.63,37055.4,34785.050000000003,23659.27,86355.54,62538.8,55203.11,40075.57,0,0,16091.59,9568.91,48810.96,32309.64,31052.2,20655.39,78712.639999999999,56161.82,50288.639999999999,35972.519999999997,0,0,13465.35,7738.69,0,0,27533.599999999999,17879.71,71531.960000000006,50256.06,45661.86,32162.16,0,0,13378.3,7644.18,0,0,24222.560000000001,15321.62,64783.08,44765.14,41324.730000000003,28629.54,0,0,13302.74,7562.52,0,0,21130.67,12997.59,58474.09,39722.26,37280.01,25391.5]
[-25000,-25000,-25000,-25000,-25000,-25000,-25000,-25000,-25000,-25000,-25000,-25000,-25000,-25000,-25000,-25000,-25000,-25000,-25000,-25000,-25000,-25000,-25000,-25000,-25000,-25000,-25000,-25000,-25000,-25000,-25000,-25000,-25000,-25000,-25000,-25000,170764.04,406804.26,109170.34,357661.96,-25000,-25000,-25000,-25000,-25000,-25000,-25000,-25000,158783.70000000001,126096.84,101482.47,80792.31,-25000,-25000,-25000,-25000,-25000,-25000,-25000,-25000,147426.49,116016.45,94200.69,74326.28,-25000,-25000,-25000,-25000,-25000,-25000,-25000,-25000,136667.6,106525.56,87300.85,68230.399999999994,-25000,-25000,-25000,-25000,-25000,-25000,-25000,-25000,126489.32,97611.83,80772.98,62508.26,-25000,-25000,-25000,-25000,-25000,-25000,-25000,-25000,116865.42,89253.61,74596.210000000006,57141.2,169825.76,405854.96,108728.27,357159.56,-25000,-25000,-25000,-25000,107846.5,81497.009999999995,68807.350000000006,52162.39,157905.89000000001,125214.9,101072.27,80324.09,-25000,-25000,-25000,-25000,99288.39,74197.649999999994,63326.67,47476.15,146635.95000000001,115220.12,93840.1,73902.62,-25000,-25000,-25000,-25000,91189.22,67365.16,58136.49,43097.5,135796.46,105653.7,86875.8,67749.34,-25000,-25000,-25000,-25000,83511.27,60955.54,53209.26,38982.68,125513.95,96643.79,80265.97,61949.99,-25000,-25000,-25000,-25000,0,0,48540.36,35115.64,115762.83,88165.07,73995.899999999994,56498.93,168090.22,404051.37,106813.25,355353.33,0,0,44115.06,31496.82,106526.87,80195.39,68057.61,51367.9,155839.94,123070.66,99153.279999999999,78512.78,0,0,39923.81,28106.62,97775.23,72718.820000000007,62441.05,46558.29,144232.68,112744.28,91895.22,72063.41,0,0,35942.14,24822.3,89556.99,65776.87,57160.71,42097.99,133184.44,102979.07,84988.38,65963.61,0,0,32143.18,21746.76,81788.69,59278.29,52170.34,37922.67,122740.53,93816.2,78443.75,60219.94,0,0,28525.040000000001,18873.009999999998,0,0,47426.04,33986.11,112779.97,85131.39,72200.3,54627.49,0,0,25103.02,16211.46,0,0,42943.79,30314.23,103376.05,77001.81,66148.55,49388.37,0,0,21872.65,13759.96,0,0,38717.620000000003,26893.55,94487.83,69388.12,60435.4,44493.5,0,0,18890.93,11569.06,0,0,34785.050000000003,23659.27,86355.54,62538.8,55203.11,40075.57,0,0,16091.59,9568.91,0,0,31052.2,20655.39,78712.639999999999,56161.82,50288.639999999999,35972.519999999997,0,0,0,0,0,0,27533.599999999999,17879.71,0,0,45661.86,32162.16,0,0,0,0,0,0,24222.560000000001,15321.62,0,0,41324.730000000003,28629.54,0,0,0,0,0,0,21130.67,12997.59,0,0,37280.01,25391.5]
[210724.16,172944.77,134827.29999999999,110887.01,-25000,-25000,-25000,-25000,-25000,-25000,-25000,-25000,196691.13,160190.03,125819.21,102686.49,275271.96999999997,572324.71,175869.28,488648.67,-25000,-25000,-25000,-25000,183384.07,148154.94,117276.85,94956.29,257647,215997.51,164669.94,138266.54,-25000,-25000,-25000,-25000,170764.04,136804.26,109170.34,87661.96,240964.78,200595.89,154044.24,128474.01,-25000,-25000,-25000,-25000,158783.70000000001,126096.84,101482.47,80792.31,225133.78,186048.22,143970.37,119226.24000000001,-25000,-25000,-25000,-25000,147426.49,116016.45,94200.69,74326.28,210143.02,172339.35,134434.25,110510.11,-25000,-25000,-25000,-25000,0,0,87300.85,68230.399999999994,195950.07999999999,159429.45000000001,125406.78,102293.25,274076.33,571042.39,173093.51,485901.82,0,0,80772.98,62508.26,182523.9,147282.04,116868.04,94512.53,256299.24,214548.81,161986.12,135620.51,0,0,74596.210000000006,57141.2,169825.76,135854.96,108728.27,87159.56,239493.57,199043.39,151483.66,125946.99,0,0,68807.350000000006,52162.39,157905.89000000001,125214.9,101072.27,80324.09,223755.14,184587.56,141637.6,116923.6,0,0,63326.67,47476.15,146635.95000000001,115220.12,93840.1,73902.62,208943.98,171057.35,132365.75,108462.33,0,0,58136.49,43097.5,0,0,86875.8,67749.34,194618.62,158006.76,123412.23,100318.78,0,0,53209.26,38982.68,0,0,80265.97,61949.99,181010.86,145701.41,114904.99,92627.77,0,0,48540.36,35115.64,0,0,73995.899999999994,56498.93,168090.22,134051.37,106813.25,85353.33,0,0,44115.06,31496.82,0,0,68057.61,51367.9,155839.94,123070.66,99153.279999999999,78512.78,0,0,39923.81,28106.62,0,0,62441.05,46558.29,144232.68,112744.28,91895.22,72063.41,0,0,0,0,0,0,57160.71,42097.99,0,0,84988.38,65963.61,0,0,0,0,0,0,52170.34,37922.67,0,0,78443.75,60219.94,0,0,0,0,0,0,47426.04,33986.11,0,0,72200.3,54627.49,0,0,0,0,0,0,42943.79,30314.23,0,0,66148.55,49388.37,0,0,0,0,0,0,38717.620000000003,26893.55,0,0,60435.4,44493.5,0,0,0,0,0,0,0,0,0,0,55203.11,40075.57,0,0,0,0,0,0,0,0,0,0,50288.639999999999,35972.519999999997,0,0,0,0,0,0,0,0,0,0,45661.86,32162.16,0,0,0,0,0,0,0,0,0,0,41324.730000000003,28629.54,0,0,0,0,0,0,0,0,0,0,37280.01,25391.5]
[210724.16,172944.77,134827.29999999999,110887.01,293854.46000000002,249617.79,187686.8,159646.41,-25000,-25000,-25000,-25000,0,0,125819.21,102686.49,275271.96999999997,232324.71,175869.28,148648.67000000001,379073.55,719610.69,238731.65,597416.39,0,0,117276.85,94956.29,257647,215997.51,164669.94,138266.54,355733.71,307568.81,224137.26,193667.15,0,0,109170.34,87661.96,240964.78,200595.89,154044.24,128474.01,333635.37,286766.75,210318.75,180677.89,0,0,101482.47,80792.31,225133.78,186048.22,143970.37,119226.24000000001,312701.09000000003,267114.67,197223.13,168403.04,0,0,94200.69,74326.28,210143.02,172339.35,134434.25,110510.11,292867.19,248545.4,184827.12,156821.03,0,0,87300.85,68230.399999999994,0,0,125406.78,102293.25,274076.33,231042.39,173093.51,145901.82,0,0,80772.98,62508.26,0,0,116868.04,94512.53,256299.24,214548.81,161986.12,135620.51,0,0,74596.210000000006,57141.2,0,0,108728.27,87159.56,239493.57,199043.39,151483.66,125946.99,0,0,68807.350000000006,52162.39,0,0,101072.27,80324.09,223755.14,184587.56,141637.6,116923.6,0,0,63326.67,47476.15,0,0,93840.1,73902.62,208943.98,171057.35,132365.75,108462.33,0,0,0,0,0,0,86875.8,67749.34,0,0,123412.23,100318.78,0,0,0,0,0,0,80265.97,61949.99,0,0,114904.99,92627.77,0,0,0,0,0,0,73995.899999999994,56498.93,0,0,106813.25,85353.33,0,0,0,0,0,0,68057.61,51367.9,0,0,99153.279999999999,78512.78,0,0,0,0,0,0,62441.05,46558.29,0,0,91895.22,72063.41,0,0,0,0,0,0,0,0,0,0,84988.38,65963.61,0,0,0,0,0,0,0,0,0,0,78443.75,60219.94,0,0,0,0,0,0,0,0,0,0,72200.3,54627.49,0,0,0,0,0,0,0,0,0,0,66148.55,49388.37,0,0,0,0,0,0,0,0,0,0,60435.4,44493.5,0,0,0,0,0,0,0,0,0,0,0,0,0,0,0,0,0,0,0,0,0,0,0,0,0,0,0,0,0,0,0,0,0,0,0,0,0,0,0,0,0,0,0,0,0,0,0,0,0,0,0,0,0,0,0,0,0,0,0,0]
[0,0,134827.29999999999,110887.01,293854.46000000002,249617.79,187686.8,159646.41,403720.74,752953.21,254124.33,621977.61,0,0,125819.21,102686.49,275271.96999999997,232324.71,175869.28,148648.67000000001,379073.55,329610.69,238731.65,207416.39,0,0,117276.85,94956.29,257647,215997.51,164669.94,138266.54,355733.71,307568.81,224137.26,193667.15,0,0,109170.34,87661.96,240964.78,200595.89,154044.24,128474.01,333635.37,286766.75,210318.75,180677.89,0,0,101482.47,80792.31,225133.78,186048.22,143970.37,119226.24000000001,312701.09000000003,267114.67,197223.13,168403.04,0,0,94200.69,74326.28,0,0,134434.25,110510.11,292867.19,248545.4,184827.12,156821.03,0,0,87300.85,68230.399999999994,0,0,125406.78,102293.25,274076.33,231042.39,173093.51,145901.82,0,0,80772.98,62508.26,0,0,116868.04,94512.53,256299.24,214548.81,161986.12,135620.51,0,0,74596.210000000006,57141.2,0,0,108728.27,87159.56,239493.57,199043.39,151483.66,125946.99,0,0,68807.350000000006,52162.39,0,0,101072.27,80324.09,223755.14,184587.56,141637.6,116923.6,0,0,0,0,0,0,93840.1,73902.62,0,0,132365.75,108462.33,0,0,0,0,0,0,86875.8,67749.34,0,0,123412.23,100318.78,0,0,0,0,0,0,80265.97,61949.99,0,0,114904.99,92627.77,0,0,0,0,0,0,73995.899999999994,56498.93,0,0,106813.25,85353.33,0,0,0,0,0,0,68057.61,51367.9,0,0,99153.279999999999,78512.78,0,0,0,0,0,0,0,0,0,0,91895.22,72063.41,0,0,0,0,0,0,0,0,0,0,84988.38,65963.61,0,0,0,0,0,0,0,0,0,0,78443.75,60219.94,0,0,0,0,0,0,0,0,0,0,72200.3,54627.49,0,0,0,0,0,0,0,0,0,0,66148.55,49388.37,0,0,0,0,0,0,0,0,0,0,0,0,0,0,0,0,0,0,0,0,0,0,0,0,0,0,0,0,0,0,0,0,0,0,0,0,0,0,0,0,0,0,0,0,0,0,0,0,0,0,0,0,0,0,0,0,0,0,0,0,0,0,0,0,0,0,0,0,0,0,0,0]
[0,0,134827.29999999999,110887.01,0,0,187686.8,159646.41,403720.74,352953.21,254124.33,221977.61,0,0,125819.21,102686.49,0,0,175869.28,148648.67000000001,379073.55,329610.69,238731.65,207416.39,0,0,117276.85,94956.29,0,0,164669.94,138266.54,355733.71,307568.81,224137.26,193667.15,0,0,109170.34,87661.96,0,0,154044.24,128474.01,333635.37,286766.75,210318.75,180677.89,0,0,101482.47,80792.31,0,0,143970.37,119226.24000000001,312701.09000000003,267114.67,197223.13,168403.04,0,0,0,0,0,0,134434.25,110510.11,0,0,184827.12,156821.03,0,0,0,0,0,0,125406.78,102293.25,0,0,173093.51,145901.82,0,0,0,0,0,0,116868.04,94512.53,0,0,161986.12,135620.51,0,0,0,0,0,0,108728.27,87159.56,0,0,151483.66,125946.99,0,0,0,0,0,0,101072.27,80324.09,0,0,141637.6,116923.6,0,0,0,0,0,0,0,0,0,0,132365.75,108462.33,0,0,0,0,0,0,0,0,0,0,123412.23,100318.78,0,0,0,0,0,0,0,0,0,0,114904.99,92627.77,0,0,0,0,0,0,0,0,0,0,106813.25,85353.33,0,0,0,0,0,0,0,0,0,0,99153.279999999999,78512.78,0,0,0,0,0,0,0,0,0,0,0,0,0,0,0,0,0,0,0,0,0,0,0,0,0,0,0,0,0,0,0,0,0,0,0,0,0,0,0,0,0,0,0,0,0,0,0,0,0,0,0,0,0,0,0,0,0,0,0,0,0,0,0,0,0,0,0,0,0,0,0,0,0,0,0,0,0,0,0,0,0,0,0,0,0,0,0,0,0,0,0,0,0,0,0,0,0,0,0,0,0,0,0,0,0,0,0,0,0,0,0,0,0,0,0,0,0,0,0,0,0,0,0,0,0,0,0,0,0,0,0,0]
[0,0,0,0,0,0,187686.8,159646.41,0,0,254124.33,221977.61,0,0,0,0,0,0,175869.28,148648.67000000001,0,0,238731.65,207416.39,0,0,0,0,0,0,164669.94,138266.54,0,0,224137.26,193667.15,0,0,0,0,0,0,154044.24,128474.01,0,0,210318.75,180677.89,0,0,0,0,0,0,143970.37,119226.24000000001,0,0,197223.13,168403.04,0,0,0,0,0,0,0,0,0,0,184827.12,156821.03,0,0,0,0,0,0,0,0,0,0,173093.51,145901.82,0,0,0,0,0,0,0,0,0,0,161986.12,135620.51,0,0,0,0,0,0,0,0,0,0,151483.66,125946.99,0,0,0,0,0,0,0,0,0,0,141637.6,116923.6,0,0,0,0,0,0,0,0,0,0,0,0,0,0,0,0,0,0,0,0,0,0,0,0,0,0,0,0,0,0,0,0,0,0,0,0,0,0,0,0,0,0,0,0,0,0,0,0,0,0,0,0,0,0,0,0,0,0,0,0,0,0,0,0,0,0,0,0,0,0,0,0,0,0,0,0,0,0,0,0,0,0,0,0,0,0,0,0,0,0,0,0,0,0,0,0,0,0,0,0,0,0,0,0,0,0,0,0,0,0,0,0,0,0,0,0,0,0,0,0,0,0,0,0,0,0,0,0,0,0,0,0,0,0,0,0,0,0,0,0,0,0,0,0,0,0,0,0,0,0,0,0,0,0,0,0,0,0,0,0,0,0,0,0,0,0,0,0,0,0,0,0,0,0,0,0,0,0,0,0,0,0,0,0,0,0,0,0,0,0,0,0]
[0,0,0,0,0,0,0,0,0,0,254124.33,221977.61,0,0,0,0,0,0,0,0,0,0,0,0,0,0,0,0,0,0,0,0,0,0,0,0,0,0,0,0,0,0,0,0,0,0,0,0,0,0,0,0,0,0,0,0,0,0,0,0,0,0,0,0,0,0,0,0,0,0,0,0,0,0,0,0,0,0,0,0,0,0,0,0,0,0,0,0,0,0,0,0,0,0,0,0,0,0,0,0,0,0,0,0,0,0,0,0,0,0,0,0,0,0,0,0,0,0,0,0,0,0,0,0,0,0,0,0,0,0,0,0,0,0,0,0,0,0,0,0,0,0,0,0,0,0,0,0,0,0,0,0,0,0,0,0,0,0,0,0,0,0,0,0,0,0,0,0,0,0,0,0,0,0,0,0,0,0,0,0,0,0,0,0,0,0,0,0,0,0,0,0,0,0,0,0,0,0,0,0,0,0,0,0,0,0,0,0,0,0,0,0,0,0,0,0,0,0,0,0,0,0,0,0,0,0,0,0,0,0,0,0,0,0,0,0,0,0,0,0,0,0,0,0,0,0,0,0,0,0,0,0,0,0,0,0,0,0,0,0,0,0,0,0,0,0,0,0,0,0,0,0,0,0,0,0,0,0,0,0,0,0,0,0,0,0,0,0,0,0,0,0,0,0,0,0,0,0,0,0,0,0,0,0,0,0,0,0,0,0,0,0]
[0,0,0,0,0,0,0,0,0,0,0,0,0,0,0,0,0,0,0,0,0,0,0,0,0,0,0,0,0,0,0,0,0,0,0,0,0,0,0,0,0,0,0,0,0,0,0,0,0,0,0,0,0,0,0,0,0,0,0,0,0,0,0,0,0,0,0,0,0,0,0,0,0,0,0,0,0,0,0,0,0,0,0,0,0,0,0,0,0,0,0,0,0,0,0,0,0,0,0,0,0,0,0,0,0,0,0,0,0,0,0,0,0,0,0,0,0,0,0,0,0,0,0,0,0,0,0,0,0,0,0,0,0,0,0,0,0,0,0,0,0,0,0,0,0,0,0,0,0,0,0,0,0,0,0,0,0,0,0,0,0,0,0,0,0,0,0,0,0,0,0,0,0,0,0,0,0,0,0,0,0,0,0,0,0,0,0,0,0,0,0,0,0,0,0,0,0,0,0,0,0,0,0,0,0,0,0,0,0,0,0,0,0,0,0,0,0,0,0,0,0,0,0,0,0,0,0,0,0,0,0,0,0,0,0,0,0,0,0,0,0,0,0,0,0,0,0,0,0,0,0,0,0,0,0,0,0,0,0,0,0,0,0,0,0,0,0,0,0,0,0,0,0,0,0,0,0,0,0,0,0,0,0,0,0,0,0,0,0,0,0,0,0,0,0,0,0,0,0,0,0,0,0,0,0,0,0,0,0,0,0,0]
[0,0,0,0,0,0,0,0,0,0,0,0,0,0,0,0,0,0,0,0,0,0,0,0,0,0,0,0,0,0,0,0,0,0,0,0,0,0,0,0,0,0,0,0,0,0,0,0,0,0,0,0,0,0,0,0,0,0,0,0,0,0,0,0,0,0,0,0,0,0,0,0,0,0,0,0,0,0,0,0,0,0,0,0,0,0,0,0,0,0,0,0,0,0,0,0,0,0,0,0,0,0,0,0,0,0,0,0,0,0,0,0,0,0,0,0,0,0,0,0,0,0,0,0,0,0,0,0,0,0,0,0,0,0,0,0,0,0,0,0,0,0,0,0,0,0,0,0,0,0,0,0,0,0,0,0,0,0,0,0,0,0,0,0,0,0,0,0,0,0,0,0,0,0,0,0,0,0,0,0,0,0,0,0,0,0,0,0,0,0,0,0,0,0,0,0,0,0,0,0,0,0,0,0,0,0,0,0,0,0,0,0,0,0,0,0,0,0,0,0,0,0,0,0,0,0,0,0,0,0,0,0,0,0,0,0,0,0,0,0,0,0,0,0,0,0,0,0,0,0,0,0,0,0,0,0,0,0,0,0,0,0,0,0,0,0,0,0,0,0,0,0,0,0,0,0,0,0,0,0,0,0,0,0,0,0,0,0,0,0,0,0,0,0,0,0,0,0,0,0,0,0,0,0,0,0,0,0,0,0,0,0]
[0,0,0,0,0,0,0,0,0,0,0,0,0,0,0,0,0,0,0,0,0,0,0,0,0,0,0,0,0,0,0,0,0,0,0,0,0,0,0,0,0,0,0,0,0,0,0,0,0,0,0,0,0,0,0,0,0,0,0,0,0,0,0,0,0,0,0,0,0,0,0,0,0,0,0,0,0,0,0,0,0,0,0,0,0,0,0,0,0,0,0,0,0,0,0,0,0,0,0,0,0,0,0,0,0,0,0,0,0,0,0,0,0,0,0,0,0,0,0,0,0,0,0,0,0,0,0,0,0,0,0,0,0,0,0,0,0,0,0,0,0,0,0,0,0,0,0,0,0,0,0,0,0,0,0,0,0,0,0,0,0,0,0,0,0,0,0,0,0,0,0,0,0,0,0,0,0,0,0,0,0,0,0,0,0,0,0,0,0,0,0,0,0,0,0,0,0,0,0,0,0,0,0,0,0,0,0,0,0,0,0,0,0,0,0,0,0,0,0,0,0,0,0,0,0,0,0,0,0,0,0,0,0,0,0,0,0,0,0,0,0,0,0,0,0,0,0,0,0,0,0,0,0,0,0,0,0,0,0,0,0,0,0,0,0,0,0,0,0,0,0,0,0,0,0,0,0,0,0,0,0,0,0,0,0,0,0,0,0,0,0,0,0,0,0,0,0,0,0,0,0,0,0,0,0,0,0,0,0,0,0,0]
[0,0,0,0,0,0,0,0,0,0,0,0,0,0,0,0,0,0,0,0,0,0,0,0,0,0,0,0,0,0,0,0,0,0,0,0,0,0,0,0,0,0,0,0,0,0,0,0,0,0,0,0,0,0,0,0,0,0,0,0,0,0,0,0,0,0,0,0,0,0,0,0,0,0,0,0,0,0,0,0,0,0,0,0,0,0,0,0,0,0,0,0,0,0,0,0,0,0,0,0,0,0,0,0,0,0,0,0,0,0,0,0,0,0,0,0,0,0,0,0,0,0,0,0,0,0,0,0,0,0,0,0,0,0,0,0,0,0,0,0,0,0,0,0,0,0,0,0,0,0,0,0,0,0,0,0,0,0,0,0,0,0,0,0,0,0,0,0,0,0,0,0,0,0,0,0,0,0,0,0,0,0,0,0,0,0,0,0,0,0,0,0,0,0,0,0,0,0,0,0,0,0,0,0,0,0,0,0,0,0,0,0,0,0,0,0,0,0,0,0,0,0,0,0,0,0,0,0,0,0,0,0,0,0,0,0,0,0,0,0,0,0,0,0,0,0,0,0,0,0,0,0,0,0,0,0,0,0,0,0,0,0,0,0,0,0,0,0,0,0,0,0,0,0,0,0,0,0,0,0,0,0,0,0,0,0,0,0,0,0,0,0,0,0,0,0,0,0,0,0,0,0,0,0,0,0,0,0,0,0,0,0]
[0,0,0,0,0,0,0,0,0,0,0,0,0,0,0,0,0,0,0,0,0,0,0,0,0,0,0,0,0,0,0,0,0,0,0,0,0,0,0,0,0,0,0,0,0,0,0,0,0,0,0,0,0,0,0,0,0,0,0,0,0,0,0,0,0,0,0,0,0,0,0,0,0,0,0,0,0,0,0,0,0,0,0,0,0,0,0,0,0,0,0,0,0,0,0,0,0,0,0,0,0,0,0,0,0,0,0,0,0,0,0,0,0,0,0,0,0,0,0,0,0,0,0,0,0,0,0,0,0,0,0,0,0,0,0,0,0,0,0,0,0,0,0,0,0,0,0,0,0,0,0,0,0,0,0,0,0,0,0,0,0,0,0,0,0,0,0,0,0,0,0,0,0,0,0,0,0,0,0,0,0,0,0,0,0,0,0,0,0,0,0,0,0,0,0,0,0,0,0,0,0,0,0,0,0,0,0,0,0,0,0,0,0,0,0,0,0,0,0,0,0,0,0,0,0,0,0,0,0,0,0,0,0,0,0,0,0,0,0,0,0,0,0,0,0,0,0,0,0,0,0,0,0,0,0,0,0,0,0,0,0,0,0,0,0,0,0,0,0,0,0,0,0,0,0,0,0,0,0,0,0,0,0,0,0,0,0,0,0,0,0,0,0,0,0,0,0,0,0,0,0,0,0,0,0,0,0,0,0,0,0,0]
[0,0,0,0,0,0,0,0,0,0,0,0,0,0,0,0,0,0,0,0,0,0,0,0,0,0,0,0,0,0,0,0,0,0,0,0,0,0,0,0,0,0,0,0,0,0,0,0,0,0,0,0,0,0,0,0,0,0,0,0,0,0,0,0,0,0,0,0,0,0,0,0,0,0,0,0,0,0,0,0,0,0,0,0,0,0,0,0,0,0,0,0,0,0,0,0,0,0,0,0,0,0,0,0,0,0,0,0,0,0,0,0,0,0,0,0,0,0,0,0,0,0,0,0,0,0,0,0,0,0,0,0,0,0,0,0,0,0,0,0,0,0,0,0,0,0,0,0,0,0,0,0,0,0,0,0,0,0,0,0,0,0,0,0,0,0,0,0,0,0,0,0,0,0,0,0,0,0,0,0,0,0,0,0,0,0,0,0,0,0,0,0,0,0,0,0,0,0,0,0,0,0,0,0,0,0,0,0,0,0,0,0,0,0,0,0,0,0,0,0,0,0,0,0,0,0,0,0,0,0,0,0,0,0,0,0,0,0,0,0,0,0,0,0,0,0,0,0,0,0,0,0,0,0,0,0,0,0,0,0,0,0,0,0,0,0,0,0,0,0,0,0,0,0,0,0,0,0,0,0,0,0,0,0,0,0,0,0,0,0,0,0,0,0,0,0,0,0,0,0,0,0,0,0,0,0,0,0,0,0,0,0]
[0,0,0,0,0,0,0,0,0,0,0,0,0,0,0,0,0,0,0,0,0,0,0,0,0,0,0,0,0,0,0,0,0,0,0,0,0,0,0,0,0,0,0,0,0,0,0,0,0,0,0,0,0,0,0,0,0,0,0,0,0,0,0,0,0,0,0,0,0,0,0,0,0,0,0,0,0,0,0,0,0,0,0,0,0,0,0,0,0,0,0,0,0,0,0,0,0,0,0,0,0,0,0,0,0,0,0,0,0,0,0,0,0,0,0,0,0,0,0,0,0,0,0,0,0,0,0,0,0,0,0,0,0,0,0,0,0,0,0,0,0,0,0,0,0,0,0,0,0,0,0,0,0,0,0,0,0,0,0,0,0,0,0,0,0,0,0,0,0,0,0,0,0,0,0,0,0,0,0,0,0,0,0,0,0,0,0,0,0,0,0,0,0,0,0,0,0,0,0,0,0,0,0,0,0,0,0,0,0,0,0,0,0,0,0,0,0,0,0,0,0,0,0,0,0,0,0,0,0,0,0,0,0,0,0,0,0,0,0,0,0,0,0,0,0,0,0,0,0,0,0,0,0,0,0,0,0,0,0,0,0,0,0,0,0,0,0,0,0,0,0,0,0,0,0,0,0,0,0,0,0,0,0,0,0,0,0,0,0,0,0,0,0,0,0,0,0,0,0,0,0,0,0,0,0,0,0,0,0,0,0,0]
[0,0,0,0,0,0,0,0,0,0,0,0,0,0,0,0,0,0,0,0,0,0,0,0,0,0,0,0,0,0,0,0,0,0,0,0,0,0,0,0,0,0,0,0,0,0,0,0,0,0,0,0,0,0,0,0,0,0,0,0,0,0,0,0,0,0,0,0,0,0,0,0,0,0,0,0,0,0,0,0,0,0,0,0,0,0,0,0,0,0,0,0,0,0,0,0,0,0,0,0,0,0,0,0,0,0,0,0,0,0,0,0,0,0,0,0,0,0,0,0,0,0,0,0,0,0,0,0,0,0,0,0,0,0,0,0,0,0,0,0,0,0,0,0,0,0,0,0,0,0,0,0,0,0,0,0,0,0,0,0,0,0,0,0,0,0,0,0,0,0,0,0,0,0,0,0,0,0,0,0,0,0,0,0,0,0,0,0,0,0,0,0,0,0,0,0,0,0,0,0,0,0,0,0,0,0,0,0,0,0,0,0,0,0,0,0,0,0,0,0,0,0,0,0,0,0,0,0,0,0,0,0,0,0,0,0,0,0,0,0,0,0,0,0,0,0,0,0,0,0,0,0,0,0,0,0,0,0,0,0,0,0,0,0,0,0,0,0,0,0,0,0,0,0,0,0,0,0,0,0,0,0,0,0,0,0,0,0,0,0,0,0,0,0,0,0,0,0,0,0,0,0,0,0,0,0,0,0,0,0,0,0]
[]
[]
[]
[]
[]
[]
[]
[]
[]
[]
[]
[]
[]
[]
[]
[]
[]
[]
[]
[]
[]
[]
[]
[]
[]
[]
[]
[]
[]
[]
[]
[]
[]
[]
[]
[]
[]
[]
[103316.8,103316.8,103316.8,103316.8,103316.53,103316.53,103316.53,103316.53,103316.26,103316.26,103316.26,103316.26,103394.33,103394.33,103394.33,103394.33,103393.81,103393.81,103393.81,103393.81,103393.81,103393.81,103393.81,103393.81,103466.95,103466.95,103466.95,103466.95,103466.42,103466.42,103466.42,103466.42,103466.29,103466.29,103466.29,103466.29,103508.57,103508.57,103508.57,103508.57,103508.16,103508.16,103508.16,103508.16,103507.9,103507.9,103507.9,103507.9,103521.05,103521.05,103521.05,103521.05,103520.66,103520.66,103520.66,103520.66,103520.24,103520.24,103520.24,103520.24,103479.42,103479.42,103479.42,103479.42,103478.89,103478.89,103478.89,103478.89,103478.76,103478.76,103478.76,103478.76,103387.48,103387.48,103387.48,103387.48,103386.82,103386.82,103386.82,103386.82,103386.54,103386.54,103386.54,103386.54,103278.34,103278.34,103278.34,103278.34,103277.55,103277.55,103277.55,103277.55,103277.4,103277.4,103277.4,103277.4,103121.77,103121.77,103121.77,103121.77,103123.66,103123.66,103123.66,103123.66,103123.27,103123.27,103123.27,103123.27,103254.71,103254.71,103254.71,103254.71,103256.34,103256.34,103256.34,103256.34,103255.91,103255.91,103255.91,103255.91,103167.99,103167.99,103167.99,103167.99,103169.61,103169.61,103169.61,103169.61,103169.07,103169.07,103169.07,103169.07,103311.77,103311.77,103311.77,103311.77,103310.83,103310.83,103310.83,103310.83,103312.71,103312.71,103312.71,103312.71,103370.98,103370.98,103370.98,103370.98,103370.05,103370.05,103370.05,103370.05,103371.79,103371.79,103371.79,103371.79,103332.26,103332.26,103332.26,103332.26,103331.46,103331.46,103331.46,103331.46,103330.67,103330.67,103330.67,103330.67,103233.16,103233.16,103233.16,103233.16,103231.97,103231.97,103231.97,103231.97,103231.31,103231.31,103231.31,103231.31,103116.41,103116.41,103116.41,103116.41,103117.49,103117.49,103117.49,103117.49,103116.81,103116.81,103116.81,103116.81,103053.54,103053.54,103053.54,103053.54,103051.8,103051.8,103051.8,103051.8,103051.01,103051.01,103051.01,103051.01,102957.35,102957.35,102957.35,102957.35,102957.35,102957.35,102957.35,102957.35,102957.35,102957.35,102957.35,102957.35,102768.81,102768.81,102768.81,102768.81,102768.81,102768.81,102768.81,102768.81,102768.81,102768.81,102768.81,102768.81,102489.28,102489.28,102489.28,102489.28,102489.28,102489.28,102489.28,102489.28,102489.28,102489.28,102489.28,102489.28,102108.7,102108.7,102108.7,102108.7,102108.7,102108.7,102108.7,102108.7,102108.7,102108.7,102108.7,102108.7,101824.19,101824.19,101824.19,101824.19,101824.19,101824.19,101824.19,101824.19,101824.19,101824.19,101824.19,101824.19,101492.74,101492.74,101492.74,101492.74,101492.74,101492.74,101492.74,101492.74,101492.74,101492.74,101492.74,101492.74,101146.71,101146.71,101146.71,101146.71,101146.84,101146.84,101146.84,101146.84,101146.84,101146.84,101146.84,101146.84,100809.8,100809.8,100809.8,100809.8,100809.8,100809.8,100809.8,100809.8,100809.8,100809.8,100809.8,100809.8,100549.01,100549.01,100549.01,100549.01,100549.01,100549.01,100549.01,100549.01,100549.01,100549.01,100549.01,100549.01]
[270703.21000000002,270703.21000000002,270703.21000000002,270703.21000000002,270702.44,270702.44,270702.44,270702.44,270701.65999999997,270701.65999999997,270701.65999999997,270701.65999999997,270709.77,270709.77,270709.77,270709.77,270708.55,270708.55,270708.55,270708.55,270708.01,270708.01,270708.01,270708.01,270643.37,270643.37,270643.37,270643.37,270641.98,270641.98,270641.98,270641.98,270641.69,270641.69,270641.69,270641.69,270494.38,270494.38,270494.38,270494.38,270493.17,270493.17,270493.17,270493.17,270492.25,270492.25,270492.25,270492.25,270230.61,270230.61,270230.61,270230.61,270229.3,270229.3,270229.3,270229.3,270228.19,270228.19,270228.19,270228.19,269978.53999999998,269978.53999999998,269978.53999999998,269978.53999999998,269977.15000000002,269977.15000000002,269977.15000000002,269977.15000000002,269976.26,269976.26,269976.26,269976.26,269740.56,269740.56,269740.56,269740.56,269738.73,269738.73,269738.73,269738.73,269737.8,269737.8,269737.8,269737.8,269527.53000000003,269527.53000000003,269527.53000000003,269527.53000000003,269525.38,269525.38,269525.38,269525.38,269524.64,269524.64,269524.64,269524.64,269355.28999999998,269355.28999999998,269355.28999999998,269355.28999999998,269360.65999999997,269360.65999999997,269360.65999999997,269360.65999999997,269359.44,269359.44,269359.44,269359.44,269570.61,269570.61,269570.61,269570.61,269575.8,269575.8,269575.8,269575.8,269574.28000000003,269574.28000000003,269574.28000000003,269574.28000000003,269276.56,269276.56,269276.56,269276.56,269281.46999999997,269281.46999999997,269281.46999999997,269281.46999999997,269280.06,269280.06,269280.06,269280.06,269311.94,269311.94,269311.94,269311.94,269309.18,269309.18,269309.18,269309.18,269314.93,269314.93,269314.93,269314.93,269189.40999999997,269189.40999999997,269189.40999999997,269189.40999999997,269186.38,269186.38,269186.38,269186.38,269191.84999999998,269191.84999999998,269191.84999999998,269191.84999999998,268881.8,268881.8,268881.8,268881.8,268878.81,268878.81,268878.81,268878.81,268876.53999999998,268876.53999999998,268876.53999999998,268876.53999999998,268399.44,268399.44,268399.44,268399.44,268395.55,268395.55,268395.55,268395.55,268393.3,268393.3,268393.3,268393.3,267742.34000000003,267742.34000000003,267742.34000000003,267742.34000000003,267745.81,267745.81,267745.81,267745.81,267743.57,267743.57,267743.57,267743.57,267008.27,267008.27,267008.27,267008.27,267002.92,267002.92,267002.92,267002.92,267000.06,267000.06,267000.06,267000.06,266067.3,266067.3,266067.3,266067.3,266067.3,266067.3,266067.3,266067.3,266067.3,266067.3,266067.3,266067.3,264815.59000000003,264815.59000000003,264815.59000000003,264815.59000000003,264815.59000000003,264815.59000000003,264815.59000000003,264815.59000000003,264815.59000000003,264815.59000000003,264815.59000000003,264815.59000000003,263363.34999999998,263363.34999999998,263363.34999999998,263363.34999999998,263363.34999999998,263363.34999999998,263363.34999999998,263363.34999999998,263363.34999999998,263363.34999999998,263363.34999999998,263363.34999999998,261794.85,261794.85,261794.85,261794.85,261794.85,261794.85,261794.85,261794.85,261794.85,261794.85,261794.85,261794.85,260603.33,260603.33,260603.33,260603.33,260603.33,260603.33,260603.33,260603.33,260603.33,260603.33,260603.33,260603.33,236174.53,234298.91,236417.02,234441.25,259398.45,259398.45,259398.45,259398.45,259398.45,259398.45,259398.45,259398.45,210279.84,207093.79,210904.3,207448.04,258155.05,258155.05,258155.05,258155.05,258155.05,258155.05,258155.05,258155.05,209502.93,206320.57,210122.81,206667.51999999999,256831.73,256831.73,256831.73,256831.73,256831.73,256831.73,256831.73,256831.73,208983.65,205804.69,209599.75,206145.31,255683.13,255683.13,255683.13,255683.13,255683.13,255683.13,255683.13,255683.13]
[544837.16,544837.16,544837.16,544837.16,544835.23,544835.23,544835.23,544835.23,544833.68000000005,544833.68000000005,544833.68000000005,544833.68000000005,544718.09,544718.09,544718.09,544718.09,544715.55000000005,544715.55000000005,544715.55000000005,544715.55000000005,544714.32999999996,544714.32999999996,544714.32999999996,544714.32999999996,544492.9,544492.9,544492.9,544492.9,544489.96,544489.96,544489.96,544489.96,544489.27,544489.27,544489.27,544489.27,544203.35,544203.35,544203.35,544203.35,544200.51,544200.51,544200.51,544200.51,544198.47,544198.47,544198.47,544198.47,543824.07999999996,543824.07999999996,543824.07999999996,543824.07999999996,543820.98,543820.98,543820.98,543820.98,543818.71,543818.71,543818.71,543818.71,543420.98,543420.98,543420.98,543420.98,543417.75,543417.75,543417.75,543417.75,543415.64,543415.64,543415.64,543415.64,542951.68000000005,542951.68000000005,542951.68000000005,542951.68000000005,542947.97,542947.97,542947.97,542947.97,542945.80000000005,542945.80000000005,542945.80000000005,542945.80000000005,542433.96,542433.96,542433.96,542433.96,542429.34,542429.34,542429.34,542429.34,542427.43999999994,542427.43999999994,542427.43999999994,542427.43999999994,541881.81000000006,541881.81000000006,541881.81000000006,541881.81000000006,541893.48,541893.48,541893.48,541893.48,541890.91,541890.91,541890.91,541890.91,541758.71,541758.71,541758.71,541758.71,541769.87,541769.87,541769.87,541769.87,541766.76,541766.76,541766.76,541766.76,540956.27,540956.27,540956.27,540956.27,540967.44999999995,540967.44999999995,540967.44999999995,540967.44999999995,540964.34,540964.34,540964.34,540964.34,540138.84,540138.84,540138.84,540138.84,540132.6,540132.6,540132.6,540132.6,540145.99,540145.99,540145.99,540145.99,538958.35,538958.35,538958.35,538958.35,538951.18000000005,538951.18000000005,538951.18000000005,538951.18000000005,538964.59,538964.59,538964.59,538964.59,537418.49,537418.49,537418.49,537418.49,537410.91,537410.91,537410.91,537410.91,537405.73,537405.73,537405.73,537405.73,535636.97,535636.97,535636.97,535636.97,535627.43999999994,535627.43999999994,535627.43999999994,535627.43999999994,535621.84,535621.84,535621.84,535621.84,533621.56999999995,533621.56999999995,533621.56999999995,533621.56999999995,533630.14,533630.14,533630.14,533630.14,533624.28,533624.28,533624.28,533624.28,506701.86,503234.58,507285.96,503632.18,531397.61,531397.61,531397.61,531397.61,531390.18000000005,531390.18000000005,531390.18000000005,531390.18000000005,477146.66,470883.44,478758.53,471957.72,528843.03,528843.03,528843.03,528843.03,528843.03,528843.03,528843.03,528843.03,445105.07,436708.39,448045.44,438622.09,525590.4,525590.4,525590.4,525590.4,525590.4,525590.4,525590.4,525590.4,411180.95,401276.19,415612.87,404089.46,521925.05,521925.05,521925.05,521925.05,521925.05,521925.05,521925.05,521925.05,375712.73,364908.46,381662.25,368588.15,517862.04,517862.04,517862.04,517862.04,517862.04,517862.04,517862.04,517862.04,340150.5,329143.87,347506.8,333578.25,491011.73,487543.05,491575.87,487922.8,514237.87,514237.87,514237.87,514237.87,303760.48,293026.98,312296.67,298035.96999999997,461920.54,455657.03,463477.11,456678.56,510461.84,510461.84,510461.84,510461.84,266807.45,256782.3,276204.48,262113.75,430981.42,422588.47,433819.47,424401.09,506586.29,506586.29,506586.29,506586.29,265782.18,255810.44,275108.64,261031.34,398533.13,388636.61,402803.82,391290.82,502625.78,502625.78,502625.78,502625.78,265099.78999999998,255178.51,274369.23,260303.41,365243.46,354449.38,370969.04,357915.07,498986.05,498986.05,498986.05,498986.05]
[600359.43999999994,600359.43999999994,600359.43999999994,600359.43999999994,600357.27,600357.27,600357.27,600357.27,600355.62,600355.62,600355.62,600355.62,600202.44999999995,600202.44999999995,600202.44999999995,600202.44999999995,600199.63,600199.63,600199.63,600199.63,600198.22,600198.22,600198.22,600198.22,599941.80000000005,599941.80000000005,599941.80000000005,599941.80000000005,599938.43000000005,599938.43000000005,599938.43000000005,599938.43000000005,599937.69999999995,599937.69999999995,599937.69999999995,599937.69999999995,599632.54,599632.54,599632.54,599632.54,599629.41,599629.41,599629.41,599629.41,599627.14,599627.14,599627.14,599627.14,599217.43999999994,599217.43999999994,599217.43999999994,599217.43999999994,599213.91,599213.91,599213.91,599213.91,599211.39,599211.39,599211.39,599211.39,598735.15,598735.15,598735.15,598735.15,598731.47,598731.47,598731.47,598731.47,598729.13,598729.13,598729.13,598729.13,598149.02,598149.02,598149.02,598149.02,598144.85,598144.85,598144.85,598144.85,598142.42000000004,598142.42000000004,598142.42000000004,598142.42000000004,597482.86,597482.86,597482.86,597482.86,597477.73,597477.73,597477.73,597477.73,597475.59,597475.59,597475.59,597475.59,596756.26,596756.26,596756.26,596756.26,596769.47,596769.47,596769.47,596769.47,596766.51,596766.51,596766.51,596766.51,596465.17000000004,596465.17000000004,596465.17000000004,596465.17000000004,596477.82999999996,596477.82999999996,596477.82999999996,596477.82999999996,596474.30000000005,596474.30000000005,596474.30000000005,596474.30000000005,595478.46,595478.46,595478.46,595478.46,595491.01,595491.01,595491.01,595491.01,595487.47,595487.47,595487.47,595487.47,594430.93000000005,594430.93000000005,594430.93000000005,594430.93000000005,594423.97,594423.97,594423.97,594423.97,594439.12,594439.12,594439.12,594439.12,593003.30000000005,593003.30000000005,593003.30000000005,593003.30000000005,592995.21,592995.21,592995.21,592995.21,593010.41,593010.41,593010.41,593010.41,591265.42000000004,591265.42000000004,591265.42000000004,591265.42000000004,591256.67000000004,591256.67000000004,591256.67000000004,591256.67000000004,591250.81000000006,591250.81000000006,591250.81000000006,591250.81000000006,589256.86,589256.86,589256.86,589256.86,589246.05000000005,589246.05000000005,589246.05000000005,589246.05000000005,589239.62,589239.62,589239.62,589239.62,497422.2,358537.19,521602.8,375368.19,586972.68999999994,586972.68999999994,586972.68999999994,586972.68999999994,586965.99,586965.99,586965.99,586965.99,413917.57,294874.02,458798.66,325440.58,584375.68999999994,584375.68999999994,584375.68999999994,584375.68999999994,584367.19999999995,584367.19999999995,584367.19999999995,584367.19999999995,338303.48,238499.87,400368.54,279871.26,581378.59,581378.59,581378.59,581378.59,581378.59,581378.59,581378.59,581378.59,270678.61,189267.11,346312.5,238492.92,577591.69999999995,577591.69999999995,577591.69999999995,577591.69999999995,577591.69999999995,577591.69999999995,577591.69999999995,577591.69999999995,211153.89,147005.43,296799.28999999998,201372.5,573371.98,573371.98,573371.98,573371.98,573371.98,573371.98,573371.98,573371.98,159588.17000000001,120716.56,251750.78,168362.9,482674,343723.69,506061.18,359861.79,568730.19999999995,568730.19999999995,568730.19999999995,568730.19999999995,121212.65,108869.33,211724.81,140095.82,401211.5,282018.48,444539.69,311218.23,564612.23,564612.23,564612.23,564612.23,108522.13,96870.96,175878.77,115477.85,327764.44,227859.49,387692.05,267214.81,560354.72,560354.72,560354.72,560354.72,101720.2,100335.18,144115.15,111621.57,262607.03999999998,181173.69,335619.28,227822.18,555984.39,555984.39,555984.39,555984.39,105625.45,104349.75,143910.71,115403.85,205641.79,141521.79999999999,288203.07,192841.82,551540.23,551540.23,551540.23,551540.23,109529.57,108356.9,143955.71,119209.82,156804.73000000001,109845.91,245547.51999999999,162317.25,465100.97,326223.19,487495.58,341397.26]
[930655.87,930655.87,930655.87,930655.87,930652.27,930652.27,930652.27,930652.27,930649.55,930649.55,930649.55,930649.55,930232.8,930232.8,930232.8,930232.8,930228.33,930228.33,930228.33,930228.33,930225.93,930225.93,930225.93,930225.93,929565.48,929565.48,929565.48,929565.48,929560.31,929560.31,929560.31,929560.31,929558.65,929558.65,929558.65,929558.65,928671.74,928671.74,928671.74,928671.74,928666.68,928666.68,928666.68,928666.68,928662.82,928662.82,928662.82,928662.82,927461.33,927461.33,927461.33,927461.33,927455.41,927455.41,927455.41,927455.41,927451.4,927451.4,927451.4,927451.4,926015.89,926015.89,926015.89,926015.89,926009.73,926009.73,926009.73,926009.73,926005.8,926005.8,926005.8,926005.8,924337.49,924337.49,924337.49,924337.49,924330.27,924330.27,924330.27,924330.27,924325.98,924325.98,924325.98,924325.98,922497.83,922497.83,922497.83,922497.83,922489.12,922489.12,922489.12,922489.12,922485.16,922485.16,922485.16,922485.16,920623.03,920623.03,920623.03,920623.03,920646.15,920646.15,920646.15,920646.15,920640.8,920640.8,920640.8,920640.8,919401.33,919401.33,919401.33,919401.33,919423.64,919423.64,919423.64,919423.64,919417.31,919417.31,919417.31,919417.31,788406.91,603218,826453.64,631513.65,917603.42,917603.42,917603.42,917603.42,917596.94,917596.94,917596.94,917596.94,668281.69999999995,507240.17,740211.72,560152.68999999994,915276.21,915276.21,915276.21,915276.21,915303.47,915303.47,915303.47,915303.47,557896.43000000005,420230.83,659642.68000000005,494244.79,912393.16,912393.16,912393.16,912393.16,912420.58,912420.58,912420.58,912420.58,457018.87,341854.58,584549.75,433565.92,908900.16,908900.16,908900.16,908900.16,908889.69,908889.69,908889.69,908889.69,365468.11,278467.76,514843.26,377915.56,904870.81,904870.81,904870.81,904870.81,904859.26,904859.26,904859.26,904859.26,284846.53999999998,250025.87,450382.58,327110.18,774001.61,588803.49,811372.09,616507.75,900352.1,900352.1,900352.1,900352.1,258963.18,227099.32,391066.83,280520.09000000003,654376.26,493393.76,724838.87,545025.88,895241.86,895241.86,895241.86,895241.86,233288.03,204979.85,336480.04,238510.14,544964.68999999994,407518.21,644342.1,479380.36,889639.25,889639.25,889639.25,889639.25,208438.26,183736.26,286614.71999999997,208081.82,445155.42,330350.52,569291.69999999995,418869.23,882842,882842,882842,882842,184833.68,163660.31,241589.7,187651.33,355102.9,261966.88,500006.98,363724.43,875534.18,875534.18,875534.18,875534.18,163521.95000000001,145335.16,204057.07,167809.33,274589.09000000003,230633.65,436275.24,313707.52000000002,746048.27,560934.03,782050.87,587300.96,145365.20000000001,129600.42,183172.27,150050.76999999999,239496.2,208179.77,378552.55,268754.59000000003,629552.29,468709.6,697286.52,517686.5,128874.89,114694.7,162841.56,132962.06,215212.77,186825.73,325885.93,228607.07,523704.88,386444.76,619055.23,454378.22,113413.91,104656.64,143014.76999999999,117691.16,192210.05,167014.85,278305.89,193217.69,428074.19,313479.63,547132.67000000004,396980.86,112533.01,109805.66,141921.20000000001,117048.76,170510.74,148751.54,235676.32,172624.94,342268.1,249385.35,481178.09,345186.57,112090.97,114957.15,141313.35,116972.84,151707.24,133028.87,198054.76,155536.20000000001,266208.13,207559.09,421308.4,298984.62]
[1476238.25,1476238.25,1476238.25,1476238.25,1476231.73,1476231.73,1476231.73,1476231.73,1476226.89,1476226.89,1476226.89,1476226.89,1474395.42,1474395.42,1474395.42,1474395.42,1474387.39,1474387.39,1474387.39,1474387.39,1474383.02,1474383.02,1474383.02,1474383.02,1472234.1,1472234.1,1472234.1,1472234.1,1472224.98,1472224.98,1472224.98,1472224.98,1472221.79,1472221.79,1472221.79,1472221.79,1469796.62,1469796.62,1469796.62,1469796.62,1469787.54,1469787.54,1469787.54,1469787.54,1469780.67,1469780.67,1469780.67,1469780.67,1274763.33,1034099.18,1335390.19,1082072.02,1466931.98,1466931.98,1466931.98,1466931.98,1466924.96,1466924.96,1466924.96,1466924.96,1093237.73,881430.47,1209104.76,972343.31,1463742.7,1463742.7,1463742.7,1463742.7,1463735.57,1463735.57,1463735.57,1463735.57,924707.12,741271,1090577.6599999999,870294.58,1460151.18,1460151.18,1460151.18,1460151.18,1460143.44,1460143.44,1460143.44,1460143.44,768834.12,659971.99,979633.75,775620.49,1456234.44,1456234.44,1456234.44,1456234.44,1456226.82,1456226.82,1456226.82,1456226.82,660597.56000000006,617300.44999999995,876081.24,688101.2,1452126.09,1452126.09,1452126.09,1452126.09,1452116.16,1452116.16,1452116.16,1452116.16,620012.63,574153.19999999995,780227.25,607976.43999999994,1258743.3500000001,1018128.46,1318859.33,1065667,1448715.25,1448715.25,1448715.25,1448715.25,577017.46,529461.67000000004,690440.64,566954.94999999995,1078559.1599999999,867002.96,1193445.2,957053.76,1444894.38,1444894.38,1444894.38,1444894.38,533650.03,485237.9,607743.4,528087.15,910885.34,727972.49,1075174.7,855421.01,1439749.86,1439749.86,1439749.86,1439749.86,488994.24,440546.81,560817.92000000004,488642.64,755903.35,643764.80000000005,964417.79,761037.64,1433850.51,1433850.51,1433850.51,1433850.51,443533.29,395824.76,522757.31,449162.05,642900.15,600341.87,860911.77,673640.29,1427146.97,1427146.97,1427146.97,1427146.97,399798.11,352968,484117.63,409760.77,600281.52,555240.94999999995,764456.47,593067.91,1232952.6100000001,992480.13,1292898.8899999999,1039660.93,357943.08,312292.19,445479.27,370705.35,556113.76,509395.68,674923.79,545726.16,1053005.18,841694.2,1166866.8500000001,930337.44,320651.96999999997,280224.84000000003,408166.69,337788.2,511661.34,464160.47,592750.06999999995,505575.8,886584.04,703953.87,1048420.1,828396.02,286150.51,250998.21,371608.18,305979.86,466347.25,418914.94,537108.68000000005,465366.25,733571.61,610078.71,937726.09,733937.35,254764.06,224344.25,336140.95,275234.90000000002,420061.88,373422.55,497932.04,424858.68,607377,564504.4,833813.36,646915.83999999997,226556.22,200323.71,301907.7,245982.56,375925.89,330321.89,458957.23,384781.46,563419.98,517971.79,738418.16,567335.88,201085.86,178550.76,268885.39,218148.35,334258.52,289804.25,419920.77,345598.15,518162.64,470928.53,650268.93000000005,506426.37,179335.09,159817.25,238819.62,193527.67,298268.05,258809.65,383660.13,313723.74,474393.22,426336.99,570562.59,466765.98,159633.4,142170.29,210157.96,170310.67,265649.01,230819.39,348879.24,283347.98,430259.20000000001,382267.04,500099.59,427678.2,141241.57999999999,130534.57,182846.09,149845.85999999999,236503.02,205871.74,315614.64,254826.28,386262.36,339214.11,463301.61,389130.36,140400.21,137071.17000000001,181642.72,149208.84,210444.27,183854.33,283933.34000000003,228065.16,345114.54,299129.95,426651.4,351774.1,140074.26999999999,143534.18,180980.63,149211.32999999999,187850.16,165043.44,254603.11,203573.35,307229.45,262298.99,391094.69,316171.61]
[1404362.08,1357540.97,1658712.22,1393387.86,2383789.33,2383789.33,2383789.33,2383789.33,2383780.25,2383780.25,2383780.25,2383780.25,1347169.57,1295292.33,1499962.55,1333841.49,2378808,2378808,2378808,2378808,2378799.4900000002,2378799.4900000002,2378799.4900000002,2378799.4900000002,1285192.56,1229283.83,1354495.19,1277867.8,2078104.97,1772919.14,2176449.17,1855220.94,2373108.13,2373108.13,2373108.13,2373108.13,1219002.3700000001,1160023.3899999999,1302359.33,1219319.07,1796428.11,1526119.16,1985556.67,1683207.27,2366854.0699999998,2366854.0699999998,2366854.0699999998,2366854.0699999998,1149757.82,1088685.2,1247528.3400000001,1158717.1000000001,1532903.52,1393089.62,1805462.55,1521842.36,2359939.7599999998,2359939.7599999998,2359939.7599999998,2359939.7599999998,1077911.53,1015667.26,1190378.6000000001,1096619.8999999999,1380208.51,1333977.1200000001,1635898.18,1370935.71,2352579.52,2352579.52,2352579.52,2352579.52,1003784.49,941380.13,1131269.29,1033707.39,1321889.8500000001,1270658.1200000001,1476428.18,1308642.6499999999,2344794.19,2344794.19,2344794.19,2344794.19,931785.63,869315.71,1071050.3899999999,970025,1259130.57,1203931.67,1327921.94,1251776.24,2044256.79,1739263.43,2143991.41,1822805.96,862226.37,799871.07,1010321.72,906285.64,1192772.8899999999,1134566.9099999999,1275521.78,1192946.42,1763794.56,1493771.19,1955259.84,1652930.75,796280.06,734189.53,950267.51,844069.1,1125434.77,1065169.1100000001,1222365.47,1134059.71,1503243,1359270.63,1779002.64,1495329.43,732186.95,670501.38,889188.59,781984.37,1055415.31,994030.72,1166992.8,1073810.9099999999,1348710.58,1302447.49,1613446.38,1348316.53,671795.76,610680.61,829160.95,721442.12,981974.2,920480.37,1108415.8500000001,1011413.32,1290772.25,1239484.94,1456446.63,1278219.08,613502.51,553116.11,769243.15,661580.35,910498.98,848949.58,1048690.06,948070.92,1228129.58,1172809.43,1308990.0900000001,1221358.8,557185.17000000004,497721.51,709205.96,602749.57999999996,840737.86,779335.41,987566.55,883886.79,1160872.79,1102509.03,1244957.99,1161292.82,502999.85,444625.61,649623.11,545043.5,772884.47999999998,711815.72,925266.25,819582.94,1090897.3999999999,1030380.1,1188642.3600000001,1099134.79,451080.24,394169.32,591102.87,488745.74,707554.5,646895.5,862256.27,755599.93,1017939.42,956279.12,1129681.02,1035538.38,404758.17,354381.63,535299.47,440953.27,645767.25,585781.92000000004,800694.29,693336.07,942145.12,880350.45,1068054.58,969894.29,361863.12,318089.55,482420.43,396115.94,586274.71,527225.1,739142.75,632115.67000000004,868323.4,806486,1005222.46,903212.39,322805.63,284991.39,432644.34,353965.45,528435.71,470416.52,677159.12,571561.56000000006,795480.24,733805.49,939769.04,835371.5,287678.62,255118.62,385959.51,314839.01,473230.68,416575.68,616582.57999999996,512622.26,725399.05,664026.71,874288.74,768231.62,256046.13,228101.2,342252.28,278534.45,421229.39,366084.95,557288.35,455990.36,658408.02,597414.07999999996,809198.61,701668.63,229125.61,204954.89,303417.86,247086.71,376390.42,327535.93,502788.71,409591.12,597339.76,537025.93999999994,747986.3,640028.43999999994,204824.41,183243.22,267266.56,218021.73,335855.18,292799.35999999999,452271.11,366745.11,539322.9,480013.11,687631.43,580467.4,182226.76,169013.37,233533.94,192829.15,299741.32,261935.52,405544.39,327674.65000000002,484458.41,426409.93,629066.69999999995,522914.36,181309.93,177208.24,232065.96,192146.44,267545.90999999997,234792.19,362448.16,292036.25,433266.32,376680.47,572034.98,468089.56,181033.58,185284.32,231283.32,192250.9,239740.86,211692.35,323674.14,260239.32,386321.15,331151.59999999998,517743.72,416659.39]
[1674836.36,1607535.11,1796309.31,1698236.08,2025250.19,1983184.92,2374986.46,2055198.66,3075062.52,3075062.52,3075062.52,3075062.52,1584608.58,1515684.25,1726530.52,1622674.98,1961624.35,1912617.1,2161360.31,1948659.36,3067183.01,3067183.01,3067183.01,3067183.01,1490805.82,1421385.34,1653879.73,1544931.03,1891027.9,1835993.09,1959857.81,1883744.31,3058596.51,3058596.51,3058596.51,3058596.51,1399001.15,1329142.4099999999,1579413.14,1465379.45,1814146.4,1754194.53,1897902.27,1814984.6,2675692.58,2333825.63,2806091.59,2446096.9700000002,1310031.47,1239812.98,1503164.73,1384733.85,1731759.42,1667932.28,1833574.68,1742817.79,2316706.5499999998,2013200.67,2567908.38,2228048.29,1223772.9099999999,1153213.76,1425529,1303581.1100000001,1644920.01,1578392.85,1765986.04,1668384.99,1984492.55,1942546.45,2343558.0099999998,2023710.39,1139927.3899999999,1069191.74,1346875.85,1222648.72,1554381.06,1486267.48,1695613.61,1592200.53,1920403.17,1871400.9,2132413.29,1908247.72,1058768,987936.77,1268146.3700000001,1141959.82,1460999.49,1392413.41,1623042.02,1514623.72,1850061.8,1795006.55,1934037.81,1843687.83,980499.72,909765.8,1189867.9099999999,1062177.98,1370385.16,1301375.83,1549673.34,1436097.51,1774417.15,1714383.57,1860055.93,1776230.93,906076.14,835624.95,1112928.3500000001,984659.15,1284342.49,1214970.1599999999,1476199.38,1358212.6,1694984.07,1631051.2,1798863.82,1707147.87,833518.43,763526.77,1035325.37,907769.26,1200300.03,1130640.71,1400816.33,1279378.1299999999,1611136.29,1544486.24,1734496.08,1636147.62,764916.65,695599.83,959383.5,833068.63,1116735.99,1046989.33,1322208,1198515.3700000001,1520483.3,1452261.35,1663983.96,1559791.91,698471.23,630027.12,884049.14,759601.25,1035097.62,965335.25,1242788.5,1117093.1100000001,1425905.81,1357185.33,1590346.77,1480664.77,634333.85,566994.99,810764.26,689031.69,955465.8,885925.69,1162697.3500000001,1035591.36,1332776.27,1263686.1000000001,1513866.14,1398890.53,572688.76,506641.01,739944.74,621216.06999999995,878077.92,808984.82,1082193.44,954847.26,1242640.51,1173187.02,1435174.88,1315757.6299999999,513703.82,449361.31,672004.54,556286.96,803649.03,735072.16,1001803.09,875314.9,1154571.6499999999,1084874.99,1354496.01,1231980.54,461122.27,404225.88,608558.15,502002.49,733322.59,665573.99,923957.01,798578.76,1068062.8400000001,998283.84,1271734.43,1146806.6499999999,412500.18,363114.08,548523.37,451145.29,665688.9,599083.15,846997.06,723832.1,983905.83,914138.83,1188570.9099999999,1061427.5,368284.1,325690.99,492065.15,403399.33,600015.56999999995,534631.82999999996,771758.26,651583.22,900957.1,831453.68,1103340.29,976010.89,328560.62,291934.78000000003,439172.16,359133.63,537398.31999999995,473630.29,700025.04,582646.61,821198.55,752126.2,1019429.32,892292.74,292838.37,261436.5,389729.34,318113.82,478485.56,416505.98,631391.07999999996,517540.55,745036.42,676491.4,936886.99,810124.82,262504.34000000003,235380.59,345872.92,282660.73,427744.83,372929.68,569564.29,464999.31,675665.66,607975.15,859729.74,734475.34,235198.69,211025.83,305139.51,249981.2,381976.5,333740.28000000003,512374.19,416575.51,609897.37,543468.05000000005,784483.36,662031.65,209904.08,195123.36,267269.46000000002,221751.88,341322.43,299029.18,459617.94,372542.33,547874.47,482950.68,713545.85,593666.17000000004,209061.45,204476.12,265757.63,221163.22,305416.05,268806.32,411412.45,332751.76,490520.21,427316.69,646777.98,530289.96,209134.54,213884.03,265274.7,221661.76,274737.91999999998,243376.93,368449.37,297598.03999999998,438450.15,376831.38,585214.57999999996,472308.36]
[2031114.58,1948680.52,2335775.44,2188145.2400000002,2617494.9700000002,2541095.85,2818559.9,2701418.24,3125557.17,3072216.5,3193184.06,3122380.1,1915894.58,1832698.65,2226660.35,2075670,2488307.34,2410839.91,2721462.89,2597308.2200000002,3031284.41,2970612.44,3121141.14,3039539.41,1803611.3,1719794.52,2116413.6,1962796.55,2362402.13,2283727.0499999998,2621177.64,2490651.9500000002,2928355.15,2861639.92,3043826.07,2951653.82,1693598.52,1609220.24,2005398.3,1849170.97,2238752.63,2159019.73,2518195.88,2381120.94,2816784.45,2745284.89,2960325.03,2858681.23,1586606.17,1501783.58,1893379.18,1735340.81,2117154.87,2036388.99,2411710.77,2268827.7799999998,2697285.93,2622455.5,2870944.76,2760863.68,1482500.86,1397262.5,1780778.45,1621958.33,1998000.59,1916424.37,2302562.2000000002,2155079.38,2571081.63,2494724.66,2776537.75,2658639.35,1380915.52,1295507.02,1667998.23,1509875.78,1881376.16,1799126.53,2191224.5299999998,2040393.51,2440074.31,2362569.1,2677653.6,2552732.34,1282203.46,1196746.49,1558444.62,1400859.02,1767497.41,1684748.95,2078332.34,1925338.38,2311866.46,2233251.56,2575540.19,2443812.86,1186649.74,1101413.3899999999,1452431.21,1295418.6100000001,1656473.59,1573321.21,1965702.95,1810357.19,2186666.2400000002,2107011.16,2470890.73,2332663.73,1095885.3600000001,1011099.02,1351253.7,1195333.67,1551119.58,1467631.76,1854866.86,1697917.62,2066170.56,1985578.58,2365594.91,2221655.6800000002,1007627.84,923502.35,1252223.31,1098412.8799999999,1448483.25,1364750.04,1743604.55,1586147.38,1948988.23,1867661.73,2258692.46,2110525.13,924201.38,841017.49,1157595.8999999999,1005993.56,1346435.2,1262734.71,1629870.91,1473299.8,1831038.69,1749182.13,2145651.39,1994236.79,843503.03,761488.72,1065891.1299999999,916769.75,1246870.6100000001,1163276.6000000001,1519091.26,1363149.03,1715192.55,1632817.13,2030583.76,1876344.9,765731.09,685194.28,976781.95,831190.09,1149857.9099999999,1066676.49,1411041.12,1255848.1000000001,1601196.44,1518540.16,1913724.28,1756903.28,691114.55,612274.92000000004,890814.76,749049.51,1055706.97,973239.2,1305702.3,1152143.92,1490944.28,1408060.32,1795878.11,1637478.6,619883.53,543221.81999999995,808464.45,670607.49,965300.46,883600.19,1203363.03,1052176.73,1383371.82,1300374.68,1677304.23,1518905.23,556436.62,488811.59,731673.22,605026.82999999996,879963.21,799439.9,1106554.8,957532.21,1277833.53,1194924.24,1557757.23,1400168.96,497943.03,439393.21,659222.85,543759.81000000006,798118.78,719185.68,1013074.47,867052.44,1175391.1000000001,1092676.6200000001,1441731.17,1284682.98,445258.13,394900.25,591732.4,486811.34,719472.86,642102.31999999995,922701.17,780494.37,1075585.8899999999,993340.42,1327927.8899999999,1174129.58,398426.77,355174.7,529171.30000000005,434575,645287.68999999994,569902.84,837508.39,698776.25,980730.72,899086.38,1221119.96,1069293.58,356795.85,319690.84999999998,471327.04,386672.58,576222.31000000006,502957.81,756915.75,622347.4,891250.33,810244.34,1119861.82,969530.43,321983.52,289887.83,420633.19,345836.29,517479.15,452632.94,685249.99,561557.36,810797.42,730682.31,1028544.32,880360.43,291112.48,262449.37,374045.45,308641.56,465179.46,407962.6,619802.15,506204.26,735476.98,656714.55000000005,942493.12,797278.68,262605.87,245019.37,330802.46999999997,276677.01,418896.55,368568.48,559526.80000000005,455986.37,664499.06000000006,587272.18999999994,861511.3,718949.45,263016.84999999998,257544.87,330582.42,277432.31,377899.01,334222.75,504189.63,410431.24,598466.56000000006,523155.96,784708.98,645892.77,264440.19,270114.58,331503.21000000002,279393.98,342837.76000000001,305323.23,454654.16,370058.52,538296.03,464726.1,713467.26,578655.57999999996]
[2380864.87,2284387.7799999998,2793107.2,2610433.92,3067235.21,2977809.62,3484441.3,3320239.1,3828492.64,3745120.61,4100113.47,3972951.71,2244967.88,2147648.36,2644160.09,2460989.06,2914554.86,2823936.32,3340672,3171733.42,3657195.66,3572201.11,3975338.04,3838954.18,2111744.5299999998,2013804.25,2497837.5,2314401.83,2764760.57,2672805.42,3193749.82,3020900.21,3488444.74,3402044.27,3845156.03,3699894.85,1981292.22,1882800.78,2355121.6800000002,2170823.6,2617658.38,2524589.65,3045406.31,2868458.04,3322559.93,3234858.64,3709807.87,3556980.65,1854545.19,1755651.86,2215396.83,2030495.43,2473149.96,2378979.16,2894729.17,2714549.22,3159312.99,3070641.79,3569656.99,3410490.39,1731378.41,1632104.6,2078751.96,1893791.62,2331704.2799999998,2236709.33,2742696.75,2560691.36,2999161.5,2910218.53,3425685.58,3260928.31,1611330.71,1511994.05,1945234.71,1761326.28,2193402.6800000002,2097740.2000000002,2589791.2999999998,2407406.62,2843205.24,2753060.78,3278427.84,3109040.34,1494784.75,1395529.05,1815631.14,1632599.94,2058447.09,1962337,2440020.35,2258248.1800000002,2690710.38,2599426.27,3129212.56,2955467.13,1382055.66,1283206.58,1690283.9,1508210.76,1926913.41,1830487.87,2295301.14,2113208.6800000002,2541807.0699999998,2449430.75,2978705.34,2800999.02,1275034.3700000001,1176872.02,1570704.98,1390187.37,1802085.53,1705426.87,2156880.9,1974529.3,2398390.25,2305084.35,2829099.02,2648364.6800000002,1171305.25,1074070.67,1454017.78,1276254.27,1680866.77,1584077.36,2021998.21,1840000.98,2259356.5,2165357.08,2679765.36,2497693.91,1073170.24,977225.8,1342382.33,1167506.92,1560210.9,1463669.99,1887171.11,1706550.98,2119207.39,2024817.13,2524196.15,2341986.96,978470.97,884065.61,1234477.56,1062826.3600000001,1442781.47,1346557.74,1756144.87,1576642.07,1981894.51,1887039,2371366.37,2188852.48,888177.46,795617.62,1130782.55,963455.01,1329712.46,1234099.3999999999,1629941.86,1451542.92,1848518.35,1753494.36,2222894.9700000002,2039571.15,802447.84,711894.12,1031877.11,869000.98,1221275.9099999999,1126562.97,1508475.67,1332096.1499999999,1721257.46,1626082.7,2079244.75,1895448.72,721428.26,633325.09,938122.01,779708.69,1118349.95,1024463.67,1391920.14,1218198.8899999999,1598772.11,1503437.91,1940153.69,1756885,649995.87,572176.39,851649.03,705912.89,1022293.18,929631.33,1283042.81,1111555.52,1480154.07,1384777.67,1804706.5,1622093.69,584920,517358.16,771043.49,637789.91,931306.76,840260.57,1179354.28,1010852.71,1366659.17,1271210.94,1675260.27,1492815.9,526035.25,467836.09,695464.06,574100.72,843222.74,753727.28,1078299.33,913807.13,1255142.82,1160008.6100000001,1547045.12,1369144.74,473454.43,423375.71,624974.66,515358.63,759555.84,672180.26,982313.53,821548.94,1148286.8999999999,1053669.22,1426890.3,1250923.33,426491.77,383442.96,559419.07999999996,461166.85,681139.6,596106.35,890797.92,734626.78,1046707.92,952712,1311947.55,1137485.3899999999,0,0,0,0,0,0,0,0,0,0,0,0,0,0,0,0,0,0,0,0,0,0,0,0,0,0,0,0,0,0,0,0,0,0,0,0,0,0,0,0,0,0,0,0,0,0,0,0,0,0,0,0,0,0,0,0,0,0,0,0]
[2776954.87,2664634.2200000002,3256955.95,3044263.96,3576100.75,3471984.89,4142656.14,3939515.26,4462510.97,4365453.92,5039387.38,4859881.51,2615582.4500000002,2502422.5,3079749.39,2866777.63,3394155.08,3288786.86,3942526.06,3737947,4257696.5199999996,4158867.8,4850082.6900000004,4663810.6500000004,2457492.36,2343782.84,2905799.88,2692798.17,3215739.41,3108947.66,3745372.01,3539590.51,4056007.33,3955687.75,4656690.9800000004,4464110.9400000004,2302742.42,2188570.29,2736111.52,2522475.16,3040462.19,2932576.54,3552583.33,3344645.82,3857660.09,3755983.49,4459290.88,4261986.72,2152429.42,2037995.85,2570023.83,2356063.19,2868307.74,2759328.79,3362571.6,3152754.25,3662367.62,3559753.2,4258234.3899999997,4057679.2,2006481,1891804.78,2407700.6800000002,2194063.9300000002,2699870.87,2590155.9900000002,3176021.13,2965231.83,3470827.39,3368078.53,4054711.98,3851829.79,1864467.32,1749962.32,2249364.02,2037373.31,2535417.7400000002,2425147.63,2993179.31,2782360.11,3284434.84,3180525.81,3849522.43,3645474.69,1726922.38,1612752.08,2095980.75,1885446.32,2375292.37,2264740.23,2814447.2,2605121.5,3102554.16,2997586.67,3648992.69,3443341.78,1595555.6,1482008.85,1949613.86,1740488.87,2221427.8199999998,2110674.06,2644604.1,2435435.98,2927784.39,2821673.2,3456218.6,3248526.38,1472397.59,1359696.53,1811880.31,1604626.9,2077508.5,1966533.88,2484851.5,2275492.4900000002,2762130.01,2655004.75,3273158.25,3063550.75,1354793.87,1243080.8899999999,1679605.28,1475392.98,1940240.72,1829028.22,2332173.13,2123076.37,2604857.2999999998,2496861.12,3099202.3,2888596.06,1244501.76,1134118.8600000001,1554246.44,1353031.56,1804883.78,1693813.97,2181108.3199999998,1973265.49,2448075.11,2339512.17,2924234.91,2713116.75,1139387.29,1030451.85,1434821.66,1236751.6599999999,1675159.86,1564126.38,2036772.36,1829642.24,2297294.6,2187793.38,2755641.29,2543512.14,1038375.59,931327.13,1319020.08,1125499.58,1549110.41,1438512.48,1896410.42,1690034.95,2149246.75,2039309.79,2589971.0099999998,2376341.4500000002,941695.55,836769.38,1207617.76,1018825.64,1427086.65,1317352.0900000001,1759951.9,1555570.56,2006528.51,1896280.79,2427750.46,2213107.2999999998,849626.38,747382.14,1101056.1399999999,917241.81,1310190.47,1201245.18,1627639.25,1426074.76,1867661.1,1757093.47,2268701.67,2054344.26,0,0,0,0,0,0,0,0,0,0,0,0,0,0,0,0,0,0,0,0,0,0,0,0,0,0,0,0,0,0,0,0,0,0,0,0,0,0,0,0,0,0,0,0,0,0,0,0,0,0,0,0,0,0,0,0,0,0,0,0,0,0,0,0,0,0,0,0,0,0,0,0,0,0,0,0,0,0,0,0,0,0,0,0,0,0,0,0,0,0,0,0,0,0,0,0,0,0,0,0,0,0,0,0,0,0,0,0,0,0,0,0,0,0,0,0,0,0,0,0]
[3303247.25,3169991.15,3872774.14,3620412.62,4251444.4000000004,4127914.82,4929845.78,4688082.75,5303178.82,5188058.1100000003,6126807.1500000004,5898791.1200000001,3104327.47,2970406.75,3653651.82,3401630.08,4025739.22,3901039.71,4680228.4800000004,4437337.6900000004,5047749.03,4930789.1399999997,5848876.6600000001,5617817.8399999999,2912432.41,2778125.25,3442032.53,3190394.22,3808182.05,3681993.52,4438601.1500000004,4194700.2300000004,4800767.1100000003,4682261.9400000004,5580464.4900000002,5345864.59,2727652.87,2592922.0499999998,3239095.85,2986996.94,3598277.36,3470965.5,4206745.1399999997,3960482.46,4562744,4442737.4400000004,5321196.71,5083860.66,2551102.7400000002,2416060.5,3043965.4,2791466.66,3396012.72,3267391.12,3982644.67,3734096.68,4333196.3600000003,4212086.41,5070726.38,4831253.07,2382639.59,2247100.14,2856771.32,2604301.2200000002,3202049.86,3072405.61,3767150.4,3517092.28,4113172.12,3991718.67,4829976.38,4588269.4000000004,2221562.4,2085876.49,2677669.6,2426464.44,3016622.32,2885954.18,3560503.89,3309688.83,3904179.46,3781049.55,4599258.0599999996,4355453.76,2065513.63,1929817.01,2504156.27,2253926.9500000002,2836146.96,2704750.59,3358521.81,3109318.12,3700517.36,3575815.5,4374023.16,4127474.68,1914999.66,1779704.6,2336872.5499999998,2087727.8,2660749.86,2528798.44,3165002.73,2915770.27,3502460.08,3376025.31,4154558.53,3904873.72,1772509.35,1637964.96,2177825.4700000002,1930403.32,2494899.9500000002,2362416.81,2981192.2,2731256.49,3312211.39,3184324.03,3943191.75,3690648.77,0,0,0,0,0,0,0,0,0,0,0,0,0,0,0,0,0,0,0,0,0,0,0,0,0,0,0,0,0,0,0,0,0,0,0,0,0,0,0,0,0,0,0,0,0,0,0,0,0,0,0,0,0,0,0,0,0,0,0,0,0,0,0,0,0,0,0,0,0,0,0,0,0,0,0,0,0,0,0,0,0,0,0,0,0,0,0,0,0,0,0,0,0,0,0,0,0,0,0,0,0,0,0,0,0,0,0,0,0,0,0,0,0,0,0,0,0,0,0,0,0,0,0,0,0,0,0,0,0,0,0,0,0,0,0,0,0,0,0,0,0,0,0,0,0,0,0,0,0,0,0,0,0,0,0,0,0,0,0,0,0,0,0,0,0,0,0,0,0,0,0,0,0,0,0,0,0,0,0,0,0,0,0,0,0,0,0,0,0,0,0,0]
[0,0,4739700.38,4431817.72,5201683.9800000004,5050985.22,6040164.6399999997,5743927.3399999999,6484804.5300000003,6344424.4900000002,7546852.5700000003,7265969.9800000004,3814885.71,3650996.51,4487139.18,4178759.5,4942492.6900000004,4789887.6900000004,5753196.5199999996,5454572.9000000004,6193281.3600000003,6050147.9500000002,7229194.8799999999,6943592.96,3590255.03,3425496.9,4240079.25,3931293.95,4689362.07,4534470.3099999996,5471308.7400000002,5170613.95,5907183.4299999997,5761786.1100000003,6917560,6626713.7300000004,0,0,0,0,0,0,0,0,0,0,0,0,0,0,0,0,0,0,0,0,0,0,0,0,0,0,0,0,0,0,0,0,0,0,0,0,0,0,0,0,0,0,0,0,0,0,0,0,0,0,0,0,0,0,0,0,0,0,0,0,0,0,0,0,0,0,0,0,0,0,0,0,0,0,0,0,0,0,0,0,0,0,0,0,0,0,0,0,0,0,0,0,0,0,0,0,0,0,0,0,0,0,0,0,0,0,0,0,0,0,0,0,0,0,0,0,0,0,0,0,0,0,0,0,0,0,0,0,0,0,0,0,0,0,0,0,0,0,0,0,0,0,0,0,0,0,0,0,0,0,0,0,0,0,0,0,0,0,0,0,0,0,0,0,0,0,0,0,0,0,0,0,0,0,0,0,0,0,0,0,0,0,0,0,0,0,0,0,0,0,0,0,0,0,0,0,0,0,0,0,0,0,0,0,0,0,0,0,0,0,0,0,0,0,0,0,0,0,0,0,0,0,0,0,0,0,0,0,0,0,0,0,0,0,0,0,0,0,0,0,0,0,0,0,0,0,0,0,0,0,0,0,0,0,0,0,0,0,0,0,0,0,0,0,0,0,0,0,0,0,0,0,0,0,0,0]
[0,0,0,0,0,0,0,0,0,0,0,0,0,0,0,0,0,0,0,0,0,0,0,0,0,0,0,0,0,0,0,0,0,0,0,0,0,0,0,0,0,0,0,0,0,0,0,0,0,0,0,0,0,0,0,0,0,0,0,0,0,0,0,0,0,0,0,0,0,0,0,0,0,0,0,0,0,0,0,0,0,0,0,0,0,0,0,0,0,0,0,0,0,0,0,0,0,0,0,0,0,0,0,0,0,0,0,0,0,0,0,0,0,0,0,0,0,0,0,0,0,0,0,0,0,0,0,0,0,0,0,0,0,0,0,0,0,0,0,0,0,0,0,0,0,0,0,0,0,0,0,0,0,0,0,0,0,0,0,0,0,0,0,0,0,0,0,0,0,0,0,0,0,0,0,0,0,0,0,0,0,0,0,0,0,0,0,0,0,0,0,0,0,0,0,0,0,0,0,0,0,0,0,0,0,0,0,0,0,0,0,0,0,0,0,0,0,0,0,0,0,0,0,0,0,0,0,0,0,0,0,0,0,0,0,0,0,0,0,0,0,0,0,0,0,0,0,0,0,0,0,0,0,0,0,0,0,0,0,0,0,0,0,0,0,0,0,0,0,0,0,0,0,0,0,0,0,0,0,0,0,0,0,0,0,0,0,0,0,0,0,0,0,0,0,0,0,0,0,0,0,0,0,0,0,0,0,0,0,0,0,0]
[0,0,0,0,0,0,0,0,0,0,0,0,0,0,0,0,0,0,0,0,0,0,0,0,0,0,0,0,0,0,0,0,0,0,0,0,0,0,0,0,0,0,0,0,0,0,0,0,0,0,0,0,0,0,0,0,0,0,0,0,0,0,0,0,0,0,0,0,0,0,0,0,0,0,0,0,0,0,0,0,0,0,0,0,0,0,0,0,0,0,0,0,0,0,0,0,0,0,0,0,0,0,0,0,0,0,0,0,0,0,0,0,0,0,0,0,0,0,0,0,0,0,0,0,0,0,0,0,0,0,0,0,0,0,0,0,0,0,0,0,0,0,0,0,0,0,0,0,0,0,0,0,0,0,0,0,0,0,0,0,0,0,0,0,0,0,0,0,0,0,0,0,0,0,0,0,0,0,0,0,0,0,0,0,0,0,0,0,0,0,0,0,0,0,0,0,0,0,0,0,0,0,0,0,0,0,0,0,0,0,0,0,0,0,0,0,0,0,0,0,0,0,0,0,0,0,0,0,0,0,0,0,0,0,0,0,0,0,0,0,0,0,0,0,0,0,0,0,0,0,0,0,0,0,0,0,0,0,0,0,0,0,0,0,0,0,0,0,0,0,0,0,0,0,0,0,0,0,0,0,0,0,0,0,0,0,0,0,0,0,0,0,0,0,0,0,0,0,0,0,0,0,0,0,0,0,0,0,0,0,0,0]
[0,0,0,0,0,0,0,0,0,0,0,0,0,0,0,0,0,0,0,0,0,0,0,0,0,0,0,0,0,0,0,0,0,0,0,0,0,0,0,0,0,0,0,0,0,0,0,0,0,0,0,0,0,0,0,0,0,0,0,0,0,0,0,0,0,0,0,0,0,0,0,0,0,0,0,0,0,0,0,0,0,0,0,0,0,0,0,0,0,0,0,0,0,0,0,0,0,0,0,0,0,0,0,0,0,0,0,0,0,0,0,0,0,0,0,0,0,0,0,0,0,0,0,0,0,0,0,0,0,0,0,0,0,0,0,0,0,0,0,0,0,0,0,0,0,0,0,0,0,0,0,0,0,0,0,0,0,0,0,0,0,0,0,0,0,0,0,0,0,0,0,0,0,0,0,0,0,0,0,0,0,0,0,0,0,0,0,0,0,0,0,0,0,0,0,0,0,0,0,0,0,0,0,0,0,0,0,0,0,0,0,0,0,0,0,0,0,0,0,0,0,0,0,0,0,0,0,0,0,0,0,0,0,0,0,0,0,0,0,0,0,0,0,0,0,0,0,0,0,0,0,0,0,0,0,0,0,0,0,0,0,0,0,0,0,0,0,0,0,0,0,0,0,0,0,0,0,0,0,0,0,0,0,0,0,0,0,0,0,0,0,0,0,0,0,0,0,0,0,0,0,0,0,0,0,0,0,0,0,0,0,0]
[0,0,0,0,0,0,0,0,0,0,0,0,0,0,0,0,0,0,0,0,0,0,0,0,0,0,0,0,0,0,0,0,0,0,0,0,0,0,0,0,0,0,0,0,0,0,0,0,0,0,0,0,0,0,0,0,0,0,0,0,0,0,0,0,0,0,0,0,0,0,0,0,0,0,0,0,0,0,0,0,0,0,0,0,0,0,0,0,0,0,0,0,0,0,0,0,0,0,0,0,0,0,0,0,0,0,0,0,0,0,0,0,0,0,0,0,0,0,0,0,0,0,0,0,0,0,0,0,0,0,0,0,0,0,0,0,0,0,0,0,0,0,0,0,0,0,0,0,0,0,0,0,0,0,0,0,0,0,0,0,0,0,0,0,0,0,0,0,0,0,0,0,0,0,0,0,0,0,0,0,0,0,0,0,0,0,0,0,0,0,0,0,0,0,0,0,0,0,0,0,0,0,0,0,0,0,0,0,0,0,0,0,0,0,0,0,0,0,0,0,0,0,0,0,0,0,0,0,0,0,0,0,0,0,0,0,0,0,0,0,0,0,0,0,0,0,0,0,0,0,0,0,0,0,0,0,0,0,0,0,0,0,0,0,0,0,0,0,0,0,0,0,0,0,0,0,0,0,0,0,0,0,0,0,0,0,0,0,0,0,0,0,0,0,0,0,0,0,0,0,0,0,0,0,0,0,0,0,0,0,0,0]
[0,0,0,0,0,0,0,0,0,0,0,0,0,0,0,0,0,0,0,0,0,0,0,0,0,0,0,0,0,0,0,0,0,0,0,0,0,0,0,0,0,0,0,0,0,0,0,0,0,0,0,0,0,0,0,0,0,0,0,0,0,0,0,0,0,0,0,0,0,0,0,0,0,0,0,0,0,0,0,0,0,0,0,0,0,0,0,0,0,0,0,0,0,0,0,0,0,0,0,0,0,0,0,0,0,0,0,0,0,0,0,0,0,0,0,0,0,0,0,0,0,0,0,0,0,0,0,0,0,0,0,0,0,0,0,0,0,0,0,0,0,0,0,0,0,0,0,0,0,0,0,0,0,0,0,0,0,0,0,0,0,0,0,0,0,0,0,0,0,0,0,0,0,0,0,0,0,0,0,0,0,0,0,0,0,0,0,0,0,0,0,0,0,0,0,0,0,0,0,0,0,0,0,0,0,0,0,0,0,0,0,0,0,0,0,0,0,0,0,0,0,0,0,0,0,0,0,0,0,0,0,0,0,0,0,0,0,0,0,0,0,0,0,0,0,0,0,0,0,0,0,0,0,0,0,0,0,0,0,0,0,0,0,0,0,0,0,0,0,0,0,0,0,0,0,0,0,0,0,0,0,0,0,0,0,0,0,0,0,0,0,0,0,0,0,0,0,0,0,0,0,0,0,0,0,0,0,0,0,0,0,0]
[0,0,0,0,0,0,0,0,0,0,0,0,0,0,0,0,0,0,0,0,0,0,0,0,0,0,0,0,0,0,0,0,0,0,0,0,0,0,0,0,0,0,0,0,0,0,0,0,0,0,0,0,0,0,0,0,0,0,0,0,0,0,0,0,0,0,0,0,0,0,0,0,0,0,0,0,0,0,0,0,0,0,0,0,0,0,0,0,0,0,0,0,0,0,0,0,0,0,0,0,0,0,0,0,0,0,0,0,0,0,0,0,0,0,0,0,0,0,0,0,0,0,0,0,0,0,0,0,0,0,0,0,0,0,0,0,0,0,0,0,0,0,0,0,0,0,0,0,0,0,0,0,0,0,0,0,0,0,0,0,0,0,0,0,0,0,0,0,0,0,0,0,0,0,0,0,0,0,0,0,0,0,0,0,0,0,0,0,0,0,0,0,0,0,0,0,0,0,0,0,0,0,0,0,0,0,0,0,0,0,0,0,0,0,0,0,0,0,0,0,0,0,0,0,0,0,0,0,0,0,0,0,0,0,0,0,0,0,0,0,0,0,0,0,0,0,0,0,0,0,0,0,0,0,0,0,0,0,0,0,0,0,0,0,0,0,0,0,0,0,0,0,0,0,0,0,0,0,0,0,0,0,0,0,0,0,0,0,0,0,0,0,0,0,0,0,0,0,0,0,0,0,0,0,0,0,0,0,0,0,0,0]
[0,0,0,0,0,0,0,0,0,0,0,0,0,0,0,0,0,0,0,0,0,0,0,0,0,0,0,0,0,0,0,0,0,0,0,0,0,0,0,0,0,0,0,0,0,0,0,0,0,0,0,0,0,0,0,0,0,0,0,0,0,0,0,0,0,0,0,0,0,0,0,0,0,0,0,0,0,0,0,0,0,0,0,0,0,0,0,0,0,0,0,0,0,0,0,0,0,0,0,0,0,0,0,0,0,0,0,0,0,0,0,0,0,0,0,0,0,0,0,0,0,0,0,0,0,0,0,0,0,0,0,0,0,0,0,0,0,0,0,0,0,0,0,0,0,0,0,0,0,0,0,0,0,0,0,0,0,0,0,0,0,0,0,0,0,0,0,0,0,0,0,0,0,0,0,0,0,0,0,0,0,0,0,0,0,0,0,0,0,0,0,0,0,0,0,0,0,0,0,0,0,0,0,0,0,0,0,0,0,0,0,0,0,0,0,0,0,0,0,0,0,0,0,0,0,0,0,0,0,0,0,0,0,0,0,0,0,0,0,0,0,0,0,0,0,0,0,0,0,0,0,0,0,0,0,0,0,0,0,0,0,0,0,0,0,0,0,0,0,0,0,0,0,0,0,0,0,0,0,0,0,0,0,0,0,0,0,0,0,0,0,0,0,0,0,0,0,0,0,0,0,0,0,0,0,0,0,0,0,0,0,0]
[0,0,0,0,0,0,0,0,0,0,0,0,0,0,0,0,0,0,0,0,0,0,0,0,0,0,0,0,0,0,0,0,0,0,0,0,0,0,0,0,0,0,0,0,0,0,0,0,0,0,0,0,0,0,0,0,0,0,0,0,0,0,0,0,0,0,0,0,0,0,0,0,0,0,0,0,0,0,0,0,0,0,0,0,0,0,0,0,0,0,0,0,0,0,0,0,0,0,0,0,0,0,0,0,0,0,0,0,0,0,0,0,0,0,0,0,0,0,0,0,0,0,0,0,0,0,0,0,0,0,0,0,0,0,0,0,0,0,0,0,0,0,0,0,0,0,0,0,0,0,0,0,0,0,0,0,0,0,0,0,0,0,0,0,0,0,0,0,0,0,0,0,0,0,0,0,0,0,0,0,0,0,0,0,0,0,0,0,0,0,0,0,0,0,0,0,0,0,0,0,0,0,0,0,0,0,0,0,0,0,0,0,0,0,0,0,0,0,0,0,0,0,0,0,0,0,0,0,0,0,0,0,0,0,0,0,0,0,0,0,0,0,0,0,0,0,0,0,0,0,0,0,0,0,0,0,0,0,0,0,0,0,0,0,0,0,0,0,0,0,0,0,0,0,0,0,0,0,0,0,0,0,0,0,0,0,0,0,0,0,0,0,0,0,0,0,0,0,0,0,0,0,0,0,0,0,0,0,0,0,0,0]
[]
[]
[]
[]
[]
[]
[]
[]
[]
[]
[]
[]
[]
[]
[]
[]
[]
[]
[]
[]
[]
[]
[]
[]
[]
[]
[]
[]
[]
[]
[]
[]
[]
[]
[]
[]
[8,8,8,8,8,8,8,8,8,8,8,8,8,8,8,8,8,8,8,8,8,8,8,8,8,8,8,8,8,8,8,8,8,8,8,8,8,8,8,8,8,8,8,8,8,8,8,8,8,8,8,8,8,8,8,8,8,8,8,8,8,8,8,8,8,8,8,8,8,8,8,8,8,8,8,8,8,8,8,8,8,8,8,8,8,8,8,8,8,8,8,8,8,8,8,8,8,8,8,8,8,8,8,8,8,8,8,8,8,8,8,8,8,8,8,8,8,8,8,8,8,8,8,8,8,8,8,8,8,8,8,8,8,8,8,8,8,8,8,8,8,8,8,8,8,8,8,8,8,8,8,8,8,8,8,8,8,8,8,8,8,8,8,8,8,8,8,8,8,8,8,8,8,8,8,8,8,8,8,8,8,8,8,8,8,8,8,8,8,8,8,8,8,8,8,8,8,8,8,8,8,8,8,8,8,8,8,8,8,8,8,8,8,8,8,8,8,8,8,8,8,8,8,8,8,8,8,8,8,8,8,8,8,8,8,8,8,8,8,8,8,8,8,8,8,8,8,8,8,8,8,8,8,8,8,8,8,8,8,8,8,8,8,8,8,8,8,8,8,8,8,8,8,8,8,8,8,8,8,8,8,8,8,8,8,8,8,8,8,8,8,8,8,8,8,8,8,8,8,8,8,8,8,8,8,8,8,8,8,8,8,8]
[55372.5,55372.5,55372.5,55372.5,55372.5,55372.5,55372.5,55372.5,55372.5,55372.5,55372.5,55372.5,55372.5,55372.5,55372.5,55372.5,55372.5,55372.5,55372.5,55372.5,55372.5,55372.5,55372.5,55372.5,55372.5,55372.5,55372.5,55372.5,55372.5,55372.5,55372.5,55372.5,55372.5,55372.5,55372.5,55372.5,55372.5,55372.5,55372.5,55372.5,55372.5,55372.5,55372.5,55372.5,55372.5,55372.5,55372.5,55372.5,55372.5,55372.5,55372.5,55372.5,55372.5,55372.5,55372.5,55372.5,55372.5,55372.5,55372.5,55372.5,55372.5,55372.5,55372.5,55372.5,55372.5,55372.5,55372.5,55372.5,55372.5,55372.5,55372.5,55372.5,55372.5,55372.5,55372.5,55372.5,55372.5,55372.5,55372.5,55372.5,55372.5,55372.5,55372.5,55372.5,55372.5,55372.5,55372.5,55372.5,55372.5,55372.5,55372.5,55372.5,55372.5,55372.5,55372.5,55372.5,55372.5,55372.5,55372.5,55372.5,55372.5,55372.5,55372.5,55372.5,55372.5,55372.5,55372.5,55372.5,55372.5,55372.5,55372.5,55372.5,55372.5,55372.5,55372.5,55372.5,55372.5,55372.5,55372.5,55372.5,55372.5,55372.5,55372.5,55372.5,55372.5,55372.5,55372.5,55372.5,55372.5,55372.5,55372.5,55372.5,55372.5,55372.5,55372.5,55372.5,55372.5,55372.5,55372.5,55372.5,55372.5,55372.5,55372.5,55372.5,55372.5,55372.5,55372.5,55372.5,55372.5,55372.5,55372.5,55372.5,55372.5,55372.5,55372.5,55372.5,55372.5,55372.5,55372.5,55372.5,55372.5,55372.5,55372.5,55372.5,55372.5,55372.5,55372.5,55372.5,55372.5,55372.5,55372.5,55372.5,55372.5,55372.5,55372.5,55372.5,55372.5,55372.5,55372.5,55372.5,55372.5,55372.5,55372.5,55372.5,55372.5,55372.5,55372.5,55372.5,55372.5,55372.5,55372.5,55372.5,55372.5,55372.5,55372.5,55372.5,55372.5,55372.5,55372.5,55372.5,55372.5,55372.5,55372.5,55372.5,55372.5,55372.5,55372.5,55372.5,55372.5,55372.5,55372.5,55372.5,55372.5,55372.5,55372.5,55372.5,55372.5,55372.5,55372.5,55372.5,55372.5,55372.5,55372.5,55372.5,55372.5,55372.5,55372.5,55372.5,55372.5,55372.5,55372.5,55372.5,55372.5,55372.5,55372.5,55372.5,55372.5,55372.5,55372.5,55372.5,55372.5,55372.5,55372.5,55372.5,55372.5,55372.5,55372.5,55372.5,55372.5,55372.5,55372.5,55372.5,55372.5,55372.5,55372.5,55372.5,55372.5,55372.5,55372.5,55372.5,55372.5,55372.5,55372.5,55372.5,55372.5,55372.5,55372.5,55372.5,55372.5,55372.5,55372.5,55372.5,55372.5,55372.5,55372.5,55372.5,55372.5,55372.5,55372.5,55372.5,55372.5,55372.5,55372.5,55372.5,55372.5,55372.5,55372.5,55372.5,55372.47,55372.47,55372.47,55372.47,55372.47,55372.47,55372.47,55372.47,55372.47,55372.47,55372.47,55372.47,55228.92,55228.92,55228.92,55228.92,55228.92,55228.92,55228.92,55228.92,55228.92,55228.92,55228.92,55228.92]
[206873.21,206873.21,206873.21,206873.21,206872.75,206872.75,206872.75,206872.75,206872.17,206872.17,206872.17,206872.17,206956.29,206956.29,206956.29,206956.29,206955.41,206955.41,206955.41,206955.41,206955.15,206955.15,206955.15,206955.15,206971.86,206971.86,206971.86,206971.86,206970.84,206970.84,206970.84,206970.84,206970.69,206970.69,206970.69,206970.69,206935.48,206935.48,206935.48,206935.48,206934.62,206934.62,206934.62,206934.62,206933.91,206933.91,206933.91,206933.91,206831.24,206831.24,206831.24,206831.24,206830.4,206830.4,206830.4,206830.4,206829.53,206829.53,206829.53,206829.53,206646.36,206646.36,206646.36,206646.36,206645.34,206645.34,206645.34,206645.34,206644.78,206644.78,206644.78,206644.78,206365.18,206365.18,206365.18,206365.18,206364,206364,206364,206364,206363.29,206363.29,206363.29,206363.29,206160.91,206160.91,206160.91,206160.91,206159.3,206159.3,206159.3,206159.3,206158.87,206158.87,206158.87,206158.87,206037.96,206037.96,206037.96,206037.96,206041.77,206041.77,206041.77,206041.77,206040.91,206040.91,206040.91,206040.91,206270.73,206270.73,206270.73,206270.73,206274.21,206274.21,206274.21,206274.21,206273.32,206273.32,206273.32,206273.32,205976.34,205976.34,205976.34,205976.34,205979.83,205979.83,205979.83,205979.83,205978.8,205978.8,205978.8,205978.8,206036.96,206036.96,206036.96,206036.96,206034.95,206034.95,206034.95,206034.95,206038.96,206038.96,206038.96,206038.96,206001.29,206001.29,206001.29,206001.29,205999.25,205999.25,205999.25,205999.25,206003.01,206003.01,206003.01,206003.01,205865.51,205865.51,205865.51,205865.51,205863.53,205863.53,205863.53,205863.53,205861.82,205861.82,205861.82,205861.82,205628.25,205628.25,205628.25,205628.25,205625.69,205625.69,205625.69,205625.69,205624.14,205624.14,205624.14,205624.14,205283.42,205283.42,205283.42,205283.42,205285.73,205285.73,205285.73,205285.73,205284.29,205284.29,205284.29,205284.29,204930.02,204930.02,204930.02,204930.02,204926.38,204926.38,204926.38,204926.38,204924.39,204924.39,204924.39,204924.39,204438.82,204438.82,204438.82,204438.82,204438.82,204438.82,204438.82,204438.82,204438.82,204438.82,204438.82,204438.82,203717.06,203717.06,203717.06,203717.06,203717.06,203717.06,203717.06,203717.06,203717.06,203717.06,203717.06,203717.06,202815.24,202815.24,202815.24,202815.24,202815.24,202815.24,202815.24,202815.24,202815.24,202815.24,202815.24,202815.24,201750.05,201750.05,201750.05,201750.05,201750.05,201750.05,201750.05,201750.05,201750.05,201750.05,201750.05,201750.05,200949.49,200949.49,200949.49,200949.49,200949.49,200949.49,200949.49,200949.49,200949.49,200949.49,200949.49,200949.49,200190,200190,200190,200190,200190,200190,200190,200190,200190,200190,200190,200190,199488.97,199488.97,199488.97,199488.97,199489.13,199489.13,199489.13,199489.13,199489.13,199489.13,199489.13,199489.13,198826.96,198826.96,198826.96,198826.96,198826.96,198826.96,198826.96,198826.96,198826.96,198826.96,198826.96,198826.96,198400.23,198400.23,198400.23,198400.23,198400.23,198400.23,198400.23,198400.23,198400.23,198400.23,198400.23,198400.23]
[492440.27,492440.27,492440.27,492440.27,492438.57,492438.57,492438.57,492438.57,492437.09,492437.09,492437.09,492437.09,492337.14,492337.14,492337.14,492337.14,492334.84,492334.84,492334.84,492334.84,492333.8,492333.8,492333.8,492333.8,492152.77,492152.77,492152.77,492152.77,492150.23,492150.23,492150.23,492150.23,492149.58,492149.58,492149.58,492149.58,491899.56,491899.56,491899.56,491899.56,491897.11,491897.11,491897.11,491897.11,491895.31,491895.31,491895.31,491895.31,491543.32,491543.32,491543.32,491543.32,491540.62,491540.62,491540.62,491540.62,491538.59,491538.59,491538.59,491538.59,491174.73,491174.73,491174.73,491174.73,491171.92,491171.92,491171.92,491171.92,491170.04,491170.04,491170.04,491170.04,490782.81,490782.81,490782.81,490782.81,490779.42,490779.42,490779.42,490779.42,490777.5,490777.5,490777.5,490777.5,490376.55,490376.55,490376.55,490376.55,490372.44,490372.44,490372.44,490372.44,490370.76,490370.76,490370.76,490370.76,489965.28,489965.28,489965.28,489965.28,489975.73,489975.73,489975.73,489975.73,489973.42,489973.42,489973.42,489973.42,489979.96,489979.96,489979.96,489979.96,489989.93,489989.93,489989.93,489989.93,489987.11,489987.11,489987.11,489987.11,489336.74,489336.74,489336.74,489336.74,489346.58,489346.58,489346.58,489346.58,489343.88,489343.88,489343.88,489343.88,488742.06,488742.06,488742.06,488742.06,488736.62,488736.62,488736.62,488736.62,488748.36,488748.36,488748.36,488748.36,487797.08,487797.08,487797.08,487797.08,487790.89,487790.89,487790.89,487790.89,487802.64,487802.64,487802.64,487802.64,486508.84,486508.84,486508.84,486508.84,486502.27,486502.27,486502.27,486502.27,486497.73,486497.73,486497.73,486497.73,484926.45,484926.45,484926.45,484926.45,484918.14,484918.14,484918.14,484918.14,484913.21,484913.21,484913.21,484913.21,483138.4,483138.4,483138.4,483138.4,483145.93,483145.93,483145.93,483145.93,483140.73,483140.73,483140.73,483140.73,481215.74,481215.74,481215.74,481215.74,481203.81,481203.81,481203.81,481203.81,481197.38,481197.38,481197.38,481197.38,402223.63,281563.34999999998,421772.63,294592.21999999997,479014.39,479014.39,479014.39,479014.39,479014.39,479014.39,479014.39,479014.39,330856.39,228829.56,366549.43,252059.33,476243.46,476243.46,476243.46,476243.46,476243.46,476243.46,476243.46,476243.46,267253.82,182928.11,315712.76,213689.47,473106.52,473106.52,473106.52,473106.52,473106.52,473106.52,473106.52,473106.52,211284.89,143539.41,269180.68,179346.44,469589.92,469589.92,469589.92,469589.92,469589.92,469589.92,469589.92,469589.92,163423.74,111043.35,227588.21,149721.79,466466.63,466466.63,466466.63,466466.63,466466.63,466466.63,466466.63,466466.63,122727.46,84202.19,190068.69,123717.05,389639.9,268951.58,408523.54,281344.08,463164.82,463164.82,463164.82,463164.82,88882.76,62826.98,156490.85,101184.33,320751.84999999998,218719.74,355214.51,240730.57,459750.01,459750.01,459750.01,459750.01,89037.71,63344.24,156148.60999999999,100912.33,259709.58,175404.93,306425.73,204438.59,456262.17,456262.17,456262.17,456262.17,89338.67,63986.91,156048.98000000001,100870.66,206537.25,138808.15,262281.78000000003,172549.51,453063.16,453063.16,453063.16,453063.16]
[786548.53,786548.53,786548.53,786548.53,786545.55,786545.55,786545.55,786545.55,786543.35,786543.35,786543.35,786543.35,786316.68,786316.68,786316.68,786316.68,786312.91,786312.91,786312.91,786312.91,786311,786311,786311,786311,785928.65,785928.65,785928.65,785928.65,785924.26,785924.26,785924.26,785924.26,785923,785923,785923,785923,785389.64,785389.64,785389.64,785389.64,785385.45,785385.45,785385.45,785385.45,785382.35,785382.35,785382.35,785382.35,784610.59,784610.59,784610.59,784610.59,784605.74,784605.74,784605.74,784605.74,784602.39,784602.39,784602.39,784602.39,783657.9,783657.9,783657.9,783657.9,783652.88,783652.88,783652.88,783652.88,783649.7,783649.7,783649.7,783649.7,782503.92,782503.92,782503.92,782503.92,782498.07,782498.07,782498.07,782498.07,782494.69,782494.69,782494.69,782494.69,781189.75,781189.75,781189.75,781189.75,781182.62,781182.62,781182.62,781182.62,781179.56,781179.56,781179.56,781179.56,779770.6,779770.6,779770.6,779770.6,779789.27,779789.27,779789.27,779789.27,779784.98,779784.98,779784.98,779784.98,778871.39,778871.39,778871.39,778871.39,778889.3,778889.3,778889.3,778889.3,778884.31,778884.31,778884.31,778884.31,777387.71,777387.71,777387.71,777387.71,777405.43,777405.43,777405.43,777405.43,777400.31999999995,777400.31999999995,777400.31999999995,777400.31999999995,775700.28,775700.28,775700.28,775700.28,775690.15,775690.15,775690.15,775690.15,775711.95,775711.95,775711.95,775711.95,662036.79,495420.33,694078.2,518676.13,773576.52,773576.52,773576.52,773576.52,773598.35,773598.35,773598.35,773598.35,557636.32999999996,413589.78,617851.74,456776.59,770984.44,770984.44,770984.44,770984.44,770976.01,770976.01,770976.01,770976.01,462294.91,339945.26,546889.43999999994,399853.42,767918.53,767918.53,767918.53,767918.53,767909.33,767909.33,767909.33,767909.33,375810.33,274178.84999999998,481046.57,347722.71,764408.26,764408.26,764408.26,764408.26,764398.6,764398.6,764398.6,764398.6,298090.27,216101.05,420229.53,299679.78999999998,760372.79,760372.79,760372.79,760372.79,760360.61,760360.61,760360.61,760360.61,228734.33,165537.60999999999,364007.63,256130.08,647359.12,480717.2,678666.31,503322.05,755836.43,755836.43,755836.43,755836.43,167806.28,122354.32,312346.78000000003,216909.71,543662.65,399612.08,602293.14,441425.62,750304.68,750304.68,750304.68,750304.68,115353.38,86260.479999999996,265386.69,182058.1,449481.83,327215.25,531567.84,384921.23,744312.4,744312.4,744312.4,744312.4,71257.399999999994,56884.79,223071.32,151399.26999999999,364577.89,263148.43,466298.61,333491.57,737868.78,737868.78,737868.78,737868.78,35590.17,34235.57,185855.02,125353.2,289155.96999999997,207146.82,406917.66,286914.45,732161.36,732161.36,732161.36,732161.36,34422.239999999998,33181.99,152968.28,102983.73,222234.23,158905.41,352399.48,245052.12,622330.05000000005,455762.04,652364.06999999995,477135.16,33432.720000000001,32611.45,124308.71,84122.68,163883.57999999999,118279.58,302855.74,207898.76,522573.56,378660.56,578780.63,418102.67,34184.99,33936.86,124407.56,84286.94,113886.74,84757.28,258154.3,175204.43,432477.57,310421.14,511104.46,364717.32,35054.879999999997,35350.11,124777.38,84681.21,72308.259999999995,57908.87,218370.98,146989.29999999999,351992.18,250782.1,449446.8,316921.44]
[1181199.51,1181199.51,1181199.51,1181199.51,1181194.7,1181194.7,1181194.7,1181194.7,1181191.05,1181191.05,1181191.05,1181191.05,1180196.94,1180196.94,1180196.94,1180196.94,1180190.8600000001,1180190.8600000001,1180190.8600000001,1180190.8600000001,1180187.6200000001,1180187.6200000001,1180187.6200000001,1180187.6200000001,1178833.7,1178833.7,1178833.7,1178833.7,1178826.8799999999,1178826.8799999999,1178826.8799999999,1178826.8799999999,1178824.52,1178824.52,1178824.52,1178824.52,1177169.08,1177169.08,1177169.08,1177169.08,1177162.28,1177162.28,1177162.28,1177162.28,1177157.04,1177157.04,1177157.04,1177157.04,1175126.6000000001,1175126.6000000001,1175126.6000000001,1175126.6000000001,1175118.6200000001,1175118.6200000001,1175118.6200000001,1175118.6200000001,1175113.3500000001,1175113.3500000001,1175113.3500000001,1175113.3500000001,1172905.52,1172905.52,1172905.52,1172905.52,1172897.1499999999,1172897.1499999999,1172897.1499999999,1172897.1499999999,1172891.8400000001,1172891.8400000001,1172891.8400000001,1172891.8400000001,1170485.6200000001,1170485.6200000001,1170485.6200000001,1170485.6200000001,1170475.8500000001,1170475.8500000001,1170475.8500000001,1170475.8500000001,1170470.0900000001,1170470.0900000001,1170470.0900000001,1170470.0900000001,1009849.59,796876.89,1058226.42,834053.92,1167897.8400000001,1167897.8400000001,1167897.8400000001,1167897.8400000001,1167892.21,1167892.21,1167892.21,1167892.21,861158,674659.7,953185.5,744698.17,1165205.3600000001,1165205.3600000001,1165205.3600000001,1165205.3600000001,1165197.98,1165197.98,1165197.98,1165197.98,724522.16,563871.56000000006,855703.44,662732.36,1163096.22,1163096.22,1163096.22,1163096.22,1163087.8,1163087.8,1163087.8,1163087.8,598345.32999999996,462830.63,764171.41,586553.93000000005,1160346.42,1160346.42,1160346.42,1160346.42,1160337.56,1160337.56,1160337.56,1160337.56,483431.07,371989.95,679530.52,516991.04,1156655.6200000001,1156655.6200000001,1156655.6200000001,1156655.6200000001,1156693.07,1156693.07,1156693.07,1156693.07,378376.06,290209.77,600770.55000000005,452971.76,996420.72,783474.55,1044288.97,820220.62,1152350.33,1152350.33,1152350.33,1152350.33,282970.18,217266.08,527633.25,394249.23,848087.66,661750.77,938981.58,730797.09,1147295.3600000001,1147295.3600000001,1147295.3600000001,1147295.3600000001,197105.91,152853.54999999999,460050.9,340524.42,711364.01,551094.56000000006,840555.31,648084.5,1141733.29,1141733.29,1141733.29,1141733.29,120690.2,96721.82,397879.38,291713.09000000003,585999.38,451045.17,748807.83,571788.17000000004,1135677.2,1135677.2,1135677.2,1135677.2,53904.84,49416.01,341033.96,247396.96,472153.83,361451.3,664181.91,502312.36,1128846.6599999999,1128846.6599999999,1128846.6599999999,1128846.6599999999,50422.29,46632.42,289108.12,207764.28,368651.96,281368.15999999997,585747.66,438717.05,969419.68,756578.49,1016268.61,792164.9,47501.73,44459.63,242093,172707.59,275029.34999999998,210154.49,513016.23,380450.91,821990.95,635841.01,910275.83,702341.77,45133.05,42640.9,200158.63,142237.01,191420.44,147947.57999999999,446295.39,327676.68,687020.97,526968.03,812018.25,619857.1,43272.38,41118.33,163273.22,116151.91,117656.16,94414.91,385353.2,280096.02,564162.19999999995,429442.4,721071.14,544348.57999999996,41986.77,40139.58,131665.59,94694.75,53776.43,49875.99,330533.95,237815.23,454086.23,343672.55,638831.64,477275.1,41109.67,39458.019999999997,104745.16,77083.820000000007,51381.72,47982.39,280891.46999999997,200409.28,354772.45,267806.88,563249.46,416508.66,40521.96,39489.599999999999,82423.08,63142.400000000001,49562.11,46595.54,236381.75,167735.04000000001,265578.23,201035.53,493943.2,361578.67,41675.15,41354.94,83214.11,64044.5,48205.32,45673.07,196892.12,139555.28,186150.72,143130.06,430510.14,312185.81,42966.15,43283,84236.53,65121.21,47376.6,45198.1,162429.21,115821.83,116507.26,93739.29,373091.55,268253.36]
[1823846.18,1823846.18,1823846.18,1823846.18,1823837.37,1823837.37,1823837.37,1823837.37,1823830.98,1823830.98,1823830.98,1823830.98,1588894.96,1320512.52,1663880.24,1381402.82,1821155.14,1821155.14,1821155.14,1821155.14,1821149.41,1821149.41,1821149.41,1821149.41,1369258.46,1132164.51,1513167.45,1248171.8,1817957.33,1817957.33,1817957.33,1817957.33,1817952.75,1817952.75,1817952.75,1817952.75,1164365.29,958147.42,1371329.72,1123726.04,1814246.44,1814246.44,1814246.44,1814246.44,1814237.37,1814237.37,1814237.37,1814237.37,973801.86,797539.39,1238032.31,1007692.94,1809881.71,1809881.71,1809881.71,1809881.71,1809872.33,1809872.33,1809872.33,1809872.33,796503.59,649855.34,1113018.76,899731.69,1805056.47,1805056.47,1805056.47,1805056.47,1805046.98,1805046.98,1805046.98,1805046.98,632063.52,514646.41,995977.67,799250.92,1569701.2,1301397.8500000001,1644318.92,1361902.78,1799761.09,1799761.09,1799761.09,1799761.09,480184.26,391465.49,886668.98,705993.8,1350243.43,1113474.01,1493110.04,1228457.07,1794183.49,1794183.49,1794183.49,1794183.49,340627.99,280015.99,784618.09,619873.34,1146057.73,940480.65,1351247.71,1104205.24,1788484.96,1788484.96,1788484.96,1788484.96,213267.35,180046.84,690158.72,541086.18000000005,957370.26,781868.66,1219285.92,989625.57,1783725.97,1783725.97,1783725.97,1783725.97,97100.51,90457.2,601796.47,468197.49,781550.64,635742.65,1095328.8600000001,882852.67,1778860.05,1778860.05,1778860.05,1778860.05,89980.63,83575.17,520606.93,402154.78,618417.85,501909.55,978812.46,782997.55,1544215.3,1276079.1200000001,1619518.54,1337151.73,83380.05,77180.44,445712.21,342070.02,468089.25,380294.5,870124.37,690469.67,1325610.6299999999,1089081.1599999999,1469432.49,1204691.74,77395.08,71470.03,376917.24,287691.64,330320.5,270644.14,768715.14,605031.55000000005,1122322.3500000001,917057.44,1328109.96,1080752.47,72011.600000000006,66337.649999999994,314235.40000000002,238786.69,204913.69,172670.51,674487.78,526598.25,934330.06,759272.25,1195628.46,965451.6,67266.16,61810.41,257487.21,195365.53,91733.98,85937.59,587281.63,454837.88,760384.64,615091.52,1071517.32,858310.18,63420.59,58707.61,206871.88,157447.6,85964.06,80353.179999999993,507475.36,390177.11,600033.85,484037.36,955192.92,758470.82,60146.79,56148,161921.62,124651.34,80667.259999999995,75362.289999999994,434095.79,331605.53000000003,452853.43,365569.43,846504.42,665880.74,57445.68,54196.24,122566.73,96829.02,75787.399999999994,70612.399999999994,366738.28,278626.82,318338.84000000003,259214.47,744345.05,581252.22,55313.64,52600.27,88943.88,73909.119999999995,71453.48,66506.600000000006,305635.94,231424.45,196666.23,164969.15,651194.05000000005,503882.6,53709.62,51372.11,61041.84,55621.15,67702.19,63009.75,250657.49,189687.74,87728.6,82592.75,565313.93999999994,433551.17,52709.54,50723.69,58811.72,54190.31,64712.95,60746.58,201983.33,153813.59,82732.490000000005,77730.22,487764.88,371335.34,52144.99,50465.59,57004.77,53173.7,62409.48,59001.58,159109.79,123102.15,78352.740000000005,73755.520000000004,416940.06,315450.5,51965.68,50946.44,55761.37,52711.95,60824.47,57889.279999999999,122049.08,97498.43,74632.78,70213.2,352764.47,265762.69,53538.02,53225.52,57140.08,54289.26,59812.85,57353.47,90692.35,76746.820000000007,71508.960000000006,67520.5,294793.14,221882.68,55277.43,55575.33,58771.16,56027.46,59443.06,57348.39,64921.57,60625.19,69337.240000000005,65606.34,243204.82,183685.81]
[1158242.26,982332.64,1611061.9,1355178.2,2543094.0499999998,2543094.0499999998,2543094.0499999998,2543094.0499999998,2543084.0499999998,2543084.0499999998,2543084.0499999998,2543084.0499999998,928015.45,786255.46,1452556.18,1214535.72,2223832.65,1909444.77,2328972.33,1998037.09,2537391.52,2537391.52,2537391.52,2537391.52,713055.12,605280.39,1303110.6000000001,1082879.51,1924480.63,1645789.38,2126783.77,1815073.79,2531019.4500000002,2531019.4500000002,2531019.4500000002,2531019.4500000002,513011.05,438906.95,1162380.5900000001,959955.43,1644265.87,1400413.73,1936134.45,1643531.29,2524097.31,2524097.31,2524097.31,2524097.31,327608.46999999997,286830.99,1030207.29,845490.98,1381575.72,1172119.8899999999,1756340.1,1482597.07,2516477.33,2516477.33,2516477.33,2516477.33,156581.07999999999,148583.41,906400.74,739231.41,1135680.6000000001,960604.25,1587142.47,1331650.5900000001,2508423.56,2508423.56,2508423.56,2508423.56,144951.04000000001,137159.65,790727.45,640960.56000000006,906044.48,765198.5,1427893.25,1190252.69,2188788.54,1874581.4,2295574.96,1964694.38,134122.39000000001,126519.45,683110.93,550508.32999999996,692400.71,585586.79,1278149.8700000001,1058781.78,1890126.92,1611766.07,2095300.7,1783604.91,124172.98,116776.69,583479.29,467826.07,494284.41,421211.96,1138114.8700000001,936911.96,1611614.79,1368143.61,1907136.87,1614471.19,115208.18,108030.45,492028.95,392916.45,311626.87,271873.53999999998,1008243.78,824824.42,1352264.35,1143277.7,1731477.92,1457605.35,106673.5,99750.17,407360.52,324530.24,142981.87,136064.07999999999,886602.18,720815.95,1109812.05,935273.21,1566560.18,1310836.1399999999,99657.79,92984.36,330701.13,263572.19,133647.06,126930.3,773142.51,624728.71,883306.93,743137.34,1410225.72,1172259.47,93068.1,86607.1,260806.18,208911.7,124844.31,118258.83,667464.75,536263.18000000005,672663.66,566418.57999999996,1262578.49,1042340.92,87038.58,80892.61,197432.43,160285.65,116557.97,110165.71,569392.04,455104.32,477266.78,404855.1,1123202.6299999999,920630.62,81557.89,75707.679999999993,140673.88,117382.25,108823.35,102730.4,478835.88,381283.31,297187.03999999998,258351.67,992272.22,807281.07,76689.7,71099.38,90334.61,80342.38,101720.3,95787.35,395619.84000000003,314330.28000000003,132057.73000000001,126169.92,869421.28,701869.64,72689.63,67932.88,85013.06,76112.38,95440.99,89778.41,320079.40000000002,254602.77,123463.13,117734.52,754196.42,603958.54,69388.09,65418.2,80387.600000000006,72497.94,89767.85,84534.5,251585.1,201464.55,115383.05,109767.07,646788.23,513845.85,66780.289999999994,63660.15,76334.41,69491.33,84664.68,79618.759999999995,189891.85,154553.26999999999,107890.83,102526.76,546561.37,433780.64,64857.27,62312.97,73003.09,67148.06,80281.600000000006,75546.33,135170.65,113940.07,101132.56,96046.35,457535.67,361532.89,63570.04,61399.25,70432.88,65358.79,76642.3,72249.41,87279.3,79254.28,95323.42,90538.83,376430.56,296857.08,62978.87,61172.57,68528.84,64328.03,73853.740000000005,70267.55,83128.039999999994,76314.86,90183.76,85612.2,303731.48,240285.53,62906.83,61444.41,67138.710000000006,63803.42,71878.42,68882.44,79777.8,73967.360000000001,85815.72,81821.539999999994,238285.47,190415.6,63318.59,62451.07,66465.38,63916.85,70751.63,68243.990000000005,77237.52,72370.38,82276.34,78545.08,180143.13,147206.99,65264.87,65006.42,68101.929999999993,65846.210000000006,70296.429999999993,68281.429999999993,75499.649999999994,71496.990000000005,79470.86,76345.42,128715.6,110208.18,67397.66,67624.149999999994,70035.86,67945.77,70594.62,68924.39,74513.36,71338.759999999995,77884.429999999993,75131.289999999994,84218.71,79148.240000000005]
[246384.34,237199.89,1242671.52,1055314.26,1384930.23,1214872.3600000001,2173113.44,1885716.58,3251299.63,2881845.05,3409482.14,3020437.03,229176.09,220113.57,1083274.5,916067.27,1068424.17,938776.29,1958397.13,1690966.77,2822061.05,2492966.67,3127356.5,2759362.39,213046.58,204185.16,934055.14,786805.67,772137.32,682931.61,1755698.09,1508318.24,2418674.2999999998,2129133.9500000002,2861266.39,2514213.34,198035.27,189331.21,794678.8,667380.79,495332.54,446747.29,1564694.76,1337425.9099999999,2039143.2,1789416.55,2610549.89,2283446.84,184228.36,175711.25,665054.56000000006,557451.44999999995,237727.19,229583.12,1384945.51,1177736.52,1682492.59,1472853.25,2373822.4300000002,2066392.7,171662.18,163230.20000000001,544976.24,456764.52,222382.32,214379.11,1216294.8500000001,1029126.38,1348301.69,1178879.92,2150490.98,1862780.84,159697.24,151501.91,433657.62,364662.29,207708.83,199816.59,1057637.47,890465.22,1034817.72,905926.34,1939159.91,1671328.45,148369.37,140396.69,330797.46999999997,280671.55,193679.42,185959.15,908680,762494.33,741519.35999999999,653330.88,1739412.52,1491526.44,137797.68,130085.86,236429.05,204843.2,180307.94,172817.1,770316.59,644776.93000000005,467859.78,420210.31,1550884.26,1323039.8700000001,128092.16,120675.69,150505.42000000001,136867.35,167911.61,160609.07999999999,642496.99,536800.18999999994,212963.71,205914.41,1373939.78,1166115.02,118668.92,111612.77,139194.69,126365.28,155686.10999999999,148623.72,523117.5,437109,197627.92,190806.27,1207049.03,1019237.22,110779.74,104115.41,129546.88,117320.53,144776.56,138067.89000000001,412886.77,346215.2,183858.89,177413.71,1048865.56,881091.42,103479.59,97147.4,120740.03,109227.62,134621.76000000001,128167.54,311377.5,263815.36,170943.59,164419.57999999999,900092.16,752271.64,96974.36,91114.83,112554.91,101959.48,125222.77,119105.83,218473.69,189507.35,158484.73000000001,152335.39000000001,760394.14,632434.38,91231.74,85810.86,105239.79,95264.37,116609.72,110977.95,134087.76999999999,123503.5,146904.99,141321.42000000001,629863.89,521605.3,86330.87,81280.13,98599.31,89605.31,108857.60000000001,103510.98,124433.26,114612.7,136183.56,130955.87,508178.33,419453.13,82410.880000000005,78291.740000000005,93081.1,85377.94,102109.77,97206.95,115907.57,106833.28,126397.61,121498.48,394936.8,325575.37,79381.06,76110.22,88484.73,81945.429999999993,96189.27,91953.14,108226.64,100049.84,117316.12,112684.25,290380.15999999997,240418.32,77213.37,74904.19,84630.84,79318.66,91096.76,87179.75,101386.27,94186.39,109126.96,104962.89,194164.24,168807.85,75893.39,74175.789999999994,81751.520000000004,77569.69,87018.62,83584.639999999999,95596.160000000003,89439.52,101977.64,98320.31,112823.31,105949.48,75381.97,73985.7,79929.31,76565.97,83982.68,81069.78,90878.26,85591.67,96204.15,93089.43,104842.27,98949.2,75934.14,74857.63,79239.960000000006,76743.990000000005,82304.47,80222.17,87685.96,83754.25,91882.18,89103.21,98815.88,94027.42,77355.19,76613.47,79502.11,77812.06,81992.33,80399.31,86008.87,83047.789999999994,89201.47,87198.9,94556.89,90707.65,79604.44,79175.600000000006,80948.990000000005,79807.13,83010.009999999995,81746.37,85777.95,83605.53,88133.1,86364.86,92347.91,89275.85,82969.210000000006,82841.14,84032.84,83161.149999999994,85081.57,84129.23,86923.6,85351.58,88425.99,87294.46,91513.18,89349.52,86888.94,86980.42,87913.63,87058.66,88251.93,87394.25,89257.83,88189.82,90653.78,89736.18,92515.35,90796.56]
[266598.55,256940.22,688528.46,602603.5,335608.7,326633.2,1621326.72,1419570.32,1551443.22,1399911.22,2894734.83,2579145.7999999998,248309.12,238794.4,531336.13,468635.75,313771.67,304912.28000000003,1404735.41,1226034.21,1121632.67,1017401.04,2610239.7400000002,2316896.54,230745.44,221506.14,384682.23999999999,344900.76,292806.07,283972.86,1200163.94,1044659.68,717080.47,660731.93000000005,2340294.16,2069434,213953.11,204954.57,248221.83,231403.5,272288.39,263788.19,1007346.2,875057.24,337045.33,328968.53999999998,2084395.53,1836199.57,198039.6,189357.08,229909.78,213660.6,252674.33,244357.3,825798.28,716729.95,313276.71000000002,305445.21999999997,1841891.79,1616502.3,183073.48,174604.19,212458.34,196782.54,233896.14,225887.15,655316.26,569509.13,290547.59000000003,282926.44,1612448.68,1410014.6,168956.23,160914.70000000001,196019.39,181131.77,216062.03,208317.96,495673.18,433093.66,268621.27,261325.14,1395655.45,1216389.33,155758.85999999999,148123.53,180442.63,166361.62,199170.46,191776.39,346627.82,309065.06,247770.9,240919.09,1191197.92,1035116.76,143623.67000000001,136442.23999999999,166017.26,152893.16,183212.05,176253.08,210045.91,196812.52,228066.9,221357.2,998647.14,865876.29,132617.69,125935.74,152852.60999999999,140565.70000000001,168492.6,161913.60999999999,192643.26,180231.98,209082.11,202731.3,818033.86,708575.55,122208.63,116099.77,139984.56,128919.52,154279.43,148142.31,175742.57,164308.28,190567.81,184661.82,648267.19999999995,562125.63,113539.12,108071.19,128980.32,118898.04,141539.60999999999,136033.28,160482.98000000001,149976.71,173768.46,168551.26,488300.75,425543.38,105693.86,100778.04,119154.41,110217.86,129869.53,124858.9,146282.99,136937.07999999999,158177.54999999999,153002.03,338772.03,299240,98993.39,94824.49,110245.15,102704.84,119313.92,114913.64,133216.98000000001,124921.04,143292.59,138817.20000000001,199496.97,183064.29,93420.6,89940.02,102638.6,96049.51,109964.95,106380.08,121420.39,114603.89,129714.67,126223.03,176036.58,160468.44,89610.46,86628.15,96720.45,91485.93,102713.66,99587.81,111817.27,106139.05,118661.6,115781.63,154901.51999999999,140209.74,87377.55,85252.64,92878.39,88915.09,97532.34,95004.97,104645.92,99967.62,110110.78,107724.88,135792.46,122029.65,86734.21,85274.9,90890.44,87883.37,94272.99,92557.22,99672.9,96005.16,103750.34,101672.53,119169.95,106771.43,87539.27,86904.55,90403.199999999997,88353.35,92896.62,91385.32,96867.3,94088.960000000006,99854.31,98247.46,104889.51,101885.25,89693.3,89367.43,91646.03,90315.55,93473.75,92266.16,96293.52,94307.839999999997,98380.88,97162.62,102079.36,99708.76,92600.1,92269.81,93964.15,92952.639999999999,95052.01,94173.48,96799.66,95278.64,98388.39,97571.11,100474.65,98793.89,96264.71,96042.22,96944.12,96444.21,97348.62,97033.68,98154.8,97612.63,99003.61,98315.01,99976.06,99212.79,100573.34,100598.42,100502.1,100562.83,100614.11,100500.76,100501.13,100569.24,100689.36,100809.84,100506.08,100500.22,0,0,0,0,0,0,0,0,0,0,0,0,0,0,0,0,0,0,0,0,0,0,0,0,0,0,0,0,0,0,0,0,0,0,0,0]
[275003.84000000003,265404.06,316265.63,297982.48,343705.68,334775.92,947145.06,847574.97,419896.37,411710.26,2259256.7200000002,2027910.27,253279.85,243985.63,291401.90999999997,274002.65000000002,317224.3,308570.15999999997,725839.82,653065.82999999996,388313.43,380197.37,1965737.49,1760153.94,232593.62,223780.69,267684.31,250960.43,291977.43,283487.08,517444.4,471655.62,357542.82,349712.96,1687526.61,1507952,212977.48,204601.85,244924.15,229278.19,267359.81,259449.08,321767.53999999998,302915.21999999997,327788.57,320243.08,1424025.85,1270774,194496.63,186663.37,223336.88,208669.65,243937.23,236410.83,291430.63,273224.36,298778.44,291691.44,1174578.18,1047870.42,177195.2,169775.94,202814.8,189133.03,221525.61,214555.81,261772.17,244397.12,271011.34999999998,264319.07,938729.17,838810.17,160961.51,154249.98000000001,183565.99,171140.87,200269.22,193805.78,232946.16,216544.69,244112.51,238023.67,716128.44,643279.75,145922.53,139896.24,165405.54,154291.26,180214.59,174378.23,205092.26,192382.15,218550.97,213240.98,506601.35,460796.91,132357.78,127075.35,148830.20000000001,139241.71,161480.28,156390.66,181262.42,171525.78,194588.52,189653.98,309874.40000000002,291275.11,120342.42,115855.11,134005.91,125755.51,144432.6,140014.85,160650.35999999999,152316.51999999999,171689.06,167424.5,276439.28000000003,258766.1,110665.53,106946.95,121496.78,114839.2,130230.57,126452.36,143319.13,136358.96,152277.82,148682.51999999999,247117.25,230269.19,103738.64,100811.75,112085.85,106592.72,118928.69,115977.85,129325.5,123525.69,136487.87,133829.54,219916.18,204009.86,98810.68,96439.37,105418.91,101109.09,110472.03,108054.8,118475.04,113967.21,124336,121630.88,196068.59,180909.16,96194.52,94510,101053.04,98002.26,104822.3,102954.23,110805.86,107203.17,115098.96,113102.79,175568.94,161082.07999999999,95726.33,94507.79,99358.53,96718.49,101970.58,100771.9,106403.17,103979.18,109424.08,108370.75,158653.76999999999,144582.1,96412.32,95445.28,98483.88,96919.29,100315.65,99356.17,103104.59,101473.7,105160.32000000001,104587.12,142575.4,128986.31,97908.479999999996,97505.94,98944.6,98212.55,99819.83,99344.29,101160.43,100278.96,102292.99,102097.48,126912.64,113997.53,100502.84,100518.42,100645.06,100500.42,100500,100863.3,100500.09,100500.93,100500.07,100500.1,112367.46,100874.52,0,0,0,0,0,0,0,0,0,0,0,0,0,0,0,0,0,0,0,0,0,0,0,0,0,0,0,0,0,0,0,0,0,0,0,0,0,0,0,0,0,0,0,0,0,0,0,0,0,0,0,0,0,0,0,0,0,0,0,0,0,0,0,0,0,0,0,0,0,0,0,0,0,0,0,0,0,0,0,0,0,0,0,0,0,0,0,0,0,0,0,0,0,0,0,0]
[274132.61,264663.07,314853.32,296810,341934.05,333122.96999999997,780651.11,705873.63,417125.23,409058.55,2100472.23,1889656.22,251691.46,242569.67,289106.03000000003,272037.28000000003,314449.11,305955.56,558428.79,511338.64,384232.58,376267.2,1804995.18,1620786.23,230307.17,221722.03,264522.34999999998,248211.17,288212.19,279921.99,349246.88,330048.12,352123.28,344490.85,1524905.83,1367556.05,210014.91,201922.92,240894.77,225781.26,262581.21000000002,254938.82,316799.96999999997,298232.81,321010.42,313711.96000000002,1259587.8999999999,1129446.2,190865.39,183382.57,218443.48,204430.05,238142.14,230945.09,285001.17,267189.96000000002,290583.19,283806.39,1008370.69,905682.37,172995.25,165986.01999999999,197158.43,184249.55,214812.21,208242.98,253963.94,237102.04,261516.06,255188.27,770959.82,695989.83,156318.37,150091.72,177295.95,165768.54,192783.89,186787.34,223898.88,208129.72,233451.76,227802.98,547082.9,500122.2,140977.26,135506.06,158665.98000000001,148575.31,172121.21,166822.31,194972.99,183173.7,206918.31,202133.51,336613.28,317617.08,127241.84,122584.56,141765.15,133336.94,152919.04000000001,148443.19,170377.52,161792.16,182154.41,177804.19,300372.53000000003,282341.06,116266.77,112389.77,128101.25,120973.3,137079.84,133263.04999999999,151091.56,143891.63,160628.6,156944.19,268045.21000000002,250906.6,107802.45,104661.63,116955,111362.7,124344.62,121136.61,135408.81,129530.08,142949.56,139912.84,240276.05,223884.28,102092.43,99708.47,108924.96,104411.26,114547.73,112142.78,123121.31,118325.09,128976.03,126865.85,214616.25,199085.22,98525.83,96629.37,103857.62,100411.29,107851.6,105918.46,114286.84,110681.96,119024.35,116775.92,192728.29,177815.99,97403.97,96115.76,101251.87,98917.22,104178.85,102712.04,108909.9,106048.48,112287.17,110680.92,174563.81,160153.26999999999,97361.35,96559.06,99973.53,98053.69,101719.06,100960.52,104867.6,103251.09,106920.47,106319.06,157326.74,143362.93,98525.29,97978.01,99544.95,98746.13,100508.73,100001.05,101980.69,101194.98,103037.3,102948.32,140965.31,127513.68,100503.02,100500.35,100502.38,100520.72,100500.26,100501.1,100500.47,100500.53,100627.27,100940.79,125036.87,112299.48,0,0,0,0,0,0,0,0,0,0,0,0,0,0,0,0,0,0,0,0,0,0,0,0,0,0,0,0,0,0,0,0,0,0,0,0,0,0,0,0,0,0,0,0,0,0,0,0,0,0,0,0,0,0,0,0,0,0,0,0,0,0,0,0,0,0,0,0,0,0,0,0,0,0,0,0,0,0,0,0,0,0,0,0,0,0,0,0,0,0,0,0,0,0,0,0,0,0,0,0,0,0,0,0,0,0,0,0]
[248458.77,240596.41,282402.3,267362.07,304979.44,297646.19,381332.36,362661.43,367653.02,361017.21,1099431.3500000001,1014533.16,221251.17,214067.82,250714.4,237329.38,270671.51,263982.89,338076.81,320483.37,325726.06,319454,791238.5,738139.8,195580.19,189331.86,220715.38,208698.54,238140.23,231962.52,295904.53999999998,279609.89,284953.55,279361.63,499543.03999999998,478516.44,171633.31,166263.01999999999,192241.83,182231.26,206714.98,201645.61,255207.5,240212.3,245847.69,240939.8,447648.86,427682.02,151516.38,147067.26999999999,168122.47,159772.76999999999,179983.8,175650.15,218999.12,205270.17,211561.97,207481.21,400898.91,381921.25,135285.93,131449.49,148218.94,141274.25,157715.57,154231.07,187329.67,174860.35,182938.59,179436.29,359487.82,341459.87,122616.74,119655.58,132635.6,127153.5,139941.74,137089.65,160255.38,148939.62,159227.22,156542.26,323439.21999999997,306343.45,113542.03,111251.24,120951.18,116724.97,126651.39,124431.52,137924.57999999999,131315.85999999999,141169.88,139397.82999999999,293137.63,276558.53999999998,108251.27,106509.75,113683.01,110679.32,117858.76,116251.35,124487.29,121271.02,129051.29,127426.65,268695.67999999999,252549.18,104335.14,103160.32000000001,108085.64,105927.95,110637.28,109481.72,114880.79,112701.92,117768.45,116653.23,245509.16,229796.56,101745.49,101154.23,103492.12,102614.69,104955.69,104256.36,107091.06,105984.38,108362.5,107790.37,224664.97,209282.36,100657.76,100783.4,100500.1,100500.28,100500.58,100618.64,100683.07,100500.75,100500.67,100943.53,202646.25,187935.73,0,0,0,0,0,0,0,0,0,0,0,0,0,0,0,0,0,0,0,0,0,0,0,0,0,0,0,0,0,0,0,0,0,0,0,0,0,0,0,0,0,0,0,0,0,0,0,0,0,0,0,0,0,0,0,0,0,0,0,0,0,0,0,0,0,0,0,0,0,0,0,0,0,0,0,0,0,0,0,0,0,0,0,0,0,0,0,0,0,0,0,0,0,0,0,0,0,0,0,0,0,0,0,0,0,0,0,0,0,0,0,0,0,0,0,0,0,0,0,0,0,0,0,0,0,0,0,0,0,0,0,0,0,0,0,0,0,0,0,0,0,0,0,0,0,0,0,0,0,0,0,0,0,0,0,0,0,0,0,0,0,0,0,0,0,0,0,0]
[0,0,146500.16,142416.85999999999,152642.76,150690.82,222504.42,211605.5,169647.77,168154.45,494168.28,475786.15,123184.05,121710.39999999999,129226.94,126671.52,133320.06,131947.64000000001,193486.21,183327.55,144953.39000000001,143668.38,455239.22,437291.4,110895.12,110291.49,114089.8,112450.49,116375.82,115304.98,165846.23000000001,156635.70000000001,121878.36,121216.56,417842.33,400202.89,100500.71,100597.02,100500.47,100742.89,100500.53,100599.78,139824.84,131505.81,100942.45,100824.63,381821.65,364757.09,0,0,0,0,0,0,0,0,0,0,0,0,0,0,0,0,0,0,0,0,0,0,0,0,0,0,0,0,0,0,0,0,0,0,0,0,0,0,0,0,0,0,0,0,0,0,0,0,0,0,0,0,0,0,0,0,0,0,0,0,0,0,0,0,0,0,0,0,0,0,0,0,0,0,0,0,0,0,0,0,0,0,0,0,0,0,0,0,0,0,0,0,0,0,0,0,0,0,0,0,0,0,0,0,0,0,0,0,0,0,0,0,0,0,0,0,0,0,0,0,0,0,0,0,0,0,0,0,0,0,0,0,0,0,0,0,0,0,0,0,0,0,0,0,0,0,0,0,0,0,0,0,0,0,0,0,0,0,0,0,0,0,0,0,0,0,0,0,0,0,0,0,0,0,0,0,0,0,0,0,0,0,0,0,0,0,0,0,0,0,0,0,0,0,0,0,0,0,0,0,0,0,0,0,0,0,0,0,0,0,0,0,0,0,0,0,0,0,0,0,0,0,0,0,0,0,0,0,0,0,0,0,0,0,0,0,0,0,0,0,0,0,0,0,0,0,0,0,0,0,0,0,0,0,0,0,0,0,0,0,0,0,0,0]
[0,0,0,0,0,0,0,0,0,0,0,0,0,0,0,0,0,0,0,0,0,0,0,0,0,0,0,0,0,0,0,0,0,0,0,0,0,0,0,0,0,0,0,0,0,0,0,0,0,0,0,0,0,0,0,0,0,0,0,0,0,0,0,0,0,0,0,0,0,0,0,0,0,0,0,0,0,0,0,0,0,0,0,0,0,0,0,0,0,0,0,0,0,0,0,0,0,0,0,0,0,0,0,0,0,0,0,0,0,0,0,0,0,0,0,0,0,0,0,0,0,0,0,0,0,0,0,0,0,0,0,0,0,0,0,0,0,0,0,0,0,0,0,0,0,0,0,0,0,0,0,0,0,0,0,0,0,0,0,0,0,0,0,0,0,0,0,0,0,0,0,0,0,0,0,0,0,0,0,0,0,0,0,0,0,0,0,0,0,0,0,0,0,0,0,0,0,0,0,0,0,0,0,0,0,0,0,0,0,0,0,0,0,0,0,0,0,0,0,0,0,0,0,0,0,0,0,0,0,0,0,0,0,0,0,0,0,0,0,0,0,0,0,0,0,0,0,0,0,0,0,0,0,0,0,0,0,0,0,0,0,0,0,0,0,0,0,0,0,0,0,0,0,0,0,0,0,0,0,0,0,0,0,0,0,0,0,0,0,0,0,0,0,0,0,0,0,0,0,0,0,0,0,0,0,0,0,0,0,0,0,0]
[0,0,0,0,0,0,0,0,0,0,0,0,0,0,0,0,0,0,0,0,0,0,0,0,0,0,0,0,0,0,0,0,0,0,0,0,0,0,0,0,0,0,0,0,0,0,0,0,0,0,0,0,0,0,0,0,0,0,0,0,0,0,0,0,0,0,0,0,0,0,0,0,0,0,0,0,0,0,0,0,0,0,0,0,0,0,0,0,0,0,0,0,0,0,0,0,0,0,0,0,0,0,0,0,0,0,0,0,0,0,0,0,0,0,0,0,0,0,0,0,0,0,0,0,0,0,0,0,0,0,0,0,0,0,0,0,0,0,0,0,0,0,0,0,0,0,0,0,0,0,0,0,0,0,0,0,0,0,0,0,0,0,0,0,0,0,0,0,0,0,0,0,0,0,0,0,0,0,0,0,0,0,0,0,0,0,0,0,0,0,0,0,0,0,0,0,0,0,0,0,0,0,0,0,0,0,0,0,0,0,0,0,0,0,0,0,0,0,0,0,0,0,0,0,0,0,0,0,0,0,0,0,0,0,0,0,0,0,0,0,0,0,0,0,0,0,0,0,0,0,0,0,0,0,0,0,0,0,0,0,0,0,0,0,0,0,0,0,0,0,0,0,0,0,0,0,0,0,0,0,0,0,0,0,0,0,0,0,0,0,0,0,0,0,0,0,0,0,0,0,0,0,0,0,0,0,0,0,0,0,0,0]
[0,0,0,0,0,0,0,0,0,0,0,0,0,0,0,0,0,0,0,0,0,0,0,0,0,0,0,0,0,0,0,0,0,0,0,0,0,0,0,0,0,0,0,0,0,0,0,0,0,0,0,0,0,0,0,0,0,0,0,0,0,0,0,0,0,0,0,0,0,0,0,0,0,0,0,0,0,0,0,0,0,0,0,0,0,0,0,0,0,0,0,0,0,0,0,0,0,0,0,0,0,0,0,0,0,0,0,0,0,0,0,0,0,0,0,0,0,0,0,0,0,0,0,0,0,0,0,0,0,0,0,0,0,0,0,0,0,0,0,0,0,0,0,0,0,0,0,0,0,0,0,0,0,0,0,0,0,0,0,0,0,0,0,0,0,0,0,0,0,0,0,0,0,0,0,0,0,0,0,0,0,0,0,0,0,0,0,0,0,0,0,0,0,0,0,0,0,0,0,0,0,0,0,0,0,0,0,0,0,0,0,0,0,0,0,0,0,0,0,0,0,0,0,0,0,0,0,0,0,0,0,0,0,0,0,0,0,0,0,0,0,0,0,0,0,0,0,0,0,0,0,0,0,0,0,0,0,0,0,0,0,0,0,0,0,0,0,0,0,0,0,0,0,0,0,0,0,0,0,0,0,0,0,0,0,0,0,0,0,0,0,0,0,0,0,0,0,0,0,0,0,0,0,0,0,0,0,0,0,0,0,0]
[0,0,0,0,0,0,0,0,0,0,0,0,0,0,0,0,0,0,0,0,0,0,0,0,0,0,0,0,0,0,0,0,0,0,0,0,0,0,0,0,0,0,0,0,0,0,0,0,0,0,0,0,0,0,0,0,0,0,0,0,0,0,0,0,0,0,0,0,0,0,0,0,0,0,0,0,0,0,0,0,0,0,0,0,0,0,0,0,0,0,0,0,0,0,0,0,0,0,0,0,0,0,0,0,0,0,0,0,0,0,0,0,0,0,0,0,0,0,0,0,0,0,0,0,0,0,0,0,0,0,0,0,0,0,0,0,0,0,0,0,0,0,0,0,0,0,0,0,0,0,0,0,0,0,0,0,0,0,0,0,0,0,0,0,0,0,0,0,0,0,0,0,0,0,0,0,0,0,0,0,0,0,0,0,0,0,0,0,0,0,0,0,0,0,0,0,0,0,0,0,0,0,0,0,0,0,0,0,0,0,0,0,0,0,0,0,0,0,0,0,0,0,0,0,0,0,0,0,0,0,0,0,0,0,0,0,0,0,0,0,0,0,0,0,0,0,0,0,0,0,0,0,0,0,0,0,0,0,0,0,0,0,0,0,0,0,0,0,0,0,0,0,0,0,0,0,0,0,0,0,0,0,0,0,0,0,0,0,0,0,0,0,0,0,0,0,0,0,0,0,0,0,0,0,0,0,0,0,0,0,0,0]
[0,0,0,0,0,0,0,0,0,0,0,0,0,0,0,0,0,0,0,0,0,0,0,0,0,0,0,0,0,0,0,0,0,0,0,0,0,0,0,0,0,0,0,0,0,0,0,0,0,0,0,0,0,0,0,0,0,0,0,0,0,0,0,0,0,0,0,0,0,0,0,0,0,0,0,0,0,0,0,0,0,0,0,0,0,0,0,0,0,0,0,0,0,0,0,0,0,0,0,0,0,0,0,0,0,0,0,0,0,0,0,0,0,0,0,0,0,0,0,0,0,0,0,0,0,0,0,0,0,0,0,0,0,0,0,0,0,0,0,0,0,0,0,0,0,0,0,0,0,0,0,0,0,0,0,0,0,0,0,0,0,0,0,0,0,0,0,0,0,0,0,0,0,0,0,0,0,0,0,0,0,0,0,0,0,0,0,0,0,0,0,0,0,0,0,0,0,0,0,0,0,0,0,0,0,0,0,0,0,0,0,0,0,0,0,0,0,0,0,0,0,0,0,0,0,0,0,0,0,0,0,0,0,0,0,0,0,0,0,0,0,0,0,0,0,0,0,0,0,0,0,0,0,0,0,0,0,0,0,0,0,0,0,0,0,0,0,0,0,0,0,0,0,0,0,0,0,0,0,0,0,0,0,0,0,0,0,0,0,0,0,0,0,0,0,0,0,0,0,0,0,0,0,0,0,0,0,0,0,0,0,0]
[0,0,0,0,0,0,0,0,0,0,0,0,0,0,0,0,0,0,0,0,0,0,0,0,0,0,0,0,0,0,0,0,0,0,0,0,0,0,0,0,0,0,0,0,0,0,0,0,0,0,0,0,0,0,0,0,0,0,0,0,0,0,0,0,0,0,0,0,0,0,0,0,0,0,0,0,0,0,0,0,0,0,0,0,0,0,0,0,0,0,0,0,0,0,0,0,0,0,0,0,0,0,0,0,0,0,0,0,0,0,0,0,0,0,0,0,0,0,0,0,0,0,0,0,0,0,0,0,0,0,0,0,0,0,0,0,0,0,0,0,0,0,0,0,0,0,0,0,0,0,0,0,0,0,0,0,0,0,0,0,0,0,0,0,0,0,0,0,0,0,0,0,0,0,0,0,0,0,0,0,0,0,0,0,0,0,0,0,0,0,0,0,0,0,0,0,0,0,0,0,0,0,0,0,0,0,0,0,0,0,0,0,0,0,0,0,0,0,0,0,0,0,0,0,0,0,0,0,0,0,0,0,0,0,0,0,0,0,0,0,0,0,0,0,0,0,0,0,0,0,0,0,0,0,0,0,0,0,0,0,0,0,0,0,0,0,0,0,0,0,0,0,0,0,0,0,0,0,0,0,0,0,0,0,0,0,0,0,0,0,0,0,0,0,0,0,0,0,0,0,0,0,0,0,0,0,0,0,0,0,0,0]
[0,0,0,0,0,0,0,0,0,0,0,0,0,0,0,0,0,0,0,0,0,0,0,0,0,0,0,0,0,0,0,0,0,0,0,0,0,0,0,0,0,0,0,0,0,0,0,0,0,0,0,0,0,0,0,0,0,0,0,0,0,0,0,0,0,0,0,0,0,0,0,0,0,0,0,0,0,0,0,0,0,0,0,0,0,0,0,0,0,0,0,0,0,0,0,0,0,0,0,0,0,0,0,0,0,0,0,0,0,0,0,0,0,0,0,0,0,0,0,0,0,0,0,0,0,0,0,0,0,0,0,0,0,0,0,0,0,0,0,0,0,0,0,0,0,0,0,0,0,0,0,0,0,0,0,0,0,0,0,0,0,0,0,0,0,0,0,0,0,0,0,0,0,0,0,0,0,0,0,0,0,0,0,0,0,0,0,0,0,0,0,0,0,0,0,0,0,0,0,0,0,0,0,0,0,0,0,0,0,0,0,0,0,0,0,0,0,0,0,0,0,0,0,0,0,0,0,0,0,0,0,0,0,0,0,0,0,0,0,0,0,0,0,0,0,0,0,0,0,0,0,0,0,0,0,0,0,0,0,0,0,0,0,0,0,0,0,0,0,0,0,0,0,0,0,0,0,0,0,0,0,0,0,0,0,0,0,0,0,0,0,0,0,0,0,0,0,0,0,0,0,0,0,0,0,0,0,0,0,0,0,0]
[]
[]
[]
[]
[]
[]
[]
[]
[]
[]
[]
[]
[]
[]
[]
[]
[]
[]
[]
[]
[]
[]
[]
[]
[]
[]
[]
[]
[]
[]
[]
[]
[]
[]
[]
[]
[]
["Benefit","Benefit","Benefit","Benefit","Benefit","Benefit","Benefit","Benefit","Benefit","Benefit","Benefit","Benefit","Benefit","Benefit","Benefit","Benefit","Benefit","Benefit","Benefit","Benefit","Benefit","Benefit","Benefit","Benefit","Benefit","Benefit","Benefit","Benefit","Benefit","Benefit","Benefit","Benefit","Benefit","Benefit","Benefit","Benefit","Benefit","Benefit","Benefit","Benefit","Benefit","Benefit","Benefit","Benefit","Benefit","Benefit","Benefit","Benefit","Benefit","Benefit","Benefit","Benefit","Benefit","Benefit","Benefit","Benefit","Benefit","Benefit","Benefit","Benefit","Benefit","Benefit","Benefit","Benefit","Benefit","Benefit","Benefit","Benefit","Benefit","Benefit","Benefit","Benefit","Benefit","Benefit","Benefit","Benefit","Benefit","Benefit","Benefit","Benefit","Benefit","Benefit","Benefit","Benefit","Benefit","Benefit","Benefit","Benefit","Benefit","Benefit","Benefit","Benefit","Benefit","Benefit","Benefit","Benefit","Benefit","Benefit","Benefit","Benefit","Benefit","Benefit","Benefit","Benefit","Benefit","Benefit","Benefit","Benefit","Benefit","Benefit","Benefit","Benefit","Benefit","Benefit","Benefit","Benefit","Benefit","Benefit","Benefit","Benefit","Benefit","Benefit","Benefit","Benefit","Benefit","Benefit","Benefit","Benefit","Benefit","Benefit","Benefit","Benefit","Benefit","Benefit","Benefit","Benefit","Benefit","Benefit","Benefit","Benefit","Benefit","Benefit","Benefit","Benefit","Benefit","Benefit","Benefit","Benefit","Benefit","Benefit","Benefit","Benefit","Benefit","Benefit","Benefit","Benefit","Benefit","Benefit","Benefit","Benefit","Benefit","Benefit","Benefit","Benefit","Benefit","Benefit","Benefit","Benefit","Benefit","Benefit","Benefit","Benefit","Benefit","Benefit","Benefit","Benefit","Benefit","Benefit","Benefit","Benefit","Benefit","Benefit","Benefit","Benefit","Benefit","Benefit","Benefit","Benefit","Benefit","Benefit","Benefit","Benefit","Benefit","Benefit","Benefit","Benefit","Benefit","Benefit","Benefit","Benefit","Benefit","Benefit","Benefit","Benefit","Benefit","Benefit","Benefit","Benefit","Benefit","Benefit","Benefit","Benefit","Benefit","Benefit","Benefit","Benefit","Benefit","Benefit","Benefit","Benefit","Benefit","Benefit","Benefit","Benefit","Benefit","Benefit","Benefit","Benefit","Benefit","Benefit","Benefit","Benefit","Benefit","Benefit","Benefit","Benefit","Benefit","Benefit","Benefit","Benefit","Benefit","Benefit","Benefit","Benefit","Benefit","Benefit","Benefit","Benefit","Benefit","Benefit","Benefit","Benefit","Benefit","Benefit","Benefit","Benefit","Benefit","Benefit","Benefit","Benefit","Benefit","Benefit","Benefit","Benefit","Benefit","Benefit","Benefit","Benefit","Benefit","Benefit","Benefit","Benefit","Benefit","Benefit","Benefit","Benefit","Benefit","Benefit","Benefit","Benefit","Benefit","Benefit","Benefit","Benefit","Benefit","Benefit","Benefit","Benefit","Benefit","Benefit","Benefit","Benefit","Benefit","Benefit","Benefit","Benefit","Benefit","Benefit","Benefit","Benefit","Benefit","Benefit","Benefit","Benefit","Benefit","Benefit","Benefit","Benefit","Benefit","Benefit","Benefit","Benefit"]
[1124973.8,1124973.8,1124973.8,1124973.8,1125046.52,1125046.52,1125046.52,1125046.52,1125094.1100000001,1125094.1100000001,1125094.1100000001,1125094.1100000001,1086483.56,1086483.56,1086483.56,1086483.56,1086558.01,1086558.01,1086558.01,1086558.01,1086605.8899999999,1086605.8899999999,1086605.8899999999,1086605.8899999999,1049282.49,1049282.49,1049282.49,1049282.49,1049358.81,1049358.81,1049358.81,1049358.81,1049407.68,1049407.68,1049407.68,1049407.68,1013367.16,1013367.16,1013367.16,1013367.16,1013445.62,1013445.62,1013445.62,1013445.62,1013496.22,1013496.22,1013496.22,1013496.22,978678.16,978678.16,978678.16,978678.16,978759.63,978759.63,978759.63,978759.63,978811.07,978811.07,978811.07,978811.07,945192.13,945192.13,945192.13,945192.13,945277.43999999994,945277.43999999994,945277.43999999994,945277.43999999994,945330.17,945330.17,945330.17,945330.17,912859.86,912859.86,912859.86,912859.86,912948.04,912948.04,912948.04,912948.04,913002.62,913002.62,913002.62,913002.62,881697.71,881697.71,881697.71,881697.71,881788.62,881788.62,881788.62,881788.62,881845.47,881845.47,881845.47,881845.47,852026.54,852026.54,852026.54,852026.54,851780.03,851780.03,851780.03,851780.03,851837.49,851837.49,851837.49,851837.49,823493.2,823493.2,823493.2,823493.2,823265.42,823265.42,823265.42,823265.42,823324.84,823324.84,823324.84,823324.84,795687.45,795687.45,795687.45,795687.45,795477.66,795477.66,795477.66,795477.66,795539.96,795539.96,795539.96,795539.96,769214.7,769214.7,769214.7,769214.7,769325.45,769325.45,769325.45,769325.45,769087.94,769087.94,769087.94,769087.94,743653.88,743653.88,743653.88,743653.88,743771.64,743771.64,743771.64,743771.64,743548.98,743548.98,743548.98,743548.98,718986.85,718986.85,718986.85,718986.85,719111.63,719111.63,719111.63,719111.63,719181.55,719181.55,719181.55,719181.55,695224.77,695224.77,695224.77,695224.77,695358.14,695358.14,695358.14,695358.14,695431.2,695431.2,695431.2,695431.2,672625.37,672625.37,672625.37,672625.37,672513.76,672513.76,672513.76,672513.76,672590.91,672590.91,672590.91,672590.91,650689.25,650689.25,650689.25,650689.25,650843.9,650843.9,650843.9,650843.9,650924.81999999995,650924.81999999995,650924.81999999995,650924.81999999995,630546.54,630546.54,630546.54,630546.54,630546.54,630546.54,630546.54,630546.54,630546.54,630546.54,630546.54,630546.54,614306,614306,614306,614306,614306,614306,614306,614306,614306,614306,614306,614306,598394.88,598394.88,598394.88,598394.88,598394.88,598394.88,598394.88,598394.88,598394.88,598394.88,598394.88,598394.88,582793.38,582793.38,582793.38,582793.38,582793.38,582793.38,582793.38,582793.38,582793.38,582793.38,582793.38,582793.38,567784.92000000004,567784.92000000004,567784.92000000004,567784.92000000004,567784.92000000004,567784.92000000004,567784.92000000004,567784.92000000004,567784.92000000004,567784.92000000004,567784.92000000004,567784.92000000004,553201.54,553201.54,553201.54,553201.54,553201.54,553201.54,553201.54,553201.54,553201.54,553201.54,553201.54,553201.54,539142.52,539142.52,539142.52,539142.52,539139.66,539139.66,539139.66,539139.66,539139.66,539139.66,539139.66,539139.66,525670.66,525670.66,525670.66,525670.66,525669.66,525669.66,525669.66,525669.66,525669.66,525669.66,525669.66,525669.66,512827.17,512827.17,512827.17,512827.17,512825.17,512825.17,512825.17,512825.17,512825.17,512825.17,512825.17,512825.17]
[1290540.42,1290540.42,1290540.42,1290540.42,1290613.4099999999,1290613.4099999999,1290613.4099999999,1290613.4099999999,1290661.3999999999,1290661.3999999999,1290661.3999999999,1290661.3999999999,1251950.23,1251950.23,1251950.23,1251950.23,1252025.22,1252025.22,1252025.22,1252025.22,1252073.23,1252073.23,1252073.23,1252073.23,1214690.57,1214690.57,1214690.57,1214690.57,1214767.57,1214767.57,1214767.57,1214767.57,1214816.56,1214816.56,1214816.56,1214816.56,1178736.4099999999,1178736.4099999999,1178736.4099999999,1178736.4099999999,1178815.3999999999,1178815.3999999999,1178815.3999999999,1178815.3999999999,1178866.3999999999,1178866.3999999999,1178866.3999999999,1178866.3999999999,1144071.19,1144071.19,1144071.19,1144071.19,1144153.18,1144153.18,1144153.18,1144153.18,1144205.18,1144205.18,1144205.18,1144205.18,1110661.02,1110661.02,1110661.02,1110661.02,1110747.02,1110747.02,1110747.02,1110747.02,1110800.01,1110800.01,1110800.01,1110800.01,1078460.79,1078460.79,1078460.79,1078460.79,1078549.78,1078549.78,1078549.78,1078549.78,1078604.77,1078604.77,1078604.77,1078604.77,1047466.57,1047466.57,1047466.57,1047466.57,1047558.57,1047558.57,1047558.57,1047558.57,1047615.56,1047615.56,1047615.56,1047615.56,1017964.61,1017964.61,1017964.61,1017964.61,1017715.64,1017715.64,1017715.64,1017715.64,1017773.63,1017773.63,1017773.63,1017773.63,989237.7,989237.7,989237.7,989237.7,989007.72,989007.72,989007.72,989007.72,989067.72,989067.72,989067.72,989067.72,961594.29,961594.29,961594.29,961594.29,961382.31,961382.31,961382.31,961382.31,961445.31,961445.31,961445.31,961445.31,934997.16,934997.16,934997.16,934997.16,935109.15,935109.15,935109.15,935109.15,934869.17,934869.17,934869.17,934869.17,909418.07,909418.07,909418.07,909418.07,909537.05,909537.05,909537.05,909537.05,909312.08,909312.08,909312.08,909312.08,884828.9,884828.9,884828.9,884828.9,884954.88,884954.88,884954.88,884954.88,885025.87,885025.87,885025.87,885025.87,860611.89,860611.89,860611.89,860611.89,860742.28,860742.28,860742.28,860742.28,860813.54,860813.54,860813.54,860813.54,837299.32,837299.32,837299.32,837299.32,837190.49,837190.49,837190.49,837190.49,837265.74,837265.74,837265.74,837265.74,814499.38,814499.38,814499.38,814499.38,814649.86,814649.86,814649.86,814649.86,814728.46,814728.46,814728.46,814728.46,793342.78,793342.78,793342.78,793342.78,793342.78,793342.78,793342.78,793342.78,793342.78,793342.78,793342.78,793342.78,775876.99,775876.99,775876.99,775876.99,775876.99,775876.99,775876.99,775876.99,775876.99,775876.99,775876.99,775876.99,758717.79,758717.79,758717.79,758717.79,758717.79,758717.79,758717.79,758717.79,758717.79,758717.79,758717.79,758717.79,741853.92,741853.92,741853.92,741853.92,741853.92,741853.92,741853.92,741853.92,741853.92,741853.92,741853.92,741853.92,328528.02,244588.99,339915.29,251453.25,725806.86,725806.86,725806.86,725806.86,725806.86,725806.86,725806.86,725806.86,266630.62,197865.91,286583,209573.73,710141.75,710141.75,710141.75,710141.75,710141.75,710141.75,710141.75,710141.75,211849.27,157280.42000000001,237638.53,171911.9,694898.32,694898.32,694898.32,694898.32,694898.32,694898.32,694898.32,694898.32,206843.01,152504.54999999999,232417.43,166820.81,680059.71,680059.71,680059.71,680059.71,680059.71,680059.71,680059.71,680059.71,202137.8,148021.19,227534.49,162062.9,665963.80000000005,665963.80000000005,665963.80000000005,665963.80000000005,665963.80000000005,665963.80000000005,665963.80000000005,665963.80000000005]
[1423499.09,1423499.09,1423499.09,1423499.09,1423570.59,1423570.59,1423570.59,1423570.59,1423617.32,1423617.32,1423617.32,1423617.32,1384792.71,1384792.71,1384792.71,1384792.71,1384865.66,1384865.66,1384865.66,1384865.66,1384912.69,1384912.69,1384912.69,1384912.69,1347368.3,1347368.3,1347368.3,1347368.3,1347443.02,1347443.02,1347443.02,1347443.02,1347491.41,1347491.41,1347491.41,1347491.41,1311203.42,1311203.42,1311203.42,1311203.42,1311280.3500000001,1311280.3500000001,1311280.3500000001,1311280.3500000001,1311329.6499999999,1311329.6499999999,1311329.6499999999,1311329.6499999999,1276222.3799999999,1276222.3799999999,1276222.3799999999,1276222.3799999999,1276302.06,1276302.06,1276302.06,1276302.06,1276352.27,1276352.27,1276352.27,1276352.27,1242466.8600000001,1242466.8600000001,1242466.8600000001,1242466.8600000001,1242550.32,1242550.32,1242550.32,1242550.32,1242601.6599999999,1242601.6599999999,1242601.6599999999,1242601.6599999999,1209909.1399999999,1209909.1399999999,1209909.1399999999,1209909.1399999999,1209995.19,1209995.19,1209995.19,1209995.19,1210048.48,1210048.48,1210048.48,1210048.48,1178582.27,1178582.27,1178582.27,1178582.27,1178670.6100000001,1178670.6100000001,1178670.6100000001,1178670.6100000001,1178726.1299999999,1178726.1299999999,1178726.1299999999,1178726.1299999999,1148774.3,1148774.3,1148774.3,1148774.3,1148534.5900000001,1148534.5900000001,1148534.5900000001,1148534.5900000001,1148590.53,1148590.53,1148590.53,1148590.53,1120167.17,1120167.17,1120167.17,1120167.17,1119945.8899999999,1119945.8899999999,1119945.8899999999,1119945.8899999999,1120003.46,1120003.46,1120003.46,1120003.46,1092013.81,1092013.81,1092013.81,1092013.81,1091810.54,1091810.54,1091810.54,1091810.54,1091871.22,1091871.22,1091871.22,1091871.22,1065012.81,1065012.81,1065012.81,1065012.81,1065120.02,1065120.02,1065120.02,1065120.02,1064890.3,1064890.3,1064890.3,1064890.3,1038716.71,1038716.71,1038716.71,1038716.71,1038830.31,1038830.31,1038830.31,1038830.31,1038615.49,1038615.49,1038615.49,1038615.49,1013080.13,1013080.13,1013080.13,1013080.13,1013200.52,1013200.52,1013200.52,1013200.52,1013267.47,1013267.47,1013267.47,1013267.47,988114.91,988114.91,988114.91,988114.91,988242.65,988242.65,988242.65,988242.65,988312.34,988312.34,988312.34,988312.34,964083.89,964083.89,964083.89,964083.89,963977.41,963977.41,963977.41,963977.41,964050.97,964050.97,964050.97,964050.97,940580.08,940580.08,940580.08,940580.08,940726.73,940726.73,940726.73,940726.73,940803.13,940803.13,940803.13,940803.13,918716.35,918716.35,918716.35,918716.35,918716.35,918716.35,918716.35,918716.35,918716.35,918716.35,918716.35,918716.35,480215.81,368028.1,497654.09,379377.27,900429.27,900429.27,900429.27,900429.27,900429.27,900429.27,900429.27,900429.27,398656.73,303735.53000000003,430316.94,323833.19,882300.8,882300.8,882300.8,882300.8,882300.8,882300.8,882300.8,882300.8,325227.44,246815.19,367882.26,273196.09999999998,864275.49,864275.49,864275.49,864275.49,864275.49,864275.49,864275.49,864275.49,260883.03,198110.35,311392.65000000002,228557.64,847041.87,847041.87,847041.87,847041.87,847041.87,847041.87,847041.87,847041.87,204558.93,156174.74,259839.94,188612.88,830096.96,830096.96,830096.96,830096.96,830096.96,830096.96,830096.96,830096.96,156105.57,120893.92,213227,153301.71,426178.67,314284.65000000002,442971.34,325009.91999999998,813536.46,813536.46,813536.46,813536.46,153452.56,118630.46,210103.23,150342.96,354177.58,259746.42,384590.65,278647.89,797403.27,797403.27,797403.27,797403.27,151034.01999999999,116583.41,207296.04,147690.38,290236.34999999998,212395.22,331133.89,237149.94,782103.16,782103.16,782103.16,782103.16]
[1990108.71,1990108.71,1990108.71,1990108.71,1990177.76,1990177.76,1990177.76,1990177.76,1990222.75,1990222.75,1990222.75,1990222.75,1950938.99,1950938.99,1950938.99,1950938.99,1951009.02,1951009.02,1951009.02,1951009.02,1951054.35,1951054.35,1951054.35,1951054.35,1912816.22,1912816.22,1912816.22,1912816.22,1912887.49,1912887.49,1912887.49,1912887.49,1912934.6,1912934.6,1912934.6,1912934.6,1875737.92,1875737.92,1875737.92,1875737.92,1875811.31,1875811.31,1875811.31,1875811.31,1875857.98,1875857.98,1875857.98,1875857.98,1839595.06,1839595.06,1839595.06,1839595.06,1839670.53,1839670.53,1839670.53,1839670.53,1839718.17,1839718.17,1839718.17,1839718.17,1804469.48,1804469.48,1804469.48,1804469.48,1804548.59,1804548.59,1804548.59,1804548.59,1804597.3,1804597.3,1804597.3,1804597.3,1770314.13,1770314.13,1770314.13,1770314.13,1770395.12,1770395.12,1770395.12,1770395.12,1770445.45,1770445.45,1770445.45,1770445.45,1737273.27,1737273.27,1737273.27,1737273.27,1737355.54,1737355.54,1737355.54,1737355.54,1737408.09,1737408.09,1737408.09,1737408.09,1705671.1,1705671.1,1705671.1,1705671.1,1705447.8,1705447.8,1705447.8,1705447.8,1705499.77,1705499.77,1705499.77,1705499.77,1115386.98,903915.55,1169080.74,933250.17,1675292.73,1675292.73,1675292.73,1675292.73,1675345.78,1675345.78,1675345.78,1675345.78,932511.03,750340.46,1032706.94,803783.46,1645592.75,1645592.75,1645592.75,1645592.75,1645648.51,1645648.51,1645648.51,1645648.51,768644.94,616475.91,908533.65,689278.89,1616573.11,1616573.11,1616573.11,1616573.11,1616363.48,1616363.48,1616363.48,1616363.48,621757.06999999995,499491.3,794900.96,596651.81000000006,1587651.03,1587651.03,1587651.03,1587651.03,1587456.67,1587456.67,1587456.67,1587456.67,490992.12,397201.55,691224.81,513790.28,1559087.3,1559087.3,1559087.3,1559087.3,1559146.58,1559146.58,1559146.58,1559146.58,378747.85,308218.94,597071.14,439370.57,1012647.05,795822.95,1061472.24,824650.44,1530978.88,1530978.88,1530978.88,1530978.88,289168.46000000002,231453.71,516242.73,376038.86,850542.52,650804.34,942020.24,716773.31,1503284.38,1503284.38,1503284.38,1503284.38,209581.88,175797.03,442855.29,318840.58,704386.13,533180.49,832701.8,627202.51,1476088.93,1476088.93,1476088.93,1476088.93,139516.5,127339.48,376270.61,270038.94,572677.96,430538.79,732223.67,545842.02,1449710.39,1449710.39,1449710.39,1449710.39,79316.600000000006,85853.2,316338.71999999997,227167.71,454443.99,341446.83,639737.92000000004,471793.02,1426320.09,1426320.09,1426320.09,1426320.09,71065.13,77237.100000000006,264541.67,189290.09,350203.8,267220.2,555430.13,405142.23,938364.03,720023.25,983630.02,748499.04,62431.29,67997.3,217374.18,154482.79999999999,261669.03,199655.19,474750.34,342480.7,778112.54,586808.55000000005,861798.58,648142.96,57946.36,61689.87,176560.59,125388.57,184249.81,142552.34,403295.47,287513.40000000002,637297.07999999996,476451.44,753341.88,560344.59,52961.66,55489.33,141206.72,100897.93,117036.42,94517.27,339706.57,239780.47,512753.28,380552.84,655407.66,482120.42,47612.58,48713.59,111234.78,80914.710000000006,60075.12,58126.27,283691.52000000002,199362.12,403375.66,297778.5,567379.01,412745,45961.01,46537.49,108733.08,79056.009999999995,53566.67,56715.68,234807.9,164306.49,308142.21000000002,228508.72,488494.9,351541.81,45261.3,45723.83,109485.89,79872.83,51679.42,53956.800000000003,197113.24,137745.70000000001,232203.01,173431.66,426445.17,303789.59999999998]
[2456814.25,2456814.25,2456814.25,2456814.25,2456880.73,2456880.73,2456880.73,2456880.73,2456923.89,2456923.89,2456923.89,2456923.89,2416381.42,2416381.42,2416381.42,2416381.42,2416448.39,2416448.39,2416448.39,2416448.39,2416492.02,2416492.02,2416492.02,2416492.02,2376961.1,2376961.1,2376961.1,2376961.1,2377028.98,2377028.98,2377028.98,2377028.98,2377074.79,2377074.79,2377074.79,2377074.79,2338570.62,2338570.62,2338570.62,2338570.62,2338640.54,2338640.54,2338640.54,2338640.54,2338684.67,2338684.67,2338684.67,2338684.67,1657192.33,1387884.59,1736007.25,1433189.12,2301123.98,2301123.98,2301123.98,2301123.98,2301168.96,2301168.96,2301168.96,2301168.96,1399344.3,1162363.6499999999,1547654.1,1245743.99,2264529.7000000002,2264529.7000000002,2264529.7000000002,2264529.7000000002,2264575.5699999998,2264575.5699999998,2264575.5699999998,2264575.5699999998,1165130.98,962297.55,1374127.86,1096571.18,2228742.1800000002,2228742.1800000002,2228742.1800000002,2228742.1800000002,2228789.44,2228789.44,2228789.44,2228789.44,953354.31,784047.64,1214745.8500000001,961769.41,2193835.44,2193835.44,2193835.44,2193835.44,2193884.8199999998,2193884.8199999998,2193884.8199999998,2193884.8199999998,770400.48,631790.52,1068819.1200000001,839483.47,2159885.09,2159885.09,2159885.09,2159885.09,2159933.16,2159933.16,2159933.16,2159933.16,617147.81999999995,505150.16,936272.7,729571.73,1510492.02,1233282.57,1582631.2,1278800.3999999999,2127825.25,2127825.25,2127825.25,2127825.25,481338.56,395076.5,821624.37,641211.68999999994,1283485.4099999999,1031733.53,1420199.79,1138893.98,2096383.38,2096383.38,2096383.38,2096383.38,357664.31,296528.68,717137.22,560666.21,1074844.71,859007.54,1268706.1499999999,1009396.8,2064662.86,2064662.86,2064662.86,2064662.86,245032.52,208207.82,626262.71,486413.86,884406.92,710174.53,1128368.82,890414.04,2033207.51,2033207.51,2033207.51,2033207.51,143493.4,130073.08,543451.01,418322.9,715941.53,580871.46,998657.66,781422.74,2002219.97,2002219.97,2002219.97,2002219.97,127094.55,114523.75,466994.64,356222.03,571890.34,463207.45,879124.95,682028.1,1417895.51,1141352.1499999999,1486833.73,1195610.07,108812.22,97553.78,392429.84,296448.59000000003,434388.06,351947.02,762663.89,589855.76,1189895.8600000001,951114.45,1318559.55,1051281.31,93534.13,84492.98,325257.12,243886.32,310197.28999999998,253386.21,657952.57999999996,507241.91,984108.29,781388.80000000005,1163746.32,919519.59,80620.83,73556.69,265002.40000000002,197706.29,198627.06,166663.64000000001,565231.75,432240.31,799593.06,633661.73,1022121.44,799991.72,69926.720000000001,64598.87,211583.08,157691.46,99446.2,91117.3,481736.33,364291.4,635507.06000000006,504633.48,892180.3,692199.95,61255.14,57251.17,165089.46,123766.63,84626.54,77475.02,405923.66,303677.06,493000.71,389178.06,775339.07,595702.68000000005,58292.71,54839.87,130683.06,99873.44,78845.509999999995,71966.84,345868.82,256858.95,374582.03,296284.08,682782.38,519892.28,56067.97,53102.63,101790.57,80695.88,74056.27,68101.570000000007,292044.53999999998,215906.5,268406.09999999998,214812.67,599090.72,453253.56,54332.97,51753.99,77884.37,65478.83,70047.02,64854.77,243685.61,179978.93,173151.07,143531.26999999999,522415.89,392784,52994.18,51417.3,58984.480000000003,54200.9,66849.56,62322.41,200839.94,149044.19,88533.05,81653.23,453741.45,338299.11,54301.18,53813.16,60122.96,55529.55,64319.12,60451.89,163402.28,122853.98,83274.48,76806.429999999993,391022.03,289476.09999999998,55785.99,56272.41,61512.78,57039.98,62545.2,59230.44,131366.49,101310.75,79007.210000000006,72805.61,334485.93,246304.3]
[2566599.87,2566599.87,2566599.87,2566599.87,2566665.7200000002,2566665.7200000002,2566665.7200000002,2566665.7200000002,2566708.35,2566708.35,2566708.35,2566708.35,2525937.6800000002,2525937.6800000002,2525937.6800000002,2525937.6800000002,2526003.79,2526003.79,2526003.79,2526003.79,2526047.0299999998,2526047.0299999998,2526047.0299999998,2526047.0299999998,2486252.44,2486252.44,2486252.44,2486252.44,2486319.4,2486319.4,2486319.4,2486319.4,2486364.77,2486364.77,2486364.77,2486364.77,1785983.98,1504236.4,1870717.53,1553378.7,2447606.61,2447606.61,2447606.61,2447606.61,2447650.06,2447650.06,2447650.06,2447650.06,1510636.16,1261787.75,1670330.6,1355175.19,2409676.85,2409676.85,2409676.85,2409676.85,2409721.16,2409721.16,2409721.16,2409721.16,1260199.07,1046347.2,1485573.45,1196470.25,2372590,2372590,2372590,2372590,2372635.21,2372635.21,2372635.21,2372635.21,1033247.56,853451.96,1315550.33,1051679.18,2336269.9,2336269.9,2336269.9,2336269.9,2336316.2999999998,2336316.2999999998,2336316.2999999998,2336316.2999999998,841263.37,696475.37,1159591.18,919942.21,2300830.9,2300830.9,2300830.9,2300830.9,2300879.46,2300879.46,2300879.46,2300879.46,675196.97,557995.91,1017010.44,803173.66,1627127.52,1336974.55,1704692.85,1389160.16,2266396.85,2266396.85,2266396.85,2266396.85,529091.68999999994,438629.62,895151.84,708811.43,1385163.75,1123365.69,1532357.39,1239802.3700000001,2233852.1800000002,2233852.1800000002,2233852.1800000002,2233852.1800000002,394214,329971.84999999998,783606.42,620812.19999999995,1162740.33,937950.07,1372000.09,1101904.1599999999,2202074.9,2202074.9,2202074.9,2202074.9,271840.28000000003,233124.15,687990.71,540393,958806.05,780370.67,1222614.2,974402.24,2169810.4700000002,2169810.4700000002,2169810.4700000002,2169810.4700000002,160885.56,146787.46,598987.21,466449.01,781432.31,640276.02,1084389.1299999999,857394.83,2137790.61,2137790.61,2137790.61,2137790.61,142828.18,129608.13,516451.6,398825.48,626120.62,512284.56,956770.47,751661.71,1530829.32,1243621.07,1605364.65,1302925.31,122387.48,110515.42,435462.1,333107.53000000003,476991.59,390538.48,832055.24,652873.04,1286960.2,1038653.61,1426343.97,1148371.07,104548.15,93999.26,361835.14,274408.3,341327.47,281578.02,718916.24,562245.01,1066721.97,855621.5,1261837.8400000001,1007451.38,89709.85,81324.259999999995,295834.25,223085.65,219365.4,185605.34,620821.44999999995,480362.08,868526.36,697284.27,1110687.3999999999,878949.28,77256.91,70784.12,236996.63,178308.03,110458.51,101804.53,530751.06000000006,406311.51,693929.43,557116.82999999996,972619.06,762561.39,67030.080000000002,62236.89,185218.79,139846.96,93681.51,86161.87,448245.41,339542.7,539290.15,430538.52,846153.31,658015.81000000006,63415.64,59355.01,146721.85999999999,112601.58,87147.41,79884.83,383105.86,288193.17,410688.62,328514.53999999998,746817.98,576762.43999999994,60435.040000000001,56935.33,113728.61,89946.31,81274.8,74299.179999999993,323872.65000000002,242216.39,294269.34000000003,237955.15,655160.56000000006,502462.51,58215.27,55213.39,86328.19,72017.47,76420.929999999993,70394.98,270949.99,202239.35,190085.79,158741.51999999999,573351.98,436418.89,56503.51,53899.15,64039.54,58097.69,72375.509999999995,67129.42,223629.93,167362.63,97025.53,89884,498894.34,376612.27,55207.27,53616.71,61241.83,56421.01,69173.11,64605.73,181950.76,137553.78,91023.74,84087.01,430880.57,322874.05,56584.79,56093.2,62436.3,57818.5,66661.78,62767.93,145806.82999999999,112560.07,85710.57,79210.89,368909.45,274871.03999999998,58147.81,58636.04,63894.57,59404.6,64934.98,61601.08,115175.45,92257.72,81438.86,75221.11,313218.33,232573.09]
[1825357.31,1555067.5,2146693.71,1800342.17,3213280.02,3213280.02,3213280.02,3213280.02,3213319.67,3213319.67,3213319.67,3213319.67,1524965.74,1317311.67,1915305.58,1597174.78,3170377.15,3170377.15,3170377.15,3170377.15,3170417.44,3170417.44,3170417.44,3170417.44,1270976.1000000001,1095620.45,1701789.27,1422981.76,3128118.29,3128118.29,3128118.29,3128118.29,3128160.88,3128160.88,3128160.88,3128160.88,1032778.27,889827.01,1505219.44,1264677.83,2328324.9500000002,1973167.14,2438651.7000000002,2064806.99,3086614.34,3086614.34,3086614.34,3086614.34,821489.05,710409.77,1347182.24,1127386.77,1993525.2,1681773.82,2203701.9500000002,1855005.74,3045691.98,3045691.98,3045691.98,3045691.98,624766.43000000005,545317.56000000006,1201807.83,998892.74,1684694.11,1427497.61,1984723.47,1660738.91,3005603.26,3005603.26,3005603.26,3005603.26,442407.23,394343.37,1065002.93,879127.26,1410443.16,1206869.47,1780875.06,1481103.02,2966288.63,2966288.63,2966288.63,2966288.63,274370.12,257206.78,936777.46,767886.6,1173400.23,1002018.27,1591462.33,1324014.3400000001,2927911.92,2927911.92,2927911.92,2927911.92,245394.22,229051.09,817128.52,665206.68000000005,951772.93,812568.52,1416264.36,1181124.93,2194114.61,1853948.73,2301145.2999999998,1942928.89,211440.72,196553.87,697532.7,563424.64,735438.25,628845.03,1251856.78,1038078.91,1859459.58,1563747.85,2061350.69,1730263.34,180601.51,167215.45000000001,586563.12,470262.01,534735.34,460552.07,1100485.3999999999,904878.76,1554974.21,1308884.01,1840454.81,1535645.58,153985.65,142098.20000000001,485632.37,386767.19,350196.57,308096.12,958571.42,781225.06,1282263.78,1082804.7,1635422.97,1355984.85,130462.68,120015.13,393687.72,311902.03999999998,181846.16,171197.34,826597.31,667528.15,1040503.83,874073.5,1446819.47,1194613.3600000001,110030.35,101074.84,310517.5,245405.51,152922.04,143634.04,704488.98,563606.63,815897.14,682585.05,1273591.4099999999,1046640.08,102077.54,93435.81,248466.66,197229.11,142223.57999999999,133206.94,609588.72,484891.8,629375.73,528000.25,1138444.94,929929.65,94788.91,86450.86,192584.69,154739.87,132221.78,123357.08,521738.46,412868.31,457104.25,387190.9,1012754.7,820891.77,88593.06,81368.31,143248.39000000001,118606.65,123152.54,114551.03,441396.73,347993.8,298852.7,259883.79,894322.38,719029.33,83202.820000000007,77056.88,100187.6,88015,114735.09,106551.95,367814.18,289526,154367.1,145678.06,783400.41,624655.34,78636.58,73589.259999999995,93730.76,82919.199999999997,106892.83,98920.42,300653.61,237025.27,143588.42000000001,135113.53,679211.61,539337.72,74893.039999999994,70662.899999999994,88072.46,78570.149999999994,99815.35,92183.1,240204.07,190659.19,133587.34,125357.8,585239.82999999996,461608.07,71912.509999999995,68284.070000000007,83252.179999999993,74869.27,93572.17,86315.85,186337.08,150130.4,124594.01,116633.49,498923.73,391244.36,69825.52,66741.05,79304.160000000003,72123.61,88502.93,82325.710000000006,139260.54999999999,116377.37,116537.96,108784.61,421182.71999999997,329240.7,68354.47,65723.490000000005,75967.520000000004,69965.399999999994,84410.34,79092.210000000006,98612.22,88172.4,109347.44,102138.85,350515.31,273885.88,67405.61,65812.649999999994,73395.490000000005,68597.490000000005,81323.87,76743.570000000007,93673.03,84501.6,103061.25,96133.5,286941.96999999997,225076.5,69158.880000000005,68671.75,74867.28,70356.070000000007,79044.06,75197.8,89628.06,81649.97,97604.160000000003,91273.1,229897.61,182402.75,71114.55,71584.98,76641.17,72312.259999999995,77672.570000000007,74413.39,86473.42,79634.17,93435.839999999997,87494.57,179643.44,145693.53]
[946642.68,852342.58,1770287.97,1527558.66,2383002.13,2108469.9700000002,2802484.03,2425134.42,4055759.52,4055759.52,4055759.52,4055759.52,686330.97,629297.72,1581194.3,1357379.65,2035224.53,1797014.58,2528791.5699999998,2192375.9700000002,4009292.01,4009292.01,4009292.01,4009292.01,443343.09,423587.49,1402510.65,1197720.57,1706696.72,1505171.1,2273435.06,1979835.6,3963449.51,3963449.51,3963449.51,3963449.51,399926.95,380950.56,1234107.47,1048464.25,1397051.68,1232631.0900000001,2053972.89,1779052.44,3077046.47,2683899.48,3227005.33,2813011.52,346636.2,329194.55,1061073.94,895791.77,1089004.3600000001,962457.85,1827781.47,1572403.6,2617878.41,2274916.7599999998,2901736.47,2517694.5699999998,298215.90000000002,282250.21000000002,899890.02,755017.22,801493.42,713060.44,1614330.29,1378921.89,2199059.12,1927868.09,2601349.4,2246318.54,254383.25,240034.11,750489.01,626091.72,534371.56999999995,484038.87,1413538.33,1198399.54,1838313.45,1604527.71,2324330.4900000002,2003806.49,215047.9,202296.77,612749.74,508626.36,287487.95,275140.71000000002,1225362.1299999999,1031438.78,1499840.43,1303946.45,2069420.46,1781514.81,180152.38,169021.61,486683.46,402634.11,241507.37,230675.41,1050543.5900000001,877783.03,1183545.25,1025746.58,1840345.2,1573393.16,167399.69,156511.39000000001,394175.56,327242.27,225860.49,215139.15,918313.98,764019.38,922610.57,801875.42,1662057.05,1413498.19,154933.07,144355.54999999999,308429.78000000003,258429.16,210396.44,199836.17,794066.75,658148.59,678253.21,594598.81000000006,1493424.98,1263303.75,144049.22,133816.20000000001,230943.58,197191.4,196129.56,185830.65,678054.1,560287.55000000005,450541.36,403958.55,1332649.27,1121022.8,133758.76,123833.87,160745.04,142699.96,182571.28,172455.15,570185.77,470394.62,239379.25,229276.1,1180701.1100000001,987536.06,124240.99,114756.71,149279.76,132132.22,169723.64,159874.63,470325.45,388145.31,223222.64,213377.61,1037223.24,862453.97,115492.93,106432.96000000001,138668.96,122190.87,157644.18,148198.91,378412.79999999999,313709.46000000002,207962.71,198532.63,902403.64,745954.99,107607.24,98940.55,128798.56,113286.26,146467.76,137261.16,294309.27,246549.89,193552.4,184366.65,775940.68,637725.18999999994,100989.24,93577.87,120190.99,106320.4,136439.53,127616.26,218420.2,187030.38,180087.1,171124.5,657429.63,537330.01,95363.19,89147.47,112561.95,100231.18,127262.58,119025.05,150106.54,134588.59,167356.26,158566.03,547130.23,445158.82,90721.35,85752.16,105749.39,94985.51,118853.21,110915.98,139702.62,125113.55,155387.37,146949.71,444405.73,364598.96,87042.91,82963.41,99920.38,90649.63,111409.97,103938.83,130313.75,116698.15,144391.07999999999,136350.16,354547,292301.61,84264.53,80805.48,95136.17,87098.71,105001.86,98044.06,121925.41,109197.99,134670.41,127064.28,273140.44,228035.81,82517.5,79635.73,91372.78,84667.33,99917.8,94171.36,114780.38,103852.04,126041.06,118772.35,200483.19,172201.89,81523.44,79153.570000000007,88381.01,82975.45,96024.11,91201.23,108820.89,99411.04,118548.29,112065.35,135663.13,123581.77,81211,79806.5,86396.34,82219.62,93360.33,89311.1,104049.26,96069.17,112264.97,106191.65,127515.79,116461.84,81434.460000000006,81057.8,85659.19,82307.039999999994,88867.6,85918.91,96644.36,90702.81,102554.38,97889.74,114327.62,105665.36,82087.34,82384.23,85549.119999999995,82810.899999999994,86270.21,84099.44,91463.58,87281.7,95878.24,92250.65,104249.42,97571.35]
[438552.05,421726.27,1202299.21,1047555.61,852303.64,792459.69,2178021.9700000002,1918730.55,2762743.4,2487815.65,3463494.29,3102990.27,372553.83,357437.8,989881.83,859387.3,476555.25,462480.18,1899671.33,1663592.68,2265110.9900000002,2033597.14,3113288.4,2774097.7,312681.75,299392.71999999997,792662.24,686300.27,401662.79,389055.41,1637758.18,1425276.19,1796497.89,1609217.58,2781152.79,2463923.4,291921.58,278767.13,649634.29,564415.78,377073.84,364646.03,1441513.33,1250184.8,1411843.93,1267981.21,2524950.9500000002,2228220.4500000002,272067.76,259115.76,516168.44,451839.26,353352.4,340978.41,1255948.7,1085800.1499999999,1049565.54,949562.48,2281542.13,2005465.86,253158.1,240322.44,392050.89,348350.51,330454.5,318250.42,1080892.1499999999,932014.99,709332.75,653491.11,2050617.97,1795334.14,235058.89,222533.63,277187.53999999998,253998.85,308440.17,296378.09999999998,916059.32,788480.57,390337.1,378971.94,1831713.89,1597447.93,217848.78,205623.71,257368.27,234823.93,287315.42,275477.25,761223.66,656360.05000000005,365158.81,354055.65,1624534.5,1411343,201689.94,189821.39,238698.67,216922.74,267113.08,255573.71,617841.86,535185.72,341091.85,330001.71999999997,1428754.67,1236762.71,186786.04,175323.13,221402.41,200323.12,248331.5,237044.56,485651.21,424146.03,317964.37,307068.90000000002,1244746.73,1073980.1000000001,172457.3,161477.15,204394.08,184405.01,230046.07999999999,219069.99,362418.11,321932.08,295325.78000000003,284710.64,1071130.17,921659.19,160040.22,149601.1,189412.68,170290.22,213232.65,202724.98,249061.93,229234.87,274359.03999999998,264222.40999999997,906501.14,778411.63,148433.42000000001,138474.59,175546.29,157440.07,197412.08,187261.24,230547.66,211612.84,254476.47,244276.09,751606.01,644802.18000000005,137869.81,128577.23,162493.19,145691.12,182554.34,172878.22,213009.03,194884.09,235142.86,225442.18,606097.12,520491.75,128348.25,119692.61,150607.06,134768.1,168749.08,159741.6,196543.76,179653.83,216978.01,208017.46,470123.78,405564.01,120007.59,111920.93,139711.9,125276.86,156165.79999999999,147591.24,181146.66,165367.81,200003.13,191538.09,343501.57,299876.33,113132.36,106464.92,130405.06,117931.88,145020.85,137084.07999999999,167356.13,152666.97,184312.04,176319.89,225941.69,203083.18,107566.18,102202.27,122454.95,111769.57,135113.72,128091.48,154841.72,141440.67000000001,169738.55,162147.38,201434.88,179997.98,99168.62,95672.92,110182.07,102294.29,119783.31,113967.11,135061.64000000001,124370.83,146555.22,140372.18,165612.92000000001,154051.32,93238.62,90955.85,100942.94,95437.13,107862.94,103352.95,119147.39,111044.1,127543.96,122733.84,141799.13,132767,89490.880000000005,87929.53,94596.72,90820.09,99138.79,95867.73,106858.25,100926.97,112837.6,109348.83,122500.37,115889.76,87774.59,86830.54,90672.58,88487.94,93299.51,91503.9,97937.98,94561.51,101612.94,99145.76,107571.81,103432.31,87712.05,87341.46,88785.41,87942.71,90122.93,89247.49,92140.72,90645.93,93876.6,92901.16,96551.44,94563.54,91475.67,91243.69,91991.09,91491.85,93047.77,92340.19,94104.98,93164.4,95242.59,94362.74,97130.14,95737.66,95819.57,95747.61,96083.88,95833.75,96635.27,96145.279999999999,96953.29,96470.62,97344.06,97114.58,98259.94,97742.93,100523.46,100548.25,100748.37,100502.73,100985.55,100516.74,100513.59,100500.52,100936.22,100938.49,100541.4,100500.35]
[405990.19,390546.9,1067199.6599999999,932228.98,516119.84,501785.04,2036337.7,1793372.56,2420097.04,2182757.4700000002,3324451.42,2976574.45,341011.56,327331.24,855619.92,745634.49,435134.68,422396.48,1757155.99,1538256.66,1921006.48,1728813.24,2971505.7,2645875.41,318756.5,305262.71999999997,702713.47,614391.1,409127.75,396319.45,1548573.38,1351359.83,1511736.56,1364046.9,2700021.43,2395241.04,297317.95,283981.62,559621.51,492998.12,383656.13,371056.63,1351346.1,1175849.05,1126038.49,1023270.16,2442112.59,2158374.7000000002,276827.67,263721.12,426283.22,381077.57,359096.39,346572.61,1164934.68,1011186.89,762999.5,705628.21,2197098.16,1934572.29,257325.22,244357.91,302479.99,278411.09999999998,335396.21000000002,323071.39,989162.21,857261.07,422325.27,410678.31,1964664.7,1723503.91,238684.33,226061.6,281142.48,257773.28,312635.95,300480.05,823773.93,713749.9,395168.19,383714.64,1744377.34,1524817.75,220985.89,208696.5,260713.4,238050.42,290820.53999999998,278920.11,668546.14,581956.54,369071.59,357918.61,1535951.66,1338042.1599999999,204415.04,192516.34,241517.92,219692.13,270004.74,258438.52,525137.05000000005,461411.93,344181.26,333063.03000000003,1339090.95,1162960.51,189164.48,177706.82,223770.92,202701.4,250681.51,239399.81,393148.87,351121.01,320282.27,309391.88,1154104.21,999782.08,174538.49,163601.5,206350.63,186446.09,231904.36,220968.11,270302.32,249831.13,296924.34999999998,286350.84999999998,979639.18,847200.49,161851.37,151501.37,190979.19,172012.78,214604.75,204186.49,250147.24,230476.35,275232.17,265192.12,814314.16,703856.13,149998.17000000001,140172.03,176758.51,158893.56,198324.43,188308.79,231025.11,212342.46,254644.41,244564.31,658855.17000000004,570274.13,139262.12,130155.17,163416.57999999999,146949.95000000001,183084.53,173595.09,212957.77,195176.49,234665.71,225144.98,513009.32,446212.45,129650.72,121228.76,151339.38,135902.71,168995.26,160235.25,196071.76,179634.94,215963.27,207257.5,376944.27,331757.34999999998,121312.79,113496.44,140339.85,126397.91,156234.91,147951.32,180367.78,165133,198580.9,190427.45,250509.69,226808.44,114481.49,108103.34,131004.36,119073.77,144985.5,137393.34,166351.14000000001,152299.65,182578.92,174953.32,223927.89,201265.1,104291.6,99777.52,116846.82,107830.38,127485.33,121622.36,144095.59,132812.51999999999,156638.24,150246.70000000001,184943.38,165327.37,96844.59,94103.06,105718.94,99363.48,113454.44,108768.19,125764.63,117150.77,135025.41,130043.52,150403.32999999999,141087.95000000001,91854.63,90219.45,97653.3,93530.73,102885.82,99470.22,111365.78,105289.24,117672.02,114052.02,128429.17,121604.46,89060.94,88033.78,92535.93,89964.5,95575.9,93347.71,100700.92,96690.1,104766.94,102439.48,111140.69,106676.45,88277.22,87774.720000000001,89817.77,88663.16,91098.13,90201.81,93409.5,91751.52,95356.04,93984.02,98290.66,96203.85,91790.73,91539.74,92518.12,91948.53,93485.58,92840.19,94859.39,93836.91,96128.03,95483.9,97938.97,96549.87,95937.52,95778.61,96144.95,95884.38,96828.79,96327.58,97250.559999999998,96767.48,97936.17,97386.16,98959.43,98190.68,100557.11,100507.92,100500.56,100500.13,100850.68,100547.68,100557.65,100512.82,100502.12,100634.46,100545.49,100689.37,0,0,0,0,0,0,0,0,0,0,0,0]
[371345.31,357371.77,922520.8,808753.01,471036.35,458062.51,1883492.76,1658210.94,2052728.41,1855734.98,3172814.21,2838832.47,347533.89,333640.46999999997,759116.49,667836.73,443123.09,430186.54,1662046.37,1458891.82,1617594.44,1466060.9,2885299.51,2572474.5299999998,324531.39,310851.63,605994.35,536963.71,416169.4,403177.26,1452306.28,1271448.19,1207009.03,1101553.93,2611933.8199999998,2320515.3199999998,302386.44,288889.96999999997,462872.08,416131.08,389770.9,377020.18,1254068.93,1095527.25,820276.32,761337.62,2352238.96,2082443.41,281231.3,267995.51,329703.95,304942.40000000002,364327.44,351677.7,1066787.03,930601.56,456499.5,444588.35,2105539.92,1857551.9,261123.41,248052.37,306626.74,282370.53999999998,339799.12,327380.53000000003,890303.19,776576.27,427408.88,415666.98,1871547.75,1645535.42,241931.66,229242.67,284614.51,261122.63,316270.76,304051.03999999998,724374.86,633140.09,399233.99,387720.36,1649836.3,1446046.71,223755.78,211435.53,263583.43,240863.33,293769.06,281838.64,568808.56999999995,501770.23,372214.97,361043.49,1440166.62,1258638.9099999999,206779.5,194886.7,243864.01,222055.18,272336.90999999997,260779.08,425434.63,381957.43,346487.29,335374.62,1242221.1299999999,1083088.97,191160.8,179749.56,225633.61,204649.60000000001,252428.26,241192.33,293672.33,272475.56,321746.74,310900.58,1056190.17,919490.38,176223.53,165376.04,207776.26,188041.38,233123.64,222273.19,271209.44,250905.72,297607.81,287120.83,880825.05,766637.44,163239.57,153032.18,191972.9,173259.67,215283.11,205008.12,250357.6,230942.83,275101.19,265210.87,714729.52,623166.12,151152.45000000001,141516.25,177405.3,159885.79999999999,198544.44,188722.43,230620.31,212298.88,253793.58,243890.5,558727.04,489670.09,140274.54,131413.51,163803.45000000001,147781.12,182949.33,173708.33,212047.14,194724.57,233187.85,223908.18,412614.94,365962.87,130615.52,122488.96000000001,151579.01,136654.51999999999,168619.77,160171.87,194783.55,178919.93,213987.59,205602.01,276565,252118.33,122320.05,114837.07,140514.09,127178.94,155720.92000000001,147795.62,178809.51,164243.88,196230.75,188458.32,248309.7,224806.07,110116.51,104745.66,124028.88,113985.66,135800.91,129408.36,153791.07,141959.56,167472.4,161094.28,205615.95,184797.38,100973.11,97338.18,111114.3,103824.33,119662.58,114999.16,133047.43,123955.44,143154.5,138004.1,167959.44,150219.35,94569.87,92602.68,101249.53,96466.27,107070.85,103543.94,116335.86,109852.89,123305.8,119556.3,134908.62,127897.71,90636.02,89656.51,94507.06,91783.75,98032.88,95724.09,103676.02,99649.69,107867.78,105451.57,115086.84,110494.77,88904.03,88408.62,90757.119999999995,89384.34,92302.55,91111.54,94845.97,92745.41,97008.97,95836.96,100109.46,97780.26,92177.49,91808.24,93308.32,92465.26,94171.65,93552.08,95766.5,94639.74,97190.7,96143.7,99191.14,97734.38,96074.2,95954.78,96420.91,96151.77,96980.78,96588.84,97645.88,97143.26,98399.84,98120.24,99260.17,98530.33,100632.38,100553.91,100501.88,100503.38,100775.62,100501.58,100500.07,100519.38,100688.81,100501.46,100762.83,100679.18,0,0,0,0,0,0,0,0,0,0,0,0,0,0,0,0,0,0,0,0,0,0,0,0]
[378347.31,364157.73,819116.98,724705.22,479593.47,466417.97,1782134.42,1573078.54,1729619.37,1574367.79,3081267.98,2760438.53,353715.71,339628.34,655330.53,584054.48,450639.44,437522.26,1559360.09,1373071.02,1292885.74,1184726.8500000001,2791674.11,2492592.9300000002,329932.96999999997,316089.61,502017.88,453613.94,422689.81,409534.35,1348424.47,1185082.25,880979.99,820570.37,2516336.69,2239256.2999999998,307048.28999999998,293417.59000000003,358898.29,333412.15999999997,395312.01,382434.67,1149142.47,1008756.37,493220.22,481018.92,2254764.21,1999926.84,285211.94,271875.98,334061.53999999998,309111.83,368954.34,356206.22,960986.49,843602.65,461843.25,449839.45,2006321.17,1773926.43,264486.06,251343.34,310224.67,285841.34000000003,343570.91,331089.65000000002,783798.6,689523.88,431644.55,419836.4,1770719.55,1560951.17,244753.25,232032.56,287544.55,263994.09000000003,319277.03999999998,307026.87,617379.17000000004,546248.16,402444.74,390902.44,1547579.84,1360694.8,226104.27,213790.62,265910.78999999998,243202.8,296083.34000000003,284159.23,461521.23,415394.53,374484.95,363330.07,1336655.3500000001,1172682.8500000001,208696.13,196852.17,245628.32,223915.84,273984.5,262477.17,318194.38,296372.01,347842.31,336775.37,1137550.6100000001,996633.65,192682.88,181367.07,226874.96,206066.51,253437.84,242295.97,294337.02,273317.63,322176.59000000003,311421.17,950395.56,832579.86,177410.43,166708.07,208542.05,189078.92,233553.46,222844.03,271132.03000000003,251099.94,297170.65999999997,286824,774052.19,679422.71,164139.73000000001,154135.17000000001,192310.06,173959.32,215168.73,205097.58,249571.18,230525.09,273828.08,264147.27,607194.66,535874.48,151848.38,142464.98000000001,177423.63,160363.98000000001,197996.75,188432.5,229239.32,211398.75,251816.7,242152.98,450710.92,402564.17,140871.57,132321.5,163605.68,148145.22,182090.13,173164.44,210202.93,193463.54,230623.81,221651.19,304435.68,279349.17,131204.72,123440.87,151273.76999999999,136981.44,167558.71,159493.67000000001,192597.75,177438.45,210956.46,202962.49,274118.02,249880.58,116738.29,110425.48,132040.31,120817.11,144846.79,138171.70000000001,164292.32999999999,152046.59,178956.49,172471.88,228044.77,206444.49,105669.26,101340.59,116880.68,108790.28,126367.07,121215.63,140864.78,131330.16,151911.45000000001,146824.23000000001,186755.14,167836.05,97677.33,94944.56,105341.63,99823.02,111745.05,108312.88,121820.34,114976.56,129428.23,125551.34,150654.6,134826.89000000001,92449.29,91266.32,96908.7,93715.99,100793.53,98439.47,106977.88,102650.55,111630.2,109127.48,119414.12,114734.61,89693.3,89367.43,91646.03,90315.55,93473.75,92266.16,96293.52,94307.839999999997,98380.88,97162.62,102079.36,99708.76,92600.1,92269.81,93964.15,92952.639999999999,95052.01,94173.48,96799.66,95278.64,98388.39,97571.11,100474.65,98793.89,96264.71,96042.22,96944.12,96444.21,97348.62,97033.68,98154.8,97612.63,99003.61,98315.01,99976.06,99212.79,100573.34,100598.42,100502.1,100562.83,100614.11,100500.76,100501.13,100569.24,100689.36,100809.84,100506.08,100500.22,0,0,0,0,0,0,0,0,0,0,0,0,0,0,0,0,0,0,0,0,0,0,0,0,0,0,0,0,0,0,0,0,0,0,0,0]
[384992.35,370605.65,707967.07,634244.53,487660.26,474300.59,1672912.51,1481206.27,1383986.15,1273245.27,2982270.33,2675504.42,359500.44,345241.19,543787.46,493893.57,457606.86,444329.63,1448724.3,1280470.44,945558.29,883651.18,2690444.61,2406062.71,334896.38,320915.44,390283.12,363927.94,428600.5,415305.45,1236511.8500000001,1091902.19,532254.27,519877.48,2412984.16,2151242.4300000002,311249.87,297514.23999999999,363505.81,337824.51,400204.53,387228.22,1036139.29,915170.95,498887.35,486588.37,2149419.1,1910586.01,288713.93,275310.62,337821.38,312744.81,372898.29,360082.89,847077.19,749802.48,466277.5,454210.39,1899128.94,1683419.6,267376.81,254197.43,313227.36,288782.49,346657.85,334147.65000000002,669199.88,595728.11,434959,423115.79,1661867.16,1469480.17,247103.59,234389.56,289874.68,266336.62,321587.45,309343.75,502303.1,452670.14,404708.72,393172.52,1437242.94,1268445.98,227947.04,215684.17,267589.57,244975.13,297641.25,285766.21000000002,346118.05,322355.24,375717.03,364620.04,1224939.76,1079756.01,210073.54,198329,246695.41,225173.09,274813.61,263406.39,318657.17,297017.92,348064.31,337090.44,1024552.36,903135.61,193624.91,182462.94,227360.49,206835.17,253553.39,242563.03,293896.13,273162.8,321357.02,310747.96000000002,836128.97,738536.47,178036.09,167541.32999999999,208565.22,189488.32,233095.16,222588.64,269947.65999999997,250304.1,295473.86,285327.89,658794.9,585109.21,164507.15,154771.48000000001,191929.72,174061.28,214187.56,204386.64,247694.43,229140.42,271305.19,261899.53,491201.86,441555.64,152054.20000000001,142991.67999999999,176768.07,160291.79999999999,196624.68,187387.4,226808.75,209578.22,248628.16,239271.17,334308.49,308544.24,141017.95000000001,132849.85,162772.31,148002.10999999999,180443.07,171905.82,207342.02,191321.62,226876.09,218282.74,301737.82,276868.55,124205.75,117690.36,141138.01,129069.58,154814.70000000001,148059.21,175921.56,163191.62,191354.19,184683.48,251736.56,229470.03,111039.72,105938.05,123348.06,114311.01,133669.9,128288.91,149344.31,139500.10999999999,161154.54999999999,156003.34,207177.16,187536.72,101222.62,97964.02,109660.97,103575.51,116800.6,112923.45,127712.54,120536.15,136054.29999999999,132292.85999999999,167538.99,150554.98000000001,94531.17,92711.81,99688.01,95962.55,103919.53,101734.67,110644,106076.57,115721.7,113134.16,133347.56,119434.03,90616.7,90216.15,92864.41,91256.06,94820.18,93634.44,97935.69,95755.75,100279.34,99018.59,104259.37,101902.36,93157.97,93047.76,94520.43,93622.26,95829.86,94957.43,97778.52,96424.69,99216.01,98366.39,101836.07,100144.35,96473.93,96325.81,97297.62,96685.33,97880.34,97347.08,98749.78,97868.79,99704.01,99278.27,100671.2,99706.66,100560.86,100500.19,100742.73,100621.08,100642.11,100662.58,100579.81,100681.22,100794.44,100501.18,100635.09,100635.49,0,0,0,0,0,0,0,0,0,0,0,0,0,0,0,0,0,0,0,0,0,0,0,0,0,0,0,0,0,0,0,0,0,0,0,0,0,0,0,0,0,0,0,0,0,0,0,0]
[391135.23,376576.05,588353.37,536761.52,495050.96,481529.73,1554754.1,1381659.58,1013956.53,950706.49,2874299.05,2582675.91,364740.09,350337.18,423817.8,396787.3,463834.48,450423.45,1329128.48,1180212.94,573879.97,561302.07999999996,2580168.87,2311604.71,339291.94,325205.26,395113.47,368549.06,433732.98,420327.69,1115648.58,991114.99,538190.91,525718,2300547.12,2055301.21,314864.75,301059.49,367393.06,341582.85,404283.15,391241.21,914205,814037.43,503489.22,491123.74,2034957.66,1813325.96,291637.62,278204.99,340865.4,315732.82,376028.32,363181.44,724303.44,648558.54,469636.35,457539.62,1782840.94,1585053.08,269690.56,256515.15,315509.69,291079.48,348920.08,336420.29,545797.32999999996,494587.24,437174.06,425332.2,1543927.98,1370198.62,248838.31,236177.78,291431.67,267992.78000000003,323007.44,310815.28000000003,378425.16,351791.51,405775.44,394287.8,1317748.92,1168361.26,229135.4,216976.93,268440.59000000003,246018.59,298240.34000000003,286466.28999999998,346403.28,322746,375648.41,364659.36,1103992.6299999999,978964.56,210749.9,199166.68,246868.95,225650.98,274601.28000000003,263354.68,317848.68,296506.25,346861.47,336038.38,902225.4,801724.41,193874.96,182933.39,226954,206834.18,252619.56,241846.37,292165.46000000002,271841.69,319083.82,308684.36,712549.48,636638.39,178013.46,167795.28,207739.51999999999,189175.38,231627.27,221392.08,267511.65999999997,248385.75,292356.7,282478.12,534319.28,483073.22,164271.23000000001,154875.95000000001,190745.59,173489.43,212240.78,202782.07,244609.27,226681.23,267401.15000000002,258341.66,366106.23,339666.58,151696.46,143029.06,175348.21,159590.32999999999,194324,185489.4,223203.57,206724.19,244088.1,235111.45,331308.53999999998,305766.96000000002,132455.32,125599.93,150792.07999999999,138394.44,165649.5,158461.53,188317.5,174808.73,204768.11,197508.66,277065.87,254225.85,117023.22,111799.59,130710.6,120942.63,141688.81,136288.25,158727.82999999999,148511.28,171133.23,165831.79999999999,228670.89,208435.43,105290.23,101431.25,114526.71,107732.78,122299.1,118245.87,134104.09,126724.1,142985.96,139203.35999999999,185900.36,168257.85,96893.09,94716.98,102526.25,98468.99,107291.91,104703.89,114576.52,109785.79,120182.28,117762.54,148310.32999999999,133262.31,91658.25,90747.82,94320.320000000007,92378.81,96390.3,95447.54,99780.5,97478.14,102340.46,101035.96,116414.21,104375.78,93795.66,93651.92,95365.06,94242.69,96728.99,95901.67,98903.14,97381.93,100538.65,99658.89,103357.01,101712.39,96754.95,96880.75,97469.29,97045.64,98209.5,97705.23,99201.85,98541.57,99925.85,99481.03,101361.58,100415.54,100511.36,100562.7,100742.63,100567.99,100771.91,100617.22,100679.5,100500.04,100938.13,100941.4,100679.96,100500.36,0,0,0,0,0,0,0,0,0,0,0,0,0,0,0,0,0,0,0,0,0,0,0,0,0,0,0,0,0,0,0,0,0,0,0,0,0,0,0,0,0,0,0,0,0,0,0,0,0,0,0,0,0,0,0,0,0,0,0,0]
[396694.9,381991.6,459736.98,431802.88,501657.77,488001.3,1427215.29,1274049.0900000001,618070.75,605461.23,2757091.65,2481713.06,369366.9,354852.12,428903.43,401667.44,469230.96,455715.7,1200118.05,1071903.94,580139.14,567463.59,2460561.56,2208962.1,343049.15,328892.34999999998,399165.84,372458.37,437991.3,424508.46,985348.28,882300.64,542991.14,530453.44999999995,2178692.6800000002,1951134.96,317846.09000000003,304009.49,370501.97,344634.49,407481.61,394410.21,782864.09,704951.34,506938.5,494540.37,1911051.36,1707858.11,293924.24,280504.02,343120.72,318010.19,378261.29,365422.51,592148.93999999994,539432.61,471809.93,459720.87,1657070.29,1478487,271319.23,258195.5,316938.96000000002,292612.68,350207.13,337763.85,412975.95,385575.95,438092.04,426294.06,1416382.82,1262645.7,249839.47,237287.63,292070.09999999998,268832.37,323371.09000000003,311283.51,378675.36,352019.75,405425.24,394036.27,1188522.54,1059932.06,229532.27,217541.91,268293.89,246181.89,297685.69,286074.46000000002,345294.8,321854.77,374019.5,363197.8,973163.83,869734.48,210640.4,199287.5,246041.25,225255.24,273222.48,262204.02,315616.69,294698.18,344063.38,333455.62,769998.52,691905.93,193371.46,182723,225575.61,205994.89,250542.06,240057.56,289028.46000000002,269249.28000000003,315225.56,305104.71000000002,579110.36,526419.68000000005,177297.96,167430.57999999999,206005.01,188089.94,229077.42,219187.32,263733.31,245264.08,287715.46000000002,278175.98,400092.97,372866.65,163381.70000000001,154404.65,188689.82,172187.36,209246.09,200208.03,240212.29,223055.88,261997.13,253361.09,362794.61,336587.59,141441.26999999999,134144.12,161386.76,148120.44,177329.29,169891.4,201667.53,187793.63,219285.62,211668.39,304200.73,280736.86,123666.5,118169.08,138467.72,128524.69,150414.54,144622.47,168705.63,157795.1,181966.4,176086.69,251658.3,230907.99,109761.46,105863.55,120119.17,112711.75,128327.96,124318.08,141192.79,133555.75,150491.56,146595.63,205167.18,187001.21,99649.93,97048.51,105777.06,101253.58,110969.18,108259.74,118857.93,113972.26,124775.88,122379.24,164613.09,148969,92849.08,91750.84,95688.83,93651.29,98090.57,96786.2,101763.23,99347.99,104644.87,103561.99,129495.84,116341.48,94520.44,93889.55,96422.23,95022.77,97823.37,97275.53,100190.29,98583.16,101977.61,101066.88,115408.5,103512.37,97088.86,97226.880000000005,97911.58,97324.2,98624.1,98191.23,99762.06,98965.83,100618.07,100157.67,102157.38,101296.92,100500.28,100884.46,100502.81,100600,100617.49,100517.81,100559.73,100660.94,100500.27,100500.01,100634.98,100508.16,0,0,0,0,0,0,0,0,0,0,0,0,0,0,0,0,0,0,0,0,0,0,0,0,0,0,0,0,0,0,0,0,0,0,0,0,0,0,0,0,0,0,0,0,0,0,0,0,0,0,0,0,0,0,0,0,0,0,0,0,0,0,0,0,0,0,0,0,0,0,0,0]
[401568.55,386754.01,465100.09,436949.12,507346.61,493585.11,1289605.71,1157772.3400000001,624662.96,611963.66,2629930.21,2371973.4700000002,373276.93,358686.84,433122.45,405749.95,473659.24,460073.72,1061003.08,954944.15,585151.89,572410.55000000005,2330900.2999999998,2097491.0299999998,346092.07,331904.8,402349.22,375571.98,441273.67,427749.7,844965.98,764905.56,546524.81000000006,533956.99,2046748.1,1838150.22,320106.46999999997,306281.51,372727.03999999998,346882.99,409681.96,396621.77,641458,587348.68999999994,509083.28,496690.52,1777005.86,1593571.15,295432.90999999997,282074.87,344417.5,319421.89,379406.75,366623.25,449875.66,421789.21,472552.53,460515.54,1521018.03,1363012.96,272112.23,259097,317332.59999999998,293216.59999999998,350313.23,337981.15,413181.85,385763.38,437445.81,425742.46,1278409.06,1146093.54,249935.86,237558.88,291581.43,268667.39,322442.08,310522.71999999997,377388.31,350818.78,403349.17,392118.96,1048694.3,942389.62,229025.74,217275.4,267011.55,245342.14,295819.87,284440.99,342604.66,319507.8,370621.54,360033.97,831703.58,751413.74,209660.45,198613.74,244106.7,223892.75,270555.40000000002,259839.2,311814.21000000002,291459.32,339506.27,329184.78000000003,627180.43000000005,573086.1,192048.87,181772.03,223142.11,204244.95,247223.96,237105.42,284367.11,265278.34999999998,309649.8,299882.19,435163.47,407329.19,175819.48,166383.85,203271.93,186154.51,225340.25,215875.55,258483.45,240822.57,281404.59999999998,272282.56,396449.09,369462.35,151294.88,143754.76999999999,172578.81,158686.35,189883.98,182291.56,215977.54,201509.7,234292.04,227082.32,333081.27,309012.43,130903.03999999999,125023.28,147014.81,136325.84,159819.57,153826.48000000001,179460.4,168281.68,193699.78,187488.45,276288.46999999997,254963.92,114758.16,110654.2,125931.82,118507.69,134892.01999999999,130532.3,148692.35999999999,140447.6,158680.15,154215.96,225772.45,207151.15,102592.39,100036.27,109581.17,104561.96,114987.05,112384.88,123628.16,118601.84,129782.79,127310.01,181657.01,165560.79999999999,94299.02,92949.86,97328.9,95066.83,99951.19,98580.21,103939.53,101538.54,106905.33,105890.27,143780.26999999999,130091.21,95351.88,94584.33,97334.33,95917.29,99010.49,98100.07,101574.74,99888.47,103625.14,102964.31,128390.26,115337.03,97465.06,97141.79,98529.63,97727.19,99194.79,99080.91,100435.43,99593.48,101372.16,100894.85,114070.71,102355.14,100500.57,100947.14,100503.27,100503.41,100500.28,100500.69,100500.27,100500.36,100500.11,100500.32,100634.42,100635.23,0,0,0,0,0,0,0,0,0,0,0,0,0,0,0,0,0,0,0,0,0,0,0,0,0,0,0,0,0,0,0,0,0,0,0,0,0,0,0,0,0,0,0,0,0,0,0,0,0,0,0,0,0,0,0,0,0,0,0,0,0,0,0,0,0,0,0,0,0,0,0,0,0,0,0,0,0,0,0,0,0,0,0,0]
[405666.77,390777.94,469530.56,441232.3,511998.29,498165.93,1141318.3600000001,1032299.75,629927.75,617171.03,2492399.44,2253083.11,376408.96,361783.26,436400.03,408966.44,477035.51,463416.99,911187.72,828820.57,588809.53,576037.19999999995,2190773.02,1976826.14,348343.93,334169.92,404570.05,377804.36,443475.16,429950.49,693854.85,638374.12,548655.5,536096.02,1904229.6,1715918.41,321507.21999999997,307744.68,373900.79,348174.9,410696.1,397695.07,489218.65,460565.67,509680.76,497338.18,1632177.84,1469889.21,296011.71000000002,282774.62,344571.05,319800.14,379256.58,366584.12,450051.19,421947.84,471593.84,459661.32,1373971.51,1237995.1599999999,271892.05,259053.25,316474.09000000003,292695.53999999998,348993.28000000003,336838.04,411715.44,384389.29,434915.22,423367.2,1129201.8,1019825.24,249014.39,236886.5,289825.28000000003,267372.49,320059.73,308380.24,374373.13,348011,399333.5,388329.51,897552,815111.11,227531.3,216099.79,264486.83,243405.11,292519.28999999998,281449,338183.22,315567.65999999997,365286.95,355006.77,678927.49,623411.66,207745.31,197086.63,240981.82,221491.19,266501.84000000003,256168.03,306320.43,286680.02,333054.21999999997,323095.48,473100.49,444692.95,189834.7,180015.3,219559.35,201503.39,242553.84,232885.68,278043.78999999998,259804.76,302201.07,292868.2,430887.09,403323.72,161745.06,153802.68,184857.2,170478.15,203445.33,195462.42,231352.53,216486.53,250621.52,242942.95,363972.26,339183.84,138869.96,132816.66,155989.94,144798.01,169931.33,163834.64000000001,190983.36,179297.24,205706.97,199973.4,302500.15000000002,280631.96000000002,120206.77,115781.99,132383.84,124340.33,141967.62,137457.37,156786.99,148374.69,167558.67000000001,162789.78,247860.63,228714.54,105930.02,103237.29,113431.46,108558.06,119367.67999999999,116458.05,128621.9,123075.72,135296.1,132264.67000000001,199886.34,183393.82,95726.33,94507.79,99358.53,96718.49,101970.58,100771.9,106403.17,103979.18,109424.08,108370.75,158653.76999999999,144582.1,96412.32,95445.28,98483.88,96919.29,100315.65,99356.17,103104.59,101473.7,105160.32000000001,104587.12,142575.4,128986.31,97908.479999999996,97505.94,98944.6,98212.55,99819.83,99344.29,101160.43,100278.96,102292.99,102097.48,126912.64,113997.53,100502.84,100518.42,100645.06,100500.42,100500,100863.3,100500.09,100500.93,100500.07,100500.1,112367.46,100874.52,0,0,0,0,0,0,0,0,0,0,0,0,0,0,0,0,0,0,0,0,0,0,0,0,0,0,0,0,0,0,0,0,0,0,0,0,0,0,0,0,0,0,0,0,0,0,0,0,0,0,0,0,0,0,0,0,0,0,0,0,0,0,0,0,0,0,0,0,0,0,0,0,0,0,0,0,0,0,0,0,0,0,0,0,0,0,0,0,0,0,0,0,0,0,0,0]
[408843.92,393923.52,472858.44,444493.47,515426.83,501563.12,981351.07,896757.16,633634.32999999996,620857.37,2343032.9500000002,2123735.9,378607.43,363992.44,438554.34,411147.03,479159.81,465551.3,749724.33,692708.14,590862.44999999995,578099.56999999995,2038784.16,1845727.1,349587.38,335480.34000000003,405572.54,378918,444313.11,430837.26,531037.96,501851.29,549028.23,536524.21,1749708.32,1583164.84,321822.34999999998,308183.75,373755.51,348263.27,410227.46,397343.87,489300.4,460636.8,508356.3,496118.41,1475195.26,1335590.28,295411.57,282367.01,343285.34,318872.96000000002,377481.02,364987.44,448341.97,420338.9,468514.51,456750.5,1214583.19,1102233.1599999999,270486.40000000002,257901.43,314158.05,290861.59000000003,346017.91,334113.96999999997,408306.71,381201.49,430207.53,418883.98,967632.56,882846.98,246939.26,235142.67,286639.58,264800.15999999997,316042.33,304681.83,369415.78,343397.65,393145.25,382441.95,734108.37,677234.46,224939.71,213912.41,260588.68,240252.34,287636.53000000003,276957.59999999998,331857.26,309873.61,357825.95,347932.55,513967.66,484976.32,204780.51,194599.31,236528.37,217926.24,260905.71,251041.71,298951.09999999998,280189.95,324504.18,314991.76,468294.16,440172.09,173474.87,165213.59,198515.7,183325.2,217827.91,209694,247686.06,232341.66,268009.76,260157.97,395205.22,369923.66,147250.85,140852.54,165874.70000000001,154327.56,180864.26,174413.42,203356.94,191381.07,218849.12,212663.29,330520.03999999998,307995.95,126227.5,121699.23,139077.10999999999,130654.67,149568.69,145006.07999999999,165450.62,156616.98000000001,176491.43,172272.16,271339.25,251713.17,109560.88,106607.33,117759.46,112391.09,124085.7,121075.11,134029.93,128415.09,141295.45000000001,137984.53,219428.64,202461.03,97403.97,96115.76,101251.87,98917.22,104178.85,102712.04,108909.9,106048.48,112287.17,110680.92,174563.81,160153.26999999999,97361.35,96559.06,99973.53,98053.69,101719.06,100960.52,104867.6,103251.09,106920.47,106319.06,157326.74,143362.93,98525.29,97978.01,99544.95,98746.13,100508.73,100001.05,101980.69,101194.98,103037.3,102948.32,140965.31,127513.68,100503.02,100500.35,100502.38,100520.72,100500.26,100501.1,100500.47,100500.53,100627.27,100940.79,125036.87,112299.48,0,0,0,0,0,0,0,0,0,0,0,0,0,0,0,0,0,0,0,0,0,0,0,0,0,0,0,0,0,0,0,0,0,0,0,0,0,0,0,0,0,0,0,0,0,0,0,0,0,0,0,0,0,0,0,0,0,0,0,0,0,0,0,0,0,0,0,0,0,0,0,0,0,0,0,0,0,0,0,0,0,0,0,0,0,0,0,0,0,0,0,0,0,0,0,0,0,0,0,0,0,0,0,0,0,0,0,0]
[411005.87,396100.9,474970.98,446627.87,517507.01,503655.39,809017.97,750547.26,635622.81000000006,622866.81000000006,2181319.9300000002,1983473.59,379701.84,365151.9,439381.74,412103.34,479806.3,466258.44,575783.92000000004,545879.84,591023.81999999995,578317.86,1874237.85,1703563.15,349634.57,335657.4,405131.59,378705.44,443537,430168.25,531035.78,501844.34,547322.93000000005,534929.71,1582409.62,1439189.59,320831.14,307389.89,372026.06,346904.93,407979.56,395282.66,487341.73,458786.6,504729.3,492661.18,1305176.76,1189878.8500000001,293490.75,280718.83,340387.64,316483.37,373885.55,361646.86,444521.94,416750.54,463061.48,451537.52,1042085.11,955046.03,267788.36,255541.73,310252.73,287596.32,341237.1,329665.82,402779.61,376035.61,423124.61,412101.19,792969.38,734518.13,243627.81,232250.9,281920.55,260858.04,310270.43,299314.11,362373.97,336846.41,384624.02,374301.65,557650.52,528142.91,221157.27,210627.19,255199.39,235779.75,281035.49,270837.93,323462.27,302274.31,348054.26,338634.08,508601.42,479906.36,186022.72,177458.99,212726.85,197113.66,233232.25,224950.44,265255.96000000002,249474.18,286785.52,278784.88,429375.19,403588.31,156646.07,149994.51999999999,176847.62,164617.75,192355.08,185806.38,216394.34,204040.79,232757.18,226435.72,358514.6,335579.35,132495.76999999999,127681.22,146516.25,137873.79,157814.87,152935.39000000001,174754.24,165742.62,186372.53,181717.64,296454.40999999997,276235.87,113622.62,110636.99,122152.83,116531.5,129155.29,126144.4,139808.4,133859.54,147124.10999999999,144437.10999999999,240190.04,222804.88,99234.67,97745.35,103474.16,100768.31,106557.58,105039.49,111650.07,108819.54,115426.65,113565.65,191628.93,176790.69,98531.13,97679.96,101263.44,99718.45,103261.26,102237.26,106609.83,104566.69,108976.4,107800.79,173104.59,158807.46,98954.99,98610.54,100443.9,99317.31,101236.09,100961.62,102970.83,102242.67,103958.45,103853.57,155550.35999999999,141733.51999999999,100640.47,100554.32,100505.08,100547.26,100515.53,100504.13,100541.12,100683.41,100500.48,100942.42,138912.4,125639.21,0,0,0,0,0,0,0,0,0,0,0,0,0,0,0,0,0,0,0,0,0,0,0,0,0,0,0,0,0,0,0,0,0,0,0,0,0,0,0,0,0,0,0,0,0,0,0,0,0,0,0,0,0,0,0,0,0,0,0,0,0,0,0,0,0,0,0,0,0,0,0,0,0,0,0,0,0,0,0,0,0,0,0,0,0,0,0,0,0,0,0,0,0,0,0,0,0,0,0,0,0,0,0,0,0,0,0,0,0,0,0,0,0,0,0,0,0,0,0,0]
[411937.95,397104.35,475614.91,447399.47,517959.92,504172.28,623328.43999999994,592795.38,635543.38,622857.28,2006200.39,1831336.94,379460.1,365040.05,438607.65,411580.44,478671.62,465244.58,575684.76,545780.02,588910.87,576318.36,1696036.37,1549342.89,348218.99,334447.58,402930.57,376873.8,440795.43,427604,528799.69999999995,499725.79,543093.99,530878.18999999994,1401164.69,1282936.76,318356.52,305195.19,368500.12,343904.83,403715.36,391283.24,483067.91,454756.47,498496.59,486671.35999999999,1121120.04,1031862.26,290112.31,277700.88,335712.62,312480.81,368284.34,356384.11,438374.72,410979.71,454995,443789.68,855554.48,795620.68,263689.37,251872.44,304625.67,282779.90999999997,334501.13,323350.42,394958.34,368727.58,413471.2,402829.38,604348.23,574084.54,238960.57,228099.79,275521.78999999998,255414.81,302577.67,292118.34999999998,353050.58,328173.90999999997,373550.89,363697.07,551666.51,522475.45,199768.6,190913.53,228396.11,212065.33,250139.1,241563.42,286247.81,268008.7,306483.87,298620.69,466179.17,439868.49,166724.68,159831.59,188219.36,175693.48,204725.79,198078.17,230530.05,217825.4,247904.22,241464.98,389372.97,365986.34,139520.73000000001,134518.47,154764.85,145568.1,166374.01,161449.4,184451.88,175162.34,196756.75,192003.1,321200.68,300651.69,117757.36,114544.18,127122.7,121417.92,134689.12,131398.38,146012.82999999999,139998.76,153713.29,150606.54,262409.06,244494.38,101351.13,99900.77,105582.74,102748.75,109113.35,107646.99,114564.01,111485.13,118172.53,117011.38,209742.55,194547.4,99809.39,98769.53,102843.07,100954.41,104922.11,103862.12,108532.45,106556.44,111248.17,109815.53,190031.35999999999,175304.87,99565.87,99195.46,101069.88,100393.57,102045.17,101508.66,103871.65,102729.58,105125.62,104424.43,171150.84,157007.51999999999,100500.2,100658.25,100754.88,100500.05,100500.54,100757.09,100682.15,100929.22,100500.22,100939.84,153285.16,139657.93,0,0,0,0,0,0,0,0,0,0,0,0,0,0,0,0,0,0,0,0,0,0,0,0,0,0,0,0,0,0,0,0,0,0,0,0,0,0,0,0,0,0,0,0,0,0,0,0,0,0,0,0,0,0,0,0,0,0,0,0,0,0,0,0,0,0,0,0,0,0,0,0,0,0,0,0,0,0,0,0,0,0,0,0,0,0,0,0,0,0,0,0,0,0,0,0,0,0,0,0,0,0,0,0,0,0,0,0,0,0,0,0,0,0,0,0,0,0,0,0,0,0,0,0,0,0,0,0,0,0,0,0]
[411404.28,396708.57,474511.05,446548.23,516477.38,502815.01,623144.52,592618.80000000005,633007.23,620448.81999999995,1816721.95,1666459.44,377605.09,363392.21,435902.43,409272.54,475390.57,462156.47,573170.26,543389.93999999994,584061.19999999995,571649.81999999995,1503097.53,1382082.3,345158.67,331678.06,398751.03,373222.02,435844.62,422909.5,524051.58,495232.94,536029.36,524065.68,1205023.1499999999,1113556.31,314258.15999999997,301467.40000000002,363007.61,339107.68,397243.73,385161.98,476259.84000000003,448339.91,489410.55,477908.57,922114.46,860735.47,285164.98,273208.99,329123.42,306741.49,360522.33,349050.65,429720.89,402858.3,444111.12,433309.19,654100.75,623177.91,258063.49,246775.88,297121.2,276272.53999999998,325632.98,314998.68,384635.17,359083.37,401013.39,390842.35,597719.84,567782.41,214734.71,205603.77,245484.56,228580.28,268213.84999999998,259420.55,312227.40000000002,290220.07,327866.64,319582.83,505498.33,478753.7,177765.09,170640.13,200800.15,187659.67,218315.72,211415.22,247901.51,232705.3,263635.61,257381.06,422608.1,398746.26,147080.78,141899.45000000001,163238.07999999999,153875.74,175647.25,170674.17,195079.46,185527.59,208196.54,203357.06,348719.06,327771.74,122417.76,119081.9,132653.49,126521.32,140323.49,137039.82999999999,152378.29,146184.47,160583.06,157413.51,283976.78999999998,265808.2,103365.94,101747.27,108096.8,105317.47,111947.61,110238.35,117680.57,114650.92,121479.85,119914.52,229137.82,213473.8,101335.17,100362.06,104237.9,102261.79,106700.01,105713.44,110556.53,108353.95,113017.24,112342.44,207987.42,192910.25,100237.61,99693.83,101939.65,100953.17,102910.55,102356.2,104884.39,103851.72,106428.46,105469.71,187885.66,173312.41,100500.14,100658.95,100651.09,100930.91,100500.53,100500.91,100650.28,100501.03,100678.73,100500.46,168652.58,154707.59,0,0,0,0,0,0,0,0,0,0,0,0,0,0,0,0,0,0,0,0,0,0,0,0,0,0,0,0,0,0,0,0,0,0,0,0,0,0,0,0,0,0,0,0,0,0,0,0,0,0,0,0,0,0,0,0,0,0,0,0,0,0,0,0,0,0,0,0,0,0,0,0,0,0,0,0,0,0,0,0,0,0,0,0,0,0,0,0,0,0,0,0,0,0,0,0,0,0,0,0,0,0,0,0,0,0,0,0,0,0,0,0,0,0,0,0,0,0,0,0,0,0,0,0,0,0,0,0,0,0,0,0,0,0,0,0,0,0,0,0,0,0,0,0]
[409035.25,394558.37,471226.89,443669.66,512585.18,499123.09,620257.87,589871.98,627424.59,615064.31000000006,1611093.5,1487213.79,373880.36,359963,430965.65,404899.61,469632.82,456673.81,567853.73,538342.85,576062.36,563909.15,1293925.04,1200435.7,340251.48,327155.61,392355.32,367529.2,428422.59,415831.15,516483.57,488074.85,525800.35,514171.62,992675.41,929878.94,308372.99,296050.88,355356.17,332335.5,388351.82,376713.22,466667.01,439301.24,477203.58,466111.84,707007.46,675476.36,278475.46000000002,267078.56,320415.03999999998,299076.61,350371.79,339426.95,418292.22,392134.92,430121.68,419815.77,646702.99,616123.57999999996,230755.04,221245.33,263564.76,246039.62,287531.21999999997,278608.37,339927.36,317336.36,350926.89,342345.16,547483.88,520054.42,189801.24,182455.71,214553.88,200954.8,232818.1,225743.91,270173.15999999997,251121.57,280787.98,274124.27,458056.86,433826.15,155355.85,150001.51,172667.76,162792.22,185857.19,180670.99,208771.01,196685.55,219894.44,215286.6,378322.73,356949.78,127445.69,123991.09,138218.87,132048.10999999999,146494.91,143211.15,159499.48000000001,153128.1,168322.56,165096.99,308177.51,289662.46999999997,105716.73,104034.48,110983.2,107892.18,114743.7,113088.45,120821.59,117699.8,124957.86,123360.17,247685.5,231837.38,102692.68,101563.09,106002.99,104129.2,108717.52,107488.85,112738.08,110623.78,115333.89,114241.41,227226.23,211681.17,101110.25,100660.94,102554.31,101520.06,103843.29,103383.25,105948.99,104709,107149.82,107008.14,205640.33,190723.38,100500.52,100500.21,100743.39,100745.06,100500.85,100500.37,100681.56,100682.23,100941.6,100502.82,185153.21,170777.69,0,0,0,0,0,0,0,0,0,0,0,0,0,0,0,0,0,0,0,0,0,0,0,0,0,0,0,0,0,0,0,0,0,0,0,0,0,0,0,0,0,0,0,0,0,0,0,0,0,0,0,0,0,0,0,0,0,0,0,0,0,0,0,0,0,0,0,0,0,0,0,0,0,0,0,0,0,0,0,0,0,0,0,0,0,0,0,0,0,0,0,0,0,0,0,0,0,0,0,0,0,0,0,0,0,0,0,0,0,0,0,0,0,0,0,0,0,0,0,0,0,0,0,0,0,0,0,0,0,0,0,0,0,0,0,0,0,0,0,0,0,0,0,0,0,0,0,0,0,0,0,0,0,0,0,0]
[404610.85,390443.26,465501.51,438520.82,505995.4,492817.27,614343.69999999995,584246,618431.77,606348.38,1388294.82,1292676.82,368116.36,354590.78,423594.58,398273.9,461173.06,448578.9,559480.98,530397.79,564627.42000000004,552816.36,1067549.78,1003535.8,333362.09999999998,320752.32,383580.36,359645.57,418346.75,406193,505889.16,478056.36,512172.01,500967.32,763179.6,731070.22,300546.88,288800.42,345358.95,323417.61,376830.01,365735.56,454048.86,427414.07,461604.4,451017.52,698807,667638.32999999996,247852.47,238295.94,283098.25,265198.88,308273.74,299075.71999999997,369430.86,346314.3,375295.49,366634.44,592147.75,564138.43000000005,202659.9,194984.41,229023.14,214927.1,248299.97,241143.09,293896.67,274353.91999999998,299330.76,292388.5,495914.15,471059.29,164411.32,158892.47,183027.75,172810.41,196723.27,191408.08,227279.44,211242.5,232739.35,227733.39,409882.94,388204.93,132949.01999999999,129380.4,144488.78,137906.21,153315.23000000001,149858.03,169506.12,160552.07,175973.38,173026.84,334202.96999999997,315309.28000000003,108251.27,106509.75,113683.01,110679.32,117858.76,116251.35,124487.29,121271.02,129051.29,127426.65,268695.67999999999,252549.18,104335.14,103160.32000000001,108085.64,105927.95,110637.28,109481.72,114880.79,112701.92,117768.45,116653.23,245509.16,229796.56,101745.49,101154.23,103492.12,102614.69,104955.69,104256.36,107091.06,105984.38,108362.5,107790.37,224664.97,209282.36,100657.76,100783.4,100500.1,100500.28,100500.58,100618.64,100683.07,100500.75,100500.67,100943.53,202646.25,187935.73,0,0,0,0,0,0,0,0,0,0,0,0,0,0,0,0,0,0,0,0,0,0,0,0,0,0,0,0,0,0,0,0,0,0,0,0,0,0,0,0,0,0,0,0,0,0,0,0,0,0,0,0,0,0,0,0,0,0,0,0,0,0,0,0,0,0,0,0,0,0,0,0,0,0,0,0,0,0,0,0,0,0,0,0,0,0,0,0,0,0,0,0,0,0,0,0,0,0,0,0,0,0,0,0,0,0,0,0,0,0,0,0,0,0,0,0,0,0,0,0,0,0,0,0,0,0,0,0,0,0,0,0,0,0,0,0,0,0,0,0,0,0,0,0,0,0,0,0,0,0,0,0,0,0,0,0,0,0,0,0,0,0,0,0,0,0,0,0]
[397922.25,384163.49,457088.61,430871.99,496436.31,483634.15,605092.61,575446.74,605687.54,593967.62,1147108.25,1081752.95,360144.91,347115.11,413589.29,389210.45,449790.17,437657.69,547799.37,519315.24,549476.37,538098.39,822832.83,790366.41,324303.83,312290.36,372203.11,349365.26,405369.48,393755.79,491983.12,464907.91,494829.1,484145.44,754104.94,722372.12,266357.5,256501.1,304009.43,285607.19,330451.96000000002,321143.84000000003,400735.98,377213.86,401741.72,392830.14,639637.6,611104.47,216350.01,208691.65,244692.08,230339.87,264936.23,257539.85,319141.84000000003,299154.67,318830.46999999997,311865.84000000003,536167.18000000005,510794.91,174049.19,168249.35,193819.14,183230.14,208299.73,202949.05,246967.35,230532.35,246684.69,241418.91,443574.32,421332.3,139015.72,135338.25,151447.35999999999,144638.74,160537.34,156995.32,184263.14,171249.14,184503.97,181169.07,361921.73,342785.26,111025.78,109227.18,116843.61,113525.29,121345.39,119602.22,130881.01,125022.16,132723.09,131424.89000000001,291277.19,274795.15000000002,106104.52,104888.69,109896.89,107874.55,112814.68,111725.81,117492.67,115244.36,120759.53,119626.31,266299.62,250292.72,102608.31,101992.01,104689.57,103559.24,105910.98,105305.42,108135.33,106994.31,109648.58,109064.43,242619.98,227088.39,100500.09,100500.2,100529.3,100745.68,100618.77,100501.05,100683.66,100683.61,100500.85,100500.38,221396.98,206224.22,0,0,0,0,0,0,0,0,0,0,0,0,0,0,0,0,0,0,0,0,0,0,0,0,0,0,0,0,0,0,0,0,0,0,0,0,0,0,0,0,0,0,0,0,0,0,0,0,0,0,0,0,0,0,0,0,0,0,0,0,0,0,0,0,0,0,0,0,0,0,0,0,0,0,0,0,0,0,0,0,0,0,0,0,0,0,0,0,0,0,0,0,0,0,0,0,0,0,0,0,0,0,0,0,0,0,0,0,0,0,0,0,0,0,0,0,0,0,0,0,0,0,0,0,0,0,0,0,0,0,0,0,0,0,0,0,0,0,0,0,0,0,0,0,0,0,0,0,0,0,0,0,0,0,0,0,0,0,0,0,0,0,0,0,0,0,0,0,0,0,0,0,0,0,0,0,0,0,0,0]
[388794.42,375551.67,445779.06,420529.12,483676.69,471349.81,592247.46,563229.62,588898.31000000006,577635.13,886364.79,853397.18,349766.31,337345.72,400710.94,377488,435218.56,423653.48,532509.74,504811.42,530270.68999999994,519425.04,812846.53,780774.14,286273.08,276203.48,326542.34999999998,307324.89,354436.82,344628.09,433916.05,410024.58,429575.27,420601.3,690042.73,660997.81999999995,231188.58,223281.8,261455.54,246703.87,282711.90000000002,275246.23,345879.84,325560.40999999997,340094.13,332910.34000000003,578965.76000000001,553134.91,184264.53,178547.87,205545.3,194821.53,220745.79,215192.08,267881.34999999998,251083.91,261213.09,255983.64,479388.13,456690.54,145418.76999999999,141509.42000000001,158542.07999999999,151488.29,168187.83,164658.09,199913.47,186594.22,193825.82,190249.5,391502.46,371859.56,114144.27,112292.13,120445.09,117015.67,124969.31,123184.99,141958.98000000001,131917.57,136991.04999999999,135312.48000000001,315297.21999999997,298631.45,108033.47,106779.69,112090.34,109776.64,115265.65,114050.04,122871.73,117849.13,123167.84,122392.97,288633.26,272291.95,103528.6,102892.99,105511.43,104571.59,107040.45,106523.77,109564.7,108385.04,111399.21,110808.6,263118.65000000002,247298.32,100501.06,100500.1,100743.43,100744.66,100500.11,100500.54,100500.69,100502.76,100500.1,100501,238945.92000000001,223645.33,0,0,0,0,0,0,0,0,0,0,0,0,0,0,0,0,0,0,0,0,0,0,0,0,0,0,0,0,0,0,0,0,0,0,0,0,0,0,0,0,0,0,0,0,0,0,0,0,0,0,0,0,0,0,0,0,0,0,0,0,0,0,0,0,0,0,0,0,0,0,0,0,0,0,0,0,0,0,0,0,0,0,0,0,0,0,0,0,0,0,0,0,0,0,0,0,0,0,0,0,0,0,0,0,0,0,0,0,0,0,0,0,0,0,0,0,0,0,0,0,0,0,0,0,0,0,0,0,0,0,0,0,0,0,0,0,0,0,0,0,0,0,0,0,0,0,0,0,0,0,0,0,0,0,0,0,0,0,0,0,0,0,0,0,0,0,0,0,0,0,0,0,0,0,0,0,0,0,0,0,0,0,0,0,0,0,0,0,0,0,0,0]
[376973.44,364363.84,431276.85,407215.03,467392.47,455649.21,575427.97,547232.85,567662.07999999996,556957.55000000005,875300.6,842743.26,307608.56,297176.90999999997,350394.71,330924.51,379376.22,369662.98,469327.15,444899.81,459267.07,450158.53,743492.77,714159.73,247153.65,239087.38,279559.94,264073.17,302021.58,294072.64,374183.98,353567.51,362401.42,355189.22,624322.72,598035.13,195374.8,189459.73,218097.09,207075.1,234054.92,228471.83,289998.53999999998,272941.32,277229.38,271810.78000000003,517422.82,494333.01,152163.12,148400.95999999999,166336.95000000001,159265.62,176461.24,172762.12,216538.23,202935.05,203414.9,199931.72,422920,402882.06,117381.49,115341.62,123929.18,120372.5,128791.85,127063.99,153708.67000000001,143448.46,141820.43,139914.84,340926.65,323807.78999999998,110262.37,108969.99,114685.88,112292.9,117804.83,116559.74,133161.84,123732.32,126158.23,124987.81,312390.42,295877.84000000003,104540.94,103885.29,106664.4,105453.58,108383.02,107746.59,113863.96,109765.91,112469.31,112268.37,285147.49,268993.88,100500.3,100500.62,100500.98,100746.64,100508.63,100618.7,100673.45,100664.33,100938.2,100942.01,259098.59,243515.04,0,0,0,0,0,0,0,0,0,0,0,0,0,0,0,0,0,0,0,0,0,0,0,0,0,0,0,0,0,0,0,0,0,0,0,0,0,0,0,0,0,0,0,0,0,0,0,0,0,0,0,0,0,0,0,0,0,0,0,0,0,0,0,0,0,0,0,0,0,0,0,0,0,0,0,0,0,0,0,0,0,0,0,0,0,0,0,0,0,0,0,0,0,0,0,0,0,0,0,0,0,0,0,0,0,0,0,0,0,0,0,0,0,0,0,0,0,0,0,0,0,0,0,0,0,0,0,0,0,0,0,0,0,0,0,0,0,0,0,0,0,0,0,0,0,0,0,0,0,0,0,0,0,0,0,0,0,0,0,0,0,0,0,0,0,0,0,0,0,0,0,0,0,0,0,0,0,0,0,0,0,0,0,0,0,0,0,0,0,0,0,0,0,0,0,0,0,0,0,0,0,0,0,0]
[330401.46999999997,319835.07,375998.81,355794.77,406326.51,396473.78,506786.96,481955.91,490517.97,481590.82,800339.2,770569.77,264259.49,255877.07,298640.03999999998,283036.46000000002,321927.92,314122.75,404367.33,383302.84,386199.02,378880,672413.89,645888.48,207324.28,201304.45,231699.29,220022.83,248612.06,242562.13,313363.44,296081.40000000002,293916.92,288504.13,557720.5,534227.07999999996,159541.68,155631,174672.04,167403.59,185298.33,181609.76,234052.93,220261.37,214177.04,210534.27,456275.64,435909.04,120714.27,118885.65,127859.42,124401.07,132963.39000000001,131098.45000000001,166148.5,155679.71,146552.25,144796.09,368134.25,350676.01,112526.72,111054.76,117050.52,114567.07,120445.31,119274.83,144041.85999999999,134414.59,129612.99,128211.4,337731.49,320765.2,105782.9,105106.78,108139.8,106887.71,109712.16,109060.57,123248.16,114508.63,114027.73,113416.75,308562.77,292252.17,100500.23,100501.35,100500.14,100500.67,100618.71,100618.32,103759.11,100682.92,100514.43,100942.61,280741.55,264826.95,0,0,0,0,0,0,0,0,0,0,0,0,0,0,0,0,0,0,0,0,0,0,0,0,0,0,0,0,0,0,0,0,0,0,0,0,0,0,0,0,0,0,0,0,0,0,0,0,0,0,0,0,0,0,0,0,0,0,0,0,0,0,0,0,0,0,0,0,0,0,0,0,0,0,0,0,0,0,0,0,0,0,0,0,0,0,0,0,0,0,0,0,0,0,0,0,0,0,0,0,0,0,0,0,0,0,0,0,0,0,0,0,0,0,0,0,0,0,0,0,0,0,0,0,0,0,0,0,0,0,0,0,0,0,0,0,0,0,0,0,0,0,0,0,0,0,0,0,0,0,0,0,0,0,0,0,0,0,0,0,0,0,0,0,0,0,0,0,0,0,0,0,0,0,0,0,0,0,0,0,0,0,0,0,0,0,0,0,0,0,0,0,0,0,0,0,0,0,0,0,0,0,0,0,0,0,0,0,0,0,0,0,0,0,0,0]
[282522.52,274060.68,319153.18,302922.39,343519.8,335614.25,436239.56,414865.94,411151.94,404055.83,723543.99,696630.91,220130.34,213840.1,245928.66,234273.38,263403.46000000002,257546.5,338251.32,320609.43,311727.12,306235.56,600416.1,576734.43000000005,167475.72,163514.31,183774.44,175929.4,195107.3,190966.37,252506.73,238560.79,225251.35,221648.3,491590.56,470871.18,124432.93,122503.58,132061.01999999999,128502.65,137418.41,135602.43,179187.96,168598.42,152171.17000000001,150283.04999999999,397005.41,379278.2,114806.57,113577.34,119794.74,117454.31,123357.97,122055.84,155546.98000000001,145728.88,132845.22,131619.10999999999,364627.1,347326.36,106976.42,106129.77,109272.63,107970.43,111051.53,110494.5,133152.20000000001,124238.86,115968.83,115122.43,333535.44,316771.37,100657.79,100658.48,100744.86,100745.76,100618.81,100619.06,112131.08,104165.68,100500.02,100503.55,303733.65000000002,287678.08000000002,0,0,0,0,0,0,0,0,0,0,0,0,0,0,0,0,0,0,0,0,0,0,0,0,0,0,0,0,0,0,0,0,0,0,0,0,0,0,0,0,0,0,0,0,0,0,0,0,0,0,0,0,0,0,0,0,0,0,0,0,0,0,0,0,0,0,0,0,0,0,0,0,0,0,0,0,0,0,0,0,0,0,0,0,0,0,0,0,0,0,0,0,0,0,0,0,0,0,0,0,0,0,0,0,0,0,0,0,0,0,0,0,0,0,0,0,0,0,0,0,0,0,0,0,0,0,0,0,0,0,0,0,0,0,0,0,0,0,0,0,0,0,0,0,0,0,0,0,0,0,0,0,0,0,0,0,0,0,0,0,0,0,0,0,0,0,0,0,0,0,0,0,0,0,0,0,0,0,0,0,0,0,0,0,0,0,0,0,0,0,0,0,0,0,0,0,0,0,0,0,0,0,0,0,0,0,0,0,0,0,0,0,0,0,0,0,0,0,0,0,0,0,0,0,0,0,0,0]
[233777.46,227464.78,261252.53,249078.78,279532.52,273615.3,364449.3,346594.07,330256.37,325030.40999999997,645805.65,621783.92000000004,175968.1,171782.16,193135.17,185451.15,204763.48,200865.73,272108.2,257889.6,237049.14,233395.42,528977.51,508117.63,128413.08,126486.28,136731.4,132671.88,142550.64000000001,140295.10999999999,192839.98,182164.43,157712.17000000001,155897.60000000001,427543.06,409509.85,117382.78,116066.8,122701.98,120294.36,126437.7,125201.64,167543.79,157625.25,136859.66,135507.13,393151.66,375591.74,108079,107511.17,110686.27,109579.33,112548.45,111867.83,143576.24,134493.72,117508.05,116867.17,360021.76000000001,342929.95,100657.84,100500.31,100500.88,100500.03,100500.07,100618.29,120911.09,112800.5,100735.77,100501.19,328237.21000000002,311729.90000000002,0,0,0,0,0,0,0,0,0,0,0,0,0,0,0,0,0,0,0,0,0,0,0,0,0,0,0,0,0,0,0,0,0,0,0,0,0,0,0,0,0,0,0,0,0,0,0,0,0,0,0,0,0,0,0,0,0,0,0,0,0,0,0,0,0,0,0,0,0,0,0,0,0,0,0,0,0,0,0,0,0,0,0,0,0,0,0,0,0,0,0,0,0,0,0,0,0,0,0,0,0,0,0,0,0,0,0,0,0,0,0,0,0,0,0,0,0,0,0,0,0,0,0,0,0,0,0,0,0,0,0,0,0,0,0,0,0,0,0,0,0,0,0,0,0,0,0,0,0,0,0,0,0,0,0,0,0,0,0,0,0,0,0,0,0,0,0,0,0,0,0,0,0,0,0,0,0,0,0,0,0,0,0,0,0,0,0,0,0,0,0,0,0,0,0,0,0,0,0,0,0,0,0,0,0,0,0,0,0,0,0,0,0,0,0,0,0,0,0,0,0,0,0,0,0,0,0,0,0,0,0,0,0,0,0,0,0,0,0,0]
[185030.69,180876.42,203312.05,195212.19,215480.36,211559.82,292704.14,278364.88,249225.25,245878.2,568699.71,547545.71,132714.6,130604.12,141369.65,137602.82999999999,147232.26,145266.75,207357.49,196489.65,163702.56,161861.35999999999,459850.27,441720.85,120172.31,118875.7,126051.85,123144.28,130189.67,128497.61,180137.34,170150.94,140753.21,139487.38,423330.23,405467.34,109434.91,108792.16,112218.77,111074.46,114174.34,113574.64,154470.01,145305.49,119840.32000000001,119076.18,388126.9,370786.25,100503.08,100659.34,100501.85,100745.87,100500.92,100501.03,130195.1,121935.41,100500.74,100500.81,354243.98,337415.97,0,0,0,0,0,0,0,0,0,0,0,0,0,0,0,0,0,0,0,0,0,0,0,0,0,0,0,0,0,0,0,0,0,0,0,0,0,0,0,0,0,0,0,0,0,0,0,0,0,0,0,0,0,0,0,0,0,0,0,0,0,0,0,0,0,0,0,0,0,0,0,0,0,0,0,0,0,0,0,0,0,0,0,0,0,0,0,0,0,0,0,0,0,0,0,0,0,0,0,0,0,0,0,0,0,0,0,0,0,0,0,0,0,0,0,0,0,0,0,0,0,0,0,0,0,0,0,0,0,0,0,0,0,0,0,0,0,0,0,0,0,0,0,0,0,0,0,0,0,0,0,0,0,0,0,0,0,0,0,0,0,0,0,0,0,0,0,0,0,0,0,0,0,0,0,0,0,0,0,0,0,0,0,0,0,0,0,0,0,0,0,0,0,0,0,0,0,0,0,0,0,0,0,0,0,0,0,0,0,0,0,0,0,0,0,0,0,0,0,0,0,0,0,0,0,0,0,0,0,0,0,0,0,0,0,0,0,0,0,0,0,0,0,0,0,0,0,0,0,0,0,0]
[0,0,146500.16,142416.85999999999,152642.76,150690.82,222504.42,211605.5,169647.77,168154.45,494168.28,475786.15,123184.05,121710.39999999999,129226.94,126671.52,133320.06,131947.64000000001,193486.21,183327.55,144953.39000000001,143668.38,455239.22,437291.4,110895.12,110291.49,114089.8,112450.49,116375.82,115304.98,165846.23000000001,156635.70000000001,121878.36,121216.56,417842.33,400202.89,100500.71,100597.02,100500.47,100742.89,100500.53,100599.78,139824.84,131505.81,100942.45,100824.63,381821.65,364757.09,0,0,0,0,0,0,0,0,0,0,0,0,0,0,0,0,0,0,0,0,0,0,0,0,0,0,0,0,0,0,0,0,0,0,0,0,0,0,0,0,0,0,0,0,0,0,0,0,0,0,0,0,0,0,0,0,0,0,0,0,0,0,0,0,0,0,0,0,0,0,0,0,0,0,0,0,0,0,0,0,0,0,0,0,0,0,0,0,0,0,0,0,0,0,0,0,0,0,0,0,0,0,0,0,0,0,0,0,0,0,0,0,0,0,0,0,0,0,0,0,0,0,0,0,0,0,0,0,0,0,0,0,0,0,0,0,0,0,0,0,0,0,0,0,0,0,0,0,0,0,0,0,0,0,0,0,0,0,0,0,0,0,0,0,0,0,0,0,0,0,0,0,0,0,0,0,0,0,0,0,0,0,0,0,0,0,0,0,0,0,0,0,0,0,0,0,0,0,0,0,0,0,0,0,0,0,0,0,0,0,0,0,0,0,0,0,0,0,0,0,0,0,0,0,0,0,0,0,0,0,0,0,0,0,0,0,0,0,0,0,0,0,0,0,0,0,0,0,0,0,0,0,0,0,0,0,0,0,0,0,0,0,0,0]
[0,0,132808.9,129958.07,137102.72,135757.13,207371.5,197211.96,148969.84,148062.01999999999,489130.78,470934,112487.16,111714.65,115654.68,114432.01,117799.76,117080.3,177886.63,168526.45,124108.02,123435.27,449248.96,431537.17,100500.97,100658.3,100746.51,100500.69,100998.34,100610.64,149843.79,141502.41,100942.82,100944.36,410968.21,393610.13,0,0,0,0,0,0,0,0,0,0,0,0,0,0,0,0,0,0,0,0,0,0,0,0,0,0,0,0,0,0,0,0,0,0,0,0,0,0,0,0,0,0,0,0,0,0,0,0,0,0,0,0,0,0,0,0,0,0,0,0,0,0,0,0,0,0,0,0,0,0,0,0,0,0,0,0,0,0,0,0,0,0,0,0,0,0,0,0,0,0,0,0,0,0,0,0,0,0,0,0,0,0,0,0,0,0,0,0,0,0,0,0,0,0,0,0,0,0,0,0,0,0,0,0,0,0,0,0,0,0,0,0,0,0,0,0,0,0,0,0,0,0,0,0,0,0,0,0,0,0,0,0,0,0,0,0,0,0,0,0,0,0,0,0,0,0,0,0,0,0,0,0,0,0,0,0,0,0,0,0,0,0,0,0,0,0,0,0,0,0,0,0,0,0,0,0,0,0,0,0,0,0,0,0,0,0,0,0,0,0,0,0,0,0,0,0,0,0,0,0,0,0,0,0,0,0,0,0,0,0,0,0,0,0,0,0,0,0,0,0,0,0,0,0,0,0,0,0,0,0,0,0,0,0,0,0,0,0,0,0,0,0,0,0,0,0,0,0,0,0,0,0,0,0,0,0]
[0,0,117489.26,115998.81,119742.09,119065.89,190313.38,180987.46,125937.73,125675.28,482586.21,464630.73,100500.85,100500.3,100500.97,100745.86,100501.01,100500.36,160376.34,151913.23000000001,100942.94,100944.53,441739.45,424323.82,0,0,0,0,0,0,0,0,0,0,0,0,0,0,0,0,0,0,0,0,0,0,0,0,0,0,0,0,0,0,0,0,0,0,0,0,0,0,0,0,0,0,0,0,0,0,0,0,0,0,0,0,0,0,0,0,0,0,0,0,0,0,0,0,0,0,0,0,0,0,0,0,0,0,0,0,0,0,0,0,0,0,0,0,0,0,0,0,0,0,0,0,0,0,0,0,0,0,0,0,0,0,0,0,0,0,0,0,0,0,0,0,0,0,0,0,0,0,0,0,0,0,0,0,0,0,0,0,0,0,0,0,0,0,0,0,0,0,0,0,0,0,0,0,0,0,0,0,0,0,0,0,0,0,0,0,0,0,0,0,0,0,0,0,0,0,0,0,0,0,0,0,0,0,0,0,0,0,0,0,0,0,0,0,0,0,0,0,0,0,0,0,0,0,0,0,0,0,0,0,0,0,0,0,0,0,0,0,0,0,0,0,0,0,0,0,0,0,0,0,0,0,0,0,0,0,0,0,0,0,0,0,0,0,0,0,0,0,0,0,0,0,0,0,0,0,0,0,0,0,0,0,0,0,0,0,0,0,0,0,0,0,0,0,0,0,0,0,0,0,0,0,0,0,0,0,0,0,0,0,0,0,0,0,0,0,0,0]
[0,0,100500.62,100501.11,100518.19,100574.96,171273.64,162878.34,100500.56,100944.37,474434.64,456780.1,0,0,0,0,0,0,0,0,0,0,0,0,0,0,0,0,0,0,0,0,0,0,0,0,0,0,0,0,0,0,0,0,0,0,0,0,0,0,0,0,0,0,0,0,0,0,0,0,0,0,0,0,0,0,0,0,0,0,0,0,0,0,0,0,0,0,0,0,0,0,0,0,0,0,0,0,0,0,0,0,0,0,0,0,0,0,0,0,0,0,0,0,0,0,0,0,0,0,0,0,0,0,0,0,0,0,0,0,0,0,0,0,0,0,0,0,0,0,0,0,0,0,0,0,0,0,0,0,0,0,0,0,0,0,0,0,0,0,0,0,0,0,0,0,0,0,0,0,0,0,0,0,0,0,0,0,0,0,0,0,0,0,0,0,0,0,0,0,0,0,0,0,0,0,0,0,0,0,0,0,0,0,0,0,0,0,0,0,0,0,0,0,0,0,0,0,0,0,0,0,0,0,0,0,0,0,0,0,0,0,0,0,0,0,0,0,0,0,0,0,0,0,0,0,0,0,0,0,0,0,0,0,0,0,0,0,0,0,0,0,0,0,0,0,0,0,0,0,0,0,0,0,0,0,0,0,0,0,0,0,0,0,0,0,0,0,0,0,0,0,0,0,0,0,0,0,0,0,0,0,0,0,0,0,0,0,0,0,0,0,0,0,0,0,0,0,0,0,0,0]
[0,0,0,0,0,0,0,0,0,0,0,0,0,0,0,0,0,0,0,0,0,0,0,0,0,0,0,0,0,0,0,0,0,0,0,0,0,0,0,0,0,0,0,0,0,0,0,0,0,0,0,0,0,0,0,0,0,0,0,0,0,0,0,0,0,0,0,0,0,0,0,0,0,0,0,0,0,0,0,0,0,0,0,0,0,0,0,0,0,0,0,0,0,0,0,0,0,0,0,0,0,0,0,0,0,0,0,0,0,0,0,0,0,0,0,0,0,0,0,0,0,0,0,0,0,0,0,0,0,0,0,0,0,0,0,0,0,0,0,0,0,0,0,0,0,0,0,0,0,0,0,0,0,0,0,0,0,0,0,0,0,0,0,0,0,0,0,0,0,0,0,0,0,0,0,0,0,0,0,0,0,0,0,0,0,0,0,0,0,0,0,0,0,0,0,0,0,0,0,0,0,0,0,0,0,0,0,0,0,0,0,0,0,0,0,0,0,0,0,0,0,0,0,0,0,0,0,0,0,0,0,0,0,0,0,0,0,0,0,0,0,0,0,0,0,0,0,0,0,0,0,0,0,0,0,0,0,0,0,0,0,0,0,0,0,0,0,0,0,0,0,0,0,0,0,0,0,0,0,0,0,0,0,0,0,0,0,0,0,0,0,0,0,0,0,0,0,0,0,0,0,0,0,0,0,0,0,0,0,0,0,0]
[0,0,0,0,0,0,0,0,0,0,0,0,0,0,0,0,0,0,0,0,0,0,0,0,0,0,0,0,0,0,0,0,0,0,0,0,0,0,0,0,0,0,0,0,0,0,0,0,0,0,0,0,0,0,0,0,0,0,0,0,0,0,0,0,0,0,0,0,0,0,0,0,0,0,0,0,0,0,0,0,0,0,0,0,0,0,0,0,0,0,0,0,0,0,0,0,0,0,0,0,0,0,0,0,0,0,0,0,0,0,0,0,0,0,0,0,0,0,0,0,0,0,0,0,0,0,0,0,0,0,0,0,0,0,0,0,0,0,0,0,0,0,0,0,0,0,0,0,0,0,0,0,0,0,0,0,0,0,0,0,0,0,0,0,0,0,0,0,0,0,0,0,0,0,0,0,0,0,0,0,0,0,0,0,0,0,0,0,0,0,0,0,0,0,0,0,0,0,0,0,0,0,0,0,0,0,0,0,0,0,0,0,0,0,0,0,0,0,0,0,0,0,0,0,0,0,0,0,0,0,0,0,0,0,0,0,0,0,0,0,0,0,0,0,0,0,0,0,0,0,0,0,0,0,0,0,0,0,0,0,0,0,0,0,0,0,0,0,0,0,0,0,0,0,0,0,0,0,0,0,0,0,0,0,0,0,0,0,0,0,0,0,0,0,0,0,0,0,0,0,0,0,0,0,0,0,0,0,0,0,0,0]
[0,0,0,0,0,0,0,0,0,0,0,0,0,0,0,0,0,0,0,0,0,0,0,0,0,0,0,0,0,0,0,0,0,0,0,0,0,0,0,0,0,0,0,0,0,0,0,0,0,0,0,0,0,0,0,0,0,0,0,0,0,0,0,0,0,0,0,0,0,0,0,0,0,0,0,0,0,0,0,0,0,0,0,0,0,0,0,0,0,0,0,0,0,0,0,0,0,0,0,0,0,0,0,0,0,0,0,0,0,0,0,0,0,0,0,0,0,0,0,0,0,0,0,0,0,0,0,0,0,0,0,0,0,0,0,0,0,0,0,0,0,0,0,0,0,0,0,0,0,0,0,0,0,0,0,0,0,0,0,0,0,0,0,0,0,0,0,0,0,0,0,0,0,0,0,0,0,0,0,0,0,0,0,0,0,0,0,0,0,0,0,0,0,0,0,0,0,0,0,0,0,0,0,0,0,0,0,0,0,0,0,0,0,0,0,0,0,0,0,0,0,0,0,0,0,0,0,0,0,0,0,0,0,0,0,0,0,0,0,0,0,0,0,0,0,0,0,0,0,0,0,0,0,0,0,0,0,0,0,0,0,0,0,0,0,0,0,0,0,0,0,0,0,0,0,0,0,0,0,0,0,0,0,0,0,0,0,0,0,0,0,0,0,0,0,0,0,0,0,0,0,0,0,0,0,0,0,0,0,0,0,0]
[0,0,0,0,0,0,0,0,0,0,0,0,0,0,0,0,0,0,0,0,0,0,0,0,0,0,0,0,0,0,0,0,0,0,0,0,0,0,0,0,0,0,0,0,0,0,0,0,0,0,0,0,0,0,0,0,0,0,0,0,0,0,0,0,0,0,0,0,0,0,0,0,0,0,0,0,0,0,0,0,0,0,0,0,0,0,0,0,0,0,0,0,0,0,0,0,0,0,0,0,0,0,0,0,0,0,0,0,0,0,0,0,0,0,0,0,0,0,0,0,0,0,0,0,0,0,0,0,0,0,0,0,0,0,0,0,0,0,0,0,0,0,0,0,0,0,0,0,0,0,0,0,0,0,0,0,0,0,0,0,0,0,0,0,0,0,0,0,0,0,0,0,0,0,0,0,0,0,0,0,0,0,0,0,0,0,0,0,0,0,0,0,0,0,0,0,0,0,0,0,0,0,0,0,0,0,0,0,0,0,0,0,0,0,0,0,0,0,0,0,0,0,0,0,0,0,0,0,0,0,0,0,0,0,0,0,0,0,0,0,0,0,0,0,0,0,0,0,0,0,0,0,0,0,0,0,0,0,0,0,0,0,0,0,0,0,0,0,0,0,0,0,0,0,0,0,0,0,0,0,0,0,0,0,0,0,0,0,0,0,0,0,0,0,0,0,0,0,0,0,0,0,0,0,0,0,0,0,0,0,0,0]
[0,0,0,0,0,0,0,0,0,0,0,0,0,0,0,0,0,0,0,0,0,0,0,0,0,0,0,0,0,0,0,0,0,0,0,0,0,0,0,0,0,0,0,0,0,0,0,0,0,0,0,0,0,0,0,0,0,0,0,0,0,0,0,0,0,0,0,0,0,0,0,0,0,0,0,0,0,0,0,0,0,0,0,0,0,0,0,0,0,0,0,0,0,0,0,0,0,0,0,0,0,0,0,0,0,0,0,0,0,0,0,0,0,0,0,0,0,0,0,0,0,0,0,0,0,0,0,0,0,0,0,0,0,0,0,0,0,0,0,0,0,0,0,0,0,0,0,0,0,0,0,0,0,0,0,0,0,0,0,0,0,0,0,0,0,0,0,0,0,0,0,0,0,0,0,0,0,0,0,0,0,0,0,0,0,0,0,0,0,0,0,0,0,0,0,0,0,0,0,0,0,0,0,0,0,0,0,0,0,0,0,0,0,0,0,0,0,0,0,0,0,0,0,0,0,0,0,0,0,0,0,0,0,0,0,0,0,0,0,0,0,0,0,0,0,0,0,0,0,0,0,0,0,0,0,0,0,0,0,0,0,0,0,0,0,0,0,0,0,0,0,0,0,0,0,0,0,0,0,0,0,0,0,0,0,0,0,0,0,0,0,0,0,0,0,0,0,0,0,0,0,0,0,0,0,0,0,0,0,0,0,0]
[0,0,0,0,0,0,0,0,0,0,0,0,0,0,0,0,0,0,0,0,0,0,0,0,0,0,0,0,0,0,0,0,0,0,0,0,0,0,0,0,0,0,0,0,0,0,0,0,0,0,0,0,0,0,0,0,0,0,0,0,0,0,0,0,0,0,0,0,0,0,0,0,0,0,0,0,0,0,0,0,0,0,0,0,0,0,0,0,0,0,0,0,0,0,0,0,0,0,0,0,0,0,0,0,0,0,0,0,0,0,0,0,0,0,0,0,0,0,0,0,0,0,0,0,0,0,0,0,0,0,0,0,0,0,0,0,0,0,0,0,0,0,0,0,0,0,0,0,0,0,0,0,0,0,0,0,0,0,0,0,0,0,0,0,0,0,0,0,0,0,0,0,0,0,0,0,0,0,0,0,0,0,0,0,0,0,0,0,0,0,0,0,0,0,0,0,0,0,0,0,0,0,0,0,0,0,0,0,0,0,0,0,0,0,0,0,0,0,0,0,0,0,0,0,0,0,0,0,0,0,0,0,0,0,0,0,0,0,0,0,0,0,0,0,0,0,0,0,0,0,0,0,0,0,0,0,0,0,0,0,0,0,0,0,0,0,0,0,0,0,0,0,0,0,0,0,0,0,0,0,0,0,0,0,0,0,0,0,0,0,0,0,0,0,0,0,0,0,0,0,0,0,0,0,0,0,0,0,0,0,0,0]
[0,0,0,0,0,0,0,0,0,0,0,0,0,0,0,0,0,0,0,0,0,0,0,0,0,0,0,0,0,0,0,0,0,0,0,0,0,0,0,0,0,0,0,0,0,0,0,0,0,0,0,0,0,0,0,0,0,0,0,0,0,0,0,0,0,0,0,0,0,0,0,0,0,0,0,0,0,0,0,0,0,0,0,0,0,0,0,0,0,0,0,0,0,0,0,0,0,0,0,0,0,0,0,0,0,0,0,0,0,0,0,0,0,0,0,0,0,0,0,0,0,0,0,0,0,0,0,0,0,0,0,0,0,0,0,0,0,0,0,0,0,0,0,0,0,0,0,0,0,0,0,0,0,0,0,0,0,0,0,0,0,0,0,0,0,0,0,0,0,0,0,0,0,0,0,0,0,0,0,0,0,0,0,0,0,0,0,0,0,0,0,0,0,0,0,0,0,0,0,0,0,0,0,0,0,0,0,0,0,0,0,0,0,0,0,0,0,0,0,0,0,0,0,0,0,0,0,0,0,0,0,0,0,0,0,0,0,0,0,0,0,0,0,0,0,0,0,0,0,0,0,0,0,0,0,0,0,0,0,0,0,0,0,0,0,0,0,0,0,0,0,0,0,0,0,0,0,0,0,0,0,0,0,0,0,0,0,0,0,0,0,0,0,0,0,0,0,0,0,0,0,0,0,0,0,0,0,0,0,0,0,0]
[0,0,0,0,0,0,0,0,0,0,0,0,0,0,0,0,0,0,0,0,0,0,0,0,0,0,0,0,0,0,0,0,0,0,0,0,0,0,0,0,0,0,0,0,0,0,0,0,0,0,0,0,0,0,0,0,0,0,0,0,0,0,0,0,0,0,0,0,0,0,0,0,0,0,0,0,0,0,0,0,0,0,0,0,0,0,0,0,0,0,0,0,0,0,0,0,0,0,0,0,0,0,0,0,0,0,0,0,0,0,0,0,0,0,0,0,0,0,0,0,0,0,0,0,0,0,0,0,0,0,0,0,0,0,0,0,0,0,0,0,0,0,0,0,0,0,0,0,0,0,0,0,0,0,0,0,0,0,0,0,0,0,0,0,0,0,0,0,0,0,0,0,0,0,0,0,0,0,0,0,0,0,0,0,0,0,0,0,0,0,0,0,0,0,0,0,0,0,0,0,0,0,0,0,0,0,0,0,0,0,0,0,0,0,0,0,0,0,0,0,0,0,0,0,0,0,0,0,0,0,0,0,0,0,0,0,0,0,0,0,0,0,0,0,0,0,0,0,0,0,0,0,0,0,0,0,0,0,0,0,0,0,0,0,0,0,0,0,0,0,0,0,0,0,0,0,0,0,0,0,0,0,0,0,0,0,0,0,0,0,0,0,0,0,0,0,0,0,0,0,0,0,0,0,0,0,0,0,0,0,0,0]
[0,0,0,0,0,0,0,0,0,0,0,0,0,0,0,0,0,0,0,0,0,0,0,0,0,0,0,0,0,0,0,0,0,0,0,0,0,0,0,0,0,0,0,0,0,0,0,0,0,0,0,0,0,0,0,0,0,0,0,0,0,0,0,0,0,0,0,0,0,0,0,0,0,0,0,0,0,0,0,0,0,0,0,0,0,0,0,0,0,0,0,0,0,0,0,0,0,0,0,0,0,0,0,0,0,0,0,0,0,0,0,0,0,0,0,0,0,0,0,0,0,0,0,0,0,0,0,0,0,0,0,0,0,0,0,0,0,0,0,0,0,0,0,0,0,0,0,0,0,0,0,0,0,0,0,0,0,0,0,0,0,0,0,0,0,0,0,0,0,0,0,0,0,0,0,0,0,0,0,0,0,0,0,0,0,0,0,0,0,0,0,0,0,0,0,0,0,0,0,0,0,0,0,0,0,0,0,0,0,0,0,0,0,0,0,0,0,0,0,0,0,0,0,0,0,0,0,0,0,0,0,0,0,0,0,0,0,0,0,0,0,0,0,0,0,0,0,0,0,0,0,0,0,0,0,0,0,0,0,0,0,0,0,0,0,0,0,0,0,0,0,0,0,0,0,0,0,0,0,0,0,0,0,0,0,0,0,0,0,0,0,0,0,0,0,0,0,0,0,0,0,0,0,0,0,0,0,0,0,0,0,0]
[0,0,0,0,0,0,0,0,0,0,0,0,0,0,0,0,0,0,0,0,0,0,0,0,0,0,0,0,0,0,0,0,0,0,0,0,0,0,0,0,0,0,0,0,0,0,0,0,0,0,0,0,0,0,0,0,0,0,0,0,0,0,0,0,0,0,0,0,0,0,0,0,0,0,0,0,0,0,0,0,0,0,0,0,0,0,0,0,0,0,0,0,0,0,0,0,0,0,0,0,0,0,0,0,0,0,0,0,0,0,0,0,0,0,0,0,0,0,0,0,0,0,0,0,0,0,0,0,0,0,0,0,0,0,0,0,0,0,0,0,0,0,0,0,0,0,0,0,0,0,0,0,0,0,0,0,0,0,0,0,0,0,0,0,0,0,0,0,0,0,0,0,0,0,0,0,0,0,0,0,0,0,0,0,0,0,0,0,0,0,0,0,0,0,0,0,0,0,0,0,0,0,0,0,0,0,0,0,0,0,0,0,0,0,0,0,0,0,0,0,0,0,0,0,0,0,0,0,0,0,0,0,0,0,0,0,0,0,0,0,0,0,0,0,0,0,0,0,0,0,0,0,0,0,0,0,0,0,0,0,0,0,0,0,0,0,0,0,0,0,0,0,0,0,0,0,0,0,0,0,0,0,0,0,0,0,0,0,0,0,0,0,0,0,0,0,0,0,0,0,0,0,0,0,0,0,0,0,0,0,0,0]
[0,0,0,0,0,0,0,0,0,0,0,0,0,0,0,0,0,0,0,0,0,0,0,0,0,0,0,0,0,0,0,0,0,0,0,0,0,0,0,0,0,0,0,0,0,0,0,0,0,0,0,0,0,0,0,0,0,0,0,0,0,0,0,0,0,0,0,0,0,0,0,0,0,0,0,0,0,0,0,0,0,0,0,0,0,0,0,0,0,0,0,0,0,0,0,0,0,0,0,0,0,0,0,0,0,0,0,0,0,0,0,0,0,0,0,0,0,0,0,0,0,0,0,0,0,0,0,0,0,0,0,0,0,0,0,0,0,0,0,0,0,0,0,0,0,0,0,0,0,0,0,0,0,0,0,0,0,0,0,0,0,0,0,0,0,0,0,0,0,0,0,0,0,0,0,0,0,0,0,0,0,0,0,0,0,0,0,0,0,0,0,0,0,0,0,0,0,0,0,0,0,0,0,0,0,0,0,0,0,0,0,0,0,0,0,0,0,0,0,0,0,0,0,0,0,0,0,0,0,0,0,0,0,0,0,0,0,0,0,0,0,0,0,0,0,0,0,0,0,0,0,0,0,0,0,0,0,0,0,0,0,0,0,0,0,0,0,0,0,0,0,0,0,0,0,0,0,0,0,0,0,0,0,0,0,0,0,0,0,0,0,0,0,0,0,0,0,0,0,0,0,0,0,0,0,0,0,0,0,0,0,0]
[0,0,0,0,0,0,0,0,0,0,0,0,0,0,0,0,0,0,0,0,0,0,0,0,0,0,0,0,0,0,0,0,0,0,0,0,0,0,0,0,0,0,0,0,0,0,0,0,0,0,0,0,0,0,0,0,0,0,0,0,0,0,0,0,0,0,0,0,0,0,0,0,0,0,0,0,0,0,0,0,0,0,0,0,0,0,0,0,0,0,0,0,0,0,0,0,0,0,0,0,0,0,0,0,0,0,0,0,0,0,0,0,0,0,0,0,0,0,0,0,0,0,0,0,0,0,0,0,0,0,0,0,0,0,0,0,0,0,0,0,0,0,0,0,0,0,0,0,0,0,0,0,0,0,0,0,0,0,0,0,0,0,0,0,0,0,0,0,0,0,0,0,0,0,0,0,0,0,0,0,0,0,0,0,0,0,0,0,0,0,0,0,0,0,0,0,0,0,0,0,0,0,0,0,0,0,0,0,0,0,0,0,0,0,0,0,0,0,0,0,0,0,0,0,0,0,0,0,0,0,0,0,0,0,0,0,0,0,0,0,0,0,0,0,0,0,0,0,0,0,0,0,0,0,0,0,0,0,0,0,0,0,0,0,0,0,0,0,0,0,0,0,0,0,0,0,0,0,0,0,0,0,0,0,0,0,0,0,0,0,0,0,0,0,0,0,0,0,0,0,0,0,0,0,0,0,0,0,0,0,0,0]
[0,0,0,0,0,0,0,0,0,0,0,0,0,0,0,0,0,0,0,0,0,0,0,0,0,0,0,0,0,0,0,0,0,0,0,0,0,0,0,0,0,0,0,0,0,0,0,0,0,0,0,0,0,0,0,0,0,0,0,0,0,0,0,0,0,0,0,0,0,0,0,0,0,0,0,0,0,0,0,0,0,0,0,0,0,0,0,0,0,0,0,0,0,0,0,0,0,0,0,0,0,0,0,0,0,0,0,0,0,0,0,0,0,0,0,0,0,0,0,0,0,0,0,0,0,0,0,0,0,0,0,0,0,0,0,0,0,0,0,0,0,0,0,0,0,0,0,0,0,0,0,0,0,0,0,0,0,0,0,0,0,0,0,0,0,0,0,0,0,0,0,0,0,0,0,0,0,0,0,0,0,0,0,0,0,0,0,0,0,0,0,0,0,0,0,0,0,0,0,0,0,0,0,0,0,0,0,0,0,0,0,0,0,0,0,0,0,0,0,0,0,0,0,0,0,0,0,0,0,0,0,0,0,0,0,0,0,0,0,0,0,0,0,0,0,0,0,0,0,0,0,0,0,0,0,0,0,0,0,0,0,0,0,0,0,0,0,0,0,0,0,0,0,0,0,0,0,0,0,0,0,0,0,0,0,0,0,0,0,0,0,0,0,0,0,0,0,0,0,0,0,0,0,0,0,0,0,0,0,0,0,0]
[0,0,0,0,0,0,0,0,0,0,0,0,0,0,0,0,0,0,0,0,0,0,0,0,0,0,0,0,0,0,0,0,0,0,0,0,0,0,0,0,0,0,0,0,0,0,0,0,0,0,0,0,0,0,0,0,0,0,0,0,0,0,0,0,0,0,0,0,0,0,0,0,0,0,0,0,0,0,0,0,0,0,0,0,0,0,0,0,0,0,0,0,0,0,0,0,0,0,0,0,0,0,0,0,0,0,0,0,0,0,0,0,0,0,0,0,0,0,0,0,0,0,0,0,0,0,0,0,0,0,0,0,0,0,0,0,0,0,0,0,0,0,0,0,0,0,0,0,0,0,0,0,0,0,0,0,0,0,0,0,0,0,0,0,0,0,0,0,0,0,0,0,0,0,0,0,0,0,0,0,0,0,0,0,0,0,0,0,0,0,0,0,0,0,0,0,0,0,0,0,0,0,0,0,0,0,0,0,0,0,0,0,0,0,0,0,0,0,0,0,0,0,0,0,0,0,0,0,0,0,0,0,0,0,0,0,0,0,0,0,0,0,0,0,0,0,0,0,0,0,0,0,0,0,0,0,0,0,0,0,0,0,0,0,0,0,0,0,0,0,0,0,0,0,0,0,0,0,0,0,0,0,0,0,0,0,0,0,0,0,0,0,0,0,0,0,0,0,0,0,0,0,0,0,0,0,0,0,0,0,0,0]
[0,0,0,0,0,0,0,0,0,0,0,0,0,0,0,0,0,0,0,0,0,0,0,0,0,0,0,0,0,0,0,0,0,0,0,0,0,0,0,0,0,0,0,0,0,0,0,0,0,0,0,0,0,0,0,0,0,0,0,0,0,0,0,0,0,0,0,0,0,0,0,0,0,0,0,0,0,0,0,0,0,0,0,0,0,0,0,0,0,0,0,0,0,0,0,0,0,0,0,0,0,0,0,0,0,0,0,0,0,0,0,0,0,0,0,0,0,0,0,0,0,0,0,0,0,0,0,0,0,0,0,0,0,0,0,0,0,0,0,0,0,0,0,0,0,0,0,0,0,0,0,0,0,0,0,0,0,0,0,0,0,0,0,0,0,0,0,0,0,0,0,0,0,0,0,0,0,0,0,0,0,0,0,0,0,0,0,0,0,0,0,0,0,0,0,0,0,0,0,0,0,0,0,0,0,0,0,0,0,0,0,0,0,0,0,0,0,0,0,0,0,0,0,0,0,0,0,0,0,0,0,0,0,0,0,0,0,0,0,0,0,0,0,0,0,0,0,0,0,0,0,0,0,0,0,0,0,0,0,0,0,0,0,0,0,0,0,0,0,0,0,0,0,0,0,0,0,0,0,0,0,0,0,0,0,0,0,0,0,0,0,0,0,0,0,0,0,0,0,0,0,0,0,0,0,0,0,0,0,0,0,0]
[0,0,0,0,0,0,0,0,0,0,0,0,0,0,0,0,0,0,0,0,0,0,0,0,0,0,0,0,0,0,0,0,0,0,0,0,0,0,0,0,0,0,0,0,0,0,0,0,0,0,0,0,0,0,0,0,0,0,0,0,0,0,0,0,0,0,0,0,0,0,0,0,0,0,0,0,0,0,0,0,0,0,0,0,0,0,0,0,0,0,0,0,0,0,0,0,0,0,0,0,0,0,0,0,0,0,0,0,0,0,0,0,0,0,0,0,0,0,0,0,0,0,0,0,0,0,0,0,0,0,0,0,0,0,0,0,0,0,0,0,0,0,0,0,0,0,0,0,0,0,0,0,0,0,0,0,0,0,0,0,0,0,0,0,0,0,0,0,0,0,0,0,0,0,0,0,0,0,0,0,0,0,0,0,0,0,0,0,0,0,0,0,0,0,0,0,0,0,0,0,0,0,0,0,0,0,0,0,0,0,0,0,0,0,0,0,0,0,0,0,0,0,0,0,0,0,0,0,0,0,0,0,0,0,0,0,0,0,0,0,0,0,0,0,0,0,0,0,0,0,0,0,0,0,0,0,0,0,0,0,0,0,0,0,0,0,0,0,0,0,0,0,0,0,0,0,0,0,0,0,0,0,0,0,0,0,0,0,0,0,0,0,0,0,0,0,0,0,0,0,0,0,0,0,0,0,0,0,0,0,0,0]
[0,0,0,0,0,0,0,0,0,0,0,0,0,0,0,0,0,0,0,0,0,0,0,0,0,0,0,0,0,0,0,0,0,0,0,0,0,0,0,0,0,0,0,0,0,0,0,0,0,0,0,0,0,0,0,0,0,0,0,0,0,0,0,0,0,0,0,0,0,0,0,0,0,0,0,0,0,0,0,0,0,0,0,0,0,0,0,0,0,0,0,0,0,0,0,0,0,0,0,0,0,0,0,0,0,0,0,0,0,0,0,0,0,0,0,0,0,0,0,0,0,0,0,0,0,0,0,0,0,0,0,0,0,0,0,0,0,0,0,0,0,0,0,0,0,0,0,0,0,0,0,0,0,0,0,0,0,0,0,0,0,0,0,0,0,0,0,0,0,0,0,0,0,0,0,0,0,0,0,0,0,0,0,0,0,0,0,0,0,0,0,0,0,0,0,0,0,0,0,0,0,0,0,0,0,0,0,0,0,0,0,0,0,0,0,0,0,0,0,0,0,0,0,0,0,0,0,0,0,0,0,0,0,0,0,0,0,0,0,0,0,0,0,0,0,0,0,0,0,0,0,0,0,0,0,0,0,0,0,0,0,0,0,0,0,0,0,0,0,0,0,0,0,0,0,0,0,0,0,0,0,0,0,0,0,0,0,0,0,0,0,0,0,0,0,0,0,0,0,0,0,0,0,0,0,0,0,0,0,0,0,0]
[0,0,0,0,0,0,0,0,0,0,0,0,0,0,0,0,0,0,0,0,0,0,0,0,0,0,0,0,0,0,0,0,0,0,0,0,0,0,0,0,0,0,0,0,0,0,0,0,0,0,0,0,0,0,0,0,0,0,0,0,0,0,0,0,0,0,0,0,0,0,0,0,0,0,0,0,0,0,0,0,0,0,0,0,0,0,0,0,0,0,0,0,0,0,0,0,0,0,0,0,0,0,0,0,0,0,0,0,0,0,0,0,0,0,0,0,0,0,0,0,0,0,0,0,0,0,0,0,0,0,0,0,0,0,0,0,0,0,0,0,0,0,0,0,0,0,0,0,0,0,0,0,0,0,0,0,0,0,0,0,0,0,0,0,0,0,0,0,0,0,0,0,0,0,0,0,0,0,0,0,0,0,0,0,0,0,0,0,0,0,0,0,0,0,0,0,0,0,0,0,0,0,0,0,0,0,0,0,0,0,0,0,0,0,0,0,0,0,0,0,0,0,0,0,0,0,0,0,0,0,0,0,0,0,0,0,0,0,0,0,0,0,0,0,0,0,0,0,0,0,0,0,0,0,0,0,0,0,0,0,0,0,0,0,0,0,0,0,0,0,0,0,0,0,0,0,0,0,0,0,0,0,0,0,0,0,0,0,0,0,0,0,0,0,0,0,0,0,0,0,0,0,0,0,0,0,0,0,0,0,0,0]
[0,0,0,0,0,0,0,0,0,0,0,0,0,0,0,0,0,0,0,0,0,0,0,0,0,0,0,0,0,0,0,0,0,0,0,0,0,0,0,0,0,0,0,0,0,0,0,0,0,0,0,0,0,0,0,0,0,0,0,0,0,0,0,0,0,0,0,0,0,0,0,0,0,0,0,0,0,0,0,0,0,0,0,0,0,0,0,0,0,0,0,0,0,0,0,0,0,0,0,0,0,0,0,0,0,0,0,0,0,0,0,0,0,0,0,0,0,0,0,0,0,0,0,0,0,0,0,0,0,0,0,0,0,0,0,0,0,0,0,0,0,0,0,0,0,0,0,0,0,0,0,0,0,0,0,0,0,0,0,0,0,0,0,0,0,0,0,0,0,0,0,0,0,0,0,0,0,0,0,0,0,0,0,0,0,0,0,0,0,0,0,0,0,0,0,0,0,0,0,0,0,0,0,0,0,0,0,0,0,0,0,0,0,0,0,0,0,0,0,0,0,0,0,0,0,0,0,0,0,0,0,0,0,0,0,0,0,0,0,0,0,0,0,0,0,0,0,0,0,0,0,0,0,0,0,0,0,0,0,0,0,0,0,0,0,0,0,0,0,0,0,0,0,0,0,0,0,0,0,0,0,0,0,0,0,0,0,0,0,0,0,0,0,0,0,0,0,0,0,0,0,0,0,0,0,0,0,0,0,0,0,0]
[0,0,0,0,0,0,0,0,0,0,0,0,0,0,0,0,0,0,0,0,0,0,0,0,0,0,0,0,0,0,0,0,0,0,0,0,0,0,0,0,0,0,0,0,0,0,0,0,0,0,0,0,0,0,0,0,0,0,0,0,0,0,0,0,0,0,0,0,0,0,0,0,0,0,0,0,0,0,0,0,0,0,0,0,0,0,0,0,0,0,0,0,0,0,0,0,0,0,0,0,0,0,0,0,0,0,0,0,0,0,0,0,0,0,0,0,0,0,0,0,0,0,0,0,0,0,0,0,0,0,0,0,0,0,0,0,0,0,0,0,0,0,0,0,0,0,0,0,0,0,0,0,0,0,0,0,0,0,0,0,0,0,0,0,0,0,0,0,0,0,0,0,0,0,0,0,0,0,0,0,0,0,0,0,0,0,0,0,0,0,0,0,0,0,0,0,0,0,0,0,0,0,0,0,0,0,0,0,0,0,0,0,0,0,0,0,0,0,0,0,0,0,0,0,0,0,0,0,0,0,0,0,0,0,0,0,0,0,0,0,0,0,0,0,0,0,0,0,0,0,0,0,0,0,0,0,0,0,0,0,0,0,0,0,0,0,0,0,0,0,0,0,0,0,0,0,0,0,0,0,0,0,0,0,0,0,0,0,0,0,0,0,0,0,0,0,0,0,0,0,0,0,0,0,0,0,0,0,0,0,0,0]
[0,0,0,0,0,0,0,0,0,0,0,0,0,0,0,0,0,0,0,0,0,0,0,0,0,0,0,0,0,0,0,0,0,0,0,0,0,0,0,0,0,0,0,0,0,0,0,0,0,0,0,0,0,0,0,0,0,0,0,0,0,0,0,0,0,0,0,0,0,0,0,0,0,0,0,0,0,0,0,0,0,0,0,0,0,0,0,0,0,0,0,0,0,0,0,0,0,0,0,0,0,0,0,0,0,0,0,0,0,0,0,0,0,0,0,0,0,0,0,0,0,0,0,0,0,0,0,0,0,0,0,0,0,0,0,0,0,0,0,0,0,0,0,0,0,0,0,0,0,0,0,0,0,0,0,0,0,0,0,0,0,0,0,0,0,0,0,0,0,0,0,0,0,0,0,0,0,0,0,0,0,0,0,0,0,0,0,0,0,0,0,0,0,0,0,0,0,0,0,0,0,0,0,0,0,0,0,0,0,0,0,0,0,0,0,0,0,0,0,0,0,0,0,0,0,0,0,0,0,0,0,0,0,0,0,0,0,0,0,0,0,0,0,0,0,0,0,0,0,0,0,0,0,0,0,0,0,0,0,0,0,0,0,0,0,0,0,0,0,0,0,0,0,0,0,0,0,0,0,0,0,0,0,0,0,0,0,0,0,0,0,0,0,0,0,0,0,0,0,0,0,0,0,0,0,0,0,0,0,0,0,0]
[0,0,0,0,0,0,0,0,0,0,0,0,0,0,0,0,0,0,0,0,0,0,0,0,0,0,0,0,0,0,0,0,0,0,0,0,0,0,0,0,0,0,0,0,0,0,0,0,0,0,0,0,0,0,0,0,0,0,0,0,0,0,0,0,0,0,0,0,0,0,0,0,0,0,0,0,0,0,0,0,0,0,0,0,0,0,0,0,0,0,0,0,0,0,0,0,0,0,0,0,0,0,0,0,0,0,0,0,0,0,0,0,0,0,0,0,0,0,0,0,0,0,0,0,0,0,0,0,0,0,0,0,0,0,0,0,0,0,0,0,0,0,0,0,0,0,0,0,0,0,0,0,0,0,0,0,0,0,0,0,0,0,0,0,0,0,0,0,0,0,0,0,0,0,0,0,0,0,0,0,0,0,0,0,0,0,0,0,0,0,0,0,0,0,0,0,0,0,0,0,0,0,0,0,0,0,0,0,0,0,0,0,0,0,0,0,0,0,0,0,0,0,0,0,0,0,0,0,0,0,0,0,0,0,0,0,0,0,0,0,0,0,0,0,0,0,0,0,0,0,0,0,0,0,0,0,0,0,0,0,0,0,0,0,0,0,0,0,0,0,0,0,0,0,0,0,0,0,0,0,0,0,0,0,0,0,0,0,0,0,0,0,0,0,0,0,0,0,0,0,0,0,0,0,0,0,0,0,0,0,0,0]
[0,0,0,0,0,0,0,0,0,0,0,0,0,0,0,0,0,0,0,0,0,0,0,0,0,0,0,0,0,0,0,0,0,0,0,0,0,0,0,0,0,0,0,0,0,0,0,0,0,0,0,0,0,0,0,0,0,0,0,0,0,0,0,0,0,0,0,0,0,0,0,0,0,0,0,0,0,0,0,0,0,0,0,0,0,0,0,0,0,0,0,0,0,0,0,0,0,0,0,0,0,0,0,0,0,0,0,0,0,0,0,0,0,0,0,0,0,0,0,0,0,0,0,0,0,0,0,0,0,0,0,0,0,0,0,0,0,0,0,0,0,0,0,0,0,0,0,0,0,0,0,0,0,0,0,0,0,0,0,0,0,0,0,0,0,0,0,0,0,0,0,0,0,0,0,0,0,0,0,0,0,0,0,0,0,0,0,0,0,0,0,0,0,0,0,0,0,0,0,0,0,0,0,0,0,0,0,0,0,0,0,0,0,0,0,0,0,0,0,0,0,0,0,0,0,0,0,0,0,0,0,0,0,0,0,0,0,0,0,0,0,0,0,0,0,0,0,0,0,0,0,0,0,0,0,0,0,0,0,0,0,0,0,0,0,0,0,0,0,0,0,0,0,0,0,0,0,0,0,0,0,0,0,0,0,0,0,0,0,0,0,0,0,0,0,0,0,0,0,0,0,0,0,0,0,0,0,0,0,0,0,0]
[0,0,0,0,0,0,0,0,0,0,0,0,0,0,0,0,0,0,0,0,0,0,0,0,0,0,0,0,0,0,0,0,0,0,0,0,0,0,0,0,0,0,0,0,0,0,0,0,0,0,0,0,0,0,0,0,0,0,0,0,0,0,0,0,0,0,0,0,0,0,0,0,0,0,0,0,0,0,0,0,0,0,0,0,0,0,0,0,0,0,0,0,0,0,0,0,0,0,0,0,0,0,0,0,0,0,0,0,0,0,0,0,0,0,0,0,0,0,0,0,0,0,0,0,0,0,0,0,0,0,0,0,0,0,0,0,0,0,0,0,0,0,0,0,0,0,0,0,0,0,0,0,0,0,0,0,0,0,0,0,0,0,0,0,0,0,0,0,0,0,0,0,0,0,0,0,0,0,0,0,0,0,0,0,0,0,0,0,0,0,0,0,0,0,0,0,0,0,0,0,0,0,0,0,0,0,0,0,0,0,0,0,0,0,0,0,0,0,0,0,0,0,0,0,0,0,0,0,0,0,0,0,0,0,0,0,0,0,0,0,0,0,0,0,0,0,0,0,0,0,0,0,0,0,0,0,0,0,0,0,0,0,0,0,0,0,0,0,0,0,0,0,0,0,0,0,0,0,0,0,0,0,0,0,0,0,0,0,0,0,0,0,0,0,0,0,0,0,0,0,0,0,0,0,0,0,0,0,0,0,0,0]
[0,0,0,0,0,0,0,0,0,0,0,0,0,0,0,0,0,0,0,0,0,0,0,0,0,0,0,0,0,0,0,0,0,0,0,0,0,0,0,0,0,0,0,0,0,0,0,0,0,0,0,0,0,0,0,0,0,0,0,0,0,0,0,0,0,0,0,0,0,0,0,0,0,0,0,0,0,0,0,0,0,0,0,0,0,0,0,0,0,0,0,0,0,0,0,0,0,0,0,0,0,0,0,0,0,0,0,0,0,0,0,0,0,0,0,0,0,0,0,0,0,0,0,0,0,0,0,0,0,0,0,0,0,0,0,0,0,0,0,0,0,0,0,0,0,0,0,0,0,0,0,0,0,0,0,0,0,0,0,0,0,0,0,0,0,0,0,0,0,0,0,0,0,0,0,0,0,0,0,0,0,0,0,0,0,0,0,0,0,0,0,0,0,0,0,0,0,0,0,0,0,0,0,0,0,0,0,0,0,0,0,0,0,0,0,0,0,0,0,0,0,0,0,0,0,0,0,0,0,0,0,0,0,0,0,0,0,0,0,0,0,0,0,0,0,0,0,0,0,0,0,0,0,0,0,0,0,0,0,0,0,0,0,0,0,0,0,0,0,0,0,0,0,0,0,0,0,0,0,0,0,0,0,0,0,0,0,0,0,0,0,0,0,0,0,0,0,0,0,0,0,0,0,0,0,0,0,0,0,0,0,0]
[0,0,0,0,0,0,0,0,0,0,0,0,0,0,0,0,0,0,0,0,0,0,0,0,0,0,0,0,0,0,0,0,0,0,0,0,0,0,0,0,0,0,0,0,0,0,0,0,0,0,0,0,0,0,0,0,0,0,0,0,0,0,0,0,0,0,0,0,0,0,0,0,0,0,0,0,0,0,0,0,0,0,0,0,0,0,0,0,0,0,0,0,0,0,0,0,0,0,0,0,0,0,0,0,0,0,0,0,0,0,0,0,0,0,0,0,0,0,0,0,0,0,0,0,0,0,0,0,0,0,0,0,0,0,0,0,0,0,0,0,0,0,0,0,0,0,0,0,0,0,0,0,0,0,0,0,0,0,0,0,0,0,0,0,0,0,0,0,0,0,0,0,0,0,0,0,0,0,0,0,0,0,0,0,0,0,0,0,0,0,0,0,0,0,0,0,0,0,0,0,0,0,0,0,0,0,0,0,0,0,0,0,0,0,0,0,0,0,0,0,0,0,0,0,0,0,0,0,0,0,0,0,0,0,0,0,0,0,0,0,0,0,0,0,0,0,0,0,0,0,0,0,0,0,0,0,0,0,0,0,0,0,0,0,0,0,0,0,0,0,0,0,0,0,0,0,0,0,0,0,0,0,0,0,0,0,0,0,0,0,0,0,0,0,0,0,0,0,0,0,0,0,0,0,0,0,0,0,0,0,0,0]
[0,0,0,0,0,0,0,0,0,0,0,0,0,0,0,0,0,0,0,0,0,0,0,0,0,0,0,0,0,0,0,0,0,0,0,0,0,0,0,0,0,0,0,0,0,0,0,0,0,0,0,0,0,0,0,0,0,0,0,0,0,0,0,0,0,0,0,0,0,0,0,0,0,0,0,0,0,0,0,0,0,0,0,0,0,0,0,0,0,0,0,0,0,0,0,0,0,0,0,0,0,0,0,0,0,0,0,0,0,0,0,0,0,0,0,0,0,0,0,0,0,0,0,0,0,0,0,0,0,0,0,0,0,0,0,0,0,0,0,0,0,0,0,0,0,0,0,0,0,0,0,0,0,0,0,0,0,0,0,0,0,0,0,0,0,0,0,0,0,0,0,0,0,0,0,0,0,0,0,0,0,0,0,0,0,0,0,0,0,0,0,0,0,0,0,0,0,0,0,0,0,0,0,0,0,0,0,0,0,0,0,0,0,0,0,0,0,0,0,0,0,0,0,0,0,0,0,0,0,0,0,0,0,0,0,0,0,0,0,0,0,0,0,0,0,0,0,0,0,0,0,0,0,0,0,0,0,0,0,0,0,0,0,0,0,0,0,0,0,0,0,0,0,0,0,0,0,0,0,0,0,0,0,0,0,0,0,0,0,0,0,0,0,0,0,0,0,0,0,0,0,0,0,0,0,0,0,0,0,0,0,0]
[0,0,0,0,0,0,0,0,0,0,0,0,0,0,0,0,0,0,0,0,0,0,0,0,0,0,0,0,0,0,0,0,0,0,0,0,0,0,0,0,0,0,0,0,0,0,0,0,0,0,0,0,0,0,0,0,0,0,0,0,0,0,0,0,0,0,0,0,0,0,0,0,0,0,0,0,0,0,0,0,0,0,0,0,0,0,0,0,0,0,0,0,0,0,0,0,0,0,0,0,0,0,0,0,0,0,0,0,0,0,0,0,0,0,0,0,0,0,0,0,0,0,0,0,0,0,0,0,0,0,0,0,0,0,0,0,0,0,0,0,0,0,0,0,0,0,0,0,0,0,0,0,0,0,0,0,0,0,0,0,0,0,0,0,0,0,0,0,0,0,0,0,0,0,0,0,0,0,0,0,0,0,0,0,0,0,0,0,0,0,0,0,0,0,0,0,0,0,0,0,0,0,0,0,0,0,0,0,0,0,0,0,0,0,0,0,0,0,0,0,0,0,0,0,0,0,0,0,0,0,0,0,0,0,0,0,0,0,0,0,0,0,0,0,0,0,0,0,0,0,0,0,0,0,0,0,0,0,0,0,0,0,0,0,0,0,0,0,0,0,0,0,0,0,0,0,0,0,0,0,0,0,0,0,0,0,0,0,0,0,0,0,0,0,0,0,0,0,0,0,0,0,0,0,0,0,0,0,0,0,0,0]
[0,0,0,0,0,0,0,0,0,0,0,0,0,0,0,0,0,0,0,0,0,0,0,0,0,0,0,0,0,0,0,0,0,0,0,0,0,0,0,0,0,0,0,0,0,0,0,0,0,0,0,0,0,0,0,0,0,0,0,0,0,0,0,0,0,0,0,0,0,0,0,0,0,0,0,0,0,0,0,0,0,0,0,0,0,0,0,0,0,0,0,0,0,0,0,0,0,0,0,0,0,0,0,0,0,0,0,0,0,0,0,0,0,0,0,0,0,0,0,0,0,0,0,0,0,0,0,0,0,0,0,0,0,0,0,0,0,0,0,0,0,0,0,0,0,0,0,0,0,0,0,0,0,0,0,0,0,0,0,0,0,0,0,0,0,0,0,0,0,0,0,0,0,0,0,0,0,0,0,0,0,0,0,0,0,0,0,0,0,0,0,0,0,0,0,0,0,0,0,0,0,0,0,0,0,0,0,0,0,0,0,0,0,0,0,0,0,0,0,0,0,0,0,0,0,0,0,0,0,0,0,0,0,0,0,0,0,0,0,0,0,0,0,0,0,0,0,0,0,0,0,0,0,0,0,0,0,0,0,0,0,0,0,0,0,0,0,0,0,0,0,0,0,0,0,0,0,0,0,0,0,0,0,0,0,0,0,0,0,0,0,0,0,0,0,0,0,0,0,0,0,0,0,0,0,0,0,0,0,0,0,0]
[0,0,0,0,0,0,0,0,0,0,0,0,0,0,0,0,0,0,0,0,0,0,0,0,0,0,0,0,0,0,0,0,0,0,0,0,0,0,0,0,0,0,0,0,0,0,0,0,0,0,0,0,0,0,0,0,0,0,0,0,0,0,0,0,0,0,0,0,0,0,0,0,0,0,0,0,0,0,0,0,0,0,0,0,0,0,0,0,0,0,0,0,0,0,0,0,0,0,0,0,0,0,0,0,0,0,0,0,0,0,0,0,0,0,0,0,0,0,0,0,0,0,0,0,0,0,0,0,0,0,0,0,0,0,0,0,0,0,0,0,0,0,0,0,0,0,0,0,0,0,0,0,0,0,0,0,0,0,0,0,0,0,0,0,0,0,0,0,0,0,0,0,0,0,0,0,0,0,0,0,0,0,0,0,0,0,0,0,0,0,0,0,0,0,0,0,0,0,0,0,0,0,0,0,0,0,0,0,0,0,0,0,0,0,0,0,0,0,0,0,0,0,0,0,0,0,0,0,0,0,0,0,0,0,0,0,0,0,0,0,0,0,0,0,0,0,0,0,0,0,0,0,0,0,0,0,0,0,0,0,0,0,0,0,0,0,0,0,0,0,0,0,0,0,0,0,0,0,0,0,0,0,0,0,0,0,0,0,0,0,0,0,0,0,0,0,0,0,0,0,0,0,0,0,0,0,0,0,0,0,0,0]
[0,0,0,0,0,0,0,0,0,0,0,0,0,0,0,0,0,0,0,0,0,0,0,0,0,0,0,0,0,0,0,0,0,0,0,0,0,0,0,0,0,0,0,0,0,0,0,0,0,0,0,0,0,0,0,0,0,0,0,0,0,0,0,0,0,0,0,0,0,0,0,0,0,0,0,0,0,0,0,0,0,0,0,0,0,0,0,0,0,0,0,0,0,0,0,0,0,0,0,0,0,0,0,0,0,0,0,0,0,0,0,0,0,0,0,0,0,0,0,0,0,0,0,0,0,0,0,0,0,0,0,0,0,0,0,0,0,0,0,0,0,0,0,0,0,0,0,0,0,0,0,0,0,0,0,0,0,0,0,0,0,0,0,0,0,0,0,0,0,0,0,0,0,0,0,0,0,0,0,0,0,0,0,0,0,0,0,0,0,0,0,0,0,0,0,0,0,0,0,0,0,0,0,0,0,0,0,0,0,0,0,0,0,0,0,0,0,0,0,0,0,0,0,0,0,0,0,0,0,0,0,0,0,0,0,0,0,0,0,0,0,0,0,0,0,0,0,0,0,0,0,0,0,0,0,0,0,0,0,0,0,0,0,0,0,0,0,0,0,0,0,0,0,0,0,0,0,0,0,0,0,0,0,0,0,0,0,0,0,0,0,0,0,0,0,0,0,0,0,0,0,0,0,0,0,0,0,0,0,0,0,0]
[0,0,0,0,0,0,0,0,0,0,0,0,0,0,0,0,0,0,0,0,0,0,0,0,0,0,0,0,0,0,0,0,0,0,0,0,0,0,0,0,0,0,0,0,0,0,0,0,0,0,0,0,0,0,0,0,0,0,0,0,0,0,0,0,0,0,0,0,0,0,0,0,0,0,0,0,0,0,0,0,0,0,0,0,0,0,0,0,0,0,0,0,0,0,0,0,0,0,0,0,0,0,0,0,0,0,0,0,0,0,0,0,0,0,0,0,0,0,0,0,0,0,0,0,0,0,0,0,0,0,0,0,0,0,0,0,0,0,0,0,0,0,0,0,0,0,0,0,0,0,0,0,0,0,0,0,0,0,0,0,0,0,0,0,0,0,0,0,0,0,0,0,0,0,0,0,0,0,0,0,0,0,0,0,0,0,0,0,0,0,0,0,0,0,0,0,0,0,0,0,0,0,0,0,0,0,0,0,0,0,0,0,0,0,0,0,0,0,0,0,0,0,0,0,0,0,0,0,0,0,0,0,0,0,0,0,0,0,0,0,0,0,0,0,0,0,0,0,0,0,0,0,0,0,0,0,0,0,0,0,0,0,0,0,0,0,0,0,0,0,0,0,0,0,0,0,0,0,0,0,0,0,0,0,0,0,0,0,0,0,0,0,0,0,0,0,0,0,0,0,0,0,0,0,0,0,0,0,0,0,0,0]
[0,0,0,0,0,0,0,0,0,0,0,0,0,0,0,0,0,0,0,0,0,0,0,0,0,0,0,0,0,0,0,0,0,0,0,0,0,0,0,0,0,0,0,0,0,0,0,0,0,0,0,0,0,0,0,0,0,0,0,0,0,0,0,0,0,0,0,0,0,0,0,0,0,0,0,0,0,0,0,0,0,0,0,0,0,0,0,0,0,0,0,0,0,0,0,0,0,0,0,0,0,0,0,0,0,0,0,0,0,0,0,0,0,0,0,0,0,0,0,0,0,0,0,0,0,0,0,0,0,0,0,0,0,0,0,0,0,0,0,0,0,0,0,0,0,0,0,0,0,0,0,0,0,0,0,0,0,0,0,0,0,0,0,0,0,0,0,0,0,0,0,0,0,0,0,0,0,0,0,0,0,0,0,0,0,0,0,0,0,0,0,0,0,0,0,0,0,0,0,0,0,0,0,0,0,0,0,0,0,0,0,0,0,0,0,0,0,0,0,0,0,0,0,0,0,0,0,0,0,0,0,0,0,0,0,0,0,0,0,0,0,0,0,0,0,0,0,0,0,0,0,0,0,0,0,0,0,0,0,0,0,0,0,0,0,0,0,0,0,0,0,0,0,0,0,0,0,0,0,0,0,0,0,0,0,0,0,0,0,0,0,0,0,0,0,0,0,0,0,0,0,0,0,0,0,0,0,0,0,0,0,0]
[0,0,0,0,0,0,0,0,0,0,0,0,0,0,0,0,0,0,0,0,0,0,0,0,0,0,0,0,0,0,0,0,0,0,0,0,0,0,0,0,0,0,0,0,0,0,0,0,0,0,0,0,0,0,0,0,0,0,0,0,0,0,0,0,0,0,0,0,0,0,0,0,0,0,0,0,0,0,0,0,0,0,0,0,0,0,0,0,0,0,0,0,0,0,0,0,0,0,0,0,0,0,0,0,0,0,0,0,0,0,0,0,0,0,0,0,0,0,0,0,0,0,0,0,0,0,0,0,0,0,0,0,0,0,0,0,0,0,0,0,0,0,0,0,0,0,0,0,0,0,0,0,0,0,0,0,0,0,0,0,0,0,0,0,0,0,0,0,0,0,0,0,0,0,0,0,0,0,0,0,0,0,0,0,0,0,0,0,0,0,0,0,0,0,0,0,0,0,0,0,0,0,0,0,0,0,0,0,0,0,0,0,0,0,0,0,0,0,0,0,0,0,0,0,0,0,0,0,0,0,0,0,0,0,0,0,0,0,0,0,0,0,0,0,0,0,0,0,0,0,0,0,0,0,0,0,0,0,0,0,0,0,0,0,0,0,0,0,0,0,0,0,0,0,0,0,0,0,0,0,0,0,0,0,0,0,0,0,0,0,0,0,0,0,0,0,0,0,0,0,0,0,0,0,0,0,0,0,0,0,0,0]
[0,0,0,0,0,0,0,0,0,0,0,0,0,0,0,0,0,0,0,0,0,0,0,0,0,0,0,0,0,0,0,0,0,0,0,0,0,0,0,0,0,0,0,0,0,0,0,0,0,0,0,0,0,0,0,0,0,0,0,0,0,0,0,0,0,0,0,0,0,0,0,0,0,0,0,0,0,0,0,0,0,0,0,0,0,0,0,0,0,0,0,0,0,0,0,0,0,0,0,0,0,0,0,0,0,0,0,0,0,0,0,0,0,0,0,0,0,0,0,0,0,0,0,0,0,0,0,0,0,0,0,0,0,0,0,0,0,0,0,0,0,0,0,0,0,0,0,0,0,0,0,0,0,0,0,0,0,0,0,0,0,0,0,0,0,0,0,0,0,0,0,0,0,0,0,0,0,0,0,0,0,0,0,0,0,0,0,0,0,0,0,0,0,0,0,0,0,0,0,0,0,0,0,0,0,0,0,0,0,0,0,0,0,0,0,0,0,0,0,0,0,0,0,0,0,0,0,0,0,0,0,0,0,0,0,0,0,0,0,0,0,0,0,0,0,0,0,0,0,0,0,0,0,0,0,0,0,0,0,0,0,0,0,0,0,0,0,0,0,0,0,0,0,0,0,0,0,0,0,0,0,0,0,0,0,0,0,0,0,0,0,0,0,0,0,0,0,0,0,0,0,0,0,0,0,0,0,0,0,0,0,0]
[0,0,0,0,0,0,0,0,0,0,0,0,0,0,0,0,0,0,0,0,0,0,0,0,0,0,0,0,0,0,0,0,0,0,0,0,0,0,0,0,0,0,0,0,0,0,0,0,0,0,0,0,0,0,0,0,0,0,0,0,0,0,0,0,0,0,0,0,0,0,0,0,0,0,0,0,0,0,0,0,0,0,0,0,0,0,0,0,0,0,0,0,0,0,0,0,0,0,0,0,0,0,0,0,0,0,0,0,0,0,0,0,0,0,0,0,0,0,0,0,0,0,0,0,0,0,0,0,0,0,0,0,0,0,0,0,0,0,0,0,0,0,0,0,0,0,0,0,0,0,0,0,0,0,0,0,0,0,0,0,0,0,0,0,0,0,0,0,0,0,0,0,0,0,0,0,0,0,0,0,0,0,0,0,0,0,0,0,0,0,0,0,0,0,0,0,0,0,0,0,0,0,0,0,0,0,0,0,0,0,0,0,0,0,0,0,0,0,0,0,0,0,0,0,0,0,0,0,0,0,0,0,0,0,0,0,0,0,0,0,0,0,0,0,0,0,0,0,0,0,0,0,0,0,0,0,0,0,0,0,0,0,0,0,0,0,0,0,0,0,0,0,0,0,0,0,0,0,0,0,0,0,0,0,0,0,0,0,0,0,0,0,0,0,0,0,0,0,0,0,0,0,0,0,0,0,0,0,0,0,0,0]

{"sheet":"Illustration Detail 5%","index":7,"n_rows":1609,"n_cols":312,"rows_kept":562,"cut":true,"hidden":true,"merged":[],"bounds":{"rows_first":250,"rows_last":62,"rows_between":250,"halvings":3}}
["A30 P 60 10 Wd 60_5","A30 P 60 10SDWd 60_5","A30 P 60 20 Wd 60_5","A30 P 60 20SDWd 60_5","A30 P 65 10 Wd 65_5","A30 P 65 10SDWd 65_5","A30 P 65 20 Wd 65_5","A30 P 65 20SDWd 65_5","A30 P 70 10 Wd 70_5","A30 P 70 10SDWd 70_5","A30 P 70 20 Wd 70_5","A30 P 70 20SDWd 70_5","A31 P 60 10 Wd 60_5","A31 P 60 10SDWd 60_5","A31 P 60 20 Wd 60_5","A31 P 60 20SDWd 60_5","A31 P 65 10 Wd 65_5","A31 P 65 10SDWd 65_5","A31 P 65 20 Wd 65_5","A31 P 65 20SDWd 65_5","A31 P 70 10 Wd 70_5","A31 P 70 10SDWd 70_5","A31 P 70 20 Wd 70_5","A31 P 70 20SDWd 70_5","A32 P 60 10 Wd 60_5","A32 P 60 10SDWd 60_5","A32 P 60 20 Wd 60_5","A32 P 60 20SDWd 60_5","A32 P 65 10 Wd 65_5","A32 P 65 10SDWd 65_5","A32 P 65 20 Wd 65_5","A32 P 65 20SDWd 65_5","A32 P 70 10 Wd 70_5","A32 P 70 10SDWd 70_5","A32 P 70 20 Wd 70_5","A32 P 70 20SDWd 70_5","A33 P 60 10 Wd 60_5","A33 P 60 10SDWd 60_5","A33 P 60 20 Wd 60_5","A33 P 60 20SDWd 60_5","A33 P 65 10 Wd 65_5","A33 P 65 10SDWd 65_5","A33 P 65 20 Wd 65_5","A33 P 65 20SDWd 65_5","A33 P 70 10 Wd 70_5","A33 P 70 10SDWd 70_5","A33 P 70 20 Wd 70_5","A33 P 70 20SDWd 70_5","A34 P 60 10 Wd 60_5","A34 P 60 10SDWd 60_5","A34 P 60 20 Wd 60_5","A34 P 60 20SDWd 60_5","A34 P 65 10 Wd 65_5","A34 P 65 10SDWd 65_5","A34 P 65 20 Wd 65_5","A34 P 65 20SDWd 65_5","A34 P 70 10 Wd 70_5","A34 P 70 10SDWd 70_5","A34 P 70 20 Wd 70_5","A34 P 70 20SDWd 70_5","A35 P 60 10 Wd 60_5","A35 P 60 10SDWd 60_5","A35 P 60 20 Wd 60_5","A35 P 60 20SDWd 60_5","A35 P 65 10 Wd 65_5","A35 P 65 10SDWd 65_5","A35 P 65 20 Wd 65_5","A35 P 65 20SDWd 65_5","A35 P 70 10 Wd 70_5","A35 P 70 10SDWd 70_5","A35 P 70 20 Wd 70_5","A35 P 70 20SDWd 70_5","A36 P 60 10 Wd 60_5","A36 P 60 10SDWd 60_5","A36 P 60 20 Wd 60_5","A36 P 60 20SDWd 60_5","A36 P 65 10 Wd 65_5","A36 P 65 10SDWd 65_5","A36 P 65 20 Wd 65_5","A36 P 65 20SDWd 65_5","A36 P 70 10 Wd 70_5","A36 P 70 10SDWd 70_5","A36 P 70 20 Wd 70_5","A36 P 70 20SDWd 70_5","A37 P 60 10 Wd 60_5","A37 P 60 10SDWd 60_5","A37 P 60 20 Wd 60_5","A37 P 60 20SDWd 60_5","A37 P 65 10 Wd 65_5","A37 P 65 10SDWd 65_5","A37 P 65 20 Wd 65_5","A37 P 65 20SDWd 65_5","A37 P 70 10 Wd 70_5","A37 P 70 10SDWd 70_5","A37 P 70 20 Wd 70_5","A37 P 70 20SDWd 70_5","A38 P 60 10 Wd 60_5","A38 P 60 10SDWd 60_5","A38 P 60 20 Wd 60_5","A38 P 60 20SDWd 60_5","A38 P 65 10 Wd 65_5","A38 P 65 10SDWd 65_5","A38 P 65 20 Wd 65_5","A38 P 65 20SDWd 65_5","A38 P 70 10 Wd 70_5","A38 P 70 10SDWd 70_5","A38 P 70 20 Wd 70_5","A38 P 70 20SDWd 70_5","A39 P 60 10 Wd 60_5","A39 P 60 10SDWd 60_5","A39 P 60 20 Wd 60_5","A39 P 60 20SDWd 60_5","A39 P 65 10 Wd 65_5","A39 P 65 10SDWd 65_5","A39 P 65 20 Wd 65_5","A39 P 65 20SDWd 65_5","A39 P 70 10 Wd 70_5","A39 P 70 10SDWd 70_5","A39 P 70 20 Wd 70_5","A39 P 70 20SDWd 70_5","A40 P 60 10 Wd 60_5","A40 P 60 10SDWd 60_5","A40 P 60 20 Wd 60_5","A40 P 60 20SDWd 60_5","A40 P 65 10 Wd 65_5","A40 P 65 10SDWd 65_5","A40 P 65 20 Wd 65_5","A40 P 65 20SDWd 65_5","A40 P 70 10 Wd 70_5","A40 P 70 10SDWd 70_5","A40 P 70 20 Wd 70_5","A40 P 70 20SDWd 70_5","A41 P 60 10 Wd 60_5","A41 P 60 10SDWd 60_5","A41 P 60 20 Wd 60_5","A41 P 60 20SDWd 60_5","A41 P 65 10 Wd 65_5","A41 P 65 10SDWd 65_5","A41 P 65 20 Wd 65_5","A41 P 65 20SDWd 65_5","A41 P 70 10 Wd 70_5","A41 P 70 10SDWd 70_5","A41 P 70 20 Wd 70_5","A41 P 70 20SDWd 70_5","A42 P 60 10 Wd 60_5","A42 P 60 10SDWd 60_5","A42 P 60 20 Wd 60_5","A42 P 60 20SDWd 60_5","A42 P 65 10 Wd 65_5","A42 P 65 10SDWd 65_5","A42 P 65 20 Wd 65_5","A42 P 65 20SDWd 65_5","A42 P 70 10 Wd 70_5","A42 P 70 10SDWd 70_5","A42 P 70 20 Wd 70_5","A42 P 70 20SDWd 70_5","A43 P 60 10 Wd 60_5","A43 P 60 10SDWd 60_5","A43 P 60 20 Wd 60_5","A43 P 60 20SDWd 60_5","A43 P 65 10 Wd 65_5","A43 P 65 10SDWd 65_5","A43 P 65 20 Wd 65_5","A43 P 65 20SDWd 65_5","A43 P 70 10 Wd 70_5","A43 P 70 10SDWd 70_5","A43 P 70 20 Wd 70_5","A43 P 70 20SDWd 70_5","A44 P 60 10 Wd 60_5","A44 P 60 10SDWd 60_5","A44 P 60 20 Wd 60_5","A44 P 60 20SDWd 60_5","A44 P 65 10 Wd 65_5","A44 P 65 10SDWd 65_5","A44 P 65 20 Wd 65_5","A44 P 65 20SDWd 65_5","A44 P 70 10 Wd 70_5","A44 P 70 10SDWd 70_5","A44 P 70 20 Wd 70_5","A44 P 70 20SDWd 70_5","A45 P 60 10 Wd 60_5","A45 P 60 10SDWd 60_5","A45 P 60 20 Wd 60_5","A45 P 60 20SDWd 60_5","A45 P 65 10 Wd 65_5","A45 P 65 10SDWd 65_5","A45 P 65 20 Wd 65_5","A45 P 65 20SDWd 65_5","A45 P 70 10 Wd 70_5","A45 P 70 10SDWd 70_5","A45 P 70 20 Wd 70_5","A45 P 70 20SDWd 70_5","A46 P 60 10 Wd 60_5","A46 P 60 10SDWd 60_5","A46 P 60 20 Wd 60_5","A46 P 60 20SDWd 60_5","A46 P 65 10 Wd 65_5","A46 P 65 10SDWd 65_5","A46 P 65 20 Wd 65_5","A46 P 65 20SDWd 65_5","A46 P 70 10 Wd 70_5","A46 P 70 10SDWd 70_5","A46 P 70 20 Wd 70_5","A46 P 70 20SDWd 70_5","A47 P 60 10 Wd 60_5","A47 P 60 10SDWd 60_5","A47 P 60 20 Wd 60_5","A47 P 60 20SDWd 60_5","A47 P 65 10 Wd 65_5","A47 P 65 10SDWd 65_5","A47 P 65 20 Wd 65_5","A47 P 65 20SDWd 65_5","A47 P 70 10 Wd 70_5","A47 P 70 10SDWd 70_5","A47 P 70 20 Wd 70_5","A47 P 70 20SDWd 70_5","A48 P 60 10 Wd 60_5","A48 P 60 10SDWd 60_5","A48 P 60 20 Wd 60_5","A48 P 60 20SDWd 60_5","A48 P 65 10 Wd 65_5","A48 P 65 10SDWd 65_5","A48 P 65 20 Wd 65_5","A48 P 65 20SDWd 65_5","A48 P 70 10 Wd 70_5","A48 P 70 10SDWd 70_5","A48 P 70 20 Wd 70_5","A48 P 70 20SDWd 70_5","A49 P 60 10 Wd 60_5","A49 P 60 10SDWd 60_5","A49 P 60 20 Wd 60_5","A49 P 60 20SDWd 60_5","A49 P 65 10 Wd 65_5","A49 P 65 10SDWd 65_5","A49 P 65 20 Wd 65_5","A49 P 65 20SDWd 65_5","A49 P 70 10 Wd 70_5","A49 P 70 10SDWd 70_5","A49 P 70 20 Wd 70_5","A49 P 70 20SDWd 70_5","A50 P 60 10 Wd 60_5","A50 P 60 10SDWd 60_5","A50 P 60 20 Wd 60_5","A50 P 60 20SDWd 60_5","A50 P 65 10 Wd 65_5","A50 P 65 10SDWd 65_5","A50 P 65 20 Wd 65_5","A50 P 65 20SDWd 65_5","A50 P 70 10 Wd 70_5","A50 P 70 10SDWd 70_5","A50 P 70 20 Wd 70_5","A50 P 70 20SDWd 70_5","A51 P 60 10 Wd 60_5","A51 P 60 10SDWd 60_5","A51 P 60 20 Wd 60_5","A51 P 60 20SDWd 60_5","A51 P 65 10 Wd 65_5","A51 P 65 10SDWd 65_5","A51 P 65 20 Wd 65_5","A51 P 65 20SDWd 65_5","A51 P 70 10 Wd 70_5","A51 P 70 10SDWd 70_5","A51 P 70 20 Wd 70_5","A51 P 70 20SDWd 70_5","A52 P 60 10 Wd 60_5","A52 P 60 10SDWd 60_5","A52 P 60 20 Wd 60_5","A52 P 60 20SDWd 60_5","A52 P 65 10 Wd 65_5","A52 P 65 10SDWd 65_5","A52 P 65 20 Wd 65_5","A52 P 65 20SDWd 65_5","A52 P 70 10 Wd 70_5","A52 P 70 10SDWd 70_5","A52 P 70 20 Wd 70_5","A52 P 70 20SDWd 70_5","A53 P 60 10 Wd 60_5","A53 P 60 10SDWd 60_5","A53 P 60 20 Wd 60_5","A53 P 60 20SDWd 60_5","A53 P 65 10 Wd 65_5","A53 P 65 10SDWd 65_5","A53 P 65 20 Wd 65_5","A53 P 65 20SDWd 65_5","A53 P 70 10 Wd 70_5","A53 P 70 10SDWd 70_5","A53 P 70 20 Wd 70_5","A53 P 70 20SDWd 70_5","A54 P 60 10 Wd 61_5","A54 P 60 10SDWd 61_5","A54 P 60 20 Wd 61_5","A54 P 60 20SDWd 61_5","A54 P 65 10 Wd 65_5","A54 P 65 10SDWd 65_5","A54 P 65 20 Wd 65_5","A54 P 65 20SDWd 65_5","A54 P 70 10 Wd 70_5","A54 P 70 10SDWd 70_5","A54 P 70 20 Wd 70_5","A54 P 70 20SDWd 70_5","A55 P 60 10 Wd 62_5","A55 P 60 10SDWd 62_5","A55 P 60 20 Wd 62_5","A55 P 60 20SDWd 62_5","A55 P 65 10 Wd 65_5","A55 P 65 10SDWd 65_5","A55 P 65 20 Wd 65_5","A55 P 65 20SDWd 65_5","A55 P 70 10 Wd 70_5","A55 P 70 10SDWd 70_5","A55 P 70 20 Wd 70_5","A55 P 70 20SDWd 70_5"]
[]
["Attained","Attained","Attained","Attained","Attained","Attained","Attained","Attained","Attained","Attained","Attained","Attained","Attained","Attained","Attained","Attained","Attained","Attained","Attained","Attained","Attained","Attained","Attained","Attained","Attained","Attained","Attained","Attained","Attained","Attained","Attained","Attained","Attained","Attained","Attained","Attained","Attained","Attained","Attained","Attained","Attained","Attained","Attained","Attained","Attained","Attained","Attained","Attained","Attained","Attained","Attained","Attained","Attained","Attained","Attained","Attained","Attained","Attained","Attained","Attained","Attained","Attained","Attained","Attained","Attained","Attained","Attained","Attained","Attained","Attained","Attained","Attained","Attained","Attained","Attained","Attained","Attained","Attained","Attained","Attained","Attained","Attained","Attained","Attained","Attained","Attained","Attained","Attained","Attained","Attained","Attained","Attained","Attained","Attained","Attained","Attained","Attained","Attained","Attained","Attained","Attained","Attained","Attained","Attained","Attained","Attained","Attained","Attained","Attained","Attained","Attained","Attained","Attained","Attained","Attained","Attained","Attained","Attained","Attained","Attained","Attained","Attained","Attained","Attained","Attained","Attained","Attained","Attained","Attained","Attained","Attained","Attained","Attained","Attained","Attained","Attained","Attained","Attained","Attained","Attained","Attained","Attained","Attained","Attained","Attained","Attained","Attained","Attained","Attained","Attained","Attained","Attained","Attained","Attained","Attained","Attained","Attained","Attained","Attained","Attained","Attained","Attained","Attained","Attained","Attained","Attained","Attained","Attained","Attained","Attained","Attained","Attained","Attained","Attained","Attained","Attained","Attained","Attained","Attained","Attained","Attained","Attained","Attained","Attained","Attained","Attained","Attained","Attained","Attained","Attained","Attained","Attained","Attained","Attained","Attained","Attained","Attained","Attained","Attained","Attained","Attained","Attained","Attained","Attained","Attained","Attained","Attained","Attained","Attained","Attained","Attained","Attained","Attained","Attained","Attained","Attained","Attained","Attained","Attained","Attained","Attained","Attained","Attained","Attained","Attained","Attained","Attained","Attained","Attained","Attained","Attained","Attained","Attained","Attained","Attained","Attained","Attained","Attained","Attained","Attained","Attained","Attained","Attained","Attained","Attained","Attained","Attained","Attained","Attained","Attained","Attained","Attained","Attained","Attained","Attained","Attained","Attained","Attained","Attained","Attained","Attained","Attained","Attained","Attained","Attained","Attained","Attained","Attained","Attained","Attained","Attained","Attained","Attained","Attained","Attained","Attained","Attained","Attained","Attained","Attained","Attained","Attained","Attained","Attained","Attained","Attained","Attained","Attained","Attained","Attained","Attained","Attained","Attained","Attained","Attained","Attained","Attained","Attained","Attained","Attained","Attained","Attained","Attained","Attained","Attained","Attained","Attained","Attained","Attained","Attained","Attained","Attained"]
["Age","Age","Age","Age","Age","Age","Age","Age","Age","Age","Age","Age","Age","Age","Age","Age","Age","Age","Age","Age","Age","Age","Age","Age","Age","Age","Age","Age","Age","Age","Age","Age","Age","Age","Age","Age","Age","Age","Age","Age","Age","Age","Age","Age","Age","Age","Age","Age","Age","Age","Age","Age","Age","Age","Age","Age","Age","Age","Age","Age","Age","Age","Age","Age","Age","Age","Age","Age","Age","Age","Age","Age","Age","Age","Age","Age","Age","Age","Age","Age","Age","Age","Age","Age","Age","Age","Age","Age","Age","Age","Age","Age","Age","Age","Age","Age","Age","Age","Age","Age","Age","Age","Age","Age","Age","Age","Age","Age","Age","Age","Age","Age","Age","Age","Age","Age","Age","Age","Age","Age","Age","Age","Age","Age","Age","Age","Age","Age","Age","Age","Age","Age","Age","Age","Age","Age","Age","Age","Age","Age","Age","Age","Age","Age","Age","Age","Age","Age","Age","Age","Age","Age","Age","Age","Age","Age","Age","Age","Age","Age","Age","Age","Age","Age","Age","Age","Age","Age","Age","Age","Age","Age","Age","Age","Age","Age","Age","Age","Age","Age","Age","Age","Age","Age","Age","Age","Age","Age","Age","Age","Age","Age","Age","Age","Age","Age","Age","Age","Age","Age","Age","Age","Age","Age","Age","Age","Age","Age","Age","Age","Age","Age","Age","Age","Age","Age","Age","Age","Age","Age","Age","Age","Age","Age","Age","Age","Age","Age","Age","Age","Age","Age","Age","Age","Age","Age","Age","Age","Age","Age","Age","Age","Age","Age","Age","Age","Age","Age","Age","Age","Age","Age","Age","Age","Age","Age","Age","Age","Age","Age","Age","Age","Age","Age","Age","Age","Age","Age","Age","Age","Age","Age","Age","Age","Age","Age","Age","Age","Age","Age","Age","Age","Age","Age","Age","Age","Age","Age","Age","Age","Age","Age","Age","Age","Age","Age","Age","Age","Age","Age","Age","Age","Age","Age","Age","Age","Age","Age","Age","Age","Age","Age"]
[30,30,30,30,30,30,30,30,30,30,30,30,31,31,31,31,31,31,31,31,31,31,31,31,32,32,32,32,32,32,32,32,32,32,32,32,33,33,33,33,33,33,33,33,33,33,33,33,34,34,34,34,34,34,34,34,34,34,34,34,35,35,35,35,35,35,35,35,35,35,35,35,36,36,36,36,36,36,36,36,36,36,36,36,37,37,37,37,37,37,37,37,37,37,37,37,38,38,38,38,38,38,38,38,38,38,38,38,39,39,39,39,39,39,39,39,39,39,39,39,40,40,40,40,40,40,40,40,40,40,40,40,41,41,41,41,41,41,41,41,41,41,41,41,42,42,42,42,42,42,42,42,42,42,42,42,43,43,43,43,43,43,43,43,43,43,43,43,44,44,44,44,44,44,44,44,44,44,44,44,45,45,45,45,45,45,45,45,45,45,45,45,46,46,46,46,46,46,46,46,46,46,46,46,47,47,47,47,47,47,47,47,47,47,47,47,48,48,48,48,48,48,48,48,48,48,48,48,49,49,49,49,49,49,49,49,49,49,49,49,50,50,50,50,50,50,50,50,50,50,50,50,51,51,51,51,51,51,51,51,51,51,51,51,52,52,52,52,52,52,52,52,52,52,52,52,53,53,53,53,53,53,53,53,53,53,53,53,54,54,54,54,54,54,54,54,54,54,54,54,55,55,55,55,55,55,55,55,55,55,55,55]
[31,31,31,31,31,31,31,31,31,31,31,31,32,32,32,32,32,32,32,32,32,32,32,32,33,33,33,33,33,33,33,33,33,33,33,33,34,34,34,34,34,34,34,34,34,34,34,34,35,35,35,35,35,35,35,35,35,35,35,35,36,36,36,36,36,36,36,36,36,36,36,36,37,37,37,37,37,37,37,37,37,37,37,37,38,38,38,38,38,38,38,38,38,38,38,38,39,39,39,39,39,39,39,39,39,39,39,39,40,40,40,40,40,40,40,40,40,40,40,40,41,41,41,41,41,41,41,41,41,41,41,41,42,42,42,42,42,42,42,42,42,42,42,42,43,43,43,43,43,43,43,43,43,43,43,43,44,44,44,44,44,44,44,44,44,44,44,44,45,45,45,45,45,45,45,45,45,45,45,45,46,46,46,46,46,46,46,46,46,46,46,46,47,47,47,47,47,47,47,47,47,47,47,47,48,48,48,48,48,48,48,48,48,48,48,48,49,49,49,49,49,49,49,49,49,49,49,49,50,50,50,50,50,50,50,50,50,50,50,50,51,51,51,51,51,51,51,51,51,51,51,51,52,52,52,52,52,52,52,52,52,52,52,52,53,53,53,53,53,53,53,53,53,53,53,53,54,54,54,54,54,54,54,54,54,54,54,54,55,55,55,55,55,55,55,55,55,55,55,55,56,56,56,56,56,56,56,56,56,56,56,56]
[32,32,32,32,32,32,32,32,32,32,32,32,33,33,33,33,33,33,33,33,33,33,33,33,34,34,34,34,34,34,34,34,34,34,34,34,35,35,35,35,35,35,35,35,35,35,35,35,36,36,36,36,36,36,36,36,36,36,36,36,37,37,37,37,37,37,37,37,37,37,37,37,38,38,38,38,38,38,38,38,38,38,38,38,39,39,39,39,39,39,39,39,39,39,39,39,40,40,40,40,40,40,40,40,40,40,40,40,41,41,41,41,41,41,41,41,41,41,41,41,42,42,42,42,42,42,42,42,42,42,42,42,43,43,43,43,43,43,43,43,43,43,43,43,44,44,44,44,44,44,44,44,44,44,44,44,45,45,45,45,45,45,45,45,45,45,45,45,46,46,46,46,46,46,46,46,46,46,46,46,47,47,47,47,47,47,47,47,47,47,47,47,48,48,48,48,48,48,48,48,48,48,48,48,49,49,49,49,49,49,49,49,49,49,49,49,50,50,50,50,50,50,50,50,50,50,50,50,51,51,51,51,51,51,51,51,51,51,51,51,52,52,52,52,52,52,52,52,52,52,52,52,53,53,53,53,53,53,53,53,53,53,53,53,54,54,54,54,54,54,54,54,54,54,54,54,55,55,55,55,55,55,55,55,55,55,55,55,56,56,56,56,56,56,56,56,56,56,56,56,57,57,57,57,57,57,57,57,57,57,57,57]
[33,33,33,33,33,33,33,33,33,33,33,33,34,34,34,34,34,34,34,34,34,34,34,34,35,35,35,35,35,35,35,35,35,35,35,35,36,36,36,36,36,36,36,36,36,36,36,36,37,37,37,37,37,37,37,37,37,37,37,37,38,38,38,38,38,38,38,38,38,38,38,38,39,39,39,39,39,39,39,39,39,39,39,39,40,40,40,40,40,40,40,40,40,40,40,40,41,41,41,41,41,41,41,41,41,41,41,41,42,42,42,42,42,42,42,42,42,42,42,42,43,43,43,43,43,43,43,43,43,43,43,43,44,44,44,44,44,44,44,44,44,44,44,44,45,45,45,45,45,45,45,45,45,45,45,45,46,46,46,46,46,46,46,46,46,46,46,46,47,47,47,47,47,47,47,47,47,47,47,47,48,48,48,48,48,48,48,48,48,48,48,48,49,49,49,49,49,49,49,49,49,49,49,49,50,50,50,50,50,50,50,50,50,50,50,50,51,51,51,51,51,51,51,51,51,51,51,51,52,52,52,52,52,52,52,52,52,52,52,52,53,53,53,53,53,53,53,53,53,53,53,53,54,54,54,54,54,54,54,54,54,54,54,54,55,55,55,55,55,55,55,55,55,55,55,55,56,56,56,56,56,56,56,56,56,56,56,56,57,57,57,57,57,57,57,57,57,57,57,57,58,58,58,58,58,58,58,58,58,58,58,58]
[34,34,34,34,34,34,34,34,34,34,34,34,35,35,35,35,35,35,35,35,35,35,35,35,36,36,36,36,36,36,36,36,36,36,36,36,37,37,37,37,37,37,37,37,37,37,37,37,38,38,38,38,38,38,38,38,38,38,38,38,39,39,39,39,39,39,39,39,39,39,39,39,40,40,40,40,40,40,40,40,40,40,40,40,41,41,41,41,41,41,41,41,41,41,41,41,42,42,42,42,42,42,42,42,42,42,42,42,43,43,43,43,43,43,43,43,43,43,43,43,44,44,44,44,44,44,44,44,44,44,44,44,45,45,45,45,45,45,45,45,45,45,45,45,46,46,46,46,46,46,46,46,46,46,46,46,47,47,47,47,47,47,47,47,47,47,47,47,48,48,48,48,48,48,48,48,48,48,48,48,49,49,49,49,49,49,49,49,49,49,49,49,50,50,50,50,50,50,50,50,50,50,50,50,51,51,51,51,51,51,51,51,51,51,51,51,52,52,52,52,52,52,52,52,52,52,52,52,53,53,53,53,53,53,53,53,53,53,53,53,54,54,54,54,54,54,54,54,54,54,54,54,55,55,55,55,55,55,55,55,55,55,55,55,56,56,56,56,56,56,56,56,56,56,56,56,57,57,57,57,57,57,57,57,57,57,57,57,58,58,58,58,58,58,58,58,58,58,58,58,59,59,59,59,59,59,59,59,59,59,59,59]
[35,35,35,35,35,35,35,35,35,35,35,35,36,36,36,36,36,36,36,36,36,36,36,36,37,37,37,37,37,37,37,37,37,37,37,37,38,38,38,38,38,38,38,38,38,38,38,38,39,39,39,39,39,39,39,39,39,39,39,39,40,40,40,40,40,40,40,40,40,40,40,40,41,41,41,41,41,41,41,41,41,41,41,41,42,42,42,42,42,42,42,42,42,42,42,42,43,43,43,43,43,43,43,43,43,43,43,43,44,44,44,44,44,44,44,44,44,44,44,44,45,45,45,45,45,45,45,45,45,45,45,45,46,46,46,46,46,46,46,46,46,46,46,46,47,47,47,47,47,47,47,47,47,47,47,47,48,48,48,48,48,48,48,48,48,48,48,48,49,49,49,49,49,49,49,49,49,49,49,49,50,50,50,50,50,50,50,50,50,50,50,50,51,51,51,51,51,51,51,51,51,51,51,51,52,52,52,52,52,52,52,52,52,52,52,52,53,53,53,53,53,53,53,53,53,53,53,53,54,54,54,54,54,54,54,54,54,54,54,54,55,55,55,55,55,55,55,55,55,55,55,55,56,56,56,56,56,56,56,56,56,56,56,56,57,57,57,57,57,57,57,57,57,57,57,57,58,58,58,58,58,58,58,58,58,58,58,58,59,59,59,59,59,59,59,59,59,59,59,59,60,60,60,60,60,60,60,60,60,60,60,60]
[36,36,36,36,36,36,36,36,36,36,36,36,37,37,37,37,37,37,37,37,37,37,37,37,38,38,38,38,38,38,38,38,38,38,38,38,39,39,39,39,39,39,39,39,39,39,39,39,40,40,40,40,40,40,40,40,40,40,40,40,41,41,41,41,41,41,41,41,41,41,41,41,42,42,42,42,42,42,42,42,42,42,42,42,43,43,43,43,43,43,43,43,43,43,43,43,44,44,44,44,44,44,44,44,44,44,44,44,45,45,45,45,45,45,45,45,45,45,45,45,46,46,46,46,46,46,46,46,46,46,46,46,47,47,47,47,47,47,47,47,47,47,47,47,48,48,48,48,48,48,48,48,48,48,48,48,49,49,49,49,49,49,49,49,49,49,49,49,50,50,50,50,50,50,50,50,50,50,50,50,51,51,51,51,51,51,51,51,51,51,51,51,52,52,52,52,52,52,52,52,52,52,52,52,53,53,53,53,53,53,53,53,53,53,53,53,54,54,54,54,54,54,54,54,54,54,54,54,55,55,55,55,55,55,55,55,55,55,55,55,56,56,56,56,56,56,56,56,56,56,56,56,57,57,57,57,57,57,57,57,57,57,57,57,58,58,58,58,58,58,58,58,58,58,58,58,59,59,59,59,59,59,59,59,59,59,59,59,60,60,60,60,60,60,60,60,60,60,60,60,61,61,61,61,61,61,61,61,61,61,61,61]
[37,37,37,37,37,37,37,37,37,37,37,37,38,38,38,38,38,38,38,38,38,38,38,38,39,39,39,39,39,39,39,39,39,39,39,39,40,40,40,40,40,40,40,40,40,40,40,40,41,41,41,41,41,41,41,41,41,41,41,41,42,42,42,42,42,42,42,42,42,42,42,42,43,43,43,43,43,43,43,43,43,43,43,43,44,44,44,44,44,44,44,44,44,44,44,44,45,45,45,45,45,45,45,45,45,45,45,45,46,46,46,46,46,46,46,46,46,46,46,46,47,47,47,47,47,47,47,47,47,47,47,47,48,48,48,48,48,48,48,48,48,48,48,48,49,49,49,49,49,49,49,49,49,49,49,49,50,50,50,50,50,50,50,50,50,50,50,50,51,51,51,51,51,51,51,51,51,51,51,51,52,52,52,52,52,52,52,52,52,52,52,52,53,53,53,53,53,53,53,53,53,53,53,53,54,54,54,54,54,54,54,54,54,54,54,54,55,55,55,55,55,55,55,55,55,55,55,55,56,56,56,56,56,56,56,56,56,56,56,56,57,57,57,57,57,57,57,57,57,57,57,57,58,58,58,58,58,58,58,58,58,58,58,58,59,59,59,59,59,59,59,59,59,59,59,59,60,60,60,60,60,60,60,60,60,60,60,60,61,61,61,61,61,61,61,61,61,61,61,61,62,62,62,62,62,62,62,62,62,62,62,62]
[38,38,38,38,38,38,38,38,38,38,38,38,39,39,39,39,39,39,39,39,39,39,39,39,40,40,40,40,40,40,40,40,40,40,40,40,41,41,41,41,41,41,41,41,41,41,41,41,42,42,42,42,42,42,42,42,42,42,42,42,43,43,43,43,43,43,43,43,43,43,43,43,44,44,44,44,44,44,44,44,44,44,44,44,45,45,45,45,45,45,45,45,45,45,45,45,46,46,46,46,46,46,46,46,46,46,46,46,47,47,47,47,47,47,47,47,47,47,47,47,48,48,48,48,48,48,48,48,48,48,48,48,49,49,49,49,49,49,49,49,49,49,49,49,50,50,50,50,50,50,50,50,50,50,50,50,51,51,51,51,51,51,51,51,51,51,51,51,52,52,52,52,52,52,52,52,52,52,52,52,53,53,53,53,53,53,53,53,53,53,53,53,54,54,54,54,54,54,54,54,54,54,54,54,55,55,55,55,55,55,55,55,55,55,55,55,56,56,56,56,56,56,56,56,56,56,56,56,57,57,57,57,57,57,57,57,57,57,57,57,58,58,58,58,58,58,58,58,58,58,58,58,59,59,59,59,59,59,59,59,59,59,59,59,60,60,60,60,60,60,60,60,60,60,60,60,61,61,61,61,61,61,61,61,61,61,61,61,62,62,62,62,62,62,62,62,62,62,62,62,63,63,63,63,63,63,63,63,63,63,63,63]
[39,39,39,39,39,39,39,39,39,39,39,39,40,40,40,40,40,40,40,40,40,40,40,40,41,41,41,41,41,41,41,41,41,41,41,41,42,42,42,42,42,42,42,42,42,42,42,42,43,43,43,43,43,43,43,43,43,43,43,43,44,44,44,44,44,44,44,44,44,44,44,44,45,45,45,45,45,45,45,45,45,45,45,45,46,46,46,46,46,46,46,46,46,46,46,46,47,47,47,47,47,47,47,47,47,47,47,47,48,48,48,48,48,48,48,48,48,48,48,48,49,49,49,49,49,49,49,49,49,49,49,49,50,50,50,50,50,50,50,50,50,50,50,50,51,51,51,51,51,51,51,51,51,51,51,51,52,52,52,52,52,52,52,52,52,52,52,52,53,53,53,53,53,53,53,53,53,53,53,53,54,54,54,54,54,54,54,54,54,54,54,54,55,55,55,55,55,55,55,55,55,55,55,55,56,56,56,56,56,56,56,56,56,56,56,56,57,57,57,57,57,57,57,57,57,57,57,57,58,58,58,58,58,58,58,58,58,58,58,58,59,59,59,59,59,59,59,59,59,59,59,59,60,60,60,60,60,60,60,60,60,60,60,60,61,61,61,61,61,61,61,61,61,61,61,61,62,62,62,62,62,62,62,62,62,62,62,62,63,63,63,63,63,63,63,63,63,63,63,63,64,64,64,64,64,64,64,64,64,64,64,64]
[40,40,40,40,40,40,40,40,40,40,40,40,41,41,41,41,41,41,41,41,41,41,41,41,42,42,42,42,42,42,42,42,42,42,42,42,43,43,43,43,43,43,43,43,43,43,43,43,44,44,44,44,44,44,44,44,44,44,44,44,45,45,45,45,45,45,45,45,45,45,45,45,46,46,46,46,46,46,46,46,46,46,46,46,47,47,47,47,47,47,47,47,47,47,47,47,48,48,48,48,48,48,48,48,48,48,48,48,49,49,49,49,49,49,49,49,49,49,49,49,50,50,50,50,50,50,50,50,50,50,50,50,51,51,51,51,51,51,51,51,51,51,51,51,52,52,52,52,52,52,52,52,52,52,52,52,53,53,53,53,53,53,53,53,53,53,53,53,54,54,54,54,54,54,54,54,54,54,54,54,55,55,55,55,55,55,55,55,55,55,55,55,56,56,56,56,56,56,56,56,56,56,56,56,57,57,57,57,57,57,57,57,57,57,57,57,58,58,58,58,58,58,58,58,58,58,58,58,59,59,59,59,59,59,59,59,59,59,59,59,60,60,60,60,60,60,60,60,60,60,60,60,61,61,61,61,61,61,61,61,61,61,61,61,62,62,62,62,62,62,62,62,62,62,62,62,63,63,63,63,63,63,63,63,63,63,63,63,64,64,64,64,64,64,64,64,64,64,64,64,65,65,65,65,65,65,65,65,65,65,65,65]
[41,41,41,41,41,41,41,41,41,41,41,41,42,42,42,42,42,42,42,42,42,42,42,42,43,43,43,43,43,43,43,43,43,43,43,43,44,44,44,44,44,44,44,44,44,44,44,44,45,45,45,45,45,45,45,45,45,45,45,45,46,46,46,46,46,46,46,46,46,46,46,46,47,47,47,47,47,47,47,47,47,47,47,47,48,48,48,48,48,48,48,48,48,48,48,48,49,49,49,49,49,49,49,49,49,49,49,49,50,50,50,50,50,50,50,50,50,50,50,50,51,51,51,51,51,51,51,51,51,51,51,51,52,52,52,52,52,52,52,52,52,52,52,52,53,53,53,53,53,53,53,53,53,53,53,53,54,54,54,54,54,54,54,54,54,54,54,54,55,55,55,55,55,55,55,55,55,55,55,55,56,56,56,56,56,56,56,56,56,56,56,56,57,57,57,57,57,57,57,57,57,57,57,57,58,58,58,58,58,58,58,58,58,58,58,58,59,59,59,59,59,59,59,59,59,59,59,59,60,60,60,60,60,60,60,60,60,60,60,60,61,61,61,61,61,61,61,61,61,61,61,61,62,62,62,62,62,62,62,62,62,62,62,62,63,63,63,63,63,63,63,63,63,63,63,63,64,64,64,64,64,64,64,64,64,64,64,64,65,65,65,65,65,65,65,65,65,65,65,65,66,66,66,66,66,66,66,66,66,66,66,66]
[42,42,42,42,42,42,42,42,42,42,42,42,43,43,43,43,43,43,43,43,43,43,43,43,44,44,44,44,44,44,44,44,44,44,44,44,45,45,45,45,45,45,45,45,45,45,45,45,46,46,46,46,46,46,46,46,46,46,46,46,47,47,47,47,47,47,47,47,47,47,47,47,48,48,48,48,48,48,48,48,48,48,48,48,49,49,49,49,49,49,49,49,49,49,49,49,50,50,50,50,50,50,50,50,50,50,50,50,51,51,51,51,51,51,51,51,51,51,51,51,52,52,52,52,52,52,52,52,52,52,52,52,53,53,53,53,53,53,53,53,53,53,53,53,54,54,54,54,54,54,54,54,54,54,54,54,55,55,55,55,55,55,55,55,55,55,55,55,56,56,56,56,56,56,56,56,56,56,56,56,57,57,57,57,57,57,57,57,57,57,57,57,58,58,58,58,58,58,58,58,58,58,58,58,59,59,59,59,59,59,59,59,59,59,59,59,60,60,60,60,60,60,60,60,60,60,60,60,61,61,61,61,61,61,61,61,61,61,61,61,62,62,62,62,62,62,62,62,62,62,62,62,63,63,63,63,63,63,63,63,63,63,63,63,64,64,64,64,64,64,64,64,64,64,64,64,65,65,65,65,65,65,65,65,65,65,65,65,66,66,66,66,66,66,66,66,66,66,66,66,67,67,67,67,67,67,67,67,67,67,67,67]
[43,43,43,43,43,43,43,43,43,43,43,43,44,44,44,44,44,44,44,44,44,44,44,44,45,45,45,45,45,45,45,45,45,45,45,45,46,46,46,46,46,46,46,46,46,46,46,46,47,47,47,47,47,47,47,47,47,47,47,47,48,48,48,48,48,48,48,48,48,48,48,48,49,49,49,49,49,49,49,49,49,49,49,49,50,50,50,50,50,50,50,50,50,50,50,50,51,51,51,51,51,51,51,51,51,51,51,51,52,52,52,52,52,52,52,52,52,52,52,52,53,53,53,53,53,53,53,53,53,53,53,53,54,54,54,54,54,54,54,54,54,54,54,54,55,55,55,55,55,55,55,55,55,55,55,55,56,56,56,56,56,56,56,56,56,56,56,56,57,57,57,57,57,57,57,57,57,57,57,57,58,58,58,58,58,58,58,58,58,58,58,58,59,59,59,59,59,59,59,59,59,59,59,59,60,60,60,60,60,60,60,60,60,60,60,60,61,61,61,61,61,61,61,61,61,61,61,61,62,62,62,62,62,62,62,62,62,62,62,62,63,63,63,63,63,63,63,63,63,63,63,63,64,64,64,64,64,64,64,64,64,64,64,64,65,65,65,65,65,65,65,65,65,65,65,65,66,66,66,66,66,66,66,66,66,66,66,66,67,67,67,67,67,67,67,67,67,67,67,67,68,68,68,68,68,68,68,68,68,68,68,68]
[44,44,44,44,44,44,44,44,44,44,44,44,45,45,45,45,45,45,45,45,45,45,45,45,46,46,46,46,46,46,46,46,46,46,46,46,47,47,47,47,47,47,47,47,47,47,47,47,48,48,48,48,48,48,48,48,48,48,48,48,49,49,49,49,49,49,49,49,49,49,49,49,50,50,50,50,50,50,50,50,50,50,50,50,51,51,51,51,51,51,51,51,51,51,51,51,52,52,52,52,52,52,52,52,52,52,52,52,53,53,53,53,53,53,53,53,53,53,53,53,54,54,54,54,54,54,54,54,54,54,54,54,55,55,55,55,55,55,55,55,55,55,55,55,56,56,56,56,56,56,56,56,56,56,56,56,57,57,57,57,57,57,57,57,57,57,57,57,58,58,58,58,58,58,58,58,58,58,58,58,59,59,59,59,59,59,59,59,59,59,59,59,60,60,60,60,60,60,60,60,60,60,60,60,61,61,61,61,61,61,61,61,61,61,61,61,62,62,62,62,62,62,62,62,62,62,62,62,63,63,63,63,63,63,63,63,63,63,63,63,64,64,64,64,64,64,64,64,64,64,64,64,65,65,65,65,65,65,65,65,65,65,65,65,66,66,66,66,66,66,66,66,66,66,66,66,67,67,67,67,67,67,67,67,67,67,67,67,68,68,68,68,68,68,68,68,68,68,68,68,69,69,69,69,69,69,69,69,69,69,69,69]
[45,45,45,45,45,45,45,45,45,45,45,45,46,46,46,46,46,46,46,46,46,46,46,46,47,47,47,47,47,47,47,47,47,47,47,47,48,48,48,48,48,48,48,48,48,48,48,48,49,49,49,49,49,49,49,49,49,49,49,49,50,50,50,50,50,50,50,50,50,50,50,50,51,51,51,51,51,51,51,51,51,51,51,51,52,52,52,52,52,52,52,52,52,52,52,52,53,53,53,53,53,53,53,53,53,53,53,53,54,54,54,54,54,54,54,54,54,54,54,54,55,55,55,55,55,55,55,55,55,55,55,55,56,56,56,56,56,56,56,56,56,56,56,56,57,57,57,57,57,57,57,57,57,57,57,57,58,58,58,58,58,58,58,58,58,58,58,58,59,59,59,59,59,59,59,59,59,59,59,59,60,60,60,60,60,60,60,60,60,60,60,60,61,61,61,61,61,61,61,61,61,61,61,61,62,62,62,62,62,62,62,62,62,62,62,62,63,63,63,63,63,63,63,63,63,63,63,63,64,64,64,64,64,64,64,64,64,64,64,64,65,65,65,65,65,65,65,65,65,65,65,65,66,66,66,66,66,66,66,66,66,66,66,66,67,67,67,67,67,67,67,67,67,67,67,67,68,68,68,68,68,68,68,68,68,68,68,68,69,69,69,69,69,69,69,69,69,69,69,69,70,70,70,70,70,70,70,70,70,70,70,70]
[46,46,46,46,46,46,46,46,46,46,46,46,47,47,47,47,47,47,47,47,47,47,47,47,48,48,48,48,48,48,48,48,48,48,48,48,49,49,49,49,49,49,49,49,49,49,49,49,50,50,50,50,50,50,50,50,50,50,50,50,51,51,51,51,51,51,51,51,51,51,51,51,52,52,52,52,52,52,52,52,52,52,52,52,53,53,53,53,53,53,53,53,53,53,53,53,54,54,54,54,54,54,54,54,54,54,54,54,55,55,55,55,55,55,55,55,55,55,55,55,56,56,56,56,56,56,56,56,56,56,56,56,57,57,57,57,57,57,57,57,57,57,57,57,58,58,58,58,58,58,58,58,58,58,58,58,59,59,59,59,59,59,59,59,59,59,59,59,60,60,60,60,60,60,60,60,60,60,60,60,61,61,61,61,61,61,61,61,61,61,61,61,62,62,62,62,62,62,62,62,62,62,62,62,63,63,63,63,63,63,63,63,63,63,63,63,64,64,64,64,64,64,64,64,64,64,64,64,65,65,65,65,65,65,65,65,65,65,65,65,66,66,66,66,66,66,66,66,66,66,66,66,67,67,67,67,67,67,67,67,67,67,67,67,68,68,68,68,68,68,68,68,68,68,68,68,69,69,69,69,69,69,69,69,69,69,69,69,70,70,70,70,70,70,70,70,70,70,70,70,71,71,71,71,71,71,71,71,71,71,71,71]
[47,47,47,47,47,47,47,47,47,47,47,47,48,48,48,48,48,48,48,48,48,48,48,48,49,49,49,49,49,49,49,49,49,49,49,49,50,50,50,50,50,50,50,50,50,50,50,50,51,51,51,51,51,51,51,51,51,51,51,51,52,52,52,52,52,52,52,52,52,52,52,52,53,53,53,53,53,53,53,53,53,53,53,53,54,54,54,54,54,54,54,54,54,54,54,54,55,55,55,55,55,55,55,55,55,55,55,55,56,56,56,56,56,56,56,56,56,56,56,56,57,57,57,57,57,57,57,57,57,57,57,57,58,58,58,58,58,58,58,58,58,58,58,58,59,59,59,59,59,59,59,59,59,59,59,59,60,60,60,60,60,60,60,60,60,60,60,60,61,61,61,61,61,61,61,61,61,61,61,61,62,62,62,62,62,62,62,62,62,62,62,62,63,63,63,63,63,63,63,63,63,63,63,63,64,64,64,64,64,64,64,64,64,64,64,64,65,65,65,65,65,65,65,65,65,65,65,65,66,66,66,66,66,66,66,66,66,66,66,66,67,67,67,67,67,67,67,67,67,67,67,67,68,68,68,68,68,68,68,68,68,68,68,68,69,69,69,69,69,69,69,69,69,69,69,69,70,70,70,70,70,70,70,70,70,70,70,70,71,71,71,71,71,71,71,71,71,71,71,71,72,72,72,72,72,72,72,72,72,72,72,72]
[48,48,48,48,48,48,48,48,48,48,48,48,49,49,49,49,49,49,49,49,49,49,49,49,50,50,50,50,50,50,50,50,50,50,50,50,51,51,51,51,51,51,51,51,51,51,51,51,52,52,52,52,52,52,52,52,52,52,52,52,53,53,53,53,53,53,53,53,53,53,53,53,54,54,54,54,54,54,54,54,54,54,54,54,55,55,55,55,55,55,55,55,55,55,55,55,56,56,56,56,56,56,56,56,56,56,56,56,57,57,57,57,57,57,57,57,57,57,57,57,58,58,58,58,58,58,58,58,58,58,58,58,59,59,59,59,59,59,59,59,59,59,59,59,60,60,60,60,60,60,60,60,60,60,60,60,61,61,61,61,61,61,61,61,61,61,61,61,62,62,62,62,62,62,62,62,62,62,62,62,63,63,63,63,63,63,63,63,63,63,63,63,64,64,64,64,64,64,64,64,64,64,64,64,65,65,65,65,65,65,65,65,65,65,65,65,66,66,66,66,66,66,66,66,66,66,66,66,67,67,67,67,67,67,67,67,67,67,67,67,68,68,68,68,68,68,68,68,68,68,68,68,69,69,69,69,69,69,69,69,69,69,69,69,70,70,70,70,70,70,70,70,70,70,70,70,71,71,71,71,71,71,71,71,71,71,71,71,72,72,72,72,72,72,72,72,72,72,72,72,73,73,73,73,73,73,73,73,73,73,73,73]
[49,49,49,49,49,49,49,49,49,49,49,49,50,50,50,50,50,50,50,50,50,50,50,50,51,51,51,51,51,51,51,51,51,51,51,51,52,52,52,52,52,52,52,52,52,52,52,52,53,53,53,53,53,53,53,53,53,53,53,53,54,54,54,54,54,54,54,54,54,54,54,54,55,55,55,55,55,55,55,55,55,55,55,55,56,56,56,56,56,56,56,56,56,56,56,56,57,57,57,57,57,57,57,57,57,57,57,57,58,58,58,58,58,58,58,58,58,58,58,58,59,59,59,59,59,59,59,59,59,59,59,59,60,60,60,60,60,60,60,60,60,60,60,60,61,61,61,61,61,61,61,61,61,61,61,61,62,62,62,62,62,62,62,62,62,62,62,62,63,63,63,63,63,63,63,63,63,63,63,63,64,64,64,64,64,64,64,64,64,64,64,64,65,65,65,65,65,65,65,65,65,65,65,65,66,66,66,66,66,66,66,66,66,66,66,66,67,67,67,67,67,67,67,67,67,67,67,67,68,68,68,68,68,68,68,68,68,68,68,68,69,69,69,69,69,69,69,69,69,69,69,69,70,70,70,70,70,70,70,70,70,70,70,70,71,71,71,71,71,71,71,71,71,71,71,71,72,72,72,72,72,72,72,72,72,72,72,72,73,73,73,73,73,73,73,73,73,73,73,73,74,74,74,74,74,74,74,74,74,74,74,74]
[50,50,50,50,50,50,50,50,50,50,50,50,51,51,51,51,51,51,51,51,51,51,51,51,52,52,52,52,52,52,52,52,52,52,52,52,53,53,53,53,53,53,53,53,53,53,53,53,54,54,54,54,54,54,54,54,54,54,54,54,55,55,55,55,55,55,55,55,55,55,55,55,56,56,56,56,56,56,56,56,56,56,56,56,57,57,57,57,57,57,57,57,57,57,57,57,58,58,58,58,58,58,58,58,58,58,58,58,59,59,59,59,59,59,59,59,59,59,59,59,60,60,60,60,60,60,60,60,60,60,60,60,61,61,61,61,61,61,61,61,61,61,61,61,62,62,62,62,62,62,62,62,62,62,62,62,63,63,63,63,63,63,63,63,63,63,63,63,64,64,64,64,64,64,64,64,64,64,64,64,65,65,65,65,65,65,65,65,65,65,65,65,66,66,66,66,66,66,66,66,66,66,66,66,67,67,67,67,67,67,67,67,67,67,67,67,68,68,68,68,68,68,68,68,68,68,68,68,69,69,69,69,69,69,69,69,69,69,69,69,70,70,70,70,70,70,70,70,70,70,70,70,71,71,71,71,71,71,71,71,71,71,71,71,72,72,72,72,72,72,72,72,72,72,72,72,73,73,73,73,73,73,73,73,73,73,73,73,74,74,74,74,74,74,74,74,74,74,74,74,75,75,75,75,75,75,75,75,75,75,75,75]
[51,51,51,51,51,51,51,51,51,51,51,51,52,52,52,52,52,52,52,52,52,52,52,52,53,53,53,53,53,53,53,53,53,53,53,53,54,54,54,54,54,54,54,54,54,54,54,54,55,55,55,55,55,55,55,55,55,55,55,55,56,56,56,56,56,56,56,56,56,56,56,56,57,57,57,57,57,57,57,57,57,57,57,57,58,58,58,58,58,58,58,58,58,58,58,58,59,59,59,59,59,59,59,59,59,59,59,59,60,60,60,60,60,60,60,60,60,60,60,60,61,61,61,61,61,61,61,61,61,61,61,61,62,62,62,62,62,62,62,62,62,62,62,62,63,63,63,63,63,63,63,63,63,63,63,63,64,64,64,64,64,64,64,64,64,64,64,64,65,65,65,65,65,65,65,65,65,65,65,65,66,66,66,66,66,66,66,66,66,66,66,66,67,67,67,67,67,67,67,67,67,67,67,67,68,68,68,68,68,68,68,68,68,68,68,68,69,69,69,69,69,69,69,69,69,69,69,69,70,70,70,70,70,70,70,70,70,70,70,70,71,71,71,71,71,71,71,71,71,71,71,71,72,72,72,72,72,72,72,72,72,72,72,72,73,73,73,73,73,73,73,73,73,73,73,73,74,74,74,74,74,74,74,74,74,74,74,74,75,75,75,75,75,75,75,75,75,75,75,75,76,76,76,76,76,76,76,76,76,76,76,76]
[52,52,52,52,52,52,52,52,52,52,52,52,53,53,53,53,53,53,53,53,53,53,53,53,54,54,54,54,54,54,54,54,54,54,54,54,55,55,55,55,55,55,55,55,55,55,55,55,56,56,56,56,56,56,56,56,56,56,56,56,57,57,57,57,57,57,57,57,57,57,57,57,58,58,58,58,58,58,58,58,58,58,58,58,59,59,59,59,59,59,59,59,59,59,59,59,60,60,60,60,60,60,60,60,60,60,60,60,61,61,61,61,61,61,61,61,61,61,61,61,62,62,62,62,62,62,62,62,62,62,62,62,63,63,63,63,63,63,63,63,63,63,63,63,64,64,64,64,64,64,64,64,64,64,64,64,65,65,65,65,65,65,65,65,65,65,65,65,66,66,66,66,66,66,66,66,66,66,66,66,67,67,67,67,67,67,67,67,67,67,67,67,68,68,68,68,68,68,68,68,68,68,68,68,69,69,69,69,69,69,69,69,69,69,69,69,70,70,70,70,70,70,70,70,70,70,70,70,71,71,71,71,71,71,71,71,71,71,71,71,72,72,72,72,72,72,72,72,72,72,72,72,73,73,73,73,73,73,73,73,73,73,73,73,74,74,74,74,74,74,74,74,74,74,74,74,75,75,75,75,75,75,75,75,75,75,75,75,76,76,76,76,76,76,76,76,76,76,76,76,77,77,77,77,77,77,77,77,77,77,77,77]
[53,53,53,53,53,53,53,53,53,53,53,53,54,54,54,54,54,54,54,54,54,54,54,54,55,55,55,55,55,55,55,55,55,55,55,55,56,56,56,56,56,56,56,56,56,56,56,56,57,57,57,57,57,57,57,57,57,57,57,57,58,58,58,58,58,58,58,58,58,58,58,58,59,59,59,59,59,59,59,59,59,59,59,59,60,60,60,60,60,60,60,60,60,60,60,60,61,61,61,61,61,61,61,61,61,61,61,61,62,62,62,62,62,62,62,62,62,62,62,62,63,63,63,63,63,63,63,63,63,63,63,63,64,64,64,64,64,64,64,64,64,64,64,64,65,65,65,65,65,65,65,65,65,65,65,65,66,66,66,66,66,66,66,66,66,66,66,66,67,67,67,67,67,67,67,67,67,67,67,67,68,68,68,68,68,68,68,68,68,68,68,68,69,69,69,69,69,69,69,69,69,69,69,69,70,70,70,70,70,70,70,70,70,70,70,70,71,71,71,71,71,71,71,71,71,71,71,71,72,72,72,72,72,72,72,72,72,72,72,72,73,73,73,73,73,73,73,73,73,73,73,73,74,74,74,74,74,74,74,74,74,74,74,74,75,75,75,75,75,75,75,75,75,75,75,75,76,76,76,76,76,76,76,76,76,76,76,76,77,77,77,77,77,77,77,77,77,77,77,77,78,78,78,78,78,78,78,78,78,78,78,78]
[54,54,54,54,54,54,54,54,54,54,54,54,55,55,55,55,55,55,55,55,55,55,55,55,56,56,56,56,56,56,56,56,56,56,56,56,57,57,57,57,57,57,57,57,57,57,57,57,58,58,58,58,58,58,58,58,58,58,58,58,59,59,59,59,59,59,59,59,59,59,59,59,60,60,60,60,60,60,60,60,60,60,60,60,61,61,61,61,61,61,61,61,61,61,61,61,62,62,62,62,62,62,62,62,62,62,62,62,63,63,63,63,63,63,63,63,63,63,63,63,64,64,64,64,64,64,64,64,64,64,64,64,65,65,65,65,65,65,65,65,65,65,65,65,66,66,66,66,66,66,66,66,66,66,66,66,67,67,67,67,67,67,67,67,67,67,67,67,68,68,68,68,68,68,68,68,68,68,68,68,69,69,69,69,69,69,69,69,69,69,69,69,70,70,70,70,70,70,70,70,70,70,70,70,71,71,71,71,71,71,71,71,71,71,71,71,72,72,72,72,72,72,72,72,72,72,72,72,73,73,73,73,73,73,73,73,73,73,73,73,74,74,74,74,74,74,74,74,74,74,74,74,75,75,75,75,75,75,75,75,75,75,75,75,76,76,76,76,76,76,76,76,76,76,76,76,77,77,77,77,77,77,77,77,77,77,77,77,78,78,78,78,78,78,78,78,78,78,78,78,79,79,79,79,79,79,79,79,79,79,79,79]
[55,55,55,55,55,55,55,55,55,55,55,55,56,56,56,56,56,56,56,56,56,56,56,56,57,57,57,57,57,57,57,57,57,57,57,57,58,58,58,58,58,58,58,58,58,58,58,58,59,59,59,59,59,59,59,59,59,59,59,59,60,60,60,60,60,60,60,60,60,60,60,60,61,61,61,61,61,61,61,61,61,61,61,61,62,62,62,62,62,62,62,62,62,62,62,62,63,63,63,63,63,63,63,63,63,63,63,63,64,64,64,64,64,64,64,64,64,64,64,64,65,65,65,65,65,65,65,65,65,65,65,65,66,66,66,66,66,66,66,66,66,66,66,66,67,67,67,67,67,67,67,67,67,67,67,67,68,68,68,68,68,68,68,68,68,68,68,68,69,69,69,69,69,69,69,69,69,69,69,69,70,70,70,70,70,70,70,70,70,70,70,70,71,71,71,71,71,71,71,71,71,71,71,71,72,72,72,72,72,72,72,72,72,72,72,72,73,73,73,73,73,73,73,73,73,73,73,73,74,74,74,74,74,74,74,74,74,74,74,74,75,75,75,75,75,75,75,75,75,75,75,75,76,76,76,76,76,76,76,76,76,76,76,76,77,77,77,77,77,77,77,77,77,77,77,77,78,78,78,78,78,78,78,78,78,78,78,78,79,79,79,79,79,79,79,79,79,79,79,79,80,80,80,80,80,80,80,80,80,80,80,80]
[56,56,56,56,56,56,56,56,56,56,56,56,57,57,57,57,57,57,57,57,57,57,57,57,58,58,58,58,58,58,58,58,58,58,58,58,59,59,59,59,59,59,59,59,59,59,59,59,60,60,60,60,60,60,60,60,60,60,60,60,61,61,61,61,61,61,61,61,61,61,61,61,62,62,62,62,62,62,62,62,62,62,62,62,63,63,63,63,63,63,63,63,63,63,63,63,64,64,64,64,64,64,64,64,64,64,64,64,65,65,65,65,65,65,65,65,65,65,65,65,66,66,66,66,66,66,66,66,66,66,66,66,67,67,67,67,67,67,67,67,67,67,67,67,68,68,68,68,68,68,68,68,68,68,68,68,69,69,69,69,69,69,69,69,69,69,69,69,70,70,70,70,70,70,70,70,70,70,70,70,71,71,71,71,71,71,71,71,71,71,71,71,72,72,72,72,72,72,72,72,72,72,72,72,73,73,73,73,73,73,73,73,73,73,73,73,74,74,74,74,74,74,74,74,74,74,74,74,75,75,75,75,75,75,75,75,75,75,75,75,76,76,76,76,76,76,76,76,76,76,76,76,77,77,77,77,77,77,77,77,77,77,77,77,78,78,78,78,78,78,78,78,78,78,78,78,79,79,79,79,79,79,79,79,79,79,79,79,80,80,80,80,80,80,80,80,80,80,80,80,81,81,81,81,81,81,81,81,81,81,81,81]
[57,57,57,57,57,57,57,57,57,57,57,57,58,58,58,58,58,58,58,58,58,58,58,58,59,59,59,59,59,59,59,59,59,59,59,59,60,60,60,60,60,60,60,60,60,60,60,60,61,61,61,61,61,61,61,61,61,61,61,61,62,62,62,62,62,62,62,62,62,62,62,62,63,63,63,63,63,63,63,63,63,63,63,63,64,64,64,64,64,64,64,64,64,64,64,64,65,65,65,65,65,65,65,65,65,65,65,65,66,66,66,66,66,66,66,66,66,66,66,66,67,67,67,67,67,67,67,67,67,67,67,67,68,68,68,68,68,68,68,68,68,68,68,68,69,69,69,69,69,69,69,69,69,69,69,69,70,70,70,70,70,70,70,70,70,70,70,70,71,71,71,71,71,71,71,71,71,71,71,71,72,72,72,72,72,72,72,72,72,72,72,72,73,73,73,73,73,73,73,73,73,73,73,73,74,74,74,74,74,74,74,74,74,74,74,74,75,75,75,75,75,75,75,75,75,75,75,75,76,76,76,76,76,76,76,76,76,76,76,76,77,77,77,77,77,77,77,77,77,77,77,77,78,78,78,78,78,78,78,78,78,78,78,78,79,79,79,79,79,79,79,79,79,79,79,79,80,80,80,80,80,80,80,80,80,80,80,80,81,81,81,81,81,81,81,81,81,81,81,81,82,82,82,82,82,82,82,82,82,82,82,82]
[58,58,58,58,58,58,58,58,58,58,58,58,59,59,59,59,59,59,59,59,59,59,59,59,60,60,60,60,60,60,60,60,60,60,60,60,61,61,61,61,61,61,61,61,61,61,61,61,62,62,62,62,62,62,62,62,62,62,62,62,63,63,63,63,63,63,63,63,63,63,63,63,64,64,64,64,64,64,64,64,64,64,64,64,65,65,65,65,65,65,65,65,65,65,65,65,66,66,66,66,66,66,66,66,66,66,66,66,67,67,67,67,67,67,67,67,67,67,67,67,68,68,68,68,68,68,68,68,68,68,68,68,69,69,69,69,69,69,69,69,69,69,69,69,70,70,70,70,70,70,70,70,70,70,70,70,71,71,71,71,71,71,71,71,71,71,71,71,72,72,72,72,72,72,72,72,72,72,72,72,73,73,73,73,73,73,73,73,73,73,73,73,74,74,74,74,74,74,74,74,74,74,74,74,75,75,75,75,75,75,75,75,75,75,75,75,76,76,76,76,76,76,76,76,76,76,76,76,77,77,77,77,77,77,77,77,77,77,77,77,78,78,78,78,78,78,78,78,78,78,78,78,79,79,79,79,79,79,79,79,79,79,79,79,80,80,80,80,80,80,80,80,80,80,80,80,81,81,81,81,81,81,81,81,81,81,81,81,82,82,82,82,82,82,82,82,82,82,82,82,83,83,83,83,83,83,83,83,83,83,83,83]
[59,59,59,59,59,59,59,59,59,59,59,59,60,60,60,60,60,60,60,60,60,60,60,60,61,61,61,61,61,61,61,61,61,61,61,61,62,62,62,62,62,62,62,62,62,62,62,62,63,63,63,63,63,63,63,63,63,63,63,63,64,64,64,64,64,64,64,64,64,64,64,64,65,65,65,65,65,65,65,65,65,65,65,65,66,66,66,66,66,66,66,66,66,66,66,66,67,67,67,67,67,67,67,67,67,67,67,67,68,68,68,68,68,68,68,68,68,68,68,68,69,69,69,69,69,69,69,69,69,69,69,69,70,70,70,70,70,70,70,70,70,70,70,70,71,71,71,71,71,71,71,71,71,71,71,71,72,72,72,72,72,72,72,72,72,72,72,72,73,73,73,73,73,73,73,73,73,73,73,73,74,74,74,74,74,74,74,74,74,74,74,74,75,75,75,75,75,75,75,75,75,75,75,75,76,76,76,76,76,76,76,76,76,76,76,76,77,77,77,77,77,77,77,77,77,77,77,77,78,78,78,78,78,78,78,78,78,78,78,78,79,79,79,79,79,79,79,79,79,79,79,79,80,80,80,80,80,80,80,80,80,80,80,80,81,81,81,81,81,81,81,81,81,81,81,81,82,82,82,82,82,82,82,82,82,82,82,82,83,83,83,83,83,83,83,83,83,83,83,83,84,84,84,84,84,84,84,84,84,84,84,84]
[60,60,60,60,60,60,60,60,60,60,60,60,61,61,61,61,61,61,61,61,61,61,61,61,62,62,62,62,62,62,62,62,62,62,62,62,63,63,63,63,63,63,63,63,63,63,63,63,64,64,64,64,64,64,64,64,64,64,64,64,65,65,65,65,65,65,65,65,65,65,65,65,66,66,66,66,66,66,66,66,66,66,66,66,67,67,67,67,67,67,67,67,67,67,67,67,68,68,68,68,68,68,68,68,68,68,68,68,69,69,69,69,69,69,69,69,69,69,69,69,70,70,70,70,70,70,70,70,70,70,70,70,71,71,71,71,71,71,71,71,71,71,71,71,72,72,72,72,72,72,72,72,72,72,72,72,73,73,73,73,73,73,73,73,73,73,73,73,74,74,74,74,74,74,74,74,74,74,74,74,75,75,75,75,75,75,75,75,75,75,75,75,76,76,76,76,76,76,76,76,76,76,76,76,77,77,77,77,77,77,77,77,77,77,77,77,78,78,78,78,78,78,78,78,78,78,78,78,79,79,79,79,79,79,79,79,79,79,79,79,80,80,80,80,80,80,80,80,80,80,80,80,81,81,81,81,81,81,81,81,81,81,81,81,82,82,82,82,82,82,82,82,82,82,82,82,83,83,83,83,83,83,83,83,83,83,83,83,84,84,84,84,84,84,84,84,84,84,84,84,85,85,85,85,85,85,85,85,85,85,85,85]
[61,61,61,61,61,61,61,61,61,61,61,61,62,62,62,62,62,62,62,62,62,62,62,62,63,63,63,63,63,63,63,63,63,63,63,63,64,64,64,64,64,64,64,64,64,64,64,64,65,65,65,65,65,65,65,65,65,65,65,65,66,66,66,66,66,66,66,66,66,66,66,66,67,67,67,67,67,67,67,67,67,67,67,67,68,68,68,68,68,68,68,68,68,68,68,68,69,69,69,69,69,69,69,69,69,69,69,69,70,70,70,70,70,70,70,70,70,70,70,70,71,71,71,71,71,71,71,71,71,71,71,71,72,72,72,72,72,72,72,72,72,72,72,72,73,73,73,73,73,73,73,73,73,73,73,73,74,74,74,74,74,74,74,74,74,74,74,74,75,75,75,75,75,75,75,75,75,75,75,75,76,76,76,76,76,76,76,76,76,76,76,76,77,77,77,77,77,77,77,77,77,77,77,77,78,78,78,78,78,78,78,78,78,78,78,78,79,79,79,79,79,79,79,79,79,79,79,79,80,80,80,80,80,80,80,80,80,80,80,80,81,81,81,81,81,81,81,81,81,81,81,81,82,82,82,82,82,82,82,82,82,82,82,82,83,83,83,83,83,83,83,83,83,83,83,83,84,84,84,84,84,84,84,84,84,84,84,84,85,85,85,85,85,85,85,85,85,85,85,85,86,86,86,86,86,86,86,86,86,86,86,86]
[62,62,62,62,62,62,62,62,62,62,62,62,63,63,63,63,63,63,63,63,63,63,63,63,64,64,64,64,64,64,64,64,64,64,64,64,65,65,65,65,65,65,65,65,65,65,65,65,66,66,66,66,66,66,66,66,66,66,66,66,67,67,67,67,67,67,67,67,67,67,67,67,68,68,68,68,68,68,68,68,68,68,68,68,69,69,69,69,69,69,69,69,69,69,69,69,70,70,70,70,70,70,70,70,70,70,70,70,71,71,71,71,71,71,71,71,71,71,71,71,72,72,72,72,72,72,72,72,72,72,72,72,73,73,73,73,73,73,73,73,73,73,73,73,74,74,74,74,74,74,74,74,74,74,74,74,75,75,75,75,75,75,75,75,75,75,75,75,76,76,76,76,76,76,76,76,76,76,76,76,77,77,77,77,77,77,77,77,77,77,77,77,78,78,78,78,78,78,78,78,78,78,78,78,79,79,79,79,79,79,79,79,79,79,79,79,80,80,80,80,80,80,80,80,80,80,80,80,81,81,81,81,81,81,81,81,81,81,81,81,82,82,82,82,82,82,82,82,82,82,82,82,83,83,83,83,83,83,83,83,83,83,83,83,84,84,84,84,84,84,84,84,84,84,84,84,85,85,85,85,85,85,85,85,85,85,85,85,86,86,86,86,86,86,86,86,86,86,86,86,87,87,87,87,87,87,87,87,87,87,87,87]
[63,63,63,63,63,63,63,63,63,63,63,63,64,64,64,64,64,64,64,64,64,64,64,64,65,65,65,65,65,65,65,65,65,65,65,65,66,66,66,66,66,66,66,66,66,66,66,66,67,67,67,67,67,67,67,67,67,67,67,67,68,68,68,68,68,68,68,68,68,68,68,68,69,69,69,69,69,69,69,69,69,69,69,69,70,70,70,70,70,70,70,70,70,70,70,70,71,71,71,71,71,71,71,71,71,71,71,71,72,72,72,72,72,72,72,72,72,72,72,72,73,73,73,73,73,73,73,73,73,73,73,73,74,74,74,74,74,74,74,74,74,74,74,74,75,75,75,75,75,75,75,75,75,75,75,75,76,76,76,76,76,76,76,76,76,76,76,76,77,77,77,77,77,77,77,77,77,77,77,77,78,78,78,78,78,78,78,78,78,78,78,78,79,79,79,79,79,79,79,79,79,79,79,79,80,80,80,80,80,80,80,80,80,80,80,80,81,81,81,81,81,81,81,81,81,81,81,81,82,82,82,82,82,82,82,82,82,82,82,82,83,83,83,83,83,83,83,83,83,83,83,83,84,84,84,84,84,84,84,84,84,84,84,84,85,85,85,85,85,85,85,85,85,85,85,85,86,86,86,86,86,86,86,86,86,86,86,86,87,87,87,87,87,87,87,87,87,87,87,87,88,88,88,88,88,88,88,88,88,88,88,88]
[64,64,64,64,64,64,64,64,64,64,64,64,65,65,65,65,65,65,65,65,65,65,65,65,66,66,66,66,66,66,66,66,66,66,66,66,67,67,67,67,67,67,67,67,67,67,67,67,68,68,68,68,68,68,68,68,68,68,68,68,69,69,69,69,69,69,69,69,69,69,69,69,70,70,70,70,70,70,70,70,70,70,70,70,71,71,71,71,71,71,71,71,71,71,71,71,72,72,72,72,72,72,72,72,72,72,72,72,73,73,73,73,73,73,73,73,73,73,73,73,74,74,74,74,74,74,74,74,74,74,74,74,75,75,75,75,75,75,75,75,75,75,75,75,76,76,76,76,76,76,76,76,76,76,76,76,77,77,77,77,77,77,77,77,77,77,77,77,78,78,78,78,78,78,78,78,78,78,78,78,79,79,79,79,79,79,79,79,79,79,79,79,80,80,80,80,80,80,80,80,80,80,80,80,81,81,81,81,81,81,81,81,81,81,81,81,82,82,82,82,82,82,82,82,82,82,82,82,83,83,83,83,83,83,83,83,83,83,83,83,84,84,84,84,84,84,84,84,84,84,84,84,85,85,85,85,85,85,85,85,85,85,85,85,86,86,86,86,86,86,86,86,86,86,86,86,87,87,87,87,87,87,87,87,87,87,87,87,88,88,88,88,88,88,88,88,88,88,88,88,89,89,89,89,89,89,89,89,89,89,89,89]
[65,65,65,65,65,65,65,65,65,65,65,65,66,66,66,66,66,66,66,66,66,66,66,66,67,67,67,67,67,67,67,67,67,67,67,67,68,68,68,68,68,68,68,68,68,68,68,68,69,69,69,69,69,69,69,69,69,69,69,69,70,70,70,70,70,70,70,70,70,70,70,70,71,71,71,71,71,71,71,71,71,71,71,71,72,72,72,72,72,72,72,72,72,72,72,72,73,73,73,73,73,73,73,73,73,73,73,73,74,74,74,74,74,74,74,74,74,74,74,74,75,75,75,75,75,75,75,75,75,75,75,75,76,76,76,76,76,76,76,76,76,76,76,76,77,77,77,77,77,77,77,77,77,77,77,77,78,78,78,78,78,78,78,78,78,78,78,78,79,79,79,79,79,79,79,79,79,79,79,79,80,80,80,80,80,80,80,80,80,80,80,80,81,81,81,81,81,81,81,81,81,81,81,81,82,82,82,82,82,82,82,82,82,82,82,82,83,83,83,83,83,83,83,83,83,83,83,83,84,84,84,84,84,84,84,84,84,84,84,84,85,85,85,85,85,85,85,85,85,85,85,85,86,86,86,86,86,86,86,86,86,86,86,86,87,87,87,87,87,87,87,87,87,87,87,87,88,88,88,88,88,88,88,88,88,88,88,88,89,89,89,89,89,89,89,89,89,89,89,89,90,90,90,90,90,90,90,90,90,90,90,90]
[66,66,66,66,66,66,66,66,66,66,66,66,67,67,67,67,67,67,67,67,67,67,67,67,68,68,68,68,68,68,68,68,68,68,68,68,69,69,69,69,69,69,69,69,69,69,69,69,70,70,70,70,70,70,70,70,70,70,70,70,71,71,71,71,71,71,71,71,71,71,71,71,72,72,72,72,72,72,72,72,72,72,72,72,73,73,73,73,73,73,73,73,73,73,73,73,74,74,74,74,74,74,74,74,74,74,74,74,75,75,75,75,75,75,75,75,75,75,75,75,76,76,76,76,76,76,76,76,76,76,76,76,77,77,77,77,77,77,77,77,77,77,77,77,78,78,78,78,78,78,78,78,78,78,78,78,79,79,79,79,79,79,79,79,79,79,79,79,80,80,80,80,80,80,80,80,80,80,80,80,81,81,81,81,81,81,81,81,81,81,81,81,82,82,82,82,82,82,82,82,82,82,82,82,83,83,83,83,83,83,83,83,83,83,83,83,84,84,84,84,84,84,84,84,84,84,84,84,85,85,85,85,85,85,85,85,85,85,85,85,86,86,86,86,86,86,86,86,86,86,86,86,87,87,87,87,87,87,87,87,87,87,87,87,88,88,88,88,88,88,88,88,88,88,88,88,89,89,89,89,89,89,89,89,89,89,89,89,90,90,90,90,90,90,90,90,90,90,90,90,91,91,91,91,91,91,91,91,91,91,91,91]
[67,67,67,67,67,67,67,67,67,67,67,67,68,68,68,68,68,68,68,68,68,68,68,68,69,69,69,69,69,69,69,69,69,69,69,69,70,70,70,70,70,70,70,70,70,70,70,70,71,71,71,71,71,71,71,71,71,71,71,71,72,72,72,72,72,72,72,72,72,72,72,72,73,73,73,73,73,73,73,73,73,73,73,73,74,74,74,74,74,74,74,74,74,74,74,74,75,75,75,75,75,75,75,75,75,75,75,75,76,76,76,76,76,76,76,76,76,76,76,76,77,77,77,77,77,77,77,77,77,77,77,77,78,78,78,78,78,78,78,78,78,78,78,78,79,79,79,79,79,79,79,79,79,79,79,79,80,80,80,80,80,80,80,80,80,80,80,80,81,81,81,81,81,81,81,81,81,81,81,81,82,82,82,82,82,82,82,82,82,82,82,82,83,83,83,83,83,83,83,83,83,83,83,83,84,84,84,84,84,84,84,84,84,84,84,84,85,85,85,85,85,85,85,85,85,85,85,85,86,86,86,86,86,86,86,86,86,86,86,86,87,87,87,87,87,87,87,87,87,87,87,87,88,88,88,88,88,88,88,88,88,88,88,88,89,89,89,89,89,89,89,89,89,89,89,89,90,90,90,90,90,90,90,90,90,90,90,90,91,91,91,91,91,91,91,91,91,91,91,91,92,92,92,92,92,92,92,92,92,92,92,92]
[68,68,68,68,68,68,68,68,68,68,68,68,69,69,69,69,69,69,69,69,69,69,69,69,70,70,70,70,70,70,70,70,70,70,70,70,71,71,71,71,71,71,71,71,71,71,71,71,72,72,72,72,72,72,72,72,72,72,72,72,73,73,73,73,73,73,73,73,73,73,73,73,74,74,74,74,74,74,74,74,74,74,74,74,75,75,75,75,75,75,75,75,75,75,75,75,76,76,76,76,76,76,76,76,76,76,76,76,77,77,77,77,77,77,77,77,77,77,77,77,78,78,78,78,78,78,78,78,78,78,78,78,79,79,79,79,79,79,79,79,79,79,79,79,80,80,80,80,80,80,80,80,80,80,80,80,81,81,81,81,81,81,81,81,81,81,81,81,82,82,82,82,82,82,82,82,82,82,82,82,83,83,83,83,83,83,83,83,83,83,83,83,84,84,84,84,84,84,84,84,84,84,84,84,85,85,85,85,85,85,85,85,85,85,85,85,86,86,86,86,86,86,86,86,86,86,86,86,87,87,87,87,87,87,87,87,87,87,87,87,88,88,88,88,88,88,88,88,88,88,88,88,89,89,89,89,89,89,89,89,89,89,89,89,90,90,90,90,90,90,90,90,90,90,90,90,91,91,91,91,91,91,91,91,91,91,91,91,92,92,92,92,92,92,92,92,92,92,92,92,93,93,93,93,93,93,93,93,93,93,93,93]
[69,69,69,69,69,69,69,69,69,69,69,69,70,70,70,70,70,70,70,70,70,70,70,70,71,71,71,71,71,71,71,71,71,71,71,71,72,72,72,72,72,72,72,72,72,72,72,72,73,73,73,73,73,73,73,73,73,73,73,73,74,74,74,74,74,74,74,74,74,74,74,74,75,75,75,75,75,75,75,75,75,75,75,75,76,76,76,76,76,76,76,76,76,76,76,76,77,77,77,77,77,77,77,77,77,77,77,77,78,78,78,78,78,78,78,78,78,78,78,78,79,79,79,79,79,79,79,79,79,79,79,79,80,80,80,80,80,80,80,80,80,80,80,80,81,81,81,81,81,81,81,81,81,81,81,81,82,82,82,82,82,82,82,82,82,82,82,82,83,83,83,83,83,83,83,83,83,83,83,83,84,84,84,84,84,84,84,84,84,84,84,84,85,85,85,85,85,85,85,85,85,85,85,85,86,86,86,86,86,86,86,86,86,86,86,86,87,87,87,87,87,87,87,87,87,87,87,87,88,88,88,88,88,88,88,88,88,88,88,88,89,89,89,89,89,89,89,89,89,89,89,89,90,90,90,90,90,90,90,90,90,90,90,90,91,91,91,91,91,91,91,91,91,91,91,91,92,92,92,92,92,92,92,92,92,92,92,92,93,93,93,93,93,93,93,93,93,93,93,93,94,94,94,94,94,94,94,94,94,94,94,94]
[70,70,70,70,70,70,70,70,70,70,70,70,71,71,71,71,71,71,71,71,71,71,71,71,72,72,72,72,72,72,72,72,72,72,72,72,73,73,73,73,73,73,73,73,73,73,73,73,74,74,74,74,74,74,74,74,74,74,74,74,75,75,75,75,75,75,75,75,75,75,75,75,76,76,76,76,76,76,76,76,76,76,76,76,77,77,77,77,77,77,77,77,77,77,77,77,78,78,78,78,78,78,78,78,78,78,78,78,79,79,79,79,79,79,79,79,79,79,79,79,80,80,80,80,80,80,80,80,80,80,80,80,81,81,81,81,81,81,81,81,81,81,81,81,82,82,82,82,82,82,82,82,82,82,82,82,83,83,83,83,83,83,83,83,83,83,83,83,84,84,84,84,84,84,84,84,84,84,84,84,85,85,85,85,85,85,85,85,85,85,85,85,86,86,86,86,86,86,86,86,86,86,86,86,87,87,87,87,87,87,87,87,87,87,87,87,88,88,88,88,88,88,88,88,88,88,88,88,89,89,89,89,89,89,89,89,89,89,89,89,90,90,90,90,90,90,90,90,90,90,90,90,91,91,91,91,91,91,91,91,91,91,91,91,92,92,92,92,92,92,92,92,92,92,92,92,93,93,93,93,93,93,93,93,93,93,93,93,94,94,94,94,94,94,94,94,94,94,94,94,95,95,95,95,95,95,95,95,95,95,95,95]
[71,71,71,71,71,71,71,71,71,71,71,71,72,72,72,72,72,72,72,72,72,72,72,72,73,73,73,73,73,73,73,73,73,73,73,73,74,74,74,74,74,74,74,74,74,74,74,74,75,75,75,75,75,75,75,75,75,75,75,75,76,76,76,76,76,76,76,76,76,76,76,76,77,77,77,77,77,77,77,77,77,77,77,77,78,78,78,78,78,78,78,78,78,78,78,78,79,79,79,79,79,79,79,79,79,79,79,79,80,80,80,80,80,80,80,80,80,80,80,80,81,81,81,81,81,81,81,81,81,81,81,81,82,82,82,82,82,82,82,82,82,82,82,82,83,83,83,83,83,83,83,83,83,83,83,83,84,84,84,84,84,84,84,84,84,84,84,84,85,85,85,85,85,85,85,85,85,85,85,85,86,86,86,86,86,86,86,86,86,86,86,86,87,87,87,87,87,87,87,87,87,87,87,87,88,88,88,88,88,88,88,88,88,88,88,88,89,89,89,89,89,89,89,89,89,89,89,89,90,90,90,90,90,90,90,90,90,90,90,90,91,91,91,91,91,91,91,91,91,91,91,91,92,92,92,92,92,92,92,92,92,92,92,92,93,93,93,93,93,93,93,93,93,93,93,93,94,94,94,94,94,94,94,94,94,94,94,94,95,95,95,95,95,95,95,95,95,95,95,95,96,96,96,96,96,96,96,96,96,96,96,96]
[72,72,72,72,72,72,72,72,72,72,72,72,73,73,73,73,73,73,73,73,73,73,73,73,74,74,74,74,74,74,74,74,74,74,74,74,75,75,75,75,75,75,75,75,75,75,75,75,76,76,76,76,76,76,76,76,76,76,76,76,77,77,77,77,77,77,77,77,77,77,77,77,78,78,78,78,78,78,78,78,78,78,78,78,79,79,79,79,79,79,79,79,79,79,79,79,80,80,80,80,80,80,80,80,80,80,80,80,81,81,81,81,81,81,81,81,81,81,81,81,82,82,82,82,82,82,82,82,82,82,82,82,83,83,83,83,83,83,83,83,83,83,83,83,84,84,84,84,84,84,84,84,84,84,84,84,85,85,85,85,85,85,85,85,85,85,85,85,86,86,86,86,86,86,86,86,86,86,86,86,87,87,87,87,87,87,87,87,87,87,87,87,88,88,88,88,88,88,88,88,88,88,88,88,89,89,89,89,89,89,89,89,89,89,89,89,90,90,90,90,90,90,90,90,90,90,90,90,91,91,91,91,91,91,91,91,91,91,91,91,92,92,92,92,92,92,92,92,92,92,92,92,93,93,93,93,93,93,93,93,93,93,93,93,94,94,94,94,94,94,94,94,94,94,94,94,95,95,95,95,95,95,95,95,95,95,95,95,96,96,96,96,96,96,96,96,96,96,96,96,97,97,97,97,97,97,97,97,97,97,97,97]
[73,73,73,73,73,73,73,73,73,73,73,73,74,74,74,74,74,74,74,74,74,74,74,74,75,75,75,75,75,75,75,75,75,75,75,75,76,76,76,76,76,76,76,76,76,76,76,76,77,77,77,77,77,77,77,77,77,77,77,77,78,78,78,78,78,78,78,78,78,78,78,78,79,79,79,79,79,79,79,79,79,79,79,79,80,80,80,80,80,80,80,80,80,80,80,80,81,81,81,81,81,81,81,81,81,81,81,81,82,82,82,82,82,82,82,82,82,82,82,82,83,83,83,83,83,83,83,83,83,83,83,83,84,84,84,84,84,84,84,84,84,84,84,84,85,85,85,85,85,85,85,85,85,85,85,85,86,86,86,86,86,86,86,86,86,86,86,86,87,87,87,87,87,87,87,87,87,87,87,87,88,88,88,88,88,88,88,88,88,88,88,88,89,89,89,89,89,89,89,89,89,89,89,89,90,90,90,90,90,90,90,90,90,90,90,90,91,91,91,91,91,91,91,91,91,91,91,91,92,92,92,92,92,92,92,92,92,92,92,92,93,93,93,93,93,93,93,93,93,93,93,93,94,94,94,94,94,94,94,94,94,94,94,94,95,95,95,95,95,95,95,95,95,95,95,95,96,96,96,96,96,96,96,96,96,96,96,96,97,97,97,97,97,97,97,97,97,97,97,97,98,98,98,98,98,98,98,98,98,98,98,98]
[74,74,74,74,74,74,74,74,74,74,74,74,75,75,75,75,75,75,75,75,75,75,75,75,76,76,76,76,76,76,76,76,76,76,76,76,77,77,77,77,77,77,77,77,77,77,77,77,78,78,78,78,78,78,78,78,78,78,78,78,79,79,79,79,79,79,79,79,79,79,79,79,80,80,80,80,80,80,80,80,80,80,80,80,81,81,81,81,81,81,81,81,81,81,81,81,82,82,82,82,82,82,82,82,82,82,82,82,83,83,83,83,83,83,83,83,83,83,83,83,84,84,84,84,84,84,84,84,84,84,84,84,85,85,85,85,85,85,85,85,85,85,85,85,86,86,86,86,86,86,86,86,86,86,86,86,87,87,87,87,87,87,87,87,87,87,87,87,88,88,88,88,88,88,88,88,88,88,88,88,89,89,89,89,89,89,89,89,89,89,89,89,90,90,90,90,90,90,90,90,90,90,90,90,91,91,91,91,91,91,91,91,91,91,91,91,92,92,92,92,92,92,92,92,92,92,92,92,93,93,93,93,93,93,93,93,93,93,93,93,94,94,94,94,94,94,94,94,94,94,94,94,95,95,95,95,95,95,95,95,95,95,95,95,96,96,96,96,96,96,96,96,96,96,96,96,97,97,97,97,97,97,97,97,97,97,97,97,98,98,98,98,98,98,98,98,98,98,98,98,99,99,99,99,99,99,99,99,99,99,99,99]
[75,75,75,75,75,75,75,75,75,75,75,75,76,76,76,76,76,76,76,76,76,76,76,76,77,77,77,77,77,77,77,77,77,77,77,77,78,78,78,78,78,78,78,78,78,78,78,78,79,79,79,79,79,79,79,79,79,79,79,79,80,80,80,80,80,80,80,80,80,80,80,80,81,81,81,81,81,81,81,81,81,81,81,81,82,82,82,82,82,82,82,82,82,82,82,82,83,83,83,83,83,83,83,83,83,83,83,83,84,84,84,84,84,84,84,84,84,84,84,84,85,85,85,85,85,85,85,85,85,85,85,85,86,86,86,86,86,86,86,86,86,86,86,86,87,87,87,87,87,87,87,87,87,87,87,87,88,88,88,88,88,88,88,88,88,88,88,88,89,89,89,89,89,89,89,89,89,89,89,89,90,90,90,90,90,90,90,90,90,90,90,90,91,91,91,91,91,91,91,91,91,91,91,91,92,92,92,92,92,92,92,92,92,92,92,92,93,93,93,93,93,93,93,93,93,93,93,93,94,94,94,94,94,94,94,94,94,94,94,94,95,95,95,95,95,95,95,95,95,95,95,95,96,96,96,96,96,96,96,96,96,96,96,96,97,97,97,97,97,97,97,97,97,97,97,97,98,98,98,98,98,98,98,98,98,98,98,98,99,99,99,99,99,99,99,99,99,99,99,99,100,100,100,100,100,100,100,100,100,100,100,100]
[76,76,76,76,76,76,76,76,76,76,76,76,77,77,77,77,77,77,77,77,77,77,77,77,78,78,78,78,78,78,78,78,78,78,78,78,79,79,79,79,79,79,79,79,79,79,79,79,80,80,80,80,80,80,80,80,80,80,80,80,81,81,81,81,81,81,81,81,81,81,81,81,82,82,82,82,82,82,82,82,82,82,82,82,83,83,83,83,83,83,83,83,83,83,83,83,84,84,84,84,84,84,84,84,84,84,84,84,85,85,85,85,85,85,85,85,85,85,85,85,86,86,86,86,86,86,86,86,86,86,86,86,87,87,87,87,87,87,87,87,87,87,87,87,88,88,88,88,88,88,88,88,88,88,88,88,89,89,89,89,89,89,89,89,89,89,89,89,90,90,90,90,90,90,90,90,90,90,90,90,91,91,91,91,91,91,91,91,91,91,91,91,92,92,92,92,92,92,92,92,92,92,92,92,93,93,93,93,93,93,93,93,93,93,93,93,94,94,94,94,94,94,94,94,94,94,94,94,95,95,95,95,95,95,95,95,95,95,95,95,96,96,96,96,96,96,96,96,96,96,96,96,97,97,97,97,97,97,97,97,97,97,97,97,98,98,98,98,98,98,98,98,98,98,98,98,99,99,99,99,99,99,99,99,99,99,99,99,100,100,100,100,100,100,100,100,100,100,100,100,101,101,101,101,101,101,101,101,101,101,101,101]
[77,77,77,77,77,77,77,77,77,77,77,77,78,78,78,78,78,78,78,78,78,78,78,78,79,79,79,79,79,79,79,79,79,79,79,79,80,80,80,80,80,80,80,80,80,80,80,80,81,81,81,81,81,81,81,81,81,81,81,81,82,82,82,82,82,82,82,82,82,82,82,82,83,83,83,83,83,83,83,83,83,83,83,83,84,84,84,84,84,84,84,84,84,84,84,84,85,85,85,85,85,85,85,85,85,85,85,85,86,86,86,86,86,86,86,86,86,86,86,86,87,87,87,87,87,87,87,87,87,87,87,87,88,88,88,88,88,88,88,88,88,88,88,88,89,89,89,89,89,89,89,89,89,89,89,89,90,90,90,90,90,90,90,90,90,90,90,90,91,91,91,91,91,91,91,91,91,91,91,91,92,92,92,92,92,92,92,92,92,92,92,92,93,93,93,93,93,93,93,93,93,93,93,93,94,94,94,94,94,94,94,94,94,94,94,94,95,95,95,95,95,95,95,95,95,95,95,95,96,96,96,96,96,96,96,96,96,96,96,96,97,97,97,97,97,97,97,97,97,97,97,97,98,98,98,98,98,98,98,98,98,98,98,98,99,99,99,99,99,99,99,99,99,99,99,99,100,100,100,100,100,100,100,100,100,100,100,100,101,101,101,101,101,101,101,101,101,101,101,101,102,102,102,102,102,102,102,102,102,102,102,102]
[78,78,78,78,78,78,78,78,78,78,78,78,79,79,79,79,79,79,79,79,79,79,79,79,80,80,80,80,80,80,80,80,80,80,80,80,81,81,81,81,81,81,81,81,81,81,81,81,82,82,82,82,82,82,82,82,82,82,82,82,83,83,83,83,83,83,83,83,83,83,83,83,84,84,84,84,84,84,84,84,84,84,84,84,85,85,85,85,85,85,85,85,85,85,85,85,86,86,86,86,86,86,86,86,86,86,86,86,87,87,87,87,87,87,87,87,87,87,87,87,88,88,88,88,88,88,88,88,88,88,88,88,89,89,89,89,89,89,89,89,89,89,89,89,90,90,90,90,90,90,90,90,90,90,90,90,91,91,91,91,91,91,91,91,91,91,91,91,92,92,92,92,92,92,92,92,92,92,92,92,93,93,93,93,93,93,93,93,93,93,93,93,94,94,94,94,94,94,94,94,94,94,94,94,95,95,95,95,95,95,95,95,95,95,95,95,96,96,96,96,96,96,96,96,96,96,96,96,97,97,97,97,97,97,97,97,97,97,97,97,98,98,98,98,98,98,98,98,98,98,98,98,99,99,99,99,99,99,99,99,99,99,99,99,100,100,100,100,100,100,100,100,100,100,100,100,101,101,101,101,101,101,101,101,101,101,101,101,102,102,102,102,102,102,102,102,102,102,102,102,103,103,103,103,103,103,103,103,103,103,103,103]
[79,79,79,79,79,79,79,79,79,79,79,79,80,80,80,80,80,80,80,80,80,80,80,80,81,81,81,81,81,81,81,81,81,81,81,81,82,82,82,82,82,82,82,82,82,82,82,82,83,83,83,83,83,83,83,83,83,83,83,83,84,84,84,84,84,84,84,84,84,84,84,84,85,85,85,85,85,85,85,85,85,85,85,85,86,86,86,86,86,86,86,86,86,86,86,86,87,87,87,87,87,87,87,87,87,87,87,87,88,88,88,88,88,88,88,88,88,88,88,88,89,89,89,89,89,89,89,89,89,89,89,89,90,90,90,90,90,90,90,90,90,90,90,90,91,91,91,91,91,91,91,91,91,91,91,91,92,92,92,92,92,92,92,92,92,92,92,92,93,93,93,93,93,93,93,93,93,93,93,93,94,94,94,94,94,94,94,94,94,94,94,94,95,95,95,95,95,95,95,95,95,95,95,95,96,96,96,96,96,96,96,96,96,96,96,96,97,97,97,97,97,97,97,97,97,97,97,97,98,98,98,98,98,98,98,98,98,98,98,98,99,99,99,99,99,99,99,99,99,99,99,99,100,100,100,100,100,100,100,100,100,100,100,100,101,101,101,101,101,101,101,101,101,101,101,101,102,102,102,102,102,102,102,102,102,102,102,102,103,103,103,103,103,103,103,103,103,103,103,103,104,104,104,104,104,104,104,104,104,104,104,104]
[80,80,80,80,80,80,80,80,80,80,80,80,81,81,81,81,81,81,81,81,81,81,81,81,82,82,82,82,82,82,82,82,82,82,82,82,83,83,83,83,83,83,83,83,83,83,83,83,84,84,84,84,84,84,84,84,84,84,84,84,85,85,85,85,85,85,85,85,85,85,85,85,86,86,86,86,86,86,86,86,86,86,86,86,87,87,87,87,87,87,87,87,87,87,87,87,88,88,88,88,88,88,88,88,88,88,88,88,89,89,89,89,89,89,89,89,89,89,89,89,90,90,90,90,90,90,90,90,90,90,90,90,91,91,91,91,91,91,91,91,91,91,91,91,92,92,92,92,92,92,92,92,92,92,92,92,93,93,93,93,93,93,93,93,93,93,93,93,94,94,94,94,94,94,94,94,94,94,94,94,95,95,95,95,95,95,95,95,95,95,95,95,96,96,96,96,96,96,96,96,96,96,96,96,97,97,97,97,97,97,97,97,97,97,97,97,98,98,98,98,98,98,98,98,98,98,98,98,99,99,99,99,99,99,99,99,99,99,99,99,100,100,100,100,100,100,100,100,100,100,100,100,101,101,101,101,101,101,101,101,101,101,101,101,102,102,102,102,102,102,102,102,102,102,102,102,103,103,103,103,103,103,103,103,103,103,103,103,104,104,104,104,104,104,104,104,104,104,104,104,105,105,105,105,105,105,105,105,105,105,105,105]
[81,81,81,81,81,81,81,81,81,81,81,81,82,82,82,82,82,82,82,82,82,82,82,82,83,83,83,83,83,83,83,83,83,83,83,83,84,84,84,84,84,84,84,84,84,84,84,84,85,85,85,85,85,85,85,85,85,85,85,85,86,86,86,86,86,86,86,86,86,86,86,86,87,87,87,87,87,87,87,87,87,87,87,87,88,88,88,88,88,88,88,88,88,88,88,88,89,89,89,89,89,89,89,89,89,89,89,89,90,90,90,90,90,90,90,90,90,90,90,90,91,91,91,91,91,91,91,91,91,91,91,91,92,92,92,92,92,92,92,92,92,92,92,92,93,93,93,93,93,93,93,93,93,93,93,93,94,94,94,94,94,94,94,94,94,94,94,94,95,95,95,95,95,95,95,95,95,95,95,95,96,96,96,96,96,96,96,96,96,96,96,96,97,97,97,97,97,97,97,97,97,97,97,97,98,98,98,98,98,98,98,98,98,98,98,98,99,99,99,99,99,99,99,99,99,99,99,99,100,100,100,100,100,100,100,100,100,100,100,100,101,101,101,101,101,101,101,101,101,101,101,101,102,102,102,102,102,102,102,102,102,102,102,102,103,103,103,103,103,103,103,103,103,103,103,103,104,104,104,104,104,104,104,104,104,104,104,104,105,105,105,105,105,105,105,105,105,105,105,105,106,106,106,106,106,106,106,106,106,106,106,106]
[82,82,82,82,82,82,82,82,82,82,82,82,83,83,83,83,83,83,83,83,83,83,83,83,84,84,84,84,84,84,84,84,84,84,84,84,85,85,85,85,85,85,85,85,85,85,85,85,86,86,86,86,86,86,86,86,86,86,86,86,87,87,87,87,87,87,87,87,87,87,87,87,88,88,88,88,88,88,88,88,88,88,88,88,89,89,89,89,89,89,89,89,89,89,89,89,90,90,90,90,90,90,90,90,90,90,90,90,91,91,91,91,91,91,91,91,91,91,91,91,92,92,92,92,92,92,92,92,92,92,92,92,93,93,93,93,93,93,93,93,93,93,93,93,94,94,94,94,94,94,94,94,94,94,94,94,95,95,95,95,95,95,95,95,95,95,95,95,96,96,96,96,96,96,96,96,96,96,96,96,97,97,97,97,97,97,97,97,97,97,97,97,98,98,98,98,98,98,98,98,98,98,98,98,99,99,99,99,99,99,99,99,99,99,99,99,100,100,100,100,100,100,100,100,100,100,100,100,101,101,101,101,101,101,101,101,101,101,101,101,102,102,102,102,102,102,102,102,102,102,102,102,103,103,103,103,103,103,103,103,103,103,103,103,104,104,104,104,104,104,104,104,104,104,104,104,105,105,105,105,105,105,105,105,105,105,105,105,106,106,106,106,106,106,106,106,106,106,106,106,107,107,107,107,107,107,107,107,107,107,107,107]
[83,83,83,83,83,83,83,83,83,83,83,83,84,84,84,84,84,84,84,84,84,84,84,84,85,85,85,85,85,85,85,85,85,85,85,85,86,86,86,86,86,86,86,86,86,86,86,86,87,87,87,87,87,87,87,87,87,87,87,87,88,88,88,88,88,88,88,88,88,88,88,88,89,89,89,89,89,89,89,89,89,89,89,89,90,90,90,90,90,90,90,90,90,90,90,90,91,91,91,91,91,91,91,91,91,91,91,91,92,92,92,92,92,92,92,92,92,92,92,92,93,93,93,93,93,93,93,93,93,93,93,93,94,94,94,94,94,94,94,94,94,94,94,94,95,95,95,95,95,95,95,95,95,95,95,95,96,96,96,96,96,96,96,96,96,96,96,96,97,97,97,97,97,97,97,97,97,97,97,97,98,98,98,98,98,98,98,98,98,98,98,98,99,99,99,99,99,99,99,99,99,99,99,99,100,100,100,100,100,100,100,100,100,100,100,100,101,101,101,101,101,101,101,101,101,101,101,101,102,102,102,102,102,102,102,102,102,102,102,102,103,103,103,103,103,103,103,103,103,103,103,103,104,104,104,104,104,104,104,104,104,104,104,104,105,105,105,105,105,105,105,105,105,105,105,105,106,106,106,106,106,106,106,106,106,106,106,106,107,107,107,107,107,107,107,107,107,107,107,107,108,108,108,108,108,108,108,108,108,108,108,108]
[84,84,84,84,84,84,84,84,84,84,84,84,85,85,85,85,85,85,85,85,85,85,85,85,86,86,86,86,86,86,86,86,86,86,86,86,87,87,87,87,87,87,87,87,87,87,87,87,88,88,88,88,88,88,88,88,88,88,88,88,89,89,89,89,89,89,89,89,89,89,89,89,90,90,90,90,90,90,90,90,90,90,90,90,91,91,91,91,91,91,91,91,91,91,91,91,92,92,92,92,92,92,92,92,92,92,92,92,93,93,93,93,93,93,93,93,93,93,93,93,94,94,94,94,94,94,94,94,94,94,94,94,95,95,95,95,95,95,95,95,95,95,95,95,96,96,96,96,96,96,96,96,96,96,96,96,97,97,97,97,97,97,97,97,97,97,97,97,98,98,98,98,98,98,98,98,98,98,98,98,99,99,99,99,99,99,99,99,99,99,99,99,100,100,100,100,100,100,100,100,100,100,100,100,101,101,101,101,101,101,101,101,101,101,101,101,102,102,102,102,102,102,102,102,102,102,102,102,103,103,103,103,103,103,103,103,103,103,103,103,104,104,104,104,104,104,104,104,104,104,104,104,105,105,105,105,105,105,105,105,105,105,105,105,106,106,106,106,106,106,106,106,106,106,106,106,107,107,107,107,107,107,107,107,107,107,107,107,108,108,108,108,108,108,108,108,108,108,108,108,109,109,109,109,109,109,109,109,109,109,109,109]
[85,85,85,85,85,85,85,85,85,85,85,85,86,86,86,86,86,86,86,86,86,86,86,86,87,87,87,87,87,87,87,87,87,87,87,87,88,88,88,88,88,88,88,88,88,88,88,88,89,89,89,89,89,89,89,89,89,89,89,89,90,90,90,90,90,90,90,90,90,90,90,90,91,91,91,91,91,91,91,91,91,91,91,91,92,92,92,92,92,92,92,92,92,92,92,92,93,93,93,93,93,93,93,93,93,93,93,93,94,94,94,94,94,94,94,94,94,94,94,94,95,95,95,95,95,95,95,95,95,95,95,95,96,96,96,96,96,96,96,96,96,96,96,96,97,97,97,97,97,97,97,97,97,97,97,97,98,98,98,98,98,98,98,98,98,98,98,98,99,99,99,99,99,99,99,99,99,99,99,99,100,100,100,100,100,100,100,100,100,100,100,100,101,101,101,101,101,101,101,101,101,101,101,101,102,102,102,102,102,102,102,102,102,102,102,102,103,103,103,103,103,103,103,103,103,103,103,103,104,104,104,104,104,104,104,104,104,104,104,104,105,105,105,105,105,105,105,105,105,105,105,105,106,106,106,106,106,106,106,106,106,106,106,106,107,107,107,107,107,107,107,107,107,107,107,107,108,108,108,108,108,108,108,108,108,108,108,108,109,109,109,109,109,109,109,109,109,109,109,109,110,110,110,110,110,110,110,110,110,110,110,110]
[86,86,86,86,86,86,86,86,86,86,86,86,87,87,87,87,87,87,87,87,87,87,87,87,88,88,88,88,88,88,88,88,88,88,88,88,89,89,89,89,89,89,89,89,89,89,89,89,90,90,90,90,90,90,90,90,90,90,90,90,91,91,91,91,91,91,91,91,91,91,91,91,92,92,92,92,92,92,92,92,92,92,92,92,93,93,93,93,93,93,93,93,93,93,93,93,94,94,94,94,94,94,94,94,94,94,94,94,95,95,95,95,95,95,95,95,95,95,95,95,96,96,96,96,96,96,96,96,96,96,96,96,97,97,97,97,97,97,97,97,97,97,97,97,98,98,98,98,98,98,98,98,98,98,98,98,99,99,99,99,99,99,99,99,99,99,99,99,100,100,100,100,100,0,100,100,100,100,100,100,101,101,101,101,101,101,101,101,101,101,101,101,102,102,102,102,102,102,102,102,102,102,102,102,103,103,103,103,103,103,103,103,103,103,103,103,104,104,104,104,104,104,104,104,104,104,104,104,105,105,105,105,105,105,105,105,105,105,105,105,106,106,106,106,106,106,106,106,106,106,106,106,107,107,107,107,107,107,107,107,107,107,107,107,108,108,108,108,108,108,108,108,108,108,108,108,109,109,109,109,109,109,109,109,109,109,109,109,110,110,110,110,110,110,110,110,110,110,110,110,111,111,111,111,111,111,111,111,111,111,111,111]
[87,87,87,87,87,87,87,87,87,87,87,87,88,88,88,88,88,88,88,88,88,88,88,88,89,89,89,89,89,89,89,89,89,89,89,89,90,90,90,90,90,90,90,90,90,90,90,90,91,91,91,91,91,91,91,91,91,91,91,91,92,92,92,92,92,92,92,92,92,92,92,92,93,93,93,93,93,93,93,93,93,93,93,93,94,94,94,94,94,94,94,94,94,94,94,94,95,95,95,95,95,95,95,95,95,95,95,95,96,96,96,96,96,96,96,96,96,96,96,96,97,97,97,97,97,97,97,97,97,97,97,97,98,98,98,98,98,98,98,98,98,98,98,98,99,99,99,99,99,99,99,99,99,99,99,99,100,100,100,100,100,100,100,100,100,100,100,100,101,101,101,101,101,0,101,101,101,101,101,101,102,102,102,102,102,102,102,102,102,102,102,102,103,103,103,103,103,103,103,103,103,103,103,103,104,104,104,104,104,104,104,104,104,104,104,104,105,105,105,105,105,105,105,105,105,105,105,105,106,106,106,106,106,106,106,106,106,106,106,106,107,107,107,107,107,107,107,107,107,107,107,107,108,108,108,108,108,108,108,108,108,108,108,108,109,109,109,109,109,109,109,109,109,109,109,109,110,110,110,110,110,110,110,110,110,110,110,110,111,111,111,111,111,111,111,111,111,111,111,111,112,112,112,112,112,112,112,112,112,112,112,112]
[88,88,88,88,88,88,88,88,88,88,88,88,89,89,89,89,89,89,89,89,89,89,89,89,90,90,90,90,90,90,90,90,90,90,90,90,91,91,91,91,91,91,91,91,91,91,91,91,92,92,92,92,92,92,92,92,92,92,92,92,93,93,93,93,93,93,93,93,93,93,93,93,94,94,94,94,94,94,94,94,94,94,94,94,95,95,95,95,95,95,95,95,95,95,95,95,96,96,96,96,96,96,96,96,96,96,96,96,97,97,97,97,97,97,97,97,97,97,97,97,98,98,98,98,98,98,98,98,98,98,98,98,99,99,99,99,99,99,99,99,99,99,99,99,100,100,100,100,100,100,100,100,100,100,100,100,101,101,101,101,101,101,101,101,101,101,101,101,102,102,102,102,102,0,102,102,102,102,102,102,103,103,103,103,103,103,103,103,103,103,103,103,104,104,104,104,104,104,104,104,104,104,104,104,105,105,105,105,105,105,105,105,105,105,105,105,106,106,106,106,106,106,106,106,106,106,106,106,107,107,107,107,107,107,107,107,107,107,107,107,108,108,108,108,108,108,108,108,108,108,108,108,109,109,109,109,109,109,109,109,109,109,109,109,110,110,110,110,110,110,110,110,110,110,110,110,111,111,111,111,111,111,111,111,111,111,111,111,112,112,112,112,112,112,112,112,112,112,112,112,113,113,113,113,113,113,113,113,113,113,113,113]
[89,89,89,89,89,89,89,89,89,89,89,89,90,90,90,90,90,90,90,90,90,90,90,90,91,91,91,91,91,91,91,91,91,91,91,91,92,92,92,92,92,92,92,92,92,92,92,92,93,93,93,93,93,93,93,93,93,93,93,93,94,94,94,94,94,94,94,94,94,94,94,94,95,95,95,95,95,95,95,95,95,95,95,95,96,96,96,96,96,96,96,96,96,96,96,96,97,97,97,97,97,97,97,97,97,97,97,97,98,98,98,98,98,98,98,98,98,98,98,98,99,99,99,99,99,99,99,99,99,99,99,99,100,100,100,100,100,100,100,100,100,100,100,100,101,101,101,101,101,101,101,101,101,101,101,101,102,102,102,102,102,102,102,102,102,102,102,102,103,103,103,103,103,0,103,103,103,103,103,103,104,104,104,104,104,104,104,104,104,104,104,104,105,105,105,105,105,105,105,105,105,105,105,105,106,106,106,106,106,106,106,106,106,106,106,106,107,107,107,107,107,107,107,107,107,107,107,107,108,108,108,108,108,108,108,108,108,108,108,108,109,109,109,109,109,109,109,109,109,109,109,109,110,110,110,110,110,110,110,110,110,110,110,110,111,111,111,111,111,111,111,111,111,111,111,111,112,112,112,112,112,112,112,112,112,112,112,112,113,113,113,113,113,113,113,113,113,113,113,113,114,114,114,114,114,114,114,114,114,114,114,114]
[90,90,90,90,90,90,90,90,90,90,90,90,91,91,91,91,91,91,91,91,91,91,91,91,92,92,92,92,92,92,92,92,92,92,92,92,93,93,93,93,93,93,93,93,93,93,93,93,94,94,94,94,94,94,94,94,94,94,94,94,95,95,95,95,95,95,95,95,95,95,95,95,96,96,96,96,96,96,96,96,96,96,96,96,97,97,97,97,97,97,97,97,97,97,97,97,98,98,98,98,98,98,98,98,98,98,98,98,99,99,99,99,99,99,99,99,99,99,99,99,100,100,100,100,100,100,100,100,100,100,100,100,101,101,101,101,101,101,101,101,101,101,101,101,102,102,102,102,102,102,102,102,102,102,102,102,103,103,103,103,103,103,103,103,103,103,103,103,104,104,104,104,104,0,104,104,104,104,104,104,105,105,105,105,105,105,105,105,105,105,105,105,106,106,106,106,106,106,106,106,106,106,106,106,107,107,107,107,107,107,107,107,107,107,107,107,108,108,108,108,108,108,108,108,108,108,108,108,109,109,109,109,109,109,109,109,109,109,109,109,110,110,110,110,110,110,110,110,110,110,110,110,111,111,111,111,111,111,111,111,111,111,111,111,112,112,112,112,112,112,112,112,112,112,112,112,113,113,113,113,113,113,113,113,113,113,113,113,114,114,114,114,114,114,114,114,114,114,114,114,115,115,115,115,115,115,115,115,115,115,115,115]
[91,91,91,91,91,91,91,91,91,91,91,91,92,92,92,92,92,92,92,92,92,92,92,92,93,93,93,93,93,93,93,93,93,93,93,93,94,94,94,94,94,94,94,94,94,94,94,94,95,95,95,95,95,95,95,95,95,95,95,95,96,96,96,96,96,96,96,96,96,96,96,96,97,97,97,97,97,97,97,97,97,97,97,97,98,98,98,98,98,98,98,98,98,98,98,98,99,99,99,99,99,99,99,99,99,99,99,99,100,100,100,100,100,100,100,100,100,100,100,100,101,101,101,101,101,101,101,101,101,101,101,101,102,102,102,102,102,102,102,102,102,102,102,102,103,103,103,103,103,103,103,103,103,103,103,103,104,104,104,104,104,104,104,104,104,104,104,104,105,105,105,105,105,0,105,105,105,105,105,105,106,106,106,106,106,106,106,106,106,106,106,106,107,107,107,107,107,107,107,107,107,107,107,107,108,108,108,108,108,108,108,108,108,108,108,108,109,109,109,109,109,109,109,109,109,109,109,109,110,110,110,110,110,110,110,110,110,110,110,110,111,111,111,111,111,111,111,111,111,111,111,111,112,112,112,112,112,112,112,112,112,112,112,112,113,113,113,113,113,113,113,113,113,113,113,113,114,114,114,114,114,114,114,114,114,114,114,114,115,115,115,115,115,115,115,115,115,115,115,115,116,116,116,116,116,116,116,116,116,116,116,116]
[92,92,92,92,92,92,92,92,92,92,92,92,93,93,93,93,93,93,93,93,93,93,93,93,94,94,94,94,94,94,94,94,94,94,94,94,95,95,95,95,95,95,95,95,95,95,95,95,96,96,96,96,96,96,96,96,96,96,96,96,97,97,97,97,97,97,97,97,97,97,97,97,98,98,98,98,98,98,98,98,98,98,98,98,99,99,99,99,99,99,99,99,99,99,99,99,100,100,100,100,100,100,100,100,100,100,100,100,101,101,101,101,101,101,101,101,101,101,101,101,102,102,102,102,102,102,102,102,102,102,102,102,103,103,103,103,103,103,103,103,103,103,103,103,104,104,104,104,104,104,104,104,104,104,104,104,105,105,105,105,105,105,105,105,105,105,105,105,106,106,106,106,106,0,106,106,106,106,106,106,107,107,107,107,107,107,107,107,107,107,107,107,108,108,108,108,108,108,108,108,108,108,108,108,109,109,109,109,109,109,109,109,109,109,109,109,110,110,110,110,110,110,110,110,110,110,110,110,111,111,111,111,111,111,111,111,111,111,111,111,112,112,112,112,112,112,112,112,112,112,112,112,113,113,113,113,113,113,113,113,113,113,113,113,114,114,114,114,114,114,114,114,114,114,114,114,115,115,115,115,115,115,115,115,115,115,115,115,116,116,116,116,116,116,116,116,116,116,116,116,117,117,117,117,117,117,117,117,117,117,117,117]
[93,93,93,93,93,93,93,93,93,93,93,93,94,94,94,94,94,94,94,94,94,94,94,94,95,95,95,95,95,95,95,95,95,95,95,95,96,96,96,96,96,96,96,96,96,96,96,96,97,97,97,97,97,97,97,97,97,97,97,97,98,98,98,98,98,98,98,98,98,98,98,98,99,99,99,99,99,99,99,99,99,99,99,99,100,100,100,100,100,100,100,100,100,100,100,100,101,101,101,101,101,101,101,101,101,101,101,101,102,102,102,102,102,102,102,102,102,102,102,102,103,103,103,103,103,103,103,103,103,103,103,103,104,104,104,104,104,104,104,104,104,104,104,104,105,105,105,105,105,105,105,105,105,105,105,105,106,106,106,106,106,106,106,106,106,106,106,106,107,107,107,107,107,0,107,107,107,107,107,107,108,108,108,108,108,108,108,108,108,108,108,108,109,109,109,109,109,109,109,109,109,109,109,109,110,110,110,110,110,110,110,110,110,110,110,110,111,111,111,111,111,111,111,111,111,111,111,111,112,112,112,112,112,112,112,112,112,112,112,112,113,113,113,113,113,113,113,113,113,113,113,113,114,114,114,114,114,114,114,114,114,114,114,114,115,115,115,115,115,115,115,115,115,115,115,115,116,116,116,116,116,116,116,116,116,116,116,116,117,117,117,117,117,117,117,117,117,117,117,117,118,118,118,118,118,118,118,118,118,118,118,118]
[94,94,94,94,94,94,94,94,94,94,94,94,95,95,95,95,95,95,95,95,95,95,95,95,96,96,96,96,96,96,96,96,96,96,96,96,97,97,97,97,97,97,97,97,97,97,97,97,98,98,98,98,98,98,98,98,98,98,98,98,99,99,99,99,99,99,99,99,99,99,99,99,100,100,100,100,100,100,100,100,100,100,100,100,101,101,101,101,101,101,101,101,101,101,101,101,102,102,102,102,102,102,102,102,102,102,102,102,103,103,103,103,103,103,103,103,103,103,103,103,104,104,104,104,104,104,104,104,104,104,104,104,105,105,105,105,105,105,105,105,105,105,105,105,106,106,106,106,106,106,106,106,106,106,106,106,107,107,107,107,107,107,107,107,107,107,107,107,108,108,108,108,108,0,108,108,108,108,108,108,109,109,109,109,109,109,109,109,109,109,109,109,110,110,110,110,110,110,110,110,110,110,110,110,111,111,111,111,111,111,111,111,111,111,111,111,112,112,112,112,112,112,112,112,112,112,112,112,113,113,113,113,113,113,113,113,113,113,113,113,114,114,114,114,114,114,114,114,114,114,114,114,115,115,115,115,115,115,115,115,115,115,115,115,116,116,116,116,116,116,116,116,116,116,116,116,117,117,117,117,117,117,117,117,117,117,117,117,118,118,118,118,118,118,118,118,118,118,118,118,119,119,119,119,119,119,119,119,119,119,119,119]
[0,0,95,95,95,95,95,95,95,95,95,95,96,96,96,96,96,96,96,96,96,96,96,96,97,97,97,97,97,97,97,97,97,97,97,97,98,98,98,98,98,98,98,98,98,98,98,98,99,99,99,99,99,99,99,99,99,99,99,99,100,100,100,100,100,100,100,100,100,100,100,100,101,101,101,101,101,101,101,101,101,101,101,101,102,102,102,102,102,102,102,102,102,102,102,102,103,103,103,103,103,103,103,103,103,103,103,103,104,104,104,104,104,104,104,104,104,104,104,104,105,105,105,105,105,105,105,105,105,105,105,105,106,106,106,106,106,106,106,106,106,106,106,106,107,107,107,107,107,107,107,107,107,107,107,107,108,108,108,108,108,108,108,108,108,108,108,108,109,109,109,109,109,0,109,109,109,109,109,109,110,110,110,110,110,110,110,110,110,110,110,110,111,111,111,111,111,111,111,111,111,111,111,111,112,112,112,112,112,112,112,112,112,112,112,112,113,113,113,113,113,113,113,113,113,113,113,113,114,114,114,114,114,114,114,114,114,114,114,114,115,115,115,115,115,115,115,115,115,115,115,115,116,116,116,116,116,116,116,116,116,116,116,116,117,117,117,117,117,117,117,117,117,117,117,117,118,118,118,118,118,118,118,118,118,118,118,118,119,119,119,119,119,119,119,119,119,119,119,119,120,120,120,120,120,120,120,120,120,120,120,120]
[0,0,96,96,96,96,96,96,96,96,96,96,97,97,97,97,97,97,97,97,97,97,97,97,98,98,98,98,98,98,98,98,98,98,98,98,99,99,99,99,99,99,99,99,99,99,99,99,100,100,100,100,100,100,100,100,100,100,100,100,101,101,101,101,101,101,101,101,101,101,101,101,102,102,102,102,102,102,102,102,102,102,102,102,103,103,103,103,103,103,103,103,103,103,103,103,104,104,104,104,104,104,104,104,104,104,104,104,105,105,105,105,105,105,105,105,105,105,105,105,106,106,106,106,106,106,106,106,106,106,106,106,107,107,107,107,107,107,107,107,107,107,107,107,108,108,108,108,108,108,108,108,108,108,108,108,109,109,109,109,109,109,109,109,109,109,109,109,110,110,110,110,110,0,110,110,110,110,110,110,111,111,111,111,111,111,111,111,111,111,111,111,112,112,112,112,112,112,112,112,112,112,112,112,113,113,113,113,113,113,113,113,113,113,113,113,114,114,114,114,114,114,114,114,114,114,114,114,115,115,115,115,115,115,115,115,115,115,115,115,116,116,116,116,116,116,116,116,116,116,116,116,117,117,117,117,117,117,117,117,117,117,117,117,118,118,118,118,118,118,118,118,118,118,118,118,119,119,119,119,119,119,119,119,119,119,119,119,120,120,120,120,120,120,120,120,120,120,120,120,121,121,121,121,121,121,121,121,121,121,121,121]
[0,0,97,97,97,97,97,97,97,97,97,97,98,98,98,98,98,98,98,98,98,98,98,98,99,99,99,99,99,99,99,99,99,99,99,99,100,100,100,100,100,100,100,100,100,100,100,100,101,101,101,101,101,101,101,101,101,101,101,101,102,102,102,102,102,102,102,102,102,102,102,102,103,103,103,103,103,103,103,103,103,103,103,103,104,104,104,104,104,104,104,104,104,104,104,104,105,105,105,105,105,105,105,105,105,105,105,105,106,106,106,106,106,106,106,106,106,106,106,106,107,107,107,107,107,107,107,107,107,107,107,107,108,108,108,108,108,108,108,108,108,108,108,108,109,109,109,109,109,109,109,109,109,109,109,109,110,110,110,110,110,110,110,110,110,110,110,110,111,111,111,111,111,0,111,111,111,111,111,111,112,112,112,112,112,112,112,112,112,112,112,112,113,113,113,113,113,113,113,113,113,113,113,113,114,114,114,114,114,114,114,114,114,114,114,114,115,115,115,115,115,115,115,115,115,115,115,115,116,116,116,116,116,116,116,116,116,116,116,116,117,117,117,117,117,117,117,117,117,117,117,117,118,118,118,118,118,118,118,118,118,118,118,118,119,119,119,119,119,119,119,119,119,119,119,119,120,120,120,120,120,120,120,120,120,120,120,120,121,121,121,121,121,121,121,121,121,121,121,121,122,122,122,122,122,122,122,122,122,122,122,122]
[0,0,98,98,98,98,98,98,98,98,98,98,99,99,99,99,99,99,99,99,99,99,99,99,100,100,100,100,100,100,100,100,100,100,100,100,101,101,101,101,101,101,101,101,101,101,101,101,102,102,102,102,102,102,102,102,102,102,102,102,103,103,103,103,103,103,103,103,103,103,103,103,104,104,104,104,104,104,104,104,104,104,104,104,105,105,105,105,105,105,105,105,105,105,105,105,106,106,106,106,106,106,106,106,106,106,106,106,107,107,107,107,107,107,107,107,107,107,107,107,108,108,108,108,108,108,108,108,108,108,108,108,109,109,109,109,109,109,109,109,109,109,109,109,110,110,110,110,110,110,110,110,110,110,110,110,111,111,111,111,111,111,111,111,111,111,111,111,112,112,112,112,112,0,112,112,112,112,112,112,113,113,113,113,113,113,113,113,113,113,113,113,114,114,114,114,114,114,114,114,114,114,114,114,115,115,115,115,115,115,115,115,115,115,115,115,116,116,116,116,116,116,116,116,116,116,116,116,117,117,117,117,117,117,117,117,117,117,117,117,118,118,118,118,118,118,118,118,118,118,118,118,119,119,119,119,119,119,119,119,119,119,119,119,120,120,120,120,120,120,120,120,120,120,120,120,121,121,121,121,121,121,121,121,121,121,121,121,122,122,122,122,122,122,122,122,122,122,122,122,123,123,123,123,123,123,123,123,123,123,123,123]
[0,0,99,99,99,99,99,99,99,99,99,99,100,100,100,100,100,100,100,100,100,100,100,100,101,101,101,101,101,101,101,101,101,101,101,101,102,102,102,102,102,102,102,102,102,102,102,102,103,103,103,103,103,103,103,103,103,103,103,103,104,104,104,104,104,104,104,104,104,104,104,104,105,105,105,105,105,105,105,105,105,105,105,105,106,106,106,106,106,106,106,106,106,106,106,106,107,107,107,107,107,107,107,107,107,107,107,107,108,108,108,108,108,108,108,108,108,108,108,108,109,109,109,109,109,109,109,109,109,109,109,109,110,110,110,110,110,110,110,110,110,110,110,110,111,111,111,111,111,111,111,111,111,111,111,111,112,112,112,112,112,112,112,112,112,112,112,112,113,113,113,113,113,0,113,113,113,113,113,113,114,114,114,114,114,114,114,114,114,114,114,114,115,115,115,115,115,115,115,115,115,115,115,115,116,116,116,116,116,116,116,116,116,116,116,116,117,117,117,117,117,117,117,117,117,117,117,117,118,118,118,118,118,118,118,118,118,118,118,118,119,119,119,119,119,119,119,119,119,119,119,119,120,120,120,120,120,120,120,120,120,120,120,120,121,121,121,121,121,121,121,121,121,121,121,121,122,122,122,122,122,122,122,122,122,122,122,122,123,123,123,123,123,123,123,123,123,123,123,123,124,124,124,124,124,124,124,124,124,124,124,124]
[0,0,0,0,0,0,0,0,0,0,0,0,0,0,0,0,0,0,0,0,0,0,0,0,0,0,0,0,0,0,0,0,0,0,0,0,0,0,0,0,0,0,0,0,0,0,0,0,0,0,0,0,0,0,0,0,0,0,0,0,0,0,0,0,0,0,0,0,0,0,0,0,0,0,0,0,0,0,0,0,0,0,0,0,0,0,0,0,0,0,0,0,0,0,0,0,0,0,0,0,0,0,0,0,0,0,0,0,0,0,0,0,0,0,0,0,0,0,0,0,0,0,0,0,0,0,0,0,0,0,0,0,0,0,0,0,0,0,0,0,0,0,0,0,0,0,0,0,0,0,0,0,0,0,0,0,0,0,0,0,0,0,0,0,0,0,0,0,0,0,0,0,0,0,0,0,0,0,0,0,0,0,0,0,0,0,0,0,0,0,0,0,0,0,0,0,0,0,0,0,0,0,0,0,0,0,0,0,0,0,0,0,0,0,0,0,0,0,0,0,0,0,0,0,0,0,0,0,0,0,0,0,0,0,0,0,0,0,0,0,0,0,0,0,0,0,0,0,0,0,0,0,0,0,0,0,0,0,0,0,0,0,0,0,0,0,0,0,0,0,0,0,0,0,0,0,0,0,0,0,0,0,0,0,0,0,0,0,0,0,0,0,0,0,0,0,0,0,0,0,0,0,0,0,0,0,0,0,0,0,0,0]
[0,0,0,0,0,0,0,0,0,0,0,0,0,0,0,0,0,0,0,0,0,0,0,0,0,0,0,0,0,0,0,0,0,0,0,0,0,0,0,0,0,0,0,0,0,0,0,0,0,0,0,0,0,0,0,0,0,0,0,0,0,0,0,0,0,0,0,0,0,0,0,0,0,0,0,0,0,0,0,0,0,0,0,0,0,0,0,0,0,0,0,0,0,0,0,0,0,0,0,0,0,0,0,0,0,0,0,0,0,0,0,0,0,0,0,0,0,0,0,0,0,0,0,0,0,0,0,0,0,0,0,0,0,0,0,0,0,0,0,0,0,0,0,0,0,0,0,0,0,0,0,0,0,0,0,0,0,0,0,0,0,0,0,0,0,0,0,0,0,0,0,0,0,0,0,0,0,0,0,0,0,0,0,0,0,0,0,0,0,0,0,0,0,0,0,0,0,0,0,0,0,0,0,0,0,0,0,0,0,0,0,0,0,0,0,0,0,0,0,0,0,0,0,0,0,0,0,0,0,0,0,0,0,0,0,0,0,0,0,0,0,0,0,0,0,0,0,0,0,0,0,0,0,0,0,0,0,0,0,0,0,0,0,0,0,0,0,0,0,0,0,0,0,0,0,0,0,0,0,0,0,0,0,0,0,0,0,0,0,0,0,0,0,0,0,0,0,0,0,0,0,0,0,0,0,0,0,0,0,0,0,0]
[0,0,0,0,0,0,0,0,0,0,0,0,0,0,0,0,0,0,0,0,0,0,0,0,0,0,0,0,0,0,0,0,0,0,0,0,0,0,0,0,0,0,0,0,0,0,0,0,0,0,0,0,0,0,0,0,0,0,0,0,0,0,0,0,0,0,0,0,0,0,0,0,0,0,0,0,0,0,0,0,0,0,0,0,0,0,0,0,0,0,0,0,0,0,0,0,0,0,0,0,0,0,0,0,0,0,0,0,0,0,0,0,0,0,0,0,0,0,0,0,0,0,0,0,0,0,0,0,0,0,0,0,0,0,0,0,0,0,0,0,0,0,0,0,0,0,0,0,0,0,0,0,0,0,0,0,0,0,0,0,0,0,0,0,0,0,0,0,0,0,0,0,0,0,0,0,0,0,0,0,0,0,0,0,0,0,0,0,0,0,0,0,0,0,0,0,0,0,0,0,0,0,0,0,0,0,0,0,0,0,0,0,0,0,0,0,0,0,0,0,0,0,0,0,0,0,0,0,0,0,0,0,0,0,0,0,0,0,0,0,0,0,0,0,0,0,0,0,0,0,0,0,0,0,0,0,0,0,0,0,0,0,0,0,0,0,0,0,0,0,0,0,0,0,0,0,0,0,0,0,0,0,0,0,0,0,0,0,0,0,0,0,0,0,0,0,0,0,0,0,0,0,0,0,0,0,0,0,0,0,0,0]
[0,0,0,0,0,0,0,0,0,0,0,0,0,0,0,0,0,0,0,0,0,0,0,0,0,0,0,0,0,0,0,0,0,0,0,0,0,0,0,0,0,0,0,0,0,0,0,0,0,0,0,0,0,0,0,0,0,0,0,0,0,0,0,0,0,0,0,0,0,0,0,0,0,0,0,0,0,0,0,0,0,0,0,0,0,0,0,0,0,0,0,0,0,0,0,0,0,0,0,0,0,0,0,0,0,0,0,0,0,0,0,0,0,0,0,0,0,0,0,0,0,0,0,0,0,0,0,0,0,0,0,0,0,0,0,0,0,0,0,0,0,0,0,0,0,0,0,0,0,0,0,0,0,0,0,0,0,0,0,0,0,0,0,0,0,0,0,0,0,0,0,0,0,0,0,0,0,0,0,0,0,0,0,0,0,0,0,0,0,0,0,0,0,0,0,0,0,0,0,0,0,0,0,0,0,0,0,0,0,0,0,0,0,0,0,0,0,0,0,0,0,0,0,0,0,0,0,0,0,0,0,0,0,0,0,0,0,0,0,0,0,0,0,0,0,0,0,0,0,0,0,0,0,0,0,0,0,0,0,0,0,0,0,0,0,0,0,0,0,0,0,0,0,0,0,0,0,0,0,0,0,0,0,0,0,0,0,0,0,0,0,0,0,0,0,0,0,0,0,0,0,0,0,0,0,0,0,0,0,0,0,0]
[0,0,0,0,0,0,0,0,0,0,0,0,0,0,0,0,0,0,0,0,0,0,0,0,0,0,0,0,0,0,0,0,0,0,0,0,0,0,0,0,0,0,0,0,0,0,0,0,0,0,0,0,0,0,0,0,0,0,0,0,0,0,0,0,0,0,0,0,0,0,0,0,0,0,0,0,0,0,0,0,0,0,0,0,0,0,0,0,0,0,0,0,0,0,0,0,0,0,0,0,0,0,0,0,0,0,0,0,0,0,0,0,0,0,0,0,0,0,0,0,0,0,0,0,0,0,0,0,0,0,0,0,0,0,0,0,0,0,0,0,0,0,0,0,0,0,0,0,0,0,0,0,0,0,0,0,0,0,0,0,0,0,0,0,0,0,0,0,0,0,0,0,0,0,0,0,0,0,0,0,0,0,0,0,0,0,0,0,0,0,0,0,0,0,0,0,0,0,0,0,0,0,0,0,0,0,0,0,0,0,0,0,0,0,0,0,0,0,0,0,0,0,0,0,0,0,0,0,0,0,0,0,0,0,0,0,0,0,0,0,0,0,0,0,0,0,0,0,0,0,0,0,0,0,0,0,0,0,0,0,0,0,0,0,0,0,0,0,0,0,0,0,0,0,0,0,0,0,0,0,0,0,0,0,0,0,0,0,0,0,0,0,0,0,0,0,0,0,0,0,0,0,0,0,0,0,0,0,0,0,0,0]
[0,0,0,0,0,0,0,0,0,0,0,0,0,0,0,0,0,0,0,0,0,0,0,0,0,0,0,0,0,0,0,0,0,0,0,0,0,0,0,0,0,0,0,0,0,0,0,0,0,0,0,0,0,0,0,0,0,0,0,0,0,0,0,0,0,0,0,0,0,0,0,0,0,0,0,0,0,0,0,0,0,0,0,0,0,0,0,0,0,0,0,0,0,0,0,0,0,0,0,0,0,0,0,0,0,0,0,0,0,0,0,0,0,0,0,0,0,0,0,0,0,0,0,0,0,0,0,0,0,0,0,0,0,0,0,0,0,0,0,0,0,0,0,0,0,0,0,0,0,0,0,0,0,0,0,0,0,0,0,0,0,0,0,0,0,0,0,0,0,0,0,0,0,0,0,0,0,0,0,0,0,0,0,0,0,0,0,0,0,0,0,0,0,0,0,0,0,0,0,0,0,0,0,0,0,0,0,0,0,0,0,0,0,0,0,0,0,0,0,0,0,0,0,0,0,0,0,0,0,0,0,0,0,0,0,0,0,0,0,0,0,0,0,0,0,0,0,0,0,0,0,0,0,0,0,0,0,0,0,0,0,0,0,0,0,0,0,0,0,0,0,0,0,0,0,0,0,0,0,0,0,0,0,0,0,0,0,0,0,0,0,0,0,0,0,0,0,0,0,0,0,0,0,0,0,0,0,0,0,0,0,0]
[0,0,0,0,0,0,0,0,0,0,0,0,0,0,0,0,0,0,0,0,0,0,0,0,0,0,0,0,0,0,0,0,0,0,0,0,0,0,0,0,0,0,0,0,0,0,0,0,0,0,0,0,0,0,0,0,0,0,0,0,0,0,0,0,0,0,0,0,0,0,0,0,0,0,0,0,0,0,0,0,0,0,0,0,0,0,0,0,0,0,0,0,0,0,0,0,0,0,0,0,0,0,0,0,0,0,0,0,0,0,0,0,0,0,0,0,0,0,0,0,0,0,0,0,0,0,0,0,0,0,0,0,0,0,0,0,0,0,0,0,0,0,0,0,0,0,0,0,0,0,0,0,0,0,0,0,0,0,0,0,0,0,0,0,0,0,0,0,0,0,0,0,0,0,0,0,0,0,0,0,0,0,0,0,0,0,0,0,0,0,0,0,0,0,0,0,0,0,0,0,0,0,0,0,0,0,0,0,0,0,0,0,0,0,0,0,0,0,0,0,0,0,0,0,0,0,0,0,0,0,0,0,0,0,0,0,0,0,0,0,0,0,0,0,0,0,0,0,0,0,0,0,0,0,0,0,0,0,0,0,0,0,0,0,0,0,0,0,0,0,0,0,0,0,0,0,0,0,0,0,0,0,0,0,0,0,0,0,0,0,0,0,0,0,0,0,0,0,0,0,0,0,0,0,0,0,0,0,0,0,0,0]
[0,0,0,0,0,0,0,0,0,0,0,0,0,0,0,0,0,0,0,0,0,0,0,0,0,0,0,0,0,0,0,0,0,0,0,0,0,0,0,0,0,0,0,0,0,0,0,0,0,0,0,0,0,0,0,0,0,0,0,0,0,0,0,0,0,0,0,0,0,0,0,0,0,0,0,0,0,0,0,0,0,0,0,0,0,0,0,0,0,0,0,0,0,0,0,0,0,0,0,0,0,0,0,0,0,0,0,0,0,0,0,0,0,0,0,0,0,0,0,0,0,0,0,0,0,0,0,0,0,0,0,0,0,0,0,0,0,0,0,0,0,0,0,0,0,0,0,0,0,0,0,0,0,0,0,0,0,0,0,0,0,0,0,0,0,0,0,0,0,0,0,0,0,0,0,0,0,0,0,0,0,0,0,0,0,0,0,0,0,0,0,0,0,0,0,0,0,0,0,0,0,0,0,0,0,0,0,0,0,0,0,0,0,0,0,0,0,0,0,0,0,0,0,0,0,0,0,0,0,0,0,0,0,0,0,0,0,0,0,0,0,0,0,0,0,0,0,0,0,0,0,0,0,0,0,0,0,0,0,0,0,0,0,0,0,0,0,0,0,0,0,0,0,0,0,0,0,0,0,0,0,0,0,0,0,0,0,0,0,0,0,0,0,0,0,0,0,0,0,0,0,0,0,0,0,0,0,0,0,0,0,0]
[0,0,0,0,0,0,0,0,0,0,0,0,0,0,0,0,0,0,0,0,0,0,0,0,0,0,0,0,0,0,0,0,0,0,0,0,0,0,0,0,0,0,0,0,0,0,0,0,0,0,0,0,0,0,0,0,0,0,0,0,0,0,0,0,0,0,0,0,0,0,0,0,0,0,0,0,0,0,0,0,0,0,0,0,0,0,0,0,0,0,0,0,0,0,0,0,0,0,0,0,0,0,0,0,0,0,0,0,0,0,0,0,0,0,0,0,0,0,0,0,0,0,0,0,0,0,0,0,0,0,0,0,0,0,0,0,0,0,0,0,0,0,0,0,0,0,0,0,0,0,0,0,0,0,0,0,0,0,0,0,0,0,0,0,0,0,0,0,0,0,0,0,0,0,0,0,0,0,0,0,0,0,0,0,0,0,0,0,0,0,0,0,0,0,0,0,0,0,0,0,0,0,0,0,0,0,0,0,0,0,0,0,0,0,0,0,0,0,0,0,0,0,0,0,0,0,0,0,0,0,0,0,0,0,0,0,0,0,0,0,0,0,0,0,0,0,0,0,0,0,0,0,0,0,0,0,0,0,0,0,0,0,0,0,0,0,0,0,0,0,0,0,0,0,0,0,0,0,0,0,0,0,0,0,0,0,0,0,0,0,0,0,0,0,0,0,0,0,0,0,0,0,0,0,0,0,0,0,0,0,0,0]
[0,0,0,0,0,0,0,0,0,0,0,0,0,0,0,0,0,0,0,0,0,0,0,0,0,0,0,0,0,0,0,0,0,0,0,0,0,0,0,0,0,0,0,0,0,0,0,0,0,0,0,0,0,0,0,0,0,0,0,0,0,0,0,0,0,0,0,0,0,0,0,0,0,0,0,0,0,0,0,0,0,0,0,0,0,0,0,0,0,0,0,0,0,0,0,0,0,0,0,0,0,0,0,0,0,0,0,0,0,0,0,0,0,0,0,0,0,0,0,0,0,0,0,0,0,0,0,0,0,0,0,0,0,0,0,0,0,0,0,0,0,0,0,0,0,0,0,0,0,0,0,0,0,0,0,0,0,0,0,0,0,0,0,0,0,0,0,0,0,0,0,0,0,0,0,0,0,0,0,0,0,0,0,0,0,0,0,0,0,0,0,0,0,0,0,0,0,0,0,0,0,0,0,0,0,0,0,0,0,0,0,0,0,0,0,0,0,0,0,0,0,0,0,0,0,0,0,0,0,0,0,0,0,0,0,0,0,0,0,0,0,0,0,0,0,0,0,0,0,0,0,0,0,0,0,0,0,0,0,0,0,0,0,0,0,0,0,0,0,0,0,0,0,0,0,0,0,0,0,0,0,0,0,0,0,0,0,0,0,0,0,0,0,0,0,0,0,0,0,0,0,0,0,0,0,0,0,0,0,0,0,0]
[0,0,0,0,0,0,0,0,0,0,0,0,0,0,0,0,0,0,0,0,0,0,0,0,0,0,0,0,0,0,0,0,0,0,0,0,0,0,0,0,0,0,0,0,0,0,0,0,0,0,0,0,0,0,0,0,0,0,0,0,0,0,0,0,0,0,0,0,0,0,0,0,0,0,0,0,0,0,0,0,0,0,0,0,0,0,0,0,0,0,0,0,0,0,0,0,0,0,0,0,0,0,0,0,0,0,0,0,0,0,0,0,0,0,0,0,0,0,0,0,0,0,0,0,0,0,0,0,0,0,0,0,0,0,0,0,0,0,0,0,0,0,0,0,0,0,0,0,0,0,0,0,0,0,0,0,0,0,0,0,0,0,0,0,0,0,0,0,0,0,0,0,0,0,0,0,0,0,0,0,0,0,0,0,0,0,0,0,0,0,0,0,0,0,0,0,0,0,0,0,0,0,0,0,0,0,0,0,0,0,0,0,0,0,0,0,0,0,0,0,0,0,0,0,0,0,0,0,0,0,0,0,0,0,0,0,0,0,0,0,0,0,0,0,0,0,0,0,0,0,0,0,0,0,0,0,0,0,0,0,0,0,0,0,0,0,0,0,0,0,0,0,0,0,0,0,0,0,0,0,0,0,0,0,0,0,0,0,0,0,0,0,0,0,0,0,0,0,0,0,0,0,0,0,0,0,0,0,0,0,0,0]
[0,0,0,0,0,0,0,0,0,0,0,0,0,0,0,0,0,0,0,0,0,0,0,0,0,0,0,0,0,0,0,0,0,0,0,0,0,0,0,0,0,0,0,0,0,0,0,0,0,0,0,0,0,0,0,0,0,0,0,0,0,0,0,0,0,0,0,0,0,0,0,0,0,0,0,0,0,0,0,0,0,0,0,0,0,0,0,0,0,0,0,0,0,0,0,0,0,0,0,0,0,0,0,0,0,0,0,0,0,0,0,0,0,0,0,0,0,0,0,0,0,0,0,0,0,0,0,0,0,0,0,0,0,0,0,0,0,0,0,0,0,0,0,0,0,0,0,0,0,0,0,0,0,0,0,0,0,0,0,0,0,0,0,0,0,0,0,0,0,0,0,0,0,0,0,0,0,0,0,0,0,0,0,0,0,0,0,0,0,0,0,0,0,0,0,0,0,0,0,0,0,0,0,0,0,0,0,0,0,0,0,0,0,0,0,0,0,0,0,0,0,0,0,0,0,0,0,0,0,0,0,0,0,0,0,0,0,0,0,0,0,0,0,0,0,0,0,0,0,0,0,0,0,0,0,0,0,0,0,0,0,0,0,0,0,0,0,0,0,0,0,0,0,0,0,0,0,0,0,0,0,0,0,0,0,0,0,0,0,0,0,0,0,0,0,0,0,0,0,0,0,0,0,0,0,0,0,0,0,0,0,0]
[0,0,0,0,0,0,0,0,0,0,0,0,0,0,0,0,0,0,0,0,0,0,0,0,0,0,0,0,0,0,0,0,0,0,0,0,0,0,0,0,0,0,0,0,0,0,0,0,0,0,0,0,0,0,0,0,0,0,0,0,0,0,0,0,0,0,0,0,0,0,0,0,0,0,0,0,0,0,0,0,0,0,0,0,0,0,0,0,0,0,0,0,0,0,0,0,0,0,0,0,0,0,0,0,0,0,0,0,0,0,0,0,0,0,0,0,0,0,0,0,0,0,0,0,0,0,0,0,0,0,0,0,0,0,0,0,0,0,0,0,0,0,0,0,0,0,0,0,0,0,0,0,0,0,0,0,0,0,0,0,0,0,0,0,0,0,0,0,0,0,0,0,0,0,0,0,0,0,0,0,0,0,0,0,0,0,0,0,0,0,0,0,0,0,0,0,0,0,0,0,0,0,0,0,0,0,0,0,0,0,0,0,0,0,0,0,0,0,0,0,0,0,0,0,0,0,0,0,0,0,0,0,0,0,0,0,0,0,0,0,0,0,0,0,0,0,0,0,0,0,0,0,0,0,0,0,0,0,0,0,0,0,0,0,0,0,0,0,0,0,0,0,0,0,0,0,0,0,0,0,0,0,0,0,0,0,0,0,0,0,0,0,0,0,0,0,0,0,0,0,0,0,0,0,0,0,0,0,0,0,0,0]
[0,0,0,0,0,0,0,0,0,0,0,0,0,0,0,0,0,0,0,0,0,0,0,0,0,0,0,0,0,0,0,0,0,0,0,0,0,0,0,0,0,0,0,0,0,0,0,0,0,0,0,0,0,0,0,0,0,0,0,0,0,0,0,0,0,0,0,0,0,0,0,0,0,0,0,0,0,0,0,0,0,0,0,0,0,0,0,0,0,0,0,0,0,0,0,0,0,0,0,0,0,0,0,0,0,0,0,0,0,0,0,0,0,0,0,0,0,0,0,0,0,0,0,0,0,0,0,0,0,0,0,0,0,0,0,0,0,0,0,0,0,0,0,0,0,0,0,0,0,0,0,0,0,0,0,0,0,0,0,0,0,0,0,0,0,0,0,0,0,0,0,0,0,0,0,0,0,0,0,0,0,0,0,0,0,0,0,0,0,0,0,0,0,0,0,0,0,0,0,0,0,0,0,0,0,0,0,0,0,0,0,0,0,0,0,0,0,0,0,0,0,0,0,0,0,0,0,0,0,0,0,0,0,0,0,0,0,0,0,0,0,0,0,0,0,0,0,0,0,0,0,0,0,0,0,0,0,0,0,0,0,0,0,0,0,0,0,0,0,0,0,0,0,0,0,0,0,0,0,0,0,0,0,0,0,0,0,0,0,0,0,0,0,0,0,0,0,0,0,0,0,0,0,0,0,0,0,0,0,0,0,0]
[0,0,0,0,0,0,0,0,0,0,0,0,0,0,0,0,0,0,0,0,0,0,0,0,0,0,0,0,0,0,0,0,0,0,0,0,0,0,0,0,0,0,0,0,0,0,0,0,0,0,0,0,0,0,0,0,0,0,0,0,0,0,0,0,0,0,0,0,0,0,0,0,0,0,0,0,0,0,0,0,0,0,0,0,0,0,0,0,0,0,0,0,0,0,0,0,0,0,0,0,0,0,0,0,0,0,0,0,0,0,0,0,0,0,0,0,0,0,0,0,0,0,0,0,0,0,0,0,0,0,0,0,0,0,0,0,0,0,0,0,0,0,0,0,0,0,0,0,0,0,0,0,0,0,0,0,0,0,0,0,0,0,0,0,0,0,0,0,0,0,0,0,0,0,0,0,0,0,0,0,0,0,0,0,0,0,0,0,0,0,0,0,0,0,0,0,0,0,0,0,0,0,0,0,0,0,0,0,0,0,0,0,0,0,0,0,0,0,0,0,0,0,0,0,0,0,0,0,0,0,0,0,0,0,0,0,0,0,0,0,0,0,0,0,0,0,0,0,0,0,0,0,0,0,0,0,0,0,0,0,0,0,0,0,0,0,0,0,0,0,0,0,0,0,0,0,0,0,0,0,0,0,0,0,0,0,0,0,0,0,0,0,0,0,0,0,0,0,0,0,0,0,0,0,0,0,0,0,0,0,0,0]
[0,0,0,0,0,0,0,0,0,0,0,0,0,0,0,0,0,0,0,0,0,0,0,0,0,0,0,0,0,0,0,0,0,0,0,0,0,0,0,0,0,0,0,0,0,0,0,0,0,0,0,0,0,0,0,0,0,0,0,0,0,0,0,0,0,0,0,0,0,0,0,0,0,0,0,0,0,0,0,0,0,0,0,0,0,0,0,0,0,0,0,0,0,0,0,0,0,0,0,0,0,0,0,0,0,0,0,0,0,0,0,0,0,0,0,0,0,0,0,0,0,0,0,0,0,0,0,0,0,0,0,0,0,0,0,0,0,0,0,0,0,0,0,0,0,0,0,0,0,0,0,0,0,0,0,0,0,0,0,0,0,0,0,0,0,0,0,0,0,0,0,0,0,0,0,0,0,0,0,0,0,0,0,0,0,0,0,0,0,0,0,0,0,0,0,0,0,0,0,0,0,0,0,0,0,0,0,0,0,0,0,0,0,0,0,0,0,0,0,0,0,0,0,0,0,0,0,0,0,0,0,0,0,0,0,0,0,0,0,0,0,0,0,0,0,0,0,0,0,0,0,0,0,0,0,0,0,0,0,0,0,0,0,0,0,0,0,0,0,0,0,0,0,0,0,0,0,0,0,0,0,0,0,0,0,0,0,0,0,0,0,0,0,0,0,0,0,0,0,0,0,0,0,0,0,0,0,0,0,0,0,0]
[0,0,0,0,0,0,0,0,0,0,0,0,0,0,0,0,0,0,0,0,0,0,0,0,0,0,0,0,0,0,0,0,0,0,0,0,0,0,0,0,0,0,0,0,0,0,0,0,0,0,0,0,0,0,0,0,0,0,0,0,0,0,0,0,0,0,0,0,0,0,0,0,0,0,0,0,0,0,0,0,0,0,0,0,0,0,0,0,0,0,0,0,0,0,0,0,0,0,0,0,0,0,0,0,0,0,0,0,0,0,0,0,0,0,0,0,0,0,0,0,0,0,0,0,0,0,0,0,0,0,0,0,0,0,0,0,0,0,0,0,0,0,0,0,0,0,0,0,0,0,0,0,0,0,0,0,0,0,0,0,0,0,0,0,0,0,0,0,0,0,0,0,0,0,0,0,0,0,0,0,0,0,0,0,0,0,0,0,0,0,0,0,0,0,0,0,0,0,0,0,0,0,0,0,0,0,0,0,0,0,0,0,0,0,0,0,0,0,0,0,0,0,0,0,0,0,0,0,0,0,0,0,0,0,0,0,0,0,0,0,0,0,0,0,0,0,0,0,0,0,0,0,0,0,0,0,0,0,0,0,0,0,0,0,0,0,0,0,0,0,0,0,0,0,0,0,0,0,0,0,0,0,0,0,0,0,0,0,0,0,0,0,0,0,0,0,0,0,0,0,0,0,0,0,0,0,0,0,0,0,0,0]
[0,0,0,0,0,0,0,0,0,0,0,0,0,0,0,0,0,0,0,0,0,0,0,0,0,0,0,0,0,0,0,0,0,0,0,0,0,0,0,0,0,0,0,0,0,0,0,0,0,0,0,0,0,0,0,0,0,0,0,0,0,0,0,0,0,0,0,0,0,0,0,0,0,0,0,0,0,0,0,0,0,0,0,0,0,0,0,0,0,0,0,0,0,0,0,0,0,0,0,0,0,0,0,0,0,0,0,0,0,0,0,0,0,0,0,0,0,0,0,0,0,0,0,0,0,0,0,0,0,0,0,0,0,0,0,0,0,0,0,0,0,0,0,0,0,0,0,0,0,0,0,0,0,0,0,0,0,0,0,0,0,0,0,0,0,0,0,0,0,0,0,0,0,0,0,0,0,0,0,0,0,0,0,0,0,0,0,0,0,0,0,0,0,0,0,0,0,0,0,0,0,0,0,0,0,0,0,0,0,0,0,0,0,0,0,0,0,0,0,0,0,0,0,0,0,0,0,0,0,0,0,0,0,0,0,0,0,0,0,0,0,0,0,0,0,0,0,0,0,0,0,0,0,0,0,0,0,0,0,0,0,0,0,0,0,0,0,0,0,0,0,0,0,0,0,0,0,0,0,0,0,0,0,0,0,0,0,0,0,0,0,0,0,0,0,0,0,0,0,0,0,0,0,0,0,0,0,0,0,0,0,0]
[0,0,0,0,0,0,0,0,0,0,0,0,0,0,0,0,0,0,0,0,0,0,0,0,0,0,0,0,0,0,0,0,0,0,0,0,0,0,0,0,0,0,0,0,0,0,0,0,0,0,0,0,0,0,0,0,0,0,0,0,0,0,0,0,0,0,0,0,0,0,0,0,0,0,0,0,0,0,0,0,0,0,0,0,0,0,0,0,0,0,0,0,0,0,0,0,0,0,0,0,0,0,0,0,0,0,0,0,0,0,0,0,0,0,0,0,0,0,0,0,0,0,0,0,0,0,0,0,0,0,0,0,0,0,0,0,0,0,0,0,0,0,0,0,0,0,0,0,0,0,0,0,0,0,0,0,0,0,0,0,0,0,0,0,0,0,0,0,0,0,0,0,0,0,0,0,0,0,0,0,0,0,0,0,0,0,0,0,0,0,0,0,0,0,0,0,0,0,0,0,0,0,0,0,0,0,0,0,0,0,0,0,0,0,0,0,0,0,0,0,0,0,0,0,0,0,0,0,0,0,0,0,0,0,0,0,0,0,0,0,0,0,0,0,0,0,0,0,0,0,0,0,0,0,0,0,0,0,0,0,0,0,0,0,0,0,0,0,0,0,0,0,0,0,0,0,0,0,0,0,0,0,0,0,0,0,0,0,0,0,0,0,0,0,0,0,0,0,0,0,0,0,0,0,0,0,0,0,0,0,0,0]
[0,0,0,0,0,0,0,0,0,0,0,0,0,0,0,0,0,0,0,0,0,0,0,0,0,0,0,0,0,0,0,0,0,0,0,0,0,0,0,0,0,0,0,0,0,0,0,0,0,0,0,0,0,0,0,0,0,0,0,0,0,0,0,0,0,0,0,0,0,0,0,0,0,0,0,0,0,0,0,0,0,0,0,0,0,0,0,0,0,0,0,0,0,0,0,0,0,0,0,0,0,0,0,0,0,0,0,0,0,0,0,0,0,0,0,0,0,0,0,0,0,0,0,0,0,0,0,0,0,0,0,0,0,0,0,0,0,0,0,0,0,0,0,0,0,0,0,0,0,0,0,0,0,0,0,0,0,0,0,0,0,0,0,0,0,0,0,0,0,0,0,0,0,0,0,0,0,0,0,0,0,0,0,0,0,0,0,0,0,0,0,0,0,0,0,0,0,0,0,0,0,0,0,0,0,0,0,0,0,0,0,0,0,0,0,0,0,0,0,0,0,0,0,0,0,0,0,0,0,0,0,0,0,0,0,0,0,0,0,0,0,0,0,0,0,0,0,0,0,0,0,0,0,0,0,0,0,0,0,0,0,0,0,0,0,0,0,0,0,0,0,0,0,0,0,0,0,0,0,0,0,0,0,0,0,0,0,0,0,0,0,0,0,0,0,0,0,0,0,0,0,0,0,0,0,0,0,0,0,0,0,0]
[0,0,0,0,0,0,0,0,0,0,0,0,0,0,0,0,0,0,0,0,0,0,0,0,0,0,0,0,0,0,0,0,0,0,0,0,0,0,0,0,0,0,0,0,0,0,0,0,0,0,0,0,0,0,0,0,0,0,0,0,0,0,0,0,0,0,0,0,0,0,0,0,0,0,0,0,0,0,0,0,0,0,0,0,0,0,0,0,0,0,0,0,0,0,0,0,0,0,0,0,0,0,0,0,0,0,0,0,0,0,0,0,0,0,0,0,0,0,0,0,0,0,0,0,0,0,0,0,0,0,0,0,0,0,0,0,0,0,0,0,0,0,0,0,0,0,0,0,0,0,0,0,0,0,0,0,0,0,0,0,0,0,0,0,0,0,0,0,0,0,0,0,0,0,0,0,0,0,0,0,0,0,0,0,0,0,0,0,0,0,0,0,0,0,0,0,0,0,0,0,0,0,0,0,0,0,0,0,0,0,0,0,0,0,0,0,0,0,0,0,0,0,0,0,0,0,0,0,0,0,0,0,0,0,0,0,0,0,0,0,0,0,0,0,0,0,0,0,0,0,0,0,0,0,0,0,0,0,0,0,0,0,0,0,0,0,0,0,0,0,0,0,0,0,0,0,0,0,0,0,0,0,0,0,0,0,0,0,0,0,0,0,0,0,0,0,0,0,0,0,0,0,0,0,0,0,0,0,0,0,0,0]
[0,0,0,0,0,0,0,0,0,0,0,0,0,0,0,0,0,0,0,0,0,0,0,0,0,0,0,0,0,0,0,0,0,0,0,0,0,0,0,0,0,0,0,0,0,0,0,0,0,0,0,0,0,0,0,0,0,0,0,0,0,0,0,0,0,0,0,0,0,0,0,0,0,0,0,0,0,0,0,0,0,0,0,0,0,0,0,0,0,0,0,0,0,0,0,0,0,0,0,0,0,0,0,0,0,0,0,0,0,0,0,0,0,0,0,0,0,0,0,0,0,0,0,0,0,0,0,0,0,0,0,0,0,0,0,0,0,0,0,0,0,0,0,0,0,0,0,0,0,0,0,0,0,0,0,0,0,0,0,0,0,0,0,0,0,0,0,0,0,0,0,0,0,0,0,0,0,0,0,0,0,0,0,0,0,0,0,0,0,0,0,0,0,0,0,0,0,0,0,0,0,0,0,0,0,0,0,0,0,0,0,0,0,0,0,0,0,0,0,0,0,0,0,0,0,0,0,0,0,0,0,0,0,0,0,0,0,0,0,0,0,0,0,0,0,0,0,0,0,0,0,0,0,0,0,0,0,0,0,0,0,0,0,0,0,0,0,0,0,0,0,0,0,0,0,0,0,0,0,0,0,0,0,0,0,0,0,0,0,0,0,0,0,0,0,0,0,0,0,0,0,0,0,0,0,0,0,0,0,0,0,0]
[0,0,0,0,0,0,0,0,0,0,0,0,0,0,0,0,0,0,0,0,0,0,0,0,0,0,0,0,0,0,0,0,0,0,0,0,0,0,0,0,0,0,0,0,0,0,0,0,0,0,0,0,0,0,0,0,0,0,0,0,0,0,0,0,0,0,0,0,0,0,0,0,0,0,0,0,0,0,0,0,0,0,0,0,0,0,0,0,0,0,0,0,0,0,0,0,0,0,0,0,0,0,0,0,0,0,0,0,0,0,0,0,0,0,0,0,0,0,0,0,0,0,0,0,0,0,0,0,0,0,0,0,0,0,0,0,0,0,0,0,0,0,0,0,0,0,0,0,0,0,0,0,0,0,0,0,0,0,0,0,0,0,0,0,0,0,0,0,0,0,0,0,0,0,0,0,0,0,0,0,0,0,0,0,0,0,0,0,0,0,0,0,0,0,0,0,0,0,0,0,0,0,0,0,0,0,0,0,0,0,0,0,0,0,0,0,0,0,0,0,0,0,0,0,0,0,0,0,0,0,0,0,0,0,0,0,0,0,0,0,0,0,0,0,0,0,0,0,0,0,0,0,0,0,0,0,0,0,0,0,0,0,0,0,0,0,0,0,0,0,0,0,0,0,0,0,0,0,0,0,0,0,0,0,0,0,0,0,0,0,0,0,0,0,0,0,0,0,0,0,0,0,0,0,0,0,0,0,0,0,0,0]
[0,0,0,0,0,0,0,0,0,0,0,0,0,0,0,0,0,0,0,0,0,0,0,0,0,0,0,0,0,0,0,0,0,0,0,0,0,0,0,0,0,0,0,0,0,0,0,0,0,0,0,0,0,0,0,0,0,0,0,0,0,0,0,0,0,0,0,0,0,0,0,0,0,0,0,0,0,0,0,0,0,0,0,0,0,0,0,0,0,0,0,0,0,0,0,0,0,0,0,0,0,0,0,0,0,0,0,0,0,0,0,0,0,0,0,0,0,0,0,0,0,0,0,0,0,0,0,0,0,0,0,0,0,0,0,0,0,0,0,0,0,0,0,0,0,0,0,0,0,0,0,0,0,0,0,0,0,0,0,0,0,0,0,0,0,0,0,0,0,0,0,0,0,0,0,0,0,0,0,0,0,0,0,0,0,0,0,0,0,0,0,0,0,0,0,0,0,0,0,0,0,0,0,0,0,0,0,0,0,0,0,0,0,0,0,0,0,0,0,0,0,0,0,0,0,0,0,0,0,0,0,0,0,0,0,0,0,0,0,0,0,0,0,0,0,0,0,0,0,0,0,0,0,0,0,0,0,0,0,0,0,0,0,0,0,0,0,0,0,0,0,0,0,0,0,0,0,0,0,0,0,0,0,0,0,0,0,0,0,0,0,0,0,0,0,0,0,0,0,0,0,0,0,0,0,0,0,0,0,0,0,0]
[0,0,0,0,0,0,0,0,0,0,0,0,0,0,0,0,0,0,0,0,0,0,0,0,0,0,0,0,0,0,0,0,0,0,0,0,0,0,0,0,0,0,0,0,0,0,0,0,0,0,0,0,0,0,0,0,0,0,0,0,0,0,0,0,0,0,0,0,0,0,0,0,0,0,0,0,0,0,0,0,0,0,0,0,0,0,0,0,0,0,0,0,0,0,0,0,0,0,0,0,0,0,0,0,0,0,0,0,0,0,0,0,0,0,0,0,0,0,0,0,0,0,0,0,0,0,0,0,0,0,0,0,0,0,0,0,0,0,0,0,0,0,0,0,0,0,0,0,0,0,0,0,0,0,0,0,0,0,0,0,0,0,0,0,0,0,0,0,0,0,0,0,0,0,0,0,0,0,0,0,0,0,0,0,0,0,0,0,0,0,0,0,0,0,0,0,0,0,0,0,0,0,0,0,0,0,0,0,0,0,0,0,0,0,0,0,0,0,0,0,0,0,0,0,0,0,0,0,0,0,0,0,0,0,0,0,0,0,0,0,0,0,0,0,0,0,0,0,0,0,0,0,0,0,0,0,0,0,0,0,0,0,0,0,0,0,0,0,0,0,0,0,0,0,0,0,0,0,0,0,0,0,0,0,0,0,0,0,0,0,0,0,0,0,0,0,0,0,0,0,0,0,0,0,0,0,0,0,0,0,0,0]
[0,0,0,0,0,0,0,0,0,0,0,0,0,0,0,0,0,0,0,0,0,0,0,0,0,0,0,0,0,0,0,0,0,0,0,0,0,0,0,0,0,0,0,0,0,0,0,0,0,0,0,0,0,0,0,0,0,0,0,0,0,0,0,0,0,0,0,0,0,0,0,0,0,0,0,0,0,0,0,0,0,0,0,0,0,0,0,0,0,0,0,0,0,0,0,0,0,0,0,0,0,0,0,0,0,0,0,0,0,0,0,0,0,0,0,0,0,0,0,0,0,0,0,0,0,0,0,0,0,0,0,0,0,0,0,0,0,0,0,0,0,0,0,0,0,0,0,0,0,0,0,0,0,0,0,0,0,0,0,0,0,0,0,0,0,0,0,0,0,0,0,0,0,0,0,0,0,0,0,0,0,0,0,0,0,0,0,0,0,0,0,0,0,0,0,0,0,0,0,0,0,0,0,0,0,0,0,0,0,0,0,0,0,0,0,0,0,0,0,0,0,0,0,0,0,0,0,0,0,0,0,0,0,0,0,0,0,0,0,0,0,0,0,0,0,0,0,0,0,0,0,0,0,0,0,0,0,0,0,0,0,0,0,0,0,0,0,0,0,0,0,0,0,0,0,0,0,0,0,0,0,0,0,0,0,0,0,0,0,0,0,0,0,0,0,0,0,0,0,0,0,0,0,0,0,0,0,0,0,0,0,0]
[0,0,0,0,0,0,0,0,0,0,0,0,0,0,0,0,0,0,0,0,0,0,0,0,0,0,0,0,0,0,0,0,0,0,0,0,0,0,0,0,0,0,0,0,0,0,0,0,0,0,0,0,0,0,0,0,0,0,0,0,0,0,0,0,0,0,0,0,0,0,0,0,0,0,0,0,0,0,0,0,0,0,0,0,0,0,0,0,0,0,0,0,0,0,0,0,0,0,0,0,0,0,0,0,0,0,0,0,0,0,0,0,0,0,0,0,0,0,0,0,0,0,0,0,0,0,0,0,0,0,0,0,0,0,0,0,0,0,0,0,0,0,0,0,0,0,0,0,0,0,0,0,0,0,0,0,0,0,0,0,0,0,0,0,0,0,0,0,0,0,0,0,0,0,0,0,0,0,0,0,0,0,0,0,0,0,0,0,0,0,0,0,0,0,0,0,0,0,0,0,0,0,0,0,0,0,0,0,0,0,0,0,0,0,0,0,0,0,0,0,0,0,0,0,0,0,0,0,0,0,0,0,0,0,0,0,0,0,0,0,0,0,0,0,0,0,0,0,0,0,0,0,0,0,0,0,0,0,0,0,0,0,0,0,0,0,0,0,0,0,0,0,0,0,0,0,0,0,0,0,0,0,0,0,0,0,0,0,0,0,0,0,0,0,0,0,0,0,0,0,0,0,0,0,0,0,0,0,0,0,0,0]
[0,0,0,0,0,0,0,0,0,0,0,0,0,0,0,0,0,0,0,0,0,0,0,0,0,0,0,0,0,0,0,0,0,0,0,0,0,0,0,0,0,0,0,0,0,0,0,0,0,0,0,0,0,0,0,0,0,0,0,0,0,0,0,0,0,0,0,0,0,0,0,0,0,0,0,0,0,0,0,0,0,0,0,0,0,0,0,0,0,0,0,0,0,0,0,0,0,0,0,0,0,0,0,0,0,0,0,0,0,0,0,0,0,0,0,0,0,0,0,0,0,0,0,0,0,0,0,0,0,0,0,0,0,0,0,0,0,0,0,0,0,0,0,0,0,0,0,0,0,0,0,0,0,0,0,0,0,0,0,0,0,0,0,0,0,0,0,0,0,0,0,0,0,0,0,0,0,0,0,0,0,0,0,0,0,0,0,0,0,0,0,0,0,0,0,0,0,0,0,0,0,0,0,0,0,0,0,0,0,0,0,0,0,0,0,0,0,0,0,0,0,0,0,0,0,0,0,0,0,0,0,0,0,0,0,0,0,0,0,0,0,0,0,0,0,0,0,0,0,0,0,0,0,0,0,0,0,0,0,0,0,0,0,0,0,0,0,0,0,0,0,0,0,0,0,0,0,0,0,0,0,0,0,0,0,0,0,0,0,0,0,0,0,0,0,0,0,0,0,0,0,0,0,0,0,0,0,0,0,0,0,0]
[0,0,0,0,0,0,0,0,0,0,0,0,0,0,0,0,0,0,0,0,0,0,0,0,0,0,0,0,0,0,0,0,0,0,0,0,0,0,0,0,0,0,0,0,0,0,0,0,0,0,0,0,0,0,0,0,0,0,0,0,0,0,0,0,0,0,0,0,0,0,0,0,0,0,0,0,0,0,0,0,0,0,0,0,0,0,0,0,0,0,0,0,0,0,0,0,0,0,0,0,0,0,0,0,0,0,0,0,0,0,0,0,0,0,0,0,0,0,0,0,0,0,0,0,0,0,0,0,0,0,0,0,0,0,0,0,0,0,0,0,0,0,0,0,0,0,0,0,0,0,0,0,0,0,0,0,0,0,0,0,0,0,0,0,0,0,0,0,0,0,0,0,0,0,0,0,0,0,0,0,0,0,0,0,0,0,0,0,0,0,0,0,0,0,0,0,0,0,0,0,0,0,0,0,0,0,0,0,0,0,0,0,0,0,0,0,0,0,0,0,0,0,0,0,0,0,0,0,0,0,0,0,0,0,0,0,0,0,0,0,0,0,0,0,0,0,0,0,0,0,0,0,0,0,0,0,0,0,0,0,0,0,0,0,0,0,0,0,0,0,0,0,0,0,0,0,0,0,0,0,0,0,0,0,0,0,0,0,0,0,0,0,0,0,0,0,0,0,0,0,0,0,0,0,0,0,0,0,0,0,0,0]
[0,0,0,0,0,0,0,0,0,0,0,0,0,0,0,0,0,0,0,0,0,0,0,0,0,0,0,0,0,0,0,0,0,0,0,0,0,0,0,0,0,0,0,0,0,0,0,0,0,0,0,0,0,0,0,0,0,0,0,0,0,0,0,0,0,0,0,0,0,0,0,0,0,0,0,0,0,0,0,0,0,0,0,0,0,0,0,0,0,0,0,0,0,0,0,0,0,0,0,0,0,0,0,0,0,0,0,0,0,0,0,0,0,0,0,0,0,0,0,0,0,0,0,0,0,0,0,0,0,0,0,0,0,0,0,0,0,0,0,0,0,0,0,0,0,0,0,0,0,0,0,0,0,0,0,0,0,0,0,0,0,0,0,0,0,0,0,0,0,0,0,0,0,0,0,0,0,0,0,0,0,0,0,0,0,0,0,0,0,0,0,0,0,0,0,0,0,0,0,0,0,0,0,0,0,0,0,0,0,0,0,0,0,0,0,0,0,0,0,0,0,0,0,0,0,0,0,0,0,0,0,0,0,0,0,0,0,0,0,0,0,0,0,0,0,0,0,0,0,0,0,0,0,0,0,0,0,0,0,0,0,0,0,0,0,0,0,0,0,0,0,0,0,0,0,0,0,0,0,0,0,0,0,0,0,0,0,0,0,0,0,0,0,0,0,0,0,0,0,0,0,0,0,0,0,0,0,0,0,0,0,0]
[0,0,0,0,0,0,0,0,0,0,0,0,0,0,0,0,0,0,0,0,0,0,0,0,0,0,0,0,0,0,0,0,0,0,0,0,0,0,0,0,0,0,0,0,0,0,0,0,0,0,0,0,0,0,0,0,0,0,0,0,0,0,0,0,0,0,0,0,0,0,0,0,0,0,0,0,0,0,0,0,0,0,0,0,0,0,0,0,0,0,0,0,0,0,0,0,0,0,0,0,0,0,0,0,0,0,0,0,0,0,0,0,0,0,0,0,0,0,0,0,0,0,0,0,0,0,0,0,0,0,0,0,0,0,0,0,0,0,0,0,0,0,0,0,0,0,0,0,0,0,0,0,0,0,0,0,0,0,0,0,0,0,0,0,0,0,0,0,0,0,0,0,0,0,0,0,0,0,0,0,0,0,0,0,0,0,0,0,0,0,0,0,0,0,0,0,0,0,0,0,0,0,0,0,0,0,0,0,0,0,0,0,0,0,0,0,0,0,0,0,0,0,0,0,0,0,0,0,0,0,0,0,0,0,0,0,0,0,0,0,0,0,0,0,0,0,0,0,0,0,0,0,0,0,0,0,0,0,0,0,0,0,0,0,0,0,0,0,0,0,0,0,0,0,0,0,0,0,0,0,0,0,0,0,0,0,0,0,0,0,0,0,0,0,0,0,0,0,0,0,0,0,0,0,0,0,0,0,0,0,0,0]
[0,0,0,0,0,0,0,0,0,0,0,0,0,0,0,0,0,0,0,0,0,0,0,0,0,0,0,0,0,0,0,0,0,0,0,0,0,0,0,0,0,0,0,0,0,0,0,0,0,0,0,0,0,0,0,0,0,0,0,0,0,0,0,0,0,0,0,0,0,0,0,0,0,0,0,0,0,0,0,0,0,0,0,0,0,0,0,0,0,0,0,0,0,0,0,0,0,0,0,0,0,0,0,0,0,0,0,0,0,0,0,0,0,0,0,0,0,0,0,0,0,0,0,0,0,0,0,0,0,0,0,0,0,0,0,0,0,0,0,0,0,0,0,0,0,0,0,0,0,0,0,0,0,0,0,0,0,0,0,0,0,0,0,0,0,0,0,0,0,0,0,0,0,0,0,0,0,0,0,0,0,0,0,0,0,0,0,0,0,0,0,0,0,0,0,0,0,0,0,0,0,0,0,0,0,0,0,0,0,0,0,0,0,0,0,0,0,0,0,0,0,0,0,0,0,0,0,0,0,0,0,0,0,0,0,0,0,0,0,0,0,0,0,0,0,0,0,0,0,0,0,0,0,0,0,0,0,0,0,0,0,0,0,0,0,0,0,0,0,0,0,0,0,0,0,0,0,0,0,0,0,0,0,0,0,0,0,0,0,0,0,0,0,0,0,0,0,0,0,0,0,0,0,0,0,0,0,0,0,0,0,0]
[0,0,0,0,0,0,0,0,0,0,0,0,0,0,0,0,0,0,0,0,0,0,0,0,0,0,0,0,0,0,0,0,0,0,0,0,0,0,0,0,0,0,0,0,0,0,0,0,0,0,0,0,0,0,0,0,0,0,0,0,0,0,0,0,0,0,0,0,0,0,0,0,0,0,0,0,0,0,0,0,0,0,0,0,0,0,0,0,0,0,0,0,0,0,0,0,0,0,0,0,0,0,0,0,0,0,0,0,0,0,0,0,0,0,0,0,0,0,0,0,0,0,0,0,0,0,0,0,0,0,0,0,0,0,0,0,0,0,0,0,0,0,0,0,0,0,0,0,0,0,0,0,0,0,0,0,0,0,0,0,0,0,0,0,0,0,0,0,0,0,0,0,0,0,0,0,0,0,0,0,0,0,0,0,0,0,0,0,0,0,0,0,0,0,0,0,0,0,0,0,0,0,0,0,0,0,0,0,0,0,0,0,0,0,0,0,0,0,0,0,0,0,0,0,0,0,0,0,0,0,0,0,0,0,0,0,0,0,0,0,0,0,0,0,0,0,0,0,0,0,0,0,0,0,0,0,0,0,0,0,0,0,0,0,0,0,0,0,0,0,0,0,0,0,0,0,0,0,0,0,0,0,0,0,0,0,0,0,0,0,0,0,0,0,0,0,0,0,0,0,0,0,0,0,0,0,0,0,0,0,0,0]
[0,0,0,0,0,0,0,0,0,0,0,0,0,0,0,0,0,0,0,0,0,0,0,0,0,0,0,0,0,0,0,0,0,0,0,0,0,0,0,0,0,0,0,0,0,0,0,0,0,0,0,0,0,0,0,0,0,0,0,0,0,0,0,0,0,0,0,0,0,0,0,0,0,0,0,0,0,0,0,0,0,0,0,0,0,0,0,0,0,0,0,0,0,0,0,0,0,0,0,0,0,0,0,0,0,0,0,0,0,0,0,0,0,0,0,0,0,0,0,0,0,0,0,0,0,0,0,0,0,0,0,0,0,0,0,0,0,0,0,0,0,0,0,0,0,0,0,0,0,0,0,0,0,0,0,0,0,0,0,0,0,0,0,0,0,0,0,0,0,0,0,0,0,0,0,0,0,0,0,0,0,0,0,0,0,0,0,0,0,0,0,0,0,0,0,0,0,0,0,0,0,0,0,0,0,0,0,0,0,0,0,0,0,0,0,0,0,0,0,0,0,0,0,0,0,0,0,0,0,0,0,0,0,0,0,0,0,0,0,0,0,0,0,0,0,0,0,0,0,0,0,0,0,0,0,0,0,0,0,0,0,0,0,0,0,0,0,0,0,0,0,0,0,0,0,0,0,0,0,0,0,0,0,0,0,0,0,0,0,0,0,0,0,0,0,0,0,0,0,0,0,0,0,0,0,0,0,0,0,0,0,0]
[0,0,0,0,0,0,0,0,0,0,0,0,0,0,0,0,0,0,0,0,0,0,0,0,0,0,0,0,0,0,0,0,0,0,0,0,0,0,0,0,0,0,0,0,0,0,0,0,0,0,0,0,0,0,0,0,0,0,0,0,0,0,0,0,0,0,0,0,0,0,0,0,0,0,0,0,0,0,0,0,0,0,0,0,0,0,0,0,0,0,0,0,0,0,0,0,0,0,0,0,0,0,0,0,0,0,0,0,0,0,0,0,0,0,0,0,0,0,0,0,0,0,0,0,0,0,0,0,0,0,0,0,0,0,0,0,0,0,0,0,0,0,0,0,0,0,0,0,0,0,0,0,0,0,0,0,0,0,0,0,0,0,0,0,0,0,0,0,0,0,0,0,0,0,0,0,0,0,0,0,0,0,0,0,0,0,0,0,0,0,0,0,0,0,0,0,0,0,0,0,0,0,0,0,0,0,0,0,0,0,0,0,0,0,0,0,0,0,0,0,0,0,0,0,0,0,0,0,0,0,0,0,0,0,0,0,0,0,0,0,0,0,0,0,0,0,0,0,0,0,0,0,0,0,0,0,0,0,0,0,0,0,0,0,0,0,0,0,0,0,0,0,0,0,0,0,0,0,0,0,0,0,0,0,0,0,0,0,0,0,0,0,0,0,0,0,0,0,0,0,0,0,0,0,0,0,0,0,0,0,0,0]
[]
[]
[]
[]
[]
[]
[]
[]
[]
[]
[]
[]
[]
[]
[]
[]
[]
[]
[]
[]
[]
[]
[]
[]
[]
[]
[]
[]
[]
[]
[]
[]
[]
[]
[]
[]
[]
[]
[]
[]
[]
[]
[]
[]
[]
[]
[]
[]
[]
[]
[]
[]
[]
[]
[]
[]
[]
[]
[]
[]
[]
[]
[]
[]
[]
[]
[]
[]
[]
[]
[]
[]
[]
[]
[]
[]
[]
[]
[]
[]
[]
[]
[]
[]
[]
[]
[]
[]
[]
[]
[]
[]
[]
[]
[]
[]
[]
[]
[]
[]
[]
[]
[]
[]
[]
[]
[]
[]
[]
[]
[]
[]
[]
[]
[]
[]
[]
[]
[]
[]
[]
[]
[]
[]
[]
[]
[]
[]
[]
[]
[]
[]
[]
[]
[]
[]
[]
[]
[]
[]
[]
[]
[]
[]
[]
[]
[]
[]
[]
[]
["A30 P 60 10 Wd 60_5","A30 P 60 10SDWd 60_5","A30 P 60 20 Wd 60_5","A30 P 60 20SDWd 60_5","A30 P 65 10 Wd 65_5","A30 P 65 10SDWd 65_5","A30 P 65 20 Wd 65_5","A30 P 65 20SDWd 65_5","A30 P 70 10 Wd 70_5","A30 P 70 10SDWd 70_5","A30 P 70 20 Wd 70_5","A30 P 70 20SDWd 70_5","A31 P 60 10 Wd 60_5","A31 P 60 10SDWd 60_5","A31 P 60 20 Wd 60_5","A31 P 60 20SDWd 60_5","A31 P 65 10 Wd 65_5","A31 P 65 10SDWd 65_5","A31 P 65 20 Wd 65_5","A31 P 65 20SDWd 65_5","A31 P 70 10 Wd 70_5","A31 P 70 10SDWd 70_5","A31 P 70 20 Wd 70_5","A31 P 70 20SDWd 70_5","A32 P 60 10 Wd 60_5","A32 P 60 10SDWd 60_5","A32 P 60 20 Wd 60_5","A32 P 60 20SDWd 60_5","A32 P 65 10 Wd 65_5","A32 P 65 10SDWd 65_5","A32 P 65 20 Wd 65_5","A32 P 65 20SDWd 65_5","A32 P 70 10 Wd 70_5","A32 P 70 10SDWd 70_5","A32 P 70 20 Wd 70_5","A32 P 70 20SDWd 70_5","A33 P 60 10 Wd 60_5","A33 P 60 10SDWd 60_5","A33 P 60 20 Wd 60_5","A33 P 60 20SDWd 60_5","A33 P 65 10 Wd 65_5","A33 P 65 10SDWd 65_5","A33 P 65 20 Wd 65_5","A33 P 65 20SDWd 65_5","A33 P 70 10 Wd 70_5","A33 P 70 10SDWd 70_5","A33 P 70 20 Wd 70_5","A33 P 70 20SDWd 70_5","A34 P 60 10 Wd 60_5","A34 P 60 10SDWd 60_5","A34 P 60 20 Wd 60_5","A34 P 60 20SDWd 60_5","A34 P 65 10 Wd 65_5","A34 P 65 10SDWd 65_5","A34 P 65 20 Wd 65_5","A34 P 65 20SDWd 65_5","A34 P 70 10 Wd 70_5","A34 P 70 10SDWd 70_5","A34 P 70 20 Wd 70_5","A34 P 70 20SDWd 70_5","A35 P 60 10 Wd 60_5","A35 P 60 10SDWd 60_5","A35 P 60 20 Wd 60_5","A35 P 60 20SDWd 60_5","A35 P 65 10 Wd 65_5","A35 P 65 10SDWd 65_5","A35 P 65 20 Wd 65_5","A35 P 65 20SDWd 65_5","A35 P 70 10 Wd 70_5","A35 P 70 10SDWd 70_5","A35 P 70 20 Wd 70_5","A35 P 70 20SDWd 70_5","A36 P 60 10 Wd 60_5","A36 P 60 10SDWd 60_5","A36 P 60 20 Wd 60_5","A36 P 60 20SDWd 60_5","A36 P 65 10 Wd 65_5","A36 P 65 10SDWd 65_5","A36 P 65 20 Wd 65_5","A36 P 65 20SDWd 65_5","A36 P 70 10 Wd 70_5","A36 P 70 10SDWd 70_5","A36 P 70 20 Wd 70_5","A36 P 70 20SDWd 70_5","A37 P 60 10 Wd 60_5","A37 P 60 10SDWd 60_5","A37 P 60 20 Wd 60_5","A37 P 60 20SDWd 60_5","A37 P 65 10 Wd 65_5","A37 P 65 10SDWd 65_5","A37 P 65 20 Wd 65_5","A37 P 65 20SDWd 65_5","A37 P 70 10 Wd 70_5","A37 P 70 10SDWd 70_5","A37 P 70 20 Wd 70_5","A37 P 70 20SDWd 70_5","A38 P 60 10 Wd 60_5","A38 P 60 10SDWd 60_5","A38 P 60 20 Wd 60_5","A38 P 60 20SDWd 60_5","A38 P 65 10 Wd 65_5","A38 P 65 10SDWd 65_5","A38 P 65 20 Wd 65_5","A38 P 65 20SDWd 65_5","A38 P 70 10 Wd 70_5","A38 P 70 10SDWd 70_5","A38 P 70 20 Wd 70_5","A38 P 70 20SDWd 70_5","A39 P 60 10 Wd 60_5","A39 P 60 10SDWd 60_5","A39 P 60 20 Wd 60_5","A39 P 60 20SDWd 60_5","A39 P 65 10 Wd 65_5","A39 P 65 10SDWd 65_5","A39 P 65 20 Wd 65_5","A39 P 65 20SDWd 65_5","A39 P 70 10 Wd 70_5","A39 P 70 10SDWd 70_5","A39 P 70 20 Wd 70_5","A39 P 70 20SDWd 70_5","A40 P 60 10 Wd 60_5","A40 P 60 10SDWd 60_5","A40 P 60 20 Wd 60_5","A40 P 60 20SDWd 60_5","A40 P 65 10 Wd 65_5","A40 P 65 10SDWd 65_5","A40 P 65 20 Wd 65_5","A40 P 65 20SDWd 65_5","A40 P 70 10 Wd 70_5","A40 P 70 10SDWd 70_5","A40 P 70 20 Wd 70_5","A40 P 70 20SDWd 70_5","A41 P 60 10 Wd 60_5","A41 P 60 10SDWd 60_5","A41 P 60 20 Wd 60_5","A41 P 60 20SDWd 60_5","A41 P 65 10 Wd 65_5","A41 P 65 10SDWd 65_5","A41 P 65 20 Wd 65_5","A41 P 65 20SDWd 65_5","A41 P 70 10 Wd 70_5","A41 P 70 10SDWd 70_5","A41 P 70 20 Wd 70_5","A41 P 70 20SDWd 70_5","A42 P 60 10 Wd 60_5","A42 P 60 10SDWd 60_5","A42 P 60 20 Wd 60_5","A42 P 60 20SDWd 60_5","A42 P 65 10 Wd 65_5","A42 P 65 10SDWd 65_5","A42 P 65 20 Wd 65_5","A42 P 65 20SDWd 65_5","A42 P 70 10 Wd 70_5","A42 P 70 10SDWd 70_5","A42 P 70 20 Wd 70_5","A42 P 70 20SDWd 70_5","A43 P 60 10 Wd 60_5","A43 P 60 10SDWd 60_5","A43 P 60 20 Wd 60_5","A43 P 60 20SDWd 60_5","A43 P 65 10 Wd 65_5","A43 P 65 10SDWd 65_5","A43 P 65 20 Wd 65_5","A43 P 65 20SDWd 65_5","A43 P 70 10 Wd 70_5","A43 P 70 10SDWd 70_5","A43 P 70 20 Wd 70_5","A43 P 70 20SDWd 70_5","A44 P 60 10 Wd 60_5","A44 P 60 10SDWd 60_5","A44 P 60 20 Wd 60_5","A44 P 60 20SDWd 60_5","A44 P 65 10 Wd 65_5","A44 P 65 10SDWd 65_5","A44 P 65 20 Wd 65_5","A44 P 65 20SDWd 65_5","A44 P 70 10 Wd 70_5","A44 P 70 10SDWd 70_5","A44 P 70 20 Wd 70_5","A44 P 70 20SDWd 70_5","A45 P 60 10 Wd 60_5","A45 P 60 10SDWd 60_5","A45 P 60 20 Wd 60_5","A45 P 60 20SDWd 60_5","A45 P 65 10 Wd 65_5","A45 P 65 10SDWd 65_5","A45 P 65 20 Wd 65_5","A45 P 65 20SDWd 65_5","A45 P 70 10 Wd 70_5","A45 P 70 10SDWd 70_5","A45 P 70 20 Wd 70_5","A45 P 70 20SDWd 70_5","A46 P 60 10 Wd 60_5","A46 P 60 10SDWd 60_5","A46 P 60 20 Wd 60_5","A46 P 60 20SDWd 60_5","A46 P 65 10 Wd 65_5","A46 P 65 10SDWd 65_5","A46 P 65 20 Wd 65_5","A46 P 65 20SDWd 65_5","A46 P 70 10 Wd 70_5","A46 P 70 10SDWd 70_5","A46 P 70 20 Wd 70_5","A46 P 70 20SDWd 70_5","A47 P 60 10 Wd 60_5","A47 P 60 10SDWd 60_5","A47 P 60 20 Wd 60_5","A47 P 60 20SDWd 60_5","A47 P 65 10 Wd 65_5","A47 P 65 10SDWd 65_5","A47 P 65 20 Wd 65_5","A47 P 65 20SDWd 65_5","A47 P 70 10 Wd 70_5","A47 P 70 10SDWd 70_5","A47 P 70 20 Wd 70_5","A47 P 70 20SDWd 70_5","A48 P 60 10 Wd 60_5","A48 P 60 10SDWd 60_5","A48 P 60 20 Wd 60_5","A48 P 60 20SDWd 60_5","A48 P 65 10 Wd 65_5","A48 P 65 10SDWd 65_5","A48 P 65 20 Wd 65_5","A48 P 65 20SDWd 65_5","A48 P 70 10 Wd 70_5","A48 P 70 10SDWd 70_5","A48 P 70 20 Wd 70_5","A48 P 70 20SDWd 70_5","A49 P 60 10 Wd 60_5","A49 P 60 10SDWd 60_5","A49 P 60 20 Wd 60_5","A49 P 60 20SDWd 60_5","A49 P 65 10 Wd 65_5","A49 P 65 10SDWd 65_5","A49 P 65 20 Wd 65_5","A49 P 65 20SDWd 65_5","A49 P 70 10 Wd 70_5","A49 P 70 10SDWd 70_5","A49 P 70 20 Wd 70_5","A49 P 70 20SDWd 70_5","A50 P 60 10 Wd 60_5","A50 P 60 10SDWd 60_5","A50 P 60 20 Wd 60_5","A50 P 60 20SDWd 60_5","A50 P 65 10 Wd 65_5","A50 P 65 10SDWd 65_5","A50 P 65 20 Wd 65_5","A50 P 65 20SDWd 65_5","A50 P 70 10 Wd 70_5","A50 P 70 10SDWd 70_5","A50 P 70 20 Wd 70_5","A50 P 70 20SDWd 70_5","A51 P 60 10 Wd 60_5","A51 P 60 10SDWd 60_5","A51 P 60 20 Wd 60_5","A51 P 60 20SDWd 60_5","A51 P 65 10 Wd 65_5","A51 P 65 10SDWd 65_5","A51 P 65 20 Wd 65_5","A51 P 65 20SDWd 65_5","A51 P 70 10 Wd 70_5","A51 P 70 10SDWd 70_5","A51 P 70 20 Wd 70_5","A51 P 70 20SDWd 70_5","A52 P 60 10 Wd 60_5","A52 P 60 10SDWd 60_5","A52 P 60 20 Wd 60_5","A52 P 60 20SDWd 60_5","A52 P 65 10 Wd 65_5","A52 P 65 10SDWd 65_5","A52 P 65 20 Wd 65_5","A52 P 65 20SDWd 65_5","A52 P 70 10 Wd 70_5","A52 P 70 10SDWd 70_5","A52 P 70 20 Wd 70_5","A52 P 70 20SDWd 70_5","A53 P 60 10 Wd 60_5","A53 P 60 10SDWd 60_5","A53 P 60 20 Wd 60_5","A53 P 60 20SDWd 60_5","A53 P 65 10 Wd 65_5","A53 P 65 10SDWd 65_5","A53 P 65 20 Wd 65_5","A53 P 65 20SDWd 65_5","A53 P 70 10 Wd 70_5","A53 P 70 10SDWd 70_5","A53 P 70 20 Wd 70_5","A53 P 70 20SDWd 70_5","A54 P 60 10 Wd 61_5","A54 P 60 10SDWd 61_5","A54 P 60 20 Wd 61_5","A54 P 60 20SDWd 61_5","A54 P 65 10 Wd 65_5","A54 P 65 10SDWd 65_5","A54 P 65 20 Wd 65_5","A54 P 65 20SDWd 65_5","A54 P 70 10 Wd 70_5","A54 P 70 10SDWd 70_5","A54 P 70 20 Wd 70_5","A54 P 70 20SDWd 70_5","A55 P 60 10 Wd 62_5","A55 P 60 10SDWd 62_5","A55 P 60 20 Wd 62_5","A55 P 60 20SDWd 62_5","A55 P 65 10 Wd 65_5","A55 P 65 10SDWd 65_5","A55 P 65 20 Wd 65_5","A55 P 65 20SDWd 65_5","A55 P 70 10 Wd 70_5","A55 P 70 10SDWd 70_5","A55 P 70 20 Wd 70_5","A55 P 70 20SDWd 70_5"]
["Premium","Premium","Premium","Premium","Premium","Premium","Premium","Premium","Premium","Premium","Premium","Premium","Premium","Premium","Premium","Premium","Premium","Premium","Premium","Premium","Premium","Premium","Premium","Premium","Premium","Premium","Premium","Premium","Premium","Premium","Premium","Premium","Premium","Premium","Premium","Premium","Premium","Premium","Premium","Premium","Premium","Premium","Premium","Premium","Premium","Premium","Premium","Premium","Premium","Premium","Premium","Premium","Premium","Premium","Premium","Premium","Premium","Premium","Premium","Premium","Premium","Premium","Premium","Premium","Premium","Premium","Premium","Premium","Premium","Premium","Premium","Premium","Premium","Premium","Premium","Premium","Premium","Premium","Premium","Premium","Premium","Premium","Premium","Premium","Premium","Premium","Premium","Premium","Premium","Premium","Premium","Premium","Premium","Premium","Premium","Premium","Premium","Premium","Premium","Premium","Premium","Premium","Premium","Premium","Premium","Premium","Premium","Premium","Premium","Premium","Premium","Premium","Premium","Premium","Premium","Premium","Premium","Premium","Premium","Premium","Premium","Premium","Premium","Premium","Premium","Premium","Premium","Premium","Premium","Premium","Premium","Premium","Premium","Premium","Premium","Premium","Premium","Premium","Premium","Premium","Premium","Premium","Premium","Premium","Premium","Premium","Premium","Premium","Premium","Premium","Premium","Premium","Premium","Premium","Premium","Premium","Premium","Premium","Premium","Premium","Premium","Premium","Premium","Premium","Premium","Premium","Premium","Premium","Premium","Premium","Premium","Premium","Premium","Premium","Premium","Premium","Premium","Premium","Premium","Premium","Premium","Premium","Premium","Premium","Premium","Premium","Premium","Premium","Premium","Premium","Premium","Premium","Premium","Premium","Premium","Premium","Premium","Premium","Premium","Premium","Premium","Premium","Premium","Premium","Premium","Premium","Premium","Premium","Premium","Premium","Premium","Premium","Premium","Premium","Premium","Premium","Premium","Premium","Premium","Premium","Premium","Premium","Premium","Premium","Premium","Premium","Premium","Premium","Premium","Premium","Premium","Premium","Premium","Premium","Premium","Premium","Premium","Premium","Premium","Premium","Premium","Premium","Premium","Premium","Premium","Premium","Premium","Premium","Premium","Premium","Premium","Premium","Premium","Premium","Premium","Premium","Premium","Premium","Premium","Premium","Premium","Premium","Premium","Premium","Premium","Premium","Premium","Premium","Premium","Premium","Premium","Premium","Premium","Premium","Premium","Premium","Premium","Premium","Premium","Premium","Premium","Premium","Premium","Premium","Premium","Premium","Premium","Premium","Premium","Premium","Premium","Premium","Premium","Premium","Premium","Premium","Premium","Premium","Premium","Premium","Premium","Premium","Premium","Premium","Premium","Premium","Premium","Premium","Premium","Premium","Premium","Premium"]
[25000,25000,25000,25000,25000,25000,25000,25000,25000,25000,25000,25000,25000,25000,25000,25000,25000,25000,25000,25000,25000,25000,25000,25000,25000,25000,25000,25000,25000,25000,25000,25000,25000,25000,25000,25000,25000,25000,25000,25000,25000,25000,25000,25000,25000,25000,25000,25000,25000,25000,25000,25000,25000,25000,25000,25000,25000,25000,25000,25000,25000,25000,25000,25000,25000,25000,25000,25000,25000,25000,25000,25000,25000,25000,25000,25000,25000,25000,25000,25000,25000,25000,25000,25000,25000,25000,25000,25000,25000,25000,25000,25000,25000,25000,25000,25000,25000,25000,25000,25000,25000,25000,25000,25000,25000,25000,25000,25000,25000,25000,25000,25000,25000,25000,25000,25000,25000,25000,25000,25000,25000,25000,25000,25000,25000,25000,25000,25000,25000,25000,25000,25000,25000,25000,25000,25000,25000,25000,25000,25000,25000,25000,25000,25000,25000,25000,25000,25000,25000,25000,25000,25000,25000,25000,25000,25000,25000,25000,25000,25000,25000,25000,25000,25000,25000,25000,25000,25000,25000,25000,25000,25000,25000,25000,25000,25000,25000,25000,25000,25000,25000,25000,25000,25000,25000,25000,25000,25000,25000,25000,25000,25000,25000,25000,25000,25000,25000,25000,25000,25000,25000,25000,25000,25000,25000,25000,25000,25000,25000,25000,25000,25000,25000,25000,25000,25000,25000,25000,25000,25000,25000,25000,25000,25000,25000,25000,25000,25000,25000,25000,25000,25000,25000,25000,25000,25000,25000,25000,25000,25000,25000,25000,25000,25000,25000,25000,25000,25000,25000,25000,25000,25000,25000,25000,25000,25000,25000,25000,25000,25000,25000,25000,25000,25000,25000,25000,25000,25000,25000,25000,25000,25000,25000,25000,25000,25000,25000,25000,25000,25000,25000,25000,25000,25000,25000,25000,25000,25000,25000,25000,25000,25000,25000,25000,25000,25000,25000,25000,25000,25000,25000,25000,25000,25000,25000,25000,25000,25000,25000,25000,25000,25000]
[25000,25000,25000,25000,25000,25000,25000,25000,25000,25000,25000,25000,25000,25000,25000,25000,25000,25000,25000,25000,25000,25000,25000,25000,25000,25000,25000,25000,25000,25000,25000,25000,25000,25000,25000,25000,25000,25000,25000,25000,25000,25000,25000,25000,25000,25000,25000,25000,25000,25000,25000,25000,25000,25000,25000,25000,25000,25000,25000,25000,25000,25000,25000,25000,25000,25000,25000,25000,25000,25000,25000,25000,25000,25000,25000,25000,25000,25000,25000,25000,25000,25000,25000,25000,25000,25000,25000,25000,25000,25000,25000,25000,25000,25000,25000,25000,25000,25000,25000,25000,25000,25000,25000,25000,25000,25000,25000,25000,25000,25000,25000,25000,25000,25000,25000,25000,25000,25000,25000,25000,25000,25000,25000,25000,25000,25000,25000,25000,25000,25000,25000,25000,25000,25000,25000,25000,25000,25000,25000,25000,25000,25000,25000,25000,25000,25000,25000,25000,25000,25000,25000,25000,25000,25000,25000,25000,25000,25000,25000,25000,25000,25000,25000,25000,25000,25000,25000,25000,25000,25000,25000,25000,25000,25000,25000,25000,25000,25000,25000,25000,25000,25000,25000,25000,25000,25000,25000,25000,25000,25000,25000,25000,25000,25000,25000,25000,25000,25000,25000,25000,25000,25000,25000,25000,25000,25000,25000,25000,25000,25000,25000,25000,25000,25000,25000,25000,25000,25000,25000,25000,25000,25000,25000,25000,25000,25000,25000,25000,25000,25000,25000,25000,25000,25000,25000,25000,25000,25000,25000,25000,25000,25000,25000,25000,25000,25000,25000,25000,25000,25000,25000,25000,25000,25000,25000,25000,25000,25000,25000,25000,25000,25000,25000,25000,0,0,0,0,25000,25000,25000,25000,25000,25000,25000,25000,0,0,0,0,25000,25000,25000,25000,25000,25000,25000,25000,0,0,0,0,25000,25000,25000,25000,25000,25000,25000,25000,0,0,0,0,25000,25000,25000,25000,25000,25000,25000,25000]
[25000,25000,25000,25000,25000,25000,25000,25000,25000,25000,25000,25000,25000,25000,25000,25000,25000,25000,25000,25000,25000,25000,25000,25000,25000,25000,25000,25000,25000,25000,25000,25000,25000,25000,25000,25000,25000,25000,25000,25000,25000,25000,25000,25000,25000,25000,25000,25000,25000,25000,25000,25000,25000,25000,25000,25000,25000,25000,25000,25000,25000,25000,25000,25000,25000,25000,25000,25000,25000,25000,25000,25000,25000,25000,25000,25000,25000,25000,25000,25000,25000,25000,25000,25000,25000,25000,25000,25000,25000,25000,25000,25000,25000,25000,25000,25000,25000,25000,25000,25000,25000,25000,25000,25000,25000,25000,25000,25000,25000,25000,25000,25000,25000,25000,25000,25000,25000,25000,25000,25000,25000,25000,25000,25000,25000,25000,25000,25000,25000,25000,25000,25000,25000,25000,25000,25000,25000,25000,25000,25000,25000,25000,25000,25000,25000,25000,25000,25000,25000,25000,25000,25000,25000,25000,25000,25000,25000,25000,25000,25000,25000,25000,25000,25000,25000,25000,25000,25000,25000,25000,25000,25000,25000,25000,25000,25000,25000,25000,25000,25000,25000,25000,25000,25000,25000,25000,25000,25000,25000,25000,25000,25000,25000,25000,25000,25000,25000,25000,25000,25000,25000,25000,25000,25000,0,0,0,0,25000,25000,25000,25000,25000,25000,25000,25000,0,0,0,0,25000,25000,25000,25000,25000,25000,25000,25000,0,0,0,0,25000,25000,25000,25000,25000,25000,25000,25000,0,0,0,0,25000,25000,25000,25000,25000,25000,25000,25000,0,0,0,0,25000,25000,25000,25000,25000,25000,25000,25000,0,0,0,0,0,0,0,0,25000,25000,25000,25000,0,0,0,0,0,0,0,0,25000,25000,25000,25000,0,0,0,0,0,0,0,0,25000,25000,25000,25000,0,0,0,0,0,0,0,0,25000,25000,25000,25000]
[25000,25000,25000,25000,25000,25000,25000,25000,25000,25000,25000,25000,25000,25000,25000,25000,25000,25000,25000,25000,25000,25000,25000,25000,25000,25000,25000,25000,25000,25000,25000,25000,25000,25000,25000,25000,25000,25000,25000,25000,25000,25000,25000,25000,25000,25000,25000,25000,25000,25000,25000,25000,25000,25000,25000,25000,25000,25000,25000,25000,25000,25000,25000,25000,25000,25000,25000,25000,25000,25000,25000,25000,25000,25000,25000,25000,25000,25000,25000,25000,25000,25000,25000,25000,25000,25000,25000,25000,25000,25000,25000,25000,25000,25000,25000,25000,25000,25000,25000,25000,25000,25000,25000,25000,25000,25000,25000,25000,25000,25000,25000,25000,25000,25000,25000,25000,25000,25000,25000,25000,25000,25000,25000,25000,25000,25000,25000,25000,25000,25000,25000,25000,0,0,0,0,25000,25000,25000,25000,25000,25000,25000,25000,0,0,0,0,25000,25000,25000,25000,25000,25000,25000,25000,0,0,0,0,25000,25000,25000,25000,25000,25000,25000,25000,0,0,0,0,25000,25000,25000,25000,25000,25000,25000,25000,0,0,0,0,25000,25000,25000,25000,25000,25000,25000,25000,0,0,0,0,0,0,0,0,25000,25000,25000,25000,0,0,0,0,0,0,0,0,25000,25000,25000,25000,0,0,0,0,0,0,0,0,25000,25000,25000,25000,0,0,0,0,0,0,0,0,25000,25000,25000,25000,0,0,0,0,0,0,0,0,25000,25000,25000,25000,0,0,0,0,0,0,0,0,0,0,0,0,0,0,0,0,0,0,0,0,0,0,0,0,0,0,0,0,0,0,0,0,0,0,0,0,0,0,0,0,0,0,0,0,0,0,0,0,0,0,0,0,0,0,0,0,0,0,0,0]
[25000,25000,25000,25000,25000,25000,25000,25000,25000,25000,25000,25000,25000,25000,25000,25000,25000,25000,25000,25000,25000,25000,25000,25000,25000,25000,25000,25000,25000,25000,25000,25000,25000,25000,25000,25000,25000,25000,25000,25000,25000,25000,25000,25000,25000,25000,25000,25000,25000,25000,25000,25000,25000,25000,25000,25000,25000,25000,25000,25000,25000,25000,25000,25000,25000,25000,25000,25000,25000,25000,25000,25000,25000,25000,25000,25000,25000,25000,25000,25000,25000,25000,25000,25000,0,0,0,0,25000,25000,25000,25000,25000,25000,25000,25000,0,0,0,0,25000,25000,25000,25000,25000,25000,25000,25000,0,0,0,0,25000,25000,25000,25000,25000,25000,25000,25000,0,0,0,0,25000,25000,25000,25000,25000,25000,25000,25000,0,0,0,0,25000,25000,25000,25000,25000,25000,25000,25000,0,0,0,0,0,0,0,0,25000,25000,25000,25000,0,0,0,0,0,0,0,0,25000,25000,25000,25000,0,0,0,0,0,0,0,0,25000,25000,25000,25000,0,0,0,0,0,0,0,0,25000,25000,25000,25000,0,0,0,0,0,0,0,0,25000,25000,25000,25000,0,0,0,0,0,0,0,0,0,0,0,0,0,0,0,0,0,0,0,0,0,0,0,0,0,0,0,0,0,0,0,0,0,0,0,0,0,0,0,0,0,0,0,0,0,0,0,0,0,0,0,0,0,0,0,0,0,0,0,0,0,0,0,0,0,0,0,0,0,0,0,0,0,0,0,0,0,0,0,0,0,0,0,0,0,0,0,0,0,0,0,0,0,0,0,0,0,0,0,0,0,0,0,0,0,0,0,0]
[0,0,0,0,25000,25000,25000,25000,25000,25000,25000,25000,0,0,0,0,25000,25000,25000,25000,25000,25000,25000,25000,0,0,0,0,25000,25000,25000,25000,25000,25000,25000,25000,0,0,0,0,25000,25000,25000,25000,25000,25000,25000,25000,0,0,0,0,0,0,0,0,25000,25000,25000,25000,0,0,0,0,0,0,0,0,25000,25000,25000,25000,0,0,0,0,0,0,0,0,25000,25000,25000,25000,0,0,0,0,0,0,0,0,25000,25000,25000,25000,0,0,0,0,0,0,0,0,25000,25000,25000,25000,0,0,0,0,0,0,0,0,0,0,0,0,0,0,0,0,0,0,0,0,0,0,0,0,0,0,0,0,0,0,0,0,0,0,0,0,0,0,0,0,0,0,0,0,0,0,0,0,0,0,0,0,0,0,0,0,0,0,0,0,0,0,0,0,0,0,0,0,0,0,0,0,0,0,0,0,0,0,0,0,0,0,0,0,0,0,0,0,0,0,0,0,0,0,0,0,0,0,0,0,0,0,0,0,0,0,0,0,0,0,0,0,0,0,0,0,0,0,0,0,0,0,0,0,0,0,0,0,0,0,0,0,0,0,0,0,0,0,0,0,0,0,0,0,0,0,0,0,0,0,0,0,0,0,0,0,0,0,0,0,0,0,0,0,0,0,0,0,0,0,0,0,0,0,0,0,0,0,0,0,0,0,0,0,0,0,0,0,0,0,0,0,0,0,0,0,0,0,0,0,0,0,0,0]
[0,0,0,0,0,0,0,0,25000,25000,25000,25000,0,0,0,0,0,0,0,0,25000,25000,25000,25000,0,0,0,0,0,0,0,0,25000,25000,25000,25000,0,0,0,0,0,0,0,0,25000,25000,25000,25000,0,0,0,0,0,0,0,0,0,0,0,0,0,0,0,0,0,0,0,0,0,0,0,0,0,0,0,0,0,0,0,0,0,0,0,0,0,0,0,0,0,0,0,0,0,0,0,0,0,0,0,0,0,0,0,0,0,0,0,0,0,0,0,0,0,0,0,0,0,0,0,0,0,0,0,0,0,0,0,0,0,0,0,0,0,0,0,0,0,0,0,0,0,0,0,0,0,0,0,0,0,0,0,0,0,0,0,0,0,0,0,0,0,0,0,0,0,0,0,0,0,0,0,0,0,0,0,0,0,0,0,0,0,0,0,0,0,0,0,0,0,0,0,0,0,0,0,0,0,0,0,0,0,0,0,0,0,0,0,0,0,0,0,0,0,0,0,0,0,0,0,0,0,0,0,0,0,0,0,0,0,0,0,0,0,0,0,0,0,0,0,0,0,0,0,0,0,0,0,0,0,0,0,0,0,0,0,0,0,0,0,0,0,0,0,0,0,0,0,0,0,0,0,0,0,0,0,0,0,0,0,0,0,0,0,0,0,0,0,0,0,0,0,0,0,0,0,0,0,0,0,0,0,0,0,0,0,0,0,0,0,0,0,0]
[0,0,0,0,0,0,0,0,0,0,0,0,0,0,0,0,0,0,0,0,0,0,0,0,0,0,0,0,0,0,0,0,0,0,0,0,0,0,0,0,0,0,0,0,0,0,0,0,0,0,0,0,0,0,0,0,0,0,0,0,0,0,0,0,0,0,0,0,0,0,0,0,0,0,0,0,0,0,0,0,0,0,0,0,0,0,0,0,0,0,0,0,0,0,0,0,0,0,0,0,0,0,0,0,0,0,0,0,0,0,0,0,0,0,0,0,0,0,0,0,0,0,0,0,0,0,0,0,0,0,0,0,0,0,0,0,0,0,0,0,0,0,0,0,0,0,0,0,0,0,0,0,0,0,0,0,0,0,0,0,0,0,0,0,0,0,0,0,0,0,0,0,0,0,0,0,0,0,0,0,0,0,0,0,0,0,0,0,0,0,0,0,0,0,0,0,0,0,0,0,0,0,0,0,0,0,0,0,0,0,0,0,0,0,0,0,0,0,0,0,0,0,0,0,0,0,0,0,0,0,0,0,0,0,0,0,0,0,0,0,0,0,0,0,0,0,0,0,0,0,0,0,0,0,0,0,0,0,0,0,0,0,0,0,0,0,0,0,0,0,0,0,0,0,0,0,0,0,0,0,0,0,0,0,0,0,0,0,0,0,0,0,0,0,0,0,0,0,0,0,0,0,0,0,0,0,0,0,0,0,0,0]
[0,0,0,0,0,0,0,0,0,0,0,0,0,0,0,0,0,0,0,0,0,0,0,0,0,0,0,0,0,0,0,0,0,0,0,0,0,0,0,0,0,0,0,0,0,0,0,0,0,0,0,0,0,0,0,0,0,0,0,0,0,0,0,0,0,0,0,0,0,0,0,0,0,0,0,0,0,0,0,0,0,0,0,0,0,0,0,0,0,0,0,0,0,0,0,0,0,0,0,0,0,0,0,0,0,0,0,0,0,0,0,0,0,0,0,0,0,0,0,0,0,0,0,0,0,0,0,0,0,0,0,0,0,0,0,0,0,0,0,0,0,0,0,0,0,0,0,0,0,0,0,0,0,0,0,0,0,0,0,0,0,0,0,0,0,0,0,0,0,0,0,0,0,0,0,0,0,0,0,0,0,0,0,0,0,0,0,0,0,0,0,0,0,0,0,0,0,0,0,0,0,0,0,0,0,0,0,0,0,0,0,0,0,0,0,0,0,0,0,0,0,0,0,0,0,0,0,0,0,0,0,0,0,0,0,0,0,0,0,0,0,0,0,0,0,0,0,0,0,0,0,0,0,0,0,0,0,0,0,0,0,0,0,0,0,0,0,0,0,0,0,0,0,0,0,0,0,0,0,0,0,0,0,0,0,0,0,0,0,0,0,0,0,0,0,0,0,0,0,0,0,0,0,0,0,0,0,0,0,0,0,0]
[0,0,0,0,0,0,0,0,0,0,0,0,0,0,0,0,0,0,0,0,0,0,0,0,0,0,0,0,0,0,0,0,0,0,0,0,0,0,0,0,0,0,0,0,0,0,0,0,0,0,0,0,0,0,0,0,0,0,0,0,0,0,0,0,0,0,0,0,0,0,0,0,0,0,0,0,0,0,0,0,0,0,0,0,0,0,0,0,0,0,0,0,0,0,0,0,0,0,0,0,0,0,0,0,0,0,0,0,0,0,0,0,0,0,0,0,0,0,0,0,0,0,0,0,0,0,0,0,0,0,0,0,0,0,0,0,0,0,0,0,0,0,0,0,0,0,0,0,0,0,0,0,0,0,0,0,0,0,0,0,0,0,0,0,0,0,0,0,0,0,0,0,0,0,0,0,0,0,0,0,0,0,0,0,0,0,0,0,0,0,0,0,0,0,0,0,0,0,0,0,0,0,0,0,0,0,0,0,0,0,0,0,0,0,0,0,0,0,0,0,0,0,0,0,0,0,0,0,0,0,0,0,0,0,0,0,0,0,0,0,0,0,0,0,0,0,0,0,0,0,0,0,0,0,0,0,0,0,0,0,0,0,0,0,0,0,0,0,0,0,0,0,0,0,0,0,0,0,0,0,0,0,0,0,0,0,0,0,0,0,0,0,0,0,0,0,0,0,0,0,0,0,0,0,0,0,0,0,0,0,0,0]
[0,0,0,0,0,0,0,0,0,0,0,0,0,0,0,0,0,0,0,0,0,0,0,0,0,0,0,0,0,0,0,0,0,0,0,0,0,0,0,0,0,0,0,0,0,0,0,0,0,0,0,0,0,0,0,0,0,0,0,0,0,0,0,0,0,0,0,0,0,0,0,0,0,0,0,0,0,0,0,0,0,0,0,0,0,0,0,0,0,0,0,0,0,0,0,0,0,0,0,0,0,0,0,0,0,0,0,0,0,0,0,0,0,0,0,0,0,0,0,0,0,0,0,0,0,0,0,0,0,0,0,0,0,0,0,0,0,0,0,0,0,0,0,0,0,0,0,0,0,0,0,0,0,0,0,0,0,0,0,0,0,0,0,0,0,0,0,0,0,0,0,0,0,0,0,0,0,0,0,0,0,0,0,0,0,0,0,0,0,0,0,0,0,0,0,0,0,0,0,0,0,0,0,0,0,0,0,0,0,0,0,0,0,0,0,0,0,0,0,0,0,0,0,0,0,0,0,0,0,0,0,0,0,0,0,0,0,0,0,0,0,0,0,0,0,0,0,0,0,0,0,0,0,0,0,0,0,0,0,0,0,0,0,0,0,0,0,0,0,0,0,0,0,0,0,0,0,0,0,0,0,0,0,0,0,0,0,0,0,0,0,0,0,0,0,0,0,0,0,0,0,0,0,0,0,0,0,0,0,0,0,0]
[0,0,0,0,0,0,0,0,0,0,0,0,0,0,0,0,0,0,0,0,0,0,0,0,0,0,0,0,0,0,0,0,0,0,0,0,0,0,0,0,0,0,0,0,0,0,0,0,0,0,0,0,0,0,0,0,0,0,0,0,0,0,0,0,0,0,0,0,0,0,0,0,0,0,0,0,0,0,0,0,0,0,0,0,0,0,0,0,0,0,0,0,0,0,0,0,0,0,0,0,0,0,0,0,0,0,0,0,0,0,0,0,0,0,0,0,0,0,0,0,0,0,0,0,0,0,0,0,0,0,0,0,0,0,0,0,0,0,0,0,0,0,0,0,0,0,0,0,0,0,0,0,0,0,0,0,0,0,0,0,0,0,0,0,0,0,0,0,0,0,0,0,0,0,0,0,0,0,0,0,0,0,0,0,0,0,0,0,0,0,0,0,0,0,0,0,0,0,0,0,0,0,0,0,0,0,0,0,0,0,0,0,0,0,0,0,0,0,0,0,0,0,0,0,0,0,0,0,0,0,0,0,0,0,0,0,0,0,0,0,0,0,0,0,0,0,0,0,0,0,0,0,0,0,0,0,0,0,0,0,0,0,0,0,0,0,0,0,0,0,0,0,0,0,0,0,0,0,0,0,0,0,0,0,0,0,0,0,0,0,0,0,0,0,0,0,0,0,0,0,0,0,0,0,0,0,0,0,0,0,0,0]
[0,0,0,0,0,0,0,0,0,0,0,0,0,0,0,0,0,0,0,0,0,0,0,0,0,0,0,0,0,0,0,0,0,0,0,0,0,0,0,0,0,0,0,0,0,0,0,0,0,0,0,0,0,0,0,0,0,0,0,0,0,0,0,0,0,0,0,0,0,0,0,0,0,0,0,0,0,0,0,0,0,0,0,0,0,0,0,0,0,0,0,0,0,0,0,0,0,0,0,0,0,0,0,0,0,0,0,0,0,0,0,0,0,0,0,0,0,0,0,0,0,0,0,0,0,0,0,0,0,0,0,0,0,0,0,0,0,0,0,0,0,0,0,0,0,0,0,0,0,0,0,0,0,0,0,0,0,0,0,0,0,0,0,0,0,0,0,0,0,0,0,0,0,0,0,0,0,0,0,0,0,0,0,0,0,0,0,0,0,0,0,0,0,0,0,0,0,0,0,0,0,0,0,0,0,0,0,0,0,0,0,0,0,0,0,0,0,0,0,0,0,0,0,0,0,0,0,0,0,0,0,0,0,0,0,0,0,0,0,0,0,0,0,0,0,0,0,0,0,0,0,0,0,0,0,0,0,0,0,0,0,0,0,0,0,0,0,0,0,0,0,0,0,0,0,0,0,0,0,0,0,0,0,0,0,0,0,0,0,0,0,0,0,0,0,0,0,0,0,0,0,0,0,0,0,0,0,0,0,0,0,0]
[0,0,0,0,0,0,0,0,0,0,0,0,0,0,0,0,0,0,0,0,0,0,0,0,0,0,0,0,0,0,0,0,0,0,0,0,0,0,0,0,0,0,0,0,0,0,0,0,0,0,0,0,0,0,0,0,0,0,0,0,0,0,0,0,0,0,0,0,0,0,0,0,0,0,0,0,0,0,0,0,0,0,0,0,0,0,0,0,0,0,0,0,0,0,0,0,0,0,0,0,0,0,0,0,0,0,0,0,0,0,0,0,0,0,0,0,0,0,0,0,0,0,0,0,0,0,0,0,0,0,0,0,0,0,0,0,0,0,0,0,0,0,0,0,0,0,0,0,0,0,0,0,0,0,0,0,0,0,0,0,0,0,0,0,0,0,0,0,0,0,0,0,0,0,0,0,0,0,0,0,0,0,0,0,0,0,0,0,0,0,0,0,0,0,0,0,0,0,0,0,0,0,0,0,0,0,0,0,0,0,0,0,0,0,0,0,0,0,0,0,0,0,0,0,0,0,0,0,0,0,0,0,0,0,0,0,0,0,0,0,0,0,0,0,0,0,0,0,0,0,0,0,0,0,0,0,0,0,0,0,0,0,0,0,0,0,0,0,0,0,0,0,0,0,0,0,0,0,0,0,0,0,0,0,0,0,0,0,0,0,0,0,0,0,0,0,0,0,0,0,0,0,0,0,0,0,0,0,0,0,0,0]
[0,0,0,0,0,0,0,0,0,0,0,0,0,0,0,0,0,0,0,0,0,0,0,0,0,0,0,0,0,0,0,0,0,0,0,0,0,0,0,0,0,0,0,0,0,0,0,0,0,0,0,0,0,0,0,0,0,0,0,0,0,0,0,0,0,0,0,0,0,0,0,0,0,0,0,0,0,0,0,0,0,0,0,0,0,0,0,0,0,0,0,0,0,0,0,0,0,0,0,0,0,0,0,0,0,0,0,0,0,0,0,0,0,0,0,0,0,0,0,0,0,0,0,0,0,0,0,0,0,0,0,0,0,0,0,0,0,0,0,0,0,0,0,0,0,0,0,0,0,0,0,0,0,0,0,0,0,0,0,0,0,0,0,0,0,0,0,0,0,0,0,0,0,0,0,0,0,0,0,0,0,0,0,0,0,0,0,0,0,0,0,0,0,0,0,0,0,0,0,0,0,0,0,0,0,0,0,0,0,0,0,0,0,0,0,0,0,0,0,0,0,0,0,0,0,0,0,0,0,0,0,0,0,0,0,0,0,0,0,0,0,0,0,0,0,0,0,0,0,0,0,0,0,0,0,0,0,0,0,0,0,0,0,0,0,0,0,0,0,0,0,0,0,0,0,0,0,0,0,0,0,0,0,0,0,0,0,0,0,0,0,0,0,0,0,0,0,0,0,0,0,0,0,0,0,0,0,0,0,0,0,0]
[0,0,0,0,0,0,0,0,0,0,0,0,0,0,0,0,0,0,0,0,0,0,0,0,0,0,0,0,0,0,0,0,0,0,0,0,0,0,0,0,0,0,0,0,0,0,0,0,0,0,0,0,0,0,0,0,0,0,0,0,0,0,0,0,0,0,0,0,0,0,0,0,0,0,0,0,0,0,0,0,0,0,0,0,0,0,0,0,0,0,0,0,0,0,0,0,0,0,0,0,0,0,0,0,0,0,0,0,0,0,0,0,0,0,0,0,0,0,0,0,0,0,0,0,0,0,0,0,0,0,0,0,0,0,0,0,0,0,0,0,0,0,0,0,0,0,0,0,0,0,0,0,0,0,0,0,0,0,0,0,0,0,0,0,0,0,0,0,0,0,0,0,0,0,0,0,0,0,0,0,0,0,0,0,0,0,0,0,0,0,0,0,0,0,0,0,0,0,0,0,0,0,0,0,0,0,0,0,0,0,0,0,0,0,0,0,0,0,0,0,0,0,0,0,0,0,0,0,0,0,0,0,0,0,0,0,0,0,0,0,0,0,0,0,0,0,0,0,0,0,0,0,0,0,0,0,0,0,0,0,0,0,0,0,0,0,0,0,0,0,0,0,0,0,0,0,0,0,0,0,0,0,0,0,0,0,0,0,0,0,0,0,0,0,0,0,0,0,0,0,0,0,0,0,0,0,0,0,0,0,0,0]
[0,0,0,0,0,0,0,0,0,0,0,0,0,0,0,0,0,0,0,0,0,0,0,0,0,0,0,0,0,0,0,0,0,0,0,0,0,0,0,0,0,0,0,0,0,0,0,0,0,0,0,0,0,0,0,0,0,0,0,0,0,0,0,0,0,0,0,0,0,0,0,0,0,0,0,0,0,0,0,0,0,0,0,0,0,0,0,0,0,0,0,0,0,0,0,0,0,0,0,0,0,0,0,0,0,0,0,0,0,0,0,0,0,0,0,0,0,0,0,0,0,0,0,0,0,0,0,0,0,0,0,0,0,0,0,0,0,0,0,0,0,0,0,0,0,0,0,0,0,0,0,0,0,0,0,0,0,0,0,0,0,0,0,0,0,0,0,0,0,0,0,0,0,0,0,0,0,0,0,0,0,0,0,0,0,0,0,0,0,0,0,0,0,0,0,0,0,0,0,0,0,0,0,0,0,0,0,0,0,0,0,0,0,0,0,0,0,0,0,0,0,0,0,0,0,0,0,0,0,0,0,0,0,0,0,0,0,0,0,0,0,0,0,0,0,0,0,0,0,0,0,0,0,0,0,0,0,0,0,0,0,0,0,0,0,0,0,0,0,0,0,0,0,0,0,0,0,0,0,0,0,0,0,0,0,0,0,0,0,0,0,0,0,0,0,0,0,0,0,0,0,0,0,0,0,0,0,0,0,0,0,0]
[0,0,0,0,0,0,0,0,0,0,0,0,0,0,0,0,0,0,0,0,0,0,0,0,0,0,0,0,0,0,0,0,0,0,0,0,0,0,0,0,0,0,0,0,0,0,0,0,0,0,0,0,0,0,0,0,0,0,0,0,0,0,0,0,0,0,0,0,0,0,0,0,0,0,0,0,0,0,0,0,0,0,0,0,0,0,0,0,0,0,0,0,0,0,0,0,0,0,0,0,0,0,0,0,0,0,0,0,0,0,0,0,0,0,0,0,0,0,0,0,0,0,0,0,0,0,0,0,0,0,0,0,0,0,0,0,0,0,0,0,0,0,0,0,0,0,0,0,0,0,0,0,0,0,0,0,0,0,0,0,0,0,0,0,0,0,0,0,0,0,0,0,0,0,0,0,0,0,0,0,0,0,0,0,0,0,0,0,0,0,0,0,0,0,0,0,0,0,0,0,0,0,0,0,0,0,0,0,0,0,0,0,0,0,0,0,0,0,0,0,0,0,0,0,0,0,0,0,0,0,0,0,0,0,0,0,0,0,0,0,0,0,0,0,0,0,0,0,0,0,0,0,0,0,0,0,0,0,0,0,0,0,0,0,0,0,0,0,0,0,0,0,0,0,0,0,0,0,0,0,0,0,0,0,0,0,0,0,0,0,0,0,0,0,0,0,0,0,0,0,0,0,0,0,0,0,0,0,0,0,0,0]
[0,0,0,0,0,0,0,0,0,0,0,0,0,0,0,0,0,0,0,0,0,0,0,0,0,0,0,0,0,0,0,0,0,0,0,0,0,0,0,0,0,0,0,0,0,0,0,0,0,0,0,0,0,0,0,0,0,0,0,0,0,0,0,0,0,0,0,0,0,0,0,0,0,0,0,0,0,0,0,0,0,0,0,0,0,0,0,0,0,0,0,0,0,0,0,0,0,0,0,0,0,0,0,0,0,0,0,0,0,0,0,0,0,0,0,0,0,0,0,0,0,0,0,0,0,0,0,0,0,0,0,0,0,0,0,0,0,0,0,0,0,0,0,0,0,0,0,0,0,0,0,0,0,0,0,0,0,0,0,0,0,0,0,0,0,0,0,0,0,0,0,0,0,0,0,0,0,0,0,0,0,0,0,0,0,0,0,0,0,0,0,0,0,0,0,0,0,0,0,0,0,0,0,0,0,0,0,0,0,0,0,0,0,0,0,0,0,0,0,0,0,0,0,0,0,0,0,0,0,0,0,0,0,0,0,0,0,0,0,0,0,0,0,0,0,0,0,0,0,0,0,0,0,0,0,0,0,0,0,0,0,0,0,0,0,0,0,0,0,0,0,0,0,0,0,0,0,0,0,0,0,0,0,0,0,0,0,0,0,0,0,0,0,0,0,0,0,0,0,0,0,0,0,0,0,0,0,0,0,0,0,0]
[0,0,0,0,0,0,0,0,0,0,0,0,0,0,0,0,0,0,0,0,0,0,0,0,0,0,0,0,0,0,0,0,0,0,0,0,0,0,0,0,0,0,0,0,0,0,0,0,0,0,0,0,0,0,0,0,0,0,0,0,0,0,0,0,0,0,0,0,0,0,0,0,0,0,0,0,0,0,0,0,0,0,0,0,0,0,0,0,0,0,0,0,0,0,0,0,0,0,0,0,0,0,0,0,0,0,0,0,0,0,0,0,0,0,0,0,0,0,0,0,0,0,0,0,0,0,0,0,0,0,0,0,0,0,0,0,0,0,0,0,0,0,0,0,0,0,0,0,0,0,0,0,0,0,0,0,0,0,0,0,0,0,0,0,0,0,0,0,0,0,0,0,0,0,0,0,0,0,0,0,0,0,0,0,0,0,0,0,0,0,0,0,0,0,0,0,0,0,0,0,0,0,0,0,0,0,0,0,0,0,0,0,0,0,0,0,0,0,0,0,0,0,0,0,0,0,0,0,0,0,0,0,0,0,0,0,0,0,0,0,0,0,0,0,0,0,0,0,0,0,0,0,0,0,0,0,0,0,0,0,0,0,0,0,0,0,0,0,0,0,0,0,0,0,0,0,0,0,0,0,0,0,0,0,0,0,0,0,0,0,0,0,0,0,0,0,0,0,0,0,0,0,0,0,0,0,0,0,0,0,0,0]
[]
[]
[]
[]
[]
[]
[]
[]
[]
[]
[]
[]
[]
[]
[]
[]
[]
[]
[]
[]
[]
[]
[]
[]
[]
[]
[]
[]
[]
[]
[]
[]
[]
[]
[]
[]
[]
["Outlay","Outlay","Outlay","Outlay","Outlay","Outlay","Outlay","Outlay","Outlay","Outlay","Outlay","Outlay","Outlay","Outlay","Outlay","Outlay","Outlay","Outlay","Outlay","Outlay","Outlay","Outlay","Outlay","Outlay","Outlay","Outlay","Outlay","Outlay","Outlay","Outlay","Outlay","Outlay","Outlay","Outlay","Outlay","Outlay","Outlay","Outlay","Outlay","Outlay","Outlay","Outlay","Outlay","Outlay","Outlay","Outlay","Outlay","Outlay","Outlay","Outlay","Outlay","Outlay","Outlay","Outlay","Outlay","Outlay","Outlay","Outlay","Outlay","Outlay","Outlay","Outlay","Outlay","Outlay","Outlay","Outlay","Outlay","Outlay","Outlay","Outlay","Outlay","Outlay","Outlay","Outlay","Outlay","Outlay","Outlay","Outlay","Outlay","Outlay","Outlay","Outlay","Outlay","Outlay","Outlay","Outlay","Outlay","Outlay","Outlay","Outlay","Outlay","Outlay","Outlay","Outlay","Outlay","Outlay","Outlay","Outlay","Outlay","Outlay","Outlay","Outlay","Outlay","Outlay","Outlay","Outlay","Outlay","Outlay","Outlay","Outlay","Outlay","Outlay","Outlay","Outlay","Outlay","Outlay","Outlay","Outlay","Outlay","Outlay","Outlay","Outlay","Outlay","Outlay","Outlay","Outlay","Outlay","Outlay","Outlay","Outlay","Outlay","Outlay","Outlay","Outlay","Outlay","Outlay","Outlay","Outlay","Outlay","Outlay","Outlay","Outlay","Outlay","Outlay","Outlay","Outlay","Outlay","Outlay","Outlay","Outlay","Outlay","Outlay","Outlay","Outlay","Outlay","Outlay","Outlay","Outlay","Outlay","Outlay","Outlay","Outlay","Outlay","Outlay","Outlay","Outlay","Outlay","Outlay","Outlay","Outlay","Outlay","Outlay","Outlay","Outlay","Outlay","Outlay","Outlay","Outlay","Outlay","Outlay","Outlay","Outlay","Outlay","Outlay","Outlay","Outlay","Outlay","Outlay","Outlay","Outlay","Outlay","Outlay","Outlay","Outlay","Outlay","Outlay","Outlay","Outlay","Outlay","Outlay","Outlay","Outlay","Outlay","Outlay","Outlay","Outlay","Outlay","Outlay","Outlay","Outlay","Outlay","Outlay","Outlay","Outlay","Outlay","Outlay","Outlay","Outlay","Outlay","Outlay","Outlay","Outlay","Outlay","Outlay","Outlay","Outlay","Outlay","Outlay","Outlay","Outlay","Outlay","Outlay","Outlay","Outlay","Outlay","Outlay","Outlay","Outlay","Outlay","Outlay","Outlay","Outlay","Outlay","Outlay","Outlay","Outlay","Outlay","Outlay","Outlay","Outlay","Outlay","Outlay","Outlay","Outlay","Outlay","Outlay","Outlay","Outlay","Outlay","Outlay","Outlay","Outlay","Outlay","Outlay","Outlay","Outlay","Outlay","Outlay","Outlay","Outlay","Outlay","Outlay","Outlay","Outlay","Outlay","Outlay","Outlay","Outlay","Outlay","Outlay","Outlay","Outlay","Outlay","Outlay","Outlay","Outlay","Outlay","Outlay","Outlay","Outlay","Outlay","Outlay","Outlay","Outlay","Outlay","Outlay","Outlay","Outlay","Outlay","Outlay","Outlay","Outlay","Outlay","Outlay","Outlay","Outlay","Outlay","Outlay","Outlay","Outlay","Outlay","Outlay"]
[-25000,-25000,-25000,-25000,-25000,-25000,-25000,-25000,-25000,-25000,-25000,-25000,-25000,-25000,-25000,-25000,-25000,-25000,-25000,-25000,-25000,-25000,-25000,-25000,-25000,-25000,-25000,-25000,-25000,-25000,-25000,-25000,-25000,-25000,-25000,-25000,-25000,-25000,-25000,-25000,-25000,-25000,-25000,-25000,-25000,-25000,-25000,-25000,-25000,-25000,-25000,-25000,-25000,-25000,-25000,-25000,-25000,-25000,-25000,-25000,-25000,-25000,-25000,-25000,-25000,-25000,-25000,-25000,-25000,-25000,-25000,-25000,-25000,-25000,-25000,-25000,-25000,-25000,-25000,-25000,-25000,-25000,-25000,-25000,-25000,-25000,-25000,-25000,-25000,-25000,-25000,-25000,-25000,-25000,-25000,-25000,-25000,-25000,-25000,-25000,-25000,-25000,-25000,-25000,-25000,-25000,-25000,-25000,-25000,-25000,-25000,-25000,-25000,-25000,-25000,-25000,-25000,-25000,-25000,-25000,-25000,-25000,-25000,-25000,-25000,-25000,-25000,-25000,-25000,-25000,-25000,-25000,-25000,-25000,-25000,-25000,-25000,-25000,-25000,-25000,-25000,-25000,-25000,-25000,-25000,-25000,-25000,-25000,-25000,-25000,-25000,-25000,-25000,-25000,-25000,-25000,-25000,-25000,-25000,-25000,-25000,-25000,-25000,-25000,-25000,-25000,-25000,-25000,-25000,-25000,-25000,-25000,-25000,-25000,-25000,-25000,-25000,-25000,-25000,-25000,-25000,-25000,-25000,-25000,-25000,-25000,-25000,-25000,-25000,-25000,-25000,-25000,-25000,-25000,-25000,-25000,-25000,-25000,-25000,-25000,-25000,-25000,-25000,-25000,-25000,-25000,-25000,-25000,-25000,-25000,-25000,-25000,-25000,-25000,-25000,-25000,-25000,-25000,-25000,-25000,-25000,-25000,-25000,-25000,-25000,-25000,-25000,-25000,-25000,-25000,-25000,-25000,-25000,-25000,-25000,-25000,-25000,-25000,-25000,-25000,-25000,-25000,-25000,-25000,-25000,-25000,-25000,-25000,-25000,-25000,-25000,-25000,-25000,-25000,-25000,-25000,-25000,-25000,-25000,-25000,-25000,-25000,-25000,-25000,-25000,-25000,-25000,-25000,-25000,-25000,-25000,-25000,-25000,-25000,-25000,-25000,-25000,-25000,-25000,-25000,-25000,-25000,-25000,-25000,-25000,-25000,-25000,-25000,-25000,-25000,-25000,-25000,-25000,-25000,-25000,-25000,-25000,-25000,-25000,-25000,-25000,-25000,-25000,-25000,-25000,-25000,-25000,-25000,-25000,-25000,-25000,-25000]
[-25000,-25000,-25000,-25000,-25000,-25000,-25000,-25000,-25000,-25000,-25000,-25000,-25000,-25000,-25000,-25000,-25000,-25000,-25000,-25000,-25000,-25000,-25000,-25000,-25000,-25000,-25000,-25000,-25000,-25000,-25000,-25000,-25000,-25000,-25000,-25000,-25000,-25000,-25000,-25000,-25000,-25000,-25000,-25000,-25000,-25000,-25000,-25000,-25000,-25000,-25000,-25000,-25000,-25000,-25000,-25000,-25000,-25000,-25000,-25000,-25000,-25000,-25000,-25000,-25000,-25000,-25000,-25000,-25000,-25000,-25000,-25000,-25000,-25000,-25000,-25000,-25000,-25000,-25000,-25000,-25000,-25000,-25000,-25000,-25000,-25000,-25000,-25000,-25000,-25000,-25000,-25000,-25000,-25000,-25000,-25000,-25000,-25000,-25000,-25000,-25000,-25000,-25000,-25000,-25000,-25000,-25000,-25000,-25000,-25000,-25000,-25000,-25000,-25000,-25000,-25000,-25000,-25000,-25000,-25000,-25000,-25000,-25000,-25000,-25000,-25000,-25000,-25000,-25000,-25000,-25000,-25000,-25000,-25000,-25000,-25000,-25000,-25000,-25000,-25000,-25000,-25000,-25000,-25000,-25000,-25000,-25000,-25000,-25000,-25000,-25000,-25000,-25000,-25000,-25000,-25000,-25000,-25000,-25000,-25000,-25000,-25000,-25000,-25000,-25000,-25000,-25000,-25000,-25000,-25000,-25000,-25000,-25000,-25000,-25000,-25000,-25000,-25000,-25000,-25000,-25000,-25000,-25000,-25000,-25000,-25000,-25000,-25000,-25000,-25000,-25000,-25000,-25000,-25000,-25000,-25000,-25000,-25000,-25000,-25000,-25000,-25000,-25000,-25000,-25000,-25000,-25000,-25000,-25000,-25000,-25000,-25000,-25000,-25000,-25000,-25000,-25000,-25000,-25000,-25000,-25000,-25000,-25000,-25000,-25000,-25000,-25000,-25000,34952.92,131315.34,21546.25,123264.23,-25000,-25000,-25000,-25000,-25000,-25000,-25000,-25000,30502.21,18101.78,18838.18,11270.31,-25000,-25000,-25000,-25000,-25000,-25000,-25000,-25000,26359.38,15195.29,16312.41,9478.01,-25000,-25000,-25000,-25000,-25000,-25000,-25000,-25000,22448.82,12536.74,13916.42,7827.02,-25000,-25000,-25000,-25000,-25000,-25000,-25000,-25000,18761.53,9958.0400000000009,11653.69,6296.04,-25000,-25000,-25000,-25000,-25000,-25000,-25000,-25000,18580.490000000002,9770.85,11564.04,6198.45,33632.15,129989.34,20719.07,122425.13,-25000,-25000,-25000,-25000,18409.95,9608.2900000000009,11489.61,6112.26,29346.53,16930.400000000001,18126.68,10540.1,-25000,-25000,-25000,-25000]
[-25000,-25000,-25000,-25000,-25000,-25000,-25000,-25000,-25000,-25000,-25000,-25000,-25000,-25000,-25000,-25000,-25000,-25000,-25000,-25000,-25000,-25000,-25000,-25000,-25000,-25000,-25000,-25000,-25000,-25000,-25000,-25000,-25000,-25000,-25000,-25000,-25000,-25000,-25000,-25000,-25000,-25000,-25000,-25000,-25000,-25000,-25000,-25000,-25000,-25000,-25000,-25000,-25000,-25000,-25000,-25000,-25000,-25000,-25000,-25000,-25000,-25000,-25000,-25000,-25000,-25000,-25000,-25000,-25000,-25000,-25000,-25000,-25000,-25000,-25000,-25000,-25000,-25000,-25000,-25000,-25000,-25000,-25000,-25000,-25000,-25000,-25000,-25000,-25000,-25000,-25000,-25000,-25000,-25000,-25000,-25000,-25000,-25000,-25000,-25000,-25000,-25000,-25000,-25000,-25000,-25000,-25000,-25000,-25000,-25000,-25000,-25000,-25000,-25000,-25000,-25000,-25000,-25000,-25000,-25000,-25000,-25000,-25000,-25000,-25000,-25000,-25000,-25000,-25000,-25000,-25000,-25000,-25000,-25000,-25000,-25000,-25000,-25000,-25000,-25000,-25000,-25000,-25000,-25000,-25000,-25000,-25000,-25000,-25000,-25000,-25000,-25000,-25000,-25000,-25000,-25000,65987.64,215389.35,40546.230000000003,198072.51,-25000,-25000,-25000,-25000,-25000,-25000,-25000,-25000,60330.94,40929.230000000003,37042.17,25309.47,-25000,-25000,-25000,-25000,-25000,-25000,-25000,-25000,54923.98,36704.26,33691.01,22699.08,-25000,-25000,-25000,-25000,-25000,-25000,-25000,-25000,49659.06,32492.53,30470.52,20125.66,-25000,-25000,-25000,-25000,-25000,-25000,-25000,-25000,44555.34,28519.56,27374.3,17695.29,-25000,-25000,-25000,-25000,-25000,-25000,-25000,-25000,39638.79,24786.29,24394.400000000001,15404.38,64289.84,213827.03,39536.910000000003,197060.21,-25000,-25000,-25000,-25000,34952.92,21315.34,21546.25,13264.23,58565.65,39311.07,35981.730000000003,24253.91,-25000,-25000,-25000,-25000,30502.21,18101.78,18838.18,11270.31,53112.07,35061.79,32597.47,21609.53,-25000,-25000,-25000,-25000,26359.38,15195.29,16312.41,9478.01,47955.6,30891.59,29415.99,19078.55,-25000,-25000,-25000,-25000,22448.82,12536.74,13916.42,7827.02,42980.18,26977.65,26370.95,16703.09,-25000,-25000,-25000,-25000,0,0,11653.69,6296.03,38190.480000000003,23349.200000000001,23471.01,14485.75,61647.33,211110.51,37963.65,195412.27,0,0,11564.04,6198.45,33632.15,19989.34,20719.07,12425.13,56104.72,36787.4,34517.82,22716.33,0,0,11489.61,6112.26,29346.53,16930.400000000001,18126.68,10540.1,50886.41,32780.42,31279.45,20221.38]
[-25000,-25000,-25000,-25000,-25000,-25000,-25000,-25000,-25000,-25000,-25000,-25000,-25000,-25000,-25000,-25000,-25000,-25000,-25000,-25000,-25000,-25000,-25000,-25000,-25000,-25000,-25000,-25000,-25000,-25000,-25000,-25000,-25000,-25000,-25000,-25000,-25000,-25000,-25000,-25000,-25000,-25000,-25000,-25000,-25000,-25000,-25000,-25000,-25000,-25000,-25000,-25000,-25000,-25000,-25000,-25000,-25000,-25000,-25000,-25000,-25000,-25000,-25000,-25000,-25000,-25000,-25000,-25000,-25000,-25000,-25000,-25000,-25000,-25000,-25000,-25000,-25000,-25000,-25000,-25000,-25000,-25000,-25000,-25000,-25000,-25000,-25000,-25000,-25000,-25000,-25000,-25000,-25000,-25000,-25000,-25000,98286.52,291654.18,60575.18,264369.94,-25000,-25000,-25000,-25000,-25000,-25000,-25000,-25000,91244.23,65820.94,56201,40742.75,-25000,-25000,-25000,-25000,-25000,-25000,-25000,-25000,84503.65,60285.84,52024.04,37308.47,-25000,-25000,-25000,-25000,-25000,-25000,-25000,-25000,78067.56,55054.18,48033.54,34063.61,-25000,-25000,-25000,-25000,-25000,-25000,-25000,-25000,71897.11,50094.89,44210.15,30989.18,-25000,-25000,-25000,-25000,-25000,-25000,-25000,-25000,65987.64,45389.35,40546.230000000003,28072.51,97237.83,290689.15000000002,60014.89,263781.90999999997,-25000,-25000,-25000,-25000,60330.94,40929.230000000003,37042.17,25309.47,90007.91,64691.95,55519.13,40038.839999999997,-25000,-25000,-25000,-25000,54923.98,36704.26,33691.01,22699.08,83106.58,58987.19,51222.69,36487.97,-25000,-25000,-25000,-25000,49659.06,32492.53,30470.52,20125.66,76547.850000000006,53654.52,47155.82,33170.21,-25000,-25000,-25000,-25000,44555.34,28519.56,27374.3,17695.29,70293.42,48624.3,43270.62,30046.15,-25000,-25000,-25000,-25000,0,0,24394.400000000001,15404.38,64289.84,43827.03,39536.910000000003,27060.21,94550.58,287940.49,58443.92,262129.79,0,0,21546.25,13264.23,58565.65,39311.07,35981.730000000003,24253.91,87172.15,61776.34,53845.08,38285.15,0,0,18838.18,11270.31,53112.07,35061.79,32597.47,21609.53,80139.009999999995,55956.66,49468.36,34660.33,0,0,16312.41,9478.01,47955.6,30891.59,29415.99,19078.55,73646.36,50686.54,45428.57,31375.52,0,0,13916.42,7827.02,42980.18,26977.65,26370.95,16703.09,67487.14,45749.01,41595.68,28295.63,0,0,11653.69,6296.04,0,0,23471.01,14485.75,61647.33,41110.51,37963.65,25412.27,0,0,11564.04,6198.45,0,0,20719.07,12425.13,56104.72,36787.4,34517.82,22716.33,0,0,11489.61,6112.26,0,0,18126.68,10540.1,50886.41,32780.42,31279.45,20221.38]
[-25000,-25000,-25000,-25000,-25000,-25000,-25000,-25000,-25000,-25000,-25000,-25000,-25000,-25000,-25000,-25000,-25000,-25000,-25000,-25000,-25000,-25000,-25000,-25000,-25000,-25000,-25000,-25000,-25000,-25000,-25000,-25000,-25000,-25000,-25000,-25000,139084.56,376376.01,85900.03,335957.26,-25000,-25000,-25000,-25000,-25000,-25000,-25000,-25000,130198.86,98699.16,80376.45,61182.81,-25000,-25000,-25000,-25000,-25000,-25000,-25000,-25000,121679.44,91405.34,75087.539999999994,56643.8,-25000,-25000,-25000,-25000,-25000,-25000,-25000,-25000,113522.26,84464.7,70026.05,52335.44,-25000,-25000,-25000,-25000,-25000,-25000,-25000,-25000,105728.35,77880.38,65189.67,48244.71,-25000,-25000,-25000,-25000,-25000,-25000,-25000,-25000,98286.52,71654.179999999993,60575.18,44369.94,138237.67000000001,375593.27,85501.67,335510.94,-25000,-25000,-25000,-25000,91244.23,65820.94,56201,40742.75,129393.11,97962.44,79992.3,60754.43,-25000,-25000,-25000,-25000,84503.65,60285.84,52024.04,37308.47,120931.99,90732.98,74746.259999999995,56259.24,-25000,-25000,-25000,-25000,78067.56,55054.18,48033.54,34063.61,112699.55,83713.75,69620.009999999995,51890.87,-25000,-25000,-25000,-25000,71897.11,50094.89,44210.15,30989.18,104806.67,77038.649999999994,64715.11,47733.13,-25000,-25000,-25000,-25000,0,0,40546.230000000003,28072.51,97237.83,70689.149999999994,60014.89,43781.91,136636.39000000001,373895.56,84662.61,334555.90000000002,0,0,37042.17,25309.47,90007.91,64691.95,55519.13,40038.839999999997,127507.32,95994.97,78970.22,59627.8,0,0,33691.01,22699.08,83106.58,58987.19,51222.69,36487.97,118751.31,88465.5,73523.009999999995,54941.4,0,0,30470.52,20125.66,76547.850000000006,53654.52,47155.82,33170.21,110344.67,81274.429999999993,68280.92,50451.63,0,0,27374.3,17695.29,70293.42,48624.3,43270.62,30046.15,102295.14,74466.740000000005,63274.15,46195.21,0,0,24394.400000000001,15404.38,0,0,39536.910000000003,27060.21,94550.58,67940.490000000005,58443.92,42129.79,0,0,21546.25,13264.23,0,0,35981.730000000003,24253.91,87172.15,61776.34,53845.08,38285.15,0,0,18838.18,11270.31,0,0,32597.47,21609.53,80139.009999999995,55956.66,49468.36,34660.33,0,0,16312.41,9478.01,0,0,29415.99,19078.55,73646.36,50686.54,45428.57,31375.52,0,0,13916.42,7827.02,0,0,26370.95,16703.09,67487.14,45749.01,41595.68,28295.63,0,0,0,0,0,0,23471.01,14485.75,0,0,37963.65,25412.27,0,0,0,0,0,0,20719.07,12425.13,0,0,34517.82,22716.33,0,0,0,0,0,0,18126.68,10540.1,0,0,31279.45,20221.38]
[168153.62,131787.26999999999,103964.88,81761.240000000005,-25000,-25000,-25000,-25000,-25000,-25000,-25000,-25000,158048.07,122901.46,97680.66,76237.03,213395.53,512139.19,132264.70000000001,446967.08,-25000,-25000,-25000,-25000,148362.29999999999,114439.5,91664.23,70974.7,201193.25,161187.47,124674.45,100145.15,-25000,-25000,-25000,-25000,139084.56,106376.01,85900.03,65957.259999999995,189524.92,150742.09,117413.85,93637.66,-25000,-25000,-25000,-25000,130198.86,98699.16,80376.45,61182.81,178323.36,140777.73000000001,110452.15,87431.82,-25000,-25000,-25000,-25000,121679.44,91405.34,75087.539999999994,56643.8,167615.82999999999,131290.21,103788,81526.12,-25000,-25000,-25000,-25000,0,0,70026.05,52335.44,157386.76999999999,122277.77,97413.16,75909.64,212234.18,510882.58,130516.33,445295.31,0,0,65189.67,48244.71,147600.37,113726.07,91321.72,70581.289999999994,199925.76000000001,159800.85,123059.63,98601.51,0,0,60575.18,44369.94,138237.67000000001,105593.27,85501.67,65510.94,188157.2,149276.88,115941.08,92234.14,0,0,56201,40742.75,129393.11,97962.44,79992.3,60754.43,177019.87,139377.66,109193.9,86240.6,0,0,52024.04,37308.47,120931.99,90732.98,74746.259999999995,56259.24,166470.07,130054.54,102789.4,80592.429999999993,0,0,48033.54,34063.61,0,0,69620.009999999995,51890.87,156116.23000000001,120922.81,96509.8,75071.570000000007,0,0,44210.15,30989.18,0,0,64715.11,47733.13,146182.15,112214.97,90486.63,69750.600000000006,0,0,40546.230000000003,28072.51,0,0,60014.89,43781.91,136636.39000000001,103895.56,84662.61,64555.9,0,0,37042.17,25309.47,0,0,55519.13,40038.839999999997,127507.32,95994.97,78970.22,59627.8,0,0,33691.01,22699.08,0,0,51222.69,36487.97,118751.31,88465.5,73523.009999999995,54941.4,0,0,0,0,0,0,47155.82,33170.21,0,0,68280.92,50451.63,0,0,0,0,0,0,43270.62,30046.15,0,0,63274.15,46195.21,0,0,0,0,0,0,39536.910000000003,27060.21,0,0,58443.92,42129.79,0,0,0,0,0,0,35981.730000000003,24253.91,0,0,53845.08,38285.15,0,0,0,0,0,0,32597.47,21609.53,0,0,49468.36,34660.33,0,0,0,0,0,0,0,0,0,0,45428.57,31375.52,0,0,0,0,0,0,0,0,0,0,41595.68,28295.63,0,0,0,0,0,0,0,0,0,0,37963.65,25412.27,0,0,0,0,0,0,0,0,0,0,34517.82,22716.33,0,0,0,0,0,0,0,0,0,0,31279.45,20221.38]
[168153.62,131787.26999999999,103964.88,81761.240000000005,226113.77,183618.76,140187.74,114121.49,-25000,-25000,-25000,-25000,0,0,97680.66,76237.03,213395.53,172139.19,132264.70000000001,106967.08,282670.74,625126.29,173197.97,534162.81000000006,0,0,91664.23,70974.7,201193.25,161187.47,124674.45,100145.15,267318.59000000003,221014.01,163902.13,135623.67999999999,0,0,85900.03,65957.259999999995,189524.92,150742.09,117413.85,93637.66,252621.67,207566.1,155006.99,127487.27,0,0,80376.45,61182.81,178323.36,140777.73000000001,110452.15,87431.82,238565.89,194746.53,146478.68,119726.45,0,0,75087.539999999994,56643.8,167615.82999999999,131290.21,103788,81526.12,225101.56,182516.56,138319.6,112331.05,0,0,70026.05,52335.44,0,0,97413.16,75909.64,212234.18,170882.58,130516.33,105295.31,0,0,65189.67,48244.71,0,0,91321.72,70581.289999999994,199925.76000000001,159800.85,123059.63,98601.51,0,0,60575.18,44369.94,0,0,85501.67,65510.94,188157.2,149276.88,115941.08,92234.14,0,0,56201,40742.75,0,0,79992.3,60754.43,177019.87,139377.66,109193.9,86240.6,0,0,52024.04,37308.47,0,0,74746.259999999995,56259.24,166470.07,130054.54,102789.4,80592.429999999993,0,0,0,0,0,0,69620.009999999995,51890.87,0,0,96509.8,75071.570000000007,0,0,0,0,0,0,64715.11,47733.13,0,0,90486.63,69750.600000000006,0,0,0,0,0,0,60014.89,43781.91,0,0,84662.61,64555.9,0,0,0,0,0,0,55519.13,40038.839999999997,0,0,78970.22,59627.8,0,0,0,0,0,0,51222.69,36487.97,0,0,73523.009999999995,54941.4,0,0,0,0,0,0,0,0,0,0,68280.92,50451.63,0,0,0,0,0,0,0,0,0,0,63274.15,46195.21,0,0,0,0,0,0,0,0,0,0,58443.92,42129.79,0,0,0,0,0,0,0,0,0,0,53845.08,38285.15,0,0,0,0,0,0,0,0,0,0,49468.36,34660.33,0,0,0,0,0,0,0,0,0,0,0,0,0,0,0,0,0,0,0,0,0,0,0,0,0,0,0,0,0,0,0,0,0,0,0,0,0,0,0,0,0,0,0,0,0,0,0,0,0,0,0,0,0,0,0,0,0,0,0,0]
[0,0,103964.88,81761.240000000005,226113.77,183618.76,140187.74,114121.49,298708.59000000003,649933.32999999996,182907.55,553108.35,0,0,97680.66,76237.03,213395.53,172139.19,132264.70000000001,106967.08,282670.74,235126.29,173197.97,144162.81,0,0,91664.23,70974.7,201193.25,161187.47,124674.45,100145.15,267318.59000000003,221014.01,163902.13,135623.67999999999,0,0,85900.03,65957.259999999995,189524.92,150742.09,117413.85,93637.66,252621.67,207566.1,155006.99,127487.27,0,0,80376.45,61182.81,178323.36,140777.73000000001,110452.15,87431.82,238565.89,194746.53,146478.68,119726.45,0,0,75087.539999999994,56643.8,0,0,103788,81526.12,225101.56,182516.56,138319.6,112331.05,0,0,70026.05,52335.44,0,0,97413.16,75909.64,212234.18,170882.58,130516.33,105295.31,0,0,65189.67,48244.71,0,0,91321.72,70581.289999999994,199925.76000000001,159800.85,123059.63,98601.51,0,0,60575.18,44369.94,0,0,85501.67,65510.94,188157.2,149276.88,115941.08,92234.14,0,0,56201,40742.75,0,0,79992.3,60754.43,177019.87,139377.66,109193.9,86240.6,0,0,0,0,0,0,74746.259999999995,56259.24,0,0,102789.4,80592.429999999993,0,0,0,0,0,0,69620.009999999995,51890.87,0,0,96509.8,75071.570000000007,0,0,0,0,0,0,64715.11,47733.13,0,0,90486.63,69750.600000000006,0,0,0,0,0,0,60014.89,43781.91,0,0,84662.61,64555.9,0,0,0,0,0,0,55519.13,40038.839999999997,0,0,78970.22,59627.8,0,0,0,0,0,0,0,0,0,0,73523.009999999995,54941.4,0,0,0,0,0,0,0,0,0,0,68280.92,50451.63,0,0,0,0,0,0,0,0,0,0,63274.15,46195.21,0,0,0,0,0,0,0,0,0,0,58443.92,42129.79,0,0,0,0,0,0,0,0,0,0,53845.08,38285.15,0,0,0,0,0,0,0,0,0,0,0,0,0,0,0,0,0,0,0,0,0,0,0,0,0,0,0,0,0,0,0,0,0,0,0,0,0,0,0,0,0,0,0,0,0,0,0,0,0,0,0,0,0,0,0,0,0,0,0,0,0,0,0,0,0,0,0,0,0,0,0,0]
[0,0,103964.88,81761.240000000005,0,0,140187.74,114121.49,298708.59000000003,249933.33,182907.55,153108.35,0,0,97680.66,76237.03,0,0,132264.70000000001,106967.08,282670.74,235126.29,173197.97,144162.81,0,0,91664.23,70974.7,0,0,124674.45,100145.15,267318.59000000003,221014.01,163902.13,135623.67999999999,0,0,85900.03,65957.259999999995,0,0,117413.85,93637.66,252621.67,207566.1,155006.99,127487.27,0,0,80376.45,61182.81,0,0,110452.15,87431.82,238565.89,194746.53,146478.68,119726.45,0,0,0,0,0,0,103788,81526.12,0,0,138319.6,112331.05,0,0,0,0,0,0,97413.16,75909.64,0,0,130516.33,105295.31,0,0,0,0,0,0,91321.72,70581.289999999994,0,0,123059.63,98601.51,0,0,0,0,0,0,85501.67,65510.94,0,0,115941.08,92234.14,0,0,0,0,0,0,79992.3,60754.43,0,0,109193.9,86240.6,0,0,0,0,0,0,0,0,0,0,102789.4,80592.429999999993,0,0,0,0,0,0,0,0,0,0,96509.8,75071.570000000007,0,0,0,0,0,0,0,0,0,0,90486.63,69750.600000000006,0,0,0,0,0,0,0,0,0,0,84662.61,64555.9,0,0,0,0,0,0,0,0,0,0,78970.22,59627.8,0,0,0,0,0,0,0,0,0,0,0,0,0,0,0,0,0,0,0,0,0,0,0,0,0,0,0,0,0,0,0,0,0,0,0,0,0,0,0,0,0,0,0,0,0,0,0,0,0,0,0,0,0,0,0,0,0,0,0,0,0,0,0,0,0,0,0,0,0,0,0,0,0,0,0,0,0,0,0,0,0,0,0,0,0,0,0,0,0,0,0,0,0,0,0,0,0,0,0,0,0,0,0,0,0,0,0,0,0,0,0,0,0,0,0,0,0,0,0,0,0,0,0,0,0,0,0,0,0,0,0,0]
[0,0,0,0,0,0,140187.74,114121.49,0,0,182907.55,153108.35,0,0,0,0,0,0,132264.70000000001,106967.08,0,0,173197.97,144162.81,0,0,0,0,0,0,124674.45,100145.15,0,0,163902.13,135623.67999999999,0,0,0,0,0,0,117413.85,93637.66,0,0,155006.99,127487.27,0,0,0,0,0,0,110452.15,87431.82,0,0,146478.68,119726.45,0,0,0,0,0,0,0,0,0,0,138319.6,112331.05,0,0,0,0,0,0,0,0,0,0,130516.33,105295.31,0,0,0,0,0,0,0,0,0,0,123059.63,98601.51,0,0,0,0,0,0,0,0,0,0,115941.08,92234.14,0,0,0,0,0,0,0,0,0,0,109193.9,86240.6,0,0,0,0,0,0,0,0,0,0,0,0,0,0,0,0,0,0,0,0,0,0,0,0,0,0,0,0,0,0,0,0,0,0,0,0,0,0,0,0,0,0,0,0,0,0,0,0,0,0,0,0,0,0,0,0,0,0,0,0,0,0,0,0,0,0,0,0,0,0,0,0,0,0,0,0,0,0,0,0,0,0,0,0,0,0,0,0,0,0,0,0,0,0,0,0,0,0,0,0,0,0,0,0,0,0,0,0,0,0,0,0,0,0,0,0,0,0,0,0,0,0,0,0,0,0,0,0,0,0,0,0,0,0,0,0,0,0,0,0,0,0,0,0,0,0,0,0,0,0,0,0,0,0,0,0,0,0,0,0,0,0,0,0,0,0,0,0,0,0,0,0,0,0,0,0,0,0,0,0,0,0,0,0,0,0,0,0,0,0,0,0]
[0,0,0,0,0,0,0,0,0,0,182907.55,153108.35,0,0,0,0,0,0,0,0,0,0,0,0,0,0,0,0,0,0,0,0,0,0,0,0,0,0,0,0,0,0,0,0,0,0,0,0,0,0,0,0,0,0,0,0,0,0,0,0,0,0,0,0,0,0,0,0,0,0,0,0,0,0,0,0,0,0,0,0,0,0,0,0,0,0,0,0,0,0,0,0,0,0,0,0,0,0,0,0,0,0,0,0,0,0,0,0,0,0,0,0,0,0,0,0,0,0,0,0,0,0,0,0,0,0,0,0,0,0,0,0,0,0,0,0,0,0,0,0,0,0,0,0,0,0,0,0,0,0,0,0,0,0,0,0,0,0,0,0,0,0,0,0,0,0,0,0,0,0,0,0,0,0,0,0,0,0,0,0,0,0,0,0,0,0,0,0,0,0,0,0,0,0,0,0,0,0,0,0,0,0,0,0,0,0,0,0,0,0,0,0,0,0,0,0,0,0,0,0,0,0,0,0,0,0,0,0,0,0,0,0,0,0,0,0,0,0,0,0,0,0,0,0,0,0,0,0,0,0,0,0,0,0,0,0,0,0,0,0,0,0,0,0,0,0,0,0,0,0,0,0,0,0,0,0,0,0,0,0,0,0,0,0,0,0,0,0,0,0,0,0,0,0,0,0,0,0,0,0,0,0,0,0,0,0,0,0,0,0,0,0]
[0,0,0,0,0,0,0,0,0,0,0,0,0,0,0,0,0,0,0,0,0,0,0,0,0,0,0,0,0,0,0,0,0,0,0,0,0,0,0,0,0,0,0,0,0,0,0,0,0,0,0,0,0,0,0,0,0,0,0,0,0,0,0,0,0,0,0,0,0,0,0,0,0,0,0,0,0,0,0,0,0,0,0,0,0,0,0,0,0,0,0,0,0,0,0,0,0,0,0,0,0,0,0,0,0,0,0,0,0,0,0,0,0,0,0,0,0,0,0,0,0,0,0,0,0,0,0,0,0,0,0,0,0,0,0,0,0,0,0,0,0,0,0,0,0,0,0,0,0,0,0,0,0,0,0,0,0,0,0,0,0,0,0,0,0,0,0,0,0,0,0,0,0,0,0,0,0,0,0,0,0,0,0,0,0,0,0,0,0,0,0,0,0,0,0,0,0,0,0,0,0,0,0,0,0,0,0,0,0,0,0,0,0,0,0,0,0,0,0,0,0,0,0,0,0,0,0,0,0,0,0,0,0,0,0,0,0,0,0,0,0,0,0,0,0,0,0,0,0,0,0,0,0,0,0,0,0,0,0,0,0,0,0,0,0,0,0,0,0,0,0,0,0,0,0,0,0,0,0,0,0,0,0,0,0,0,0,0,0,0,0,0,0,0,0,0,0,0,0,0,0,0,0,0,0,0,0,0,0,0,0,0]
[0,0,0,0,0,0,0,0,0,0,0,0,0,0,0,0,0,0,0,0,0,0,0,0,0,0,0,0,0,0,0,0,0,0,0,0,0,0,0,0,0,0,0,0,0,0,0,0,0,0,0,0,0,0,0,0,0,0,0,0,0,0,0,0,0,0,0,0,0,0,0,0,0,0,0,0,0,0,0,0,0,0,0,0,0,0,0,0,0,0,0,0,0,0,0,0,0,0,0,0,0,0,0,0,0,0,0,0,0,0,0,0,0,0,0,0,0,0,0,0,0,0,0,0,0,0,0,0,0,0,0,0,0,0,0,0,0,0,0,0,0,0,0,0,0,0,0,0,0,0,0,0,0,0,0,0,0,0,0,0,0,0,0,0,0,0,0,0,0,0,0,0,0,0,0,0,0,0,0,0,0,0,0,0,0,0,0,0,0,0,0,0,0,0,0,0,0,0,0,0,0,0,0,0,0,0,0,0,0,0,0,0,0,0,0,0,0,0,0,0,0,0,0,0,0,0,0,0,0,0,0,0,0,0,0,0,0,0,0,0,0,0,0,0,0,0,0,0,0,0,0,0,0,0,0,0,0,0,0,0,0,0,0,0,0,0,0,0,0,0,0,0,0,0,0,0,0,0,0,0,0,0,0,0,0,0,0,0,0,0,0,0,0,0,0,0,0,0,0,0,0,0,0,0,0,0,0,0,0,0,0,0]
[0,0,0,0,0,0,0,0,0,0,0,0,0,0,0,0,0,0,0,0,0,0,0,0,0,0,0,0,0,0,0,0,0,0,0,0,0,0,0,0,0,0,0,0,0,0,0,0,0,0,0,0,0,0,0,0,0,0,0,0,0,0,0,0,0,0,0,0,0,0,0,0,0,0,0,0,0,0,0,0,0,0,0,0,0,0,0,0,0,0,0,0,0,0,0,0,0,0,0,0,0,0,0,0,0,0,0,0,0,0,0,0,0,0,0,0,0,0,0,0,0,0,0,0,0,0,0,0,0,0,0,0,0,0,0,0,0,0,0,0,0,0,0,0,0,0,0,0,0,0,0,0,0,0,0,0,0,0,0,0,0,0,0,0,0,0,0,0,0,0,0,0,0,0,0,0,0,0,0,0,0,0,0,0,0,0,0,0,0,0,0,0,0,0,0,0,0,0,0,0,0,0,0,0,0,0,0,0,0,0,0,0,0,0,0,0,0,0,0,0,0,0,0,0,0,0,0,0,0,0,0,0,0,0,0,0,0,0,0,0,0,0,0,0,0,0,0,0,0,0,0,0,0,0,0,0,0,0,0,0,0,0,0,0,0,0,0,0,0,0,0,0,0,0,0,0,0,0,0,0,0,0,0,0,0,0,0,0,0,0,0,0,0,0,0,0,0,0,0,0,0,0,0,0,0,0,0,0,0,0,0,0]
[0,0,0,0,0,0,0,0,0,0,0,0,0,0,0,0,0,0,0,0,0,0,0,0,0,0,0,0,0,0,0,0,0,0,0,0,0,0,0,0,0,0,0,0,0,0,0,0,0,0,0,0,0,0,0,0,0,0,0,0,0,0,0,0,0,0,0,0,0,0,0,0,0,0,0,0,0,0,0,0,0,0,0,0,0,0,0,0,0,0,0,0,0,0,0,0,0,0,0,0,0,0,0,0,0,0,0,0,0,0,0,0,0,0,0,0,0,0,0,0,0,0,0,0,0,0,0,0,0,0,0,0,0,0,0,0,0,0,0,0,0,0,0,0,0,0,0,0,0,0,0,0,0,0,0,0,0,0,0,0,0,0,0,0,0,0,0,0,0,0,0,0,0,0,0,0,0,0,0,0,0,0,0,0,0,0,0,0,0,0,0,0,0,0,0,0,0,0,0,0,0,0,0,0,0,0,0,0,0,0,0,0,0,0,0,0,0,0,0,0,0,0,0,0,0,0,0,0,0,0,0,0,0,0,0,0,0,0,0,0,0,0,0,0,0,0,0,0,0,0,0,0,0,0,0,0,0,0,0,0,0,0,0,0,0,0,0,0,0,0,0,0,0,0,0,0,0,0,0,0,0,0,0,0,0,0,0,0,0,0,0,0,0,0,0,0,0,0,0,0,0,0,0,0,0,0,0,0,0,0,0,0]
[0,0,0,0,0,0,0,0,0,0,0,0,0,0,0,0,0,0,0,0,0,0,0,0,0,0,0,0,0,0,0,0,0,0,0,0,0,0,0,0,0,0,0,0,0,0,0,0,0,0,0,0,0,0,0,0,0,0,0,0,0,0,0,0,0,0,0,0,0,0,0,0,0,0,0,0,0,0,0,0,0,0,0,0,0,0,0,0,0,0,0,0,0,0,0,0,0,0,0,0,0,0,0,0,0,0,0,0,0,0,0,0,0,0,0,0,0,0,0,0,0,0,0,0,0,0,0,0,0,0,0,0,0,0,0,0,0,0,0,0,0,0,0,0,0,0,0,0,0,0,0,0,0,0,0,0,0,0,0,0,0,0,0,0,0,0,0,0,0,0,0,0,0,0,0,0,0,0,0,0,0,0,0,0,0,0,0,0,0,0,0,0,0,0,0,0,0,0,0,0,0,0,0,0,0,0,0,0,0,0,0,0,0,0,0,0,0,0,0,0,0,0,0,0,0,0,0,0,0,0,0,0,0,0,0,0,0,0,0,0,0,0,0,0,0,0,0,0,0,0,0,0,0,0,0,0,0,0,0,0,0,0,0,0,0,0,0,0,0,0,0,0,0,0,0,0,0,0,0,0,0,0,0,0,0,0,0,0,0,0,0,0,0,0,0,0,0,0,0,0,0,0,0,0,0,0,0,0,0,0,0,0]
[0,0,0,0,0,0,0,0,0,0,0,0,0,0,0,0,0,0,0,0,0,0,0,0,0,0,0,0,0,0,0,0,0,0,0,0,0,0,0,0,0,0,0,0,0,0,0,0,0,0,0,0,0,0,0,0,0,0,0,0,0,0,0,0,0,0,0,0,0,0,0,0,0,0,0,0,0,0,0,0,0,0,0,0,0,0,0,0,0,0,0,0,0,0,0,0,0,0,0,0,0,0,0,0,0,0,0,0,0,0,0,0,0,0,0,0,0,0,0,0,0,0,0,0,0,0,0,0,0,0,0,0,0,0,0,0,0,0,0,0,0,0,0,0,0,0,0,0,0,0,0,0,0,0,0,0,0,0,0,0,0,0,0,0,0,0,0,0,0,0,0,0,0,0,0,0,0,0,0,0,0,0,0,0,0,0,0,0,0,0,0,0,0,0,0,0,0,0,0,0,0,0,0,0,0,0,0,0,0,0,0,0,0,0,0,0,0,0,0,0,0,0,0,0,0,0,0,0,0,0,0,0,0,0,0,0,0,0,0,0,0,0,0,0,0,0,0,0,0,0,0,0,0,0,0,0,0,0,0,0,0,0,0,0,0,0,0,0,0,0,0,0,0,0,0,0,0,0,0,0,0,0,0,0,0,0,0,0,0,0,0,0,0,0,0,0,0,0,0,0,0,0,0,0,0,0,0,0,0,0,0,0]
[0,0,0,0,0,0,0,0,0,0,0,0,0,0,0,0,0,0,0,0,0,0,0,0,0,0,0,0,0,0,0,0,0,0,0,0,0,0,0,0,0,0,0,0,0,0,0,0,0,0,0,0,0,0,0,0,0,0,0,0,0,0,0,0,0,0,0,0,0,0,0,0,0,0,0,0,0,0,0,0,0,0,0,0,0,0,0,0,0,0,0,0,0,0,0,0,0,0,0,0,0,0,0,0,0,0,0,0,0,0,0,0,0,0,0,0,0,0,0,0,0,0,0,0,0,0,0,0,0,0,0,0,0,0,0,0,0,0,0,0,0,0,0,0,0,0,0,0,0,0,0,0,0,0,0,0,0,0,0,0,0,0,0,0,0,0,0,0,0,0,0,0,0,0,0,0,0,0,0,0,0,0,0,0,0,0,0,0,0,0,0,0,0,0,0,0,0,0,0,0,0,0,0,0,0,0,0,0,0,0,0,0,0,0,0,0,0,0,0,0,0,0,0,0,0,0,0,0,0,0,0,0,0,0,0,0,0,0,0,0,0,0,0,0,0,0,0,0,0,0,0,0,0,0,0,0,0,0,0,0,0,0,0,0,0,0,0,0,0,0,0,0,0,0,0,0,0,0,0,0,0,0,0,0,0,0,0,0,0,0,0,0,0,0,0,0,0,0,0,0,0,0,0,0,0,0,0,0,0,0,0,0]
[0,0,0,0,0,0,0,0,0,0,0,0,0,0,0,0,0,0,0,0,0,0,0,0,0,0,0,0,0,0,0,0,0,0,0,0,0,0,0,0,0,0,0,0,0,0,0,0,0,0,0,0,0,0,0,0,0,0,0,0,0,0,0,0,0,0,0,0,0,0,0,0,0,0,0,0,0,0,0,0,0,0,0,0,0,0,0,0,0,0,0,0,0,0,0,0,0,0,0,0,0,0,0,0,0,0,0,0,0,0,0,0,0,0,0,0,0,0,0,0,0,0,0,0,0,0,0,0,0,0,0,0,0,0,0,0,0,0,0,0,0,0,0,0,0,0,0,0,0,0,0,0,0,0,0,0,0,0,0,0,0,0,0,0,0,0,0,0,0,0,0,0,0,0,0,0,0,0,0,0,0,0,0,0,0,0,0,0,0,0,0,0,0,0,0,0,0,0,0,0,0,0,0,0,0,0,0,0,0,0,0,0,0,0,0,0,0,0,0,0,0,0,0,0,0,0,0,0,0,0,0,0,0,0,0,0,0,0,0,0,0,0,0,0,0,0,0,0,0,0,0,0,0,0,0,0,0,0,0,0,0,0,0,0,0,0,0,0,0,0,0,0,0,0,0,0,0,0,0,0,0,0,0,0,0,0,0,0,0,0,0,0,0,0,0,0,0,0,0,0,0,0,0,0,0,0,0,0,0,0,0,0]
[]
[]
[]
[]
[]
[]
[]
[]
[]
[]
[]
[]
[]
[]
[]
[]
[]
[]
[]
[]
[]
[]
[]
[]
[]
[]
[]
[]
[]
[]
[]
[]
[]
[]
[]
[]
[]
[]
[100820.66,100820.66,100820.66,100820.66,100820.39,100820.39,100820.39,100820.39,100820.13,100820.13,100820.13,100820.13,100897.08,100897.08,100897.08,100897.08,100896.55,100896.55,100896.55,100896.55,100896.55,100896.55,100896.55,100896.55,100968.32000000001,100968.32000000001,100968.32000000001,100968.32000000001,100967.79,100967.79,100967.79,100967.79,100967.65,100967.65,100967.65,100967.65,101008.57,101008.57,101008.57,101008.57,101008.18,101008.18,101008.18,101008.18,101007.92,101007.92,101007.92,101007.92,101020.3,101020.3,101020.3,101020.3,101019.9,101019.9,101019.9,101019.9,101019.5,101019.5,101019.5,101019.5,100978.73,100978.73,100978.73,100978.73,100978.21,100978.21,100978.21,100978.21,100978.06,100978.06,100978.06,100978.06,100888.24,100888.24,100888.24,100888.24,100887.61,100887.61,100887.61,100887.61,100887.33,100887.33,100887.33,100887.33,100780.84,100780.84,100780.84,100780.84,100780.06,100780.06,100780.06,100780.06,100779.92,100779.92,100779.92,100779.92,100627.02,100627.02,100627.02,100627.02,100628.86,100628.86,100628.86,100628.86,100628.47,100628.47,100628.47,100628.47,100758.26,100758.26,100758.26,100758.26,100759.85,100759.85,100759.85,100759.85,100759.45,100759.45,100759.45,100759.45,100673.38,100673.38,100673.38,100673.38,100674.97,100674.97,100674.97,100674.97,100674.44,100674.44,100674.44,100674.44,100813.48,100813.48,100813.48,100813.48,100812.57,100812.57,100812.57,100812.57,100814.39999999999,100814.39999999999,100814.39999999999,100814.39999999999,100870.21,100870.21,100870.21,100870.21,100869.31,100869.31,100869.31,100869.31,100871,100871,100871,100871,100831.14,100831.14,100831.14,100831.14,100830.35,100830.35,100830.35,100830.35,100829.57,100829.57,100829.57,100829.57,100733.39,100733.39,100733.39,100733.39,100732.22,100732.22,100732.22,100732.22,100731.56,100731.56,100731.56,100731.56,100618.88,100618.88,100618.88,100618.88,100619.94,100619.94,100619.94,100619.94,100619.26,100619.26,100619.26,100619.26,100557.4,100557.4,100557.4,100557.4,100555.69,100555.69,100555.69,100555.69,100554.9,100554.9,100554.9,100554.9,100462.56,100462.56,100462.56,100462.56,100462.56,100462.56,100462.56,100462.56,100462.56,100462.56,100462.56,100462.56,100276.57,100276.57,100276.57,100276.57,100276.57,100276.57,100276.57,100276.57,100276.57,100276.57,100276.57,100276.57,100000.89,100000.89,100000.89,100000.89,100000.89,100000.89,100000.89,100000.89,100000.89,100000.89,100000.89,100000.89,99626.31,99626.31,99626.31,99626.31,99626.31,99626.31,99626.31,99626.31,99626.31,99626.31,99626.31,99626.31,99346.3,99346.3,99346.3,99346.3,99346.3,99346.3,99346.3,99346.3,99346.3,99346.3,99346.3,99346.3,99020.4,99020.4,99020.4,99020.4,99020.4,99020.4,99020.4,99020.4,99020.4,99020.4,99020.4,99020.4,98680.58,98680.58,98680.58,98680.58,98680.7,98680.7,98680.7,98680.7,98680.7,98680.7,98680.7,98680.7,98350.06,98350.06,98350.06,98350.06,98350.06,98350.06,98350.06,98350.06,98350.06,98350.06,98350.06,98350.06,98094.99,98094.99,98094.99,98094.99,98094.99,98094.99,98094.99,98094.99,98094.99,98094.99,98094.99,98094.99]
[257331.1,257331.1,257331.1,257331.1,257330.37,257330.37,257330.37,257330.37,257329.62,257329.62,257329.62,257329.62,257332.43,257332.43,257332.43,257332.43,257331.22,257331.22,257331.22,257331.22,257330.69,257330.69,257330.69,257330.69,257263.1,257263.1,257263.1,257263.1,257261.74,257261.74,257261.74,257261.74,257261.45,257261.45,257261.45,257261.45,257113.62,257113.62,257113.62,257113.62,257112.44,257112.44,257112.44,257112.44,257111.58,257111.58,257111.58,257111.58,256853.93,256853.93,256853.93,256853.93,256852.63,256852.63,256852.63,256852.63,256851.61,256851.61,256851.61,256851.61,256610.22,256610.22,256610.22,256610.22,256608.87,256608.87,256608.87,256608.87,256608.04,256608.04,256608.04,256608.04,256384.91,256384.91,256384.91,256384.91,256383.16,256383.16,256383.16,256383.16,256382.26,256382.26,256382.26,256382.26,256184.49,256184.49,256184.49,256184.49,256182.42,256182.42,256182.42,256182.42,256181.73,256181.73,256181.73,256181.73,256023.43,256023.43,256023.43,256023.43,256028.58,256028.58,256028.58,256028.58,256027.42,256027.42,256027.42,256027.42,256225.53,256225.53,256225.53,256225.53,256230.46,256230.46,256230.46,256230.46,256229.04,256229.04,256229.04,256229.04,255946.74,255946.74,255946.74,255946.74,255951.47,255951.47,255951.47,255951.47,255950.11,255950.11,255950.11,255950.11,255973.02,255973.02,255973.02,255973.02,255970.39,255970.39,255970.39,255970.39,255975.9,255975.9,255975.9,255975.9,255848.72,255848.72,255848.72,255848.72,255845.8,255845.8,255845.8,255845.8,255851.08,255851.08,255851.08,255851.08,255548.07,255548.07,255548.07,255548.07,255545.18,255545.18,255545.18,255545.18,255542.97,255542.97,255542.97,255542.97,255079.56,255079.56,255079.56,255079.56,255075.8,255075.8,255075.8,255075.8,255073.61,255073.61,255073.61,255073.61,254442.09,254442.09,254442.09,254442.09,254445.42,254445.42,254445.42,254445.42,254443.24,254443.24,254443.24,254443.24,253726.57,253726.57,253726.57,253726.57,253721.44,253721.44,253721.44,253721.44,253718.69,253718.69,253718.69,253718.69,252810.29,252810.29,252810.29,252810.29,252810.29,252810.29,252810.29,252810.29,252810.29,252810.29,252810.29,252810.29,251595.68,251595.68,251595.68,251595.68,251595.68,251595.68,251595.68,251595.68,251595.68,251595.68,251595.68,251595.68,250190.55,250190.55,250190.55,250190.55,250190.55,250190.55,250190.55,250190.55,250190.55,250190.55,250190.55,250190.55,248679.42,248679.42,248679.42,248679.42,248679.42,248679.42,248679.42,248679.42,248679.42,248679.42,248679.42,248679.42,247530.37,247530.37,247530.37,247530.37,247530.37,247530.37,247530.37,247530.37,247530.37,247530.37,247530.37,247530.37,223692.4,222503.94,223837.13,222583.78,246369.63,246369.63,246369.63,246369.63,246369.63,246369.63,246369.63,246369.63,198792.97,196788.63,199163.64,196979.59,245169.87,245169.87,245169.87,245169.87,245169.87,245169.87,245169.87,245169.87,198052.79,196049.01,198418.7,196235.32,243888.79,243888.79,243888.79,243888.79,243888.79,243888.79,243888.79,243888.79,197562.78,195558.74,197923.61,195741.05,242774.69,242774.69,242774.69,242774.69,242774.69,242774.69,242774.69,242774.69]
[500419.33,500419.33,500419.33,500419.33,500417.53,500417.53,500417.53,500417.53,500416.14,500416.14,500416.14,500416.14,500299.63,500299.63,500299.63,500299.63,500297.2,500297.2,500297.2,500297.2,500296.06,500296.06,500296.06,500296.06,500081.84,500081.84,500081.84,500081.84,500079.05,500079.05,500079.05,500079.05,500078.38,500078.38,500078.38,500078.38,499805.93,499805.93,499805.93,499805.93,499803.3,499803.3,499803.3,499803.3,499801.44,499801.44,499801.44,499801.44,499451.42,499451.42,499451.42,499451.42,499448.5,499448.5,499448.5,499448.5,499446.44,499446.44,499446.44,499446.44,499079.46,499079.46,499079.46,499079.46,499076.42,499076.42,499076.42,499076.42,499074.53,499074.53,499074.53,499074.53,498648.68,498648.68,498648.68,498648.68,498645.24,498645.24,498645.24,498645.24,498643.20000000001,498643.20000000001,498643.20000000001,498643.20000000001,498168.74,498168.74,498168.74,498168.74,498164.5,498164.5,498164.5,498164.5,498162.75,498162.75,498162.75,498162.75,497650.08,497650.08,497650.08,497650.08,497660.97,497660.97,497660.97,497660.97,497658.6,497658.6,497658.6,497658.6,497499.97,497499.97,497499.97,497499.97,497510.33,497510.33,497510.33,497510.33,497507.49,497507.49,497507.49,497507.49,496747.14,496747.14,496747.14,496747.14,496757.56,496757.56,496757.56,496757.56,496754.69,496754.69,496754.69,496754.69,495936.07,495936.07,495936.07,495936.07,495930.23,495930.23,495930.23,495930.23,495942.79,495942.79,495942.79,495942.79,494789.45,494789.45,494789.45,494789.45,494782.69,494782.69,494782.69,494782.69,494795.33,494795.33,494795.33,494795.33,493313.79,493313.79,493313.79,493313.79,493306.66,493306.66,493306.66,493306.66,493301.8,493301.8,493301.8,493301.8,491621.88,491621.88,491621.88,491621.88,491612.86,491612.86,491612.86,491612.86,491607.6,491607.6,491607.6,491607.6,489718.71,489718.71,489718.71,489718.71,489726.69,489726.69,489726.69,489726.69,489721.19,489721.19,489721.19,489721.19,463910.31,461649.99,464263.42,461877.57,487614.51,487614.51,487614.51,487614.51,487607.58,487607.58,487607.58,487607.58,436249.69,432179,437223.99,432792.86,485201.59,485201.59,485201.59,485201.59,485201.59,485201.59,485201.59,485201.59,406761.87,401316.29,408537.84,402409.42,482135.85,482135.85,482135.85,482135.85,482135.85,482135.85,482135.85,482135.85,375897.95,369485.2,378572.97,371091.6,478686.58,478686.58,478686.58,478686.58,478686.58,478686.58,478686.58,478686.58,343859.21,336874.22,347445.73,338974.83,474870.1,474870.1,474870.1,474870.1,474870.1,474870.1,474870.1,474870.1,311893.34999999998,304840.53000000003,316318.64,307358.7,449197.35,446935.45,449538.44,447152.81,471448.5,471448.5,471448.5,471448.5,279218.94,272394.64,284338.96000000002,275220.74,422018.9,417947.66,422960.54,418530.16,467886.05,467886.05,467886.05,467886.05,246009.73,239769.38,251612.46,242655.96,393584.63,388140.53,395298.83,389172.8,464230.91,464230.91,464230.91,464230.91,245071.37,238838.1,250601.02,241653.54,364096.24,357688.82,366671.63,359197.35,460495.42,460495.42,460495.42,460495.42,244462.9,238225.29,249916.01,240980.16,334065.25,327090.83,337513.3,329054.78999999998,457054.63,457054.63,457054.63,457054.63]
[548098.25,548098.25,548098.25,548098.25,548096.24,548096.24,548096.24,548096.24,548094.77,548094.77,548094.77,548094.77,547941.9,547941.9,547941.9,547941.9,547939.24,547939.24,547939.24,547939.24,547937.92000000004,547937.92000000004,547937.92000000004,547937.92000000004,547691.4,547691.4,547691.4,547691.4,547688.23,547688.23,547688.23,547688.23,547687.53,547687.53,547687.53,547687.53,547399.39,547399.39,547399.39,547399.39,547396.51,547396.51,547396.51,547396.51,547394.43000000005,547394.43000000005,547394.43000000005,547394.43000000005,547014.09,547014.09,547014.09,547014.09,547010.79,547010.79,547010.79,547010.79,547008.52,547008.52,547008.52,547008.52,546568.78,546568.78,546568.78,546568.78,546565.35,546565.35,546565.35,546565.35,546563.26,546563.26,546563.26,546563.26,546028.19999999995,546028.19999999995,546028.19999999995,546028.19999999995,546024.34,546024.34,546024.34,546024.34,546022.07999999996,546022.07999999996,546022.07999999996,546022.07999999996,545407.48,545407.48,545407.48,545407.48,545402.78,545402.78,545402.78,545402.78,545400.81000000006,545400.81000000006,545400.81000000006,545400.81000000006,544722.24,544722.24,544722.24,544722.24,544734.52,544734.52,544734.52,544734.52,544731.79,544731.79,544731.79,544731.79,544404.89,544404.89,544404.89,544404.89,544416.62,544416.62,544416.62,544416.62,544413.39,544413.39,544413.39,544413.39,543478.92000000004,543478.92000000004,543478.92000000004,543478.92000000004,543490.6,543490.6,543490.6,543490.6,543487.34,543487.34,543487.34,543487.34,542447.22,542447.22,542447.22,542447.22,542440.73,542440.73,542440.73,542440.73,542454.88,542454.88,542454.88,542454.88,541067.82999999996,541067.82999999996,541067.82999999996,541067.82999999996,541060.25,541060.25,541060.25,541060.25,541074.49,541074.49,541074.49,541074.49,539413.25,539413.25,539413.25,539413.25,539405.05000000005,539405.05000000005,539405.05000000005,539405.05000000005,539399.57999999996,539399.57999999996,539399.57999999996,539399.57999999996,537517.14,537517.14,537517.14,537517.14,537506.93999999994,537506.93999999994,537506.93999999994,537506.93999999994,537500.91,537500.91,537500.91,537500.91,454994.53,316823.33,477238.58,331508.55,535370.93999999994,535370.93999999994,535370.93999999994,535370.93999999994,535364.68999999994,535364.68999999994,535364.68999999994,535364.68999999994,379801.56,262035.43,421029.98,288614.37,532923.68999999994,532923.68999999994,532923.68999999994,532923.68999999994,532915.81999999995,532915.81999999995,532915.81999999995,532915.81999999995,311649.28000000003,213504.72,368564.87,249363.81,530102.23,530102.23,530102.23,530102.23,530102.23,530102.23,530102.23,530102.23,250677.56,171025.39,319862.44,213604.26,526545.65,526545.65,526545.65,526545.65,526545.65,526545.65,526545.65,526545.65,196994.66,134513.99,275144.40999999997,181445.22,522590.97,522590.97,522590.97,522590.97,522590.97,522590.97,522590.97,522590.97,150478.69,103715.18,234323.05,152821.78,441209.9,302869.62,462692.03,316976.48,518250.11,518250.11,518250.11,518250.11,111465.03,83035.12,198042.82,128336.72,367918.97,249922.63,407731.19,275313.65999999997,514382.31,514382.31,514382.31,514382.31,82494.78,83836.23,165534.32999999999,106995.34,301793.12,203528.91,356800.25,237570.21,510387.89,510387.89,510387.89,510387.89,92279.43,94749.73,136651.81,102240.81,243215.28,163506,310014.18,203735.72,506288.87,506288.87,506288.87,506288.87,96134.73,98619.91,136565.51,105927.58,192012.76,129559.77,267288.84000000003,173656.88,502121.64,502121.64,502121.64,502121.64,99993.93,102464.75,136654.14000000001,109616.38,148111.57,101461.22,228769.96,147400.79999999999,424774,286506.45,445298.04,299678.19]
[823575.3,823575.3,823575.3,823575.3,823572.09,823572.09,823572.09,823572.09,823569.69,823569.69,823569.69,823569.69,823165.96,823165.96,823165.96,823165.96,823161.92,823161.92,823161.92,823161.92,823159.71,823159.71,823159.71,823159.71,822532.04,822532.04,822532.04,822532.04,822527.34,822527.34,822527.34,822527.34,822525.77,822525.77,822525.77,822525.77,821687.62,821687.62,821687.62,821687.62,821682.99,821682.99,821682.99,821682.99,821679.53,821679.53,821679.53,821679.53,820553.73,820553.73,820553.73,820553.73,820548.32,820548.32,820548.32,820548.32,820544.75,820544.75,820544.75,820544.75,819202.11,819202.11,819202.11,819202.11,819196.54,819196.54,819196.54,819196.54,819193.08,819193.08,819193.08,819193.08,817638.08,817638.08,817638.08,817638.08,817631.53,817631.53,817631.53,817631.53,817627.61,817627.61,817627.61,817627.61,815919.84,815919.84,815919.84,815919.84,815911.98,815911.98,815911.98,815911.98,815908.42,815908.42,815908.42,815908.42,814166.09,814166.09,814166.09,814166.09,814187,814187,814187,814187,814182.21,814182.21,814182.21,814182.21,812951.87,812951.87,812951.87,812951.87,812972.16,812972.16,812972.16,812972.16,812966.45,812966.45,812966.45,812966.45,698972.15,514601.46,733014.44,538702.98,811303.74,811303.74,811303.74,811303.74,811297.87,811297.87,811297.87,811297.87,594046.86,434479.61,658486.56999999995,479592.97,809085.19,809085.19,809085.19,809085.19,809109.96,809109.96,809109.96,809109.96,497327.9,361603.7,588534.6,424723.01,806371.23,806371.23,806371.23,806371.23,806396.28,806396.28,806396.28,806396.28,408688.96,295768.42,523083.83,373964.23,803115.42,803115.42,803115.42,803115.42,803105.94,803105.94,803105.94,803105.94,328062.03999999998,236843.84,462086.53,327259.65000000002,799382.76,799382.76,799382.76,799382.76,799372.13,799372.13,799372.13,799372.13,255307.26,184658.9,405488.69,284470.69,685600.37,501140.9,719007.02,524742.75,795214.54,795214.54,795214.54,795214.54,190460.36,163797.47,353250.29,245133.94,581302.42000000004,421573.04,644328.31999999995,465608.08,790495.94,790495.94,790495.94,790495.94,170861.27,148507.29999999999,305030.90000000002,209645.03,485604.96,349684.66,574554.92000000004,411085.06,785341.37,785341.37,785341.37,785341.37,152846.69,133916.10999999999,260888.65,177836.95,398045.29,284959.11,509234.24,360683.82,779114.4,779114.4,779114.4,779114.4,136013.07,120238.37,221019.3,149775.43,318886.15999999997,227500.59,448687.54,314596.28999999998,772445.78,772445.78,772445.78,772445.78,120870.15,107737.88,185284.69,125391.49,247967.15,177049.46,392817.23,272727.81,660051.52,475680.32,692176.13,498022.69,108210.89,97450.46,154221.14000000001,111911.98,185578,146648.54999999999,342092.98,234877.55,558704.96,399124.14,619191.85,440649.09,96805.07,88148.81,127188.91,99936.16,155158.95000000001,132036.67000000001,295720.69,201085.62,466362.2,330625.63,551568.15,388339.3,87025.68,99518.17,108192.43,90378.66,138332.95000000001,118712.73,253780.88,171266.24,382730.37,269863.46000000002,489121.62,340825.83,91124.89,104433.11,107268.02,94367.31,122972.98,106670.92,216133.4,145271,307564.03000000003,216349.93,431702.02,297857.83,96040.97,109319.5,106741.57,99289.4,109973.5,96494.01,182860.95,123119.31,240798.11,170022.87,379420.6,259520.4]
[1255293.31,1255293.31,1255293.31,1255293.31,1255287.69,1255287.69,1255287.69,1255287.69,1255283.52,1255283.52,1255283.52,1255283.52,1253536.18,1253536.18,1253536.18,1253536.18,1253529.0900000001,1253529.0900000001,1253529.0900000001,1253529.0900000001,1253525.17,1253525.17,1253525.17,1253525.17,1251508.45,1251508.45,1251508.45,1251508.45,1251500.45,1251500.45,1251500.45,1251500.45,1251497.49,1251497.49,1251497.49,1251497.49,1249244.1100000001,1249244.1100000001,1249244.1100000001,1249244.1100000001,1249236.05,1249236.05,1249236.05,1249236.05,1249230.07,1249230.07,1249230.07,1249230.07,1086499.32,846839.16,1138721.3999999999,886190.63,1246613.3899999999,1246613.3899999999,1246613.3899999999,1246613.3899999999,1246607.27,1246607.27,1246607.27,1246607.27,934263.35,724223.56,1034259.89,798945.7,1243695.3999999999,1243695.3999999999,1243695.3999999999,1243695.3999999999,1243689.27,1243689.27,1243689.27,1243689.27,792285.37,611132.03,935665.04,717315.21,1240418.96,1240418.96,1240418.96,1240418.96,1240412.1000000001,1240412.1000000001,1240412.1000000001,1240412.1000000001,660438.26,507341.59,842909.37,641242.26,1236838.53,1236838.53,1236838.53,1236838.53,1236831.8500000001,1236831.8500000001,1236831.8500000001,1236831.8500000001,538536.16,441720.17,755875.46,570655.56999999995,1233068.8,1233068.8,1233068.8,1233068.8,1233060.1000000001,1233060.1000000001,1233060.1000000001,1233060.1000000001,449807.39,409712.05,674976.07,505823.05,1071827.58,832119.21,1123593.43,871149.87,1229810,1229810,1229810,1229810,418254.29,376932.3,598964.31000000006,445535.35,921007.58,710958.16,1020090.92,785073.54,1226371.1000000001,1226371.1000000001,1226371.1000000001,1226371.1000000001,386723.71,344952.38,528645.39,390570.17,779844.94,598835.61,921774.99,703984.72,1221605.17,1221605.17,1221605.17,1221605.17,354703.3,312884.42,463238.71,349170.54,648895.68999999994,496138.4,829237.83,628366.36,1216213.6399999999,1216213.6399999999,1216213.6399999999,1216213.6399999999,322258.14,280907.58,402692.31,320238.76,528016.82999999996,426819.35,742370.05,558100.52,1210160.3700000001,1210160.3700000001,1210160.3700000001,1210160.3700000001,290872.84000000003,250103.62,354593.5,291678.62,432449.2,393506.64,661080.41,493010.82,1048529.07,808941.49,1099377.7,847093.12,260661.7,220735.71,326038.76,263441.43,399712.55,359913.47,585359.16,433107.22,898075.73,688245.29,995081.09,760326.46,233005.87,198845.49,298801.31,240654.34,367533.77,327318.49,515611.91,378776.44,758241.41,577511.4,896803.92,679370.25,208020.47,179041.64,272213.01,218807.9,334942.3,294861.68,451163.84,329542.13,629290.69999999995,476753.03,804829.12,604362.93000000005,185266.05,161026.26,246337.48,197703.64,301718.52,262271.35999999999,391617.35,299962.06,510426.02,395305.93,718441.99,534511.65,165002.60999999999,144870.85999999999,221661.83,177660.63,269887.59000000003,231296.33,337184.78,270819.84999999998,402077.16,360732.84,638214.18999999994,470441.44,147001.9,130308.17,197888.42,158649.32999999999,239558.38,202037.59,304304.3,242503.98,366659.58,326152.24,563758.21,411759.54,131911.35999999999,118345.39,176452.17,141933.5,213842.62,180507,277924.01,220627.46,335015.08,294058.12,496351.83,359732.86,118546.98,107748.95,156153.72,126124.88,190615.9,161311.84,252763.42,199927.94,303381.40999999997,262550.19,434362.06,312670.39,107345.04,122622.2,136733.79,113700.48,169497.66,144559.22,228981.14,180614.39,272067.38,232200.94,377594.4,270337.71999999997,112628.01,128802.4,135709.34,113736.41,150911.54,130148.18,206448.35,162514.23999999999,242677.93,203748.41,325966.37,242700.13,118843.23,134865.46,135107.24,114328.19,135279.15,118220.18,185736.03,146181.5,215731.45,177686.81,279850.07,217474.45]
[1070680.94,950711.94,1359595.57,1097276.1200000001,1926018.75,1926018.75,1926018.75,1926018.75,1926011.11,1926011.11,1926011.11,1926011.11,952325.57,906136.92,1233055.3500000001,989764.87,1921394.79,1921394.79,1921394.79,1921394.79,1921387.43,1921387.43,1921387.43,1921387.43,908666.3,859617.55,1113403.96,894927.8,1683778.89,1379672.03,1763959.07,1443704.7,1916161.82,1916161.82,1916161.82,1916161.82,862549.01,811406.77,1000422.54,852761.65,1459847.13,1191351.54,1614537.9,1314085.3,1910467.8,1910467.8,1910467.8,1910467.8,814373.59,761872.44,894018.13,809646.67,1249192.68,1015904.55,1472791.94,1191995.8600000001,1904244.23,1904244.23,1904244.23,1904244.23,765096.66,711649.13,846308.75,765652.84,1051574.8400000001,930476.17,1338674.8,1077352.49,1897662.79,1897662.79,1897662.79,1897662.79,714486.72,660882.06999999995,804390.24,720965.14,930362.56,885507.46,1211988.25,969880.15,1890751.5,1890751.5,1890751.5,1890751.5,664990.31999999995,611317.56000000006,761653.27,676180.27,886234.17,838747.29,1092549.67,872922.67,1653713.47,1349793.22,1734238.89,1413993.85,616859.96,563233.28000000003,718609.54,631686.74,840097.51,790618.38,980275.77,830765.93,1431182.18,1162966.96,1586068.48,1285552.96,571056.05000000005,517598.69,676579.72,588379,793460.09,742618.59,875624.73,789070.62,1223260.3400000001,990317.04,1446699.66,1165723.6100000001,526198.94999999995,473038.45,633939.93000000005,545012.76,745861.78,694217.2,826452.1,746685.65,1028690.04,902848.5,1315207.1200000001,1053514,483662.57,431115.81,591864.51,503213.86,695667.74,643943.77,784897.38,702346.66,903142.53,858073.43,1189420.72,946717.17,442617.61,390553.54,549962.15,461827.22,646464.06999999995,594711.04000000004,742381.69,657857.49,859020.99,811265.96,1070579.3799999999,846921.24,402704.81,351181.31,508126.44,420953.52,598100.81999999995,546472.31000000006,699150.38,612988.17000000004,812046.97,762249.32,958343.69,802415.39,364087.03,313160.71999999997,466442.93,381065.53,550704.47,499279.33,655374.47,567888.53,763508.89,712176.25,853921.76,758322.07,326845.05,276824.18,425324.45,342054.40000000002,504465.95,453606.11,611124.71,523165.38,713415.19,661304.35,793852.57,713142.07,292708.55,249444.9,386391.86,310217.2,461073.23,410739.38,567780.89,480077.91,661335.69999999995,609116.74,750128.61,666818.89,261833.11,224838.66,349326.45,280370.05,419011.97,369366.03,524827.22,437525.71,610274.84,557978.94999999995,705573.5,620258.53,233669.45,202668.43,314117.5,252155.19,377744.52,328952.67,481433.44,395515.17,559301.93000000005,507118.89,659662.96,572435.44999999995,208575.56,182992.21,281256.06,225867.85,338168.52,290499.36,438753.3,354575.9,509806.91,458016.72,613383.21,525123.06999999995,186369.45,165395.15,250324.66,201460.68,300536.24,254246.44,397216.15,315323.61,462407.49,410905.1,567179.05000000005,478487.98,167771.82999999999,150917.34,222998.89,180335.59,268686.48,227640.81,359292.12,284617.25,419545.28,368597.53,524558.06999999995,435847.82,151363.26999999999,138089.28,197626.95,160685.56,239988.76,203969.74,324075.96999999997,256293.8,378659.65,328447.15000000002,482596.97,394835.44,137657.41,156409.47,173730.74,145458.41,213948.51,183342.01,291638.78999999998,230474.19,339847.03,290934.78000000003,441750.84,355273.17,144194.54999999999,164006.67000000001,172476.44,145550.16,191094.47,165666.44,261674.44,206830,303509.08,255826.6,402240.1,317741.48,151868.21,171421.58,171717.01,146315.88,171946.08,151096.89000000001,234749.1,185929.78,270275.3,223783.43,364677.24,282773.96000000002]
[1166579.8899999999,1108913.8,1251744.8500000001,1166580.0900000001,1596903.33,1360627.17,1879954.75,1563288.55,2407124.9,2407124.9,2407124.9,2407124.9,1106869.33,1048036.79,1203733.76,1114305.54,1354819.49,1310670.8700000001,1716013.05,1420283.39,2399944.09,2399944.09,2399944.09,2399944.09,1045003.72,985713.59,1153967.8400000001,1060787.77,1306152.17,1257872.55,1560549.81,1291432.4099999999,2392216.7799999998,2392216.7799999998,2392216.7799999998,2392216.7799999998,983920.44,924243.8,1102648,1006494.53,1254073.22,1202520.3999999999,1413316.51,1243036.96,2099853.7400000002,1759197.77,2202110.6,1843191.49,923887.62,863968.74,1050398.3700000001,951762.91,1198883.26,1144721.1599999999,1274194.07,1192937.99,1823953.67,1522472.19,2021443.27,1683637.82,865673.19,805312.04,997630.42,896658.52,1141159.3500000001,1085179.3700000001,1225711.8400000001,1141537.08,1564193.24,1324841.74,1850048.82,1533183.53,808690.55,748148.94,944154.84,841360.52,1081297.26,1024222.92,1177494.3799999999,1089054.28,1320017.7,1274674.6100000001,1687622.06,1391490.4,753153.19,692515.75,890408.41,786545.33,1019795.92,962316.86,1128042.06,1035816,1270775.19,1222344.1200000001,1533939.36,1258293.68,699238.52,638616.97,836851.87,732551.42,959643.41,901802.18,1077608.23,982442.2,1219759.2,1167984.23,1388799.12,1208966.6299999999,647765.71,587317.43000000005,784673.08,680108.71,901849.44,843729.68,1027593.55,929841.46,1166863.81,1112447.6299999999,1252105.78,1160995.48,597197.65,537082.21,732016.31,627787.59,845631.45,787214.03,976786.84,876677.75,1111841.98,1055576.71,1197372.97,1112111.7,549055.93000000005,489656.52,680166.8,577393.07999999996,788731.46,730256.23,923303.1,821395.15,1051836.33,994447.21,1148674.8799999999,1059115.3899999999,502442.47,443625.73,628704.71,527641.81999999995,732738.96,674270.7,868897.52,766109.35,989373.57,931588.73,1097774.47,1004577.53,457149.53,398983.46,578516.65,479380.87,677748.74,619464.37,814153.38,710841.59,927201.02,869079.69,1044777.78,949065,413372.67,355923.17,529570.54,433027.79,623892.43000000005,565863.18000000005,759272.31,655757.32999999996,866478.54,807943.7,991397.24,892848.93,371201.18,314823.14,482201.48,388346.89,571396.13,514072.42,704353.06,601556.06999999995,806929.17,748191.03,936818.84,835927.03,332588.45,283869.96999999997,438089.52,352304.82,522190.99,465505.57,650941.21,549642.39,747693.87,688902.19,880611.48,778206.21,297703.08,256084.35,396133.88,318558.21999999997,474541.7,418678.64,598440.31999999995,498738.1,689716.23,630870.04,823992.75,720714.78,265917.40000000002,231079.24,356327.79,286692.3,427838.1,373007.9,546654.16,449375.05,631883.91,573229.93999999994,766337.03,662258.82999999996,237620.17,208903.74,319210.69,257031.26,383092.56,329587.36,496715.76,401990.06,575760.19999999995,517618.53,708754.74,604846.22,212616.16,189093.45,284298.76,229537.34,340589.49,288694.86,448967.89,357173.02,522042.14,464309.58,651746.07999999996,548655.1,191692.17,172844.12,253520.09,205764.72,304656.43,258719.69,406079.82,322489.3,473527.38,416497.3,599323.57999999996,497475.09,173283.94,158461.63,225006.76,183705.71,272346.17,232097.8,366329.24,290567.57,427338.81,371215,548170.36,448589.72,157954.15,178881.93,198212.81,166660.29999999999,243097.58,208943.38,329807.05,261539.79,383601.99,329030.88,499511.24,402288.45,165361.56,187452.87,196903.84,166871.63,217661.46,189311.87,296371.33,235207.91,343015.32,289849.13,453795.54,359341.18,174201.55,195982.86,196312.16,167985.93,196581.39,173334.39999999999,266603.03999999998,212169.98,306220.39,254385.81,411498.34,320169.45]
[1406166.67,1336184.67,1591168.48,1470512.32,1770432.7,1706538.79,1895090.04,1795864.05,2079565.13,2032149.91,2399959.0499999998,2065177.39,1331365.6100000001,1260740.82,1520953.75,1397500.23,1689595.84,1624885.65,1832504.67,1728016.92,2018811.5,1966395.3,2193801.58,2008742.21,1257867.18,1186654.76,1449844.45,1324140.43,1610679.98,1544894.73,1768024.97,1658755.24,1953478.81,1896907.57,2032586.34,1950109.78,1185189.3700000001,1113481.95,1377511.38,1250447.9099999999,1532549.08,1465947.94,1701286.53,1588199.72,1883364.45,1823462.35,1976941,1888478.07,1113477.7,1041479.3,1304507.3400000001,1176653.1499999999,1455009.15,1387579.8,1632402.05,1516077.92,1808713.13,1746330.83,1918566.65,1823926.54,1043661.83,971126.16,1231304.03,1102827.53,1378321.26,1310271.95,1562502.64,1442868.93,1730216.71,1666122,1857399.95,1756885.11,975045.72,902316.78,1157667.25,1029150.84,1302571.25,1234015.6399999999,1491150.13,1368792.27,1648326.14,1583386.58,1793539.16,1687728.52,907896.51,835107.96,1085354.4099999999,957361.48,1228012.6299999999,1159006.33,1418720.82,1294205.3899999999,1568180.46,1502252.85,1727368.89,1616875.5,842447.03,769748.57,1014731.84,887719.79,1154747.75,1085364.3,1345491.25,1219842.1000000001,1489219.52,1422471.93,1659317.12,1545224.17,780025.5,707620.06,947484.7,821296.81,1084370.28,1014755.3,1273652.19,1147265.8799999999,1412726.94,1345212.01,1591342.99,1473765.22,718878.51,646955.44999999995,881288.41,756282.93,1016138.22,946223.5,1201845.6200000001,1074944.72,1338173.45,1270065.82,1523159.65,1402314.14,660643.43000000005,589680.94999999995,817315.49,694517.46,947021.86,877151.45,1127493.3899999999,1000712.85,1261423.3700000001,1192842.28,1449934.15,1326424.4099999999,604334.91,534164.06999999995,754983.62,634401.18999999994,879111.09,809350.27,1054085.5,928154.37,1185312.51,1116367.04,1374906.74,1249630.5900000001,549695.57999999996,480405.25,694274.34,576178.68000000005,812509.2,743078.21,982131.52,857128.37,1109649.8899999999,1040407.73,1298258.7,1172713.72,496977.45,428653.47,635151.43000000005,520344.74,747342.88,678295.57,911705.86,787663.62,1035795.63,966187.25,1222299.02,1095806.8500000001,446280.48,379363.76,578030.19999999995,466631.42,683898.1,615858.64,842786.56,720477.13,963480.21,893762.33,1145791.47,1018918.2,399924.37,342221.31,524893.13,423277.2,624511.98,557362.57999999996,776995.68,657037.09,891582.55,821971.05,1068172.21,941892.51,358137.05,308954.96999999997,474457.63,382784.52,567137.89,501099.89,713533.18,595710.15,821424.31,751857.41,992219.15,866915.56,320414.19,279314.44,427084.02,344925.15,511462.79,446779.55,651647.29,536874.42000000004,752214.88,682994.93,917736.44,793014.7,287171.01,253319.74,383369.47,310055.3,458673.69,395604.5,592622.75,480946.53,685812.22,617256.04,845857.37,722416.02,258145.98,230390.82,342640.66,278104.65999999997,409016.78,347823.41,536790.38,428576.93,622947.31999999995,554881.27,776907.76,655049.96,234187.51999999999,211972.32,307197.75,250819.48,367558.71,313343.39,487302.7,388613.2,566934.42000000004,499604.03,715462.25,595221.79,213462.85,195944.25,274720.34000000003,225804.62,330744.38,283118.40000000002,441999.67,352309.47,514225.96,447783.73,657282.13,539394.34,196352.18,221202.41,244156.2,206690.09,297455.37,256906.41,400426.88,319352.06,464291.06,399524.38,601924.22,486499.46,206153.39,232449.44,243712.92,207947.86,268416.87,234678.77,362128.37,289304.48,417643.52000000002,354361.63,549525.23,437090.35,217662.47,243597.43,243989.95,210199.78,244338.87,216613.96,327839.78999999998,262923.42,375099.25,313288.46999999997,500685.09,391755.1]
[1641568.48,1560010.58,1885785.2,1739060.52,2066120.6,1991665.22,2302199.44,2169670.9,2508556.5499999998,2439875.37,2665955,2557500.1800000002,1553780.66,1471517.88,1793037.69,1645186.64,1971065.79,1895693.27,2214286.7599999998,2077893.83,2407823.88,2337815.6,2589080.38,2474447.6800000002,1466981.06,1384102,1701039.43,1552346.84,1877579.79,1801006.53,2124184.59,1984522.3,2307553.4500000002,2236351.21,2508652.5099999998,2388840.73,1381199.71,1297828.82,1609921.32,1461005.92,1785035.53,1707605.19,2032258.25,1890451.56,2207999.31,2135664.56,2425076.34,2300612.35,1296653.1599999999,1213049.31,1520167.36,1371281.11,1693315.08,1614987.52,1938696.86,1795386.7,2108995.1800000002,2035643.36,2339210.08,2209889.8199999998,1214438.1100000001,1130293.6499999999,1432135.92,1283093.06,1602698.78,1523753.81,1844804.97,1699918.92,2010968.24,1936599.59,2251008.5099999998,2117188.36,1133737.6200000001,1049465.2,1345353.35,1196431.6599999999,1513264.81,1433843.08,1750068.01,1604261.75,1913931.58,1838677.28,2160545.15,2022895.56,1054835.1000000001,970604.09,1260222.0900000001,1112082.6100000001,1425318.32,1345454.47,1656591.92,1510091.35,1819008.39,1742723.15,2068209.08,1927445.53,977981.01,893958.77,1177101.01,1030314.03,1338946.72,1258735.1200000001,1564467.8,1418059.27,1725511.45,1648366.62,1974430.39,1831809.28,904715.05,821157.74,1097975.1100000001,952365.08,1255936.4099999999,1175600.8,1476015.17,1329768.24,1634882.49,1556951.83,1881479.8,1737136.78,833189.4,750312.52,1020341.71,876306.56,1175752.8500000001,1095165.1299999999,1389738.4,1243503.48,1546840.15,1468339.42,1789392.6,1643550.49,764975.13,683362.24,945194.51,803949.63,1094384.5900000001,1014014.73,1301981.1299999999,1156144.46,1456031.69,1377141.79,1691763.07,1545149.74,699175.69,618618.51,872135.74,733694.65,1014646.58,934554.22,1215543.1599999999,1070953.3400000001,1366197.28,1287040.79,1594656.86,1448062.27,635998.85,556539.63,801795.48,666368.43000000005,937408.74,857788.6,1131905.76,988557.91,1278135.6100000001,1198726.23,1499419.22,1354265.84,575671.61,497340.62,734062.66,602452.21,862703.31,783506.18,1051095.2,908900.8,1193347.44,1113550.83,1408761.85,1263355.21,518192.06,441434.63,669316.77,541535.88,790753.82,712708.31,973008.21,832726.7,1111473.93,1031503.53,1320591.27,1175050.8999999999,466138.56,399839.82,609736.06000000006,492970.62,724202.87,647039.34,899382.09,761579.77,1031037.09,951080.24,1233940.3500000001,1088862.18,419755.07,363076.04,553808.89,448162.07,660642.13,584512.76,829331.68,693546.47,953699.25,873498.88,1150511.77,1006127.28,377651.54,330165.40000000002,500907.31,405973.66,598414.78,523682.32,760396.61,627778.99,876612.19,796610.09,1067855.48,923741.7,340356.8,301161.46999999997,451761.74,366856.04,538953.22,465931.44,694057.66,564737.97,801970.36,722571.69,987280.75,844343.71,307648.27,275439.34999999998,405607,330801.77,482587.04,411616.78,630748.01,505277.97,730658.15,651729.56000000006,909195.46,767885.21,0,0,0,0,0,0,0,0,0,0,0,0,0,0,0,0,0,0,0,0,0,0,0,0,0,0,0,0,0,0,0,0,0,0,0,0,0,0,0,0,0,0,0,0,0,0,0,0,0,0,0,0,0,0,0,0,0,0,0,0]
[1907552.25,1812962.19,2190811.25,2020637.88,2399939.19,2313604.52,2712179.19,2551327.79,2913118.36,2833454.99,3219878.33,3074388.9,1803781.89,1708493.02,2080946.09,1909667.12,2287173.81,2199867.4,2593739.85,2430993.5699999998,2793109.69,2712024.24,3109044.13,2958978.98,1701264.27,1605373.86,1972042.74,1800018.34,2176303.79,2087695.86,2476006.88,2311587.6,2673726.39,2591367.11,2995002.52,2841538.92,1599975.85,1503654.71,1864205.49,1692168.1,2066509.62,1977056.74,2359093.89,2193862.9500000002,2555162.7000000002,2471595.81,2878122.58,2721888.37,1500184.92,1403769.04,1758000.42,1586261.76,1957734.99,1867366.62,2243020.9,2077237.41,2437182.89,2352574.66,2759369.13,2600160.02,1403200.93,1306316.76,1653876.22,1482265.41,1850299.16,1759395.55,2129073.08,1962243.1,2320409.14,2234768.8199999998,2638756.77,2477007.13,1308174.42,1211317.69,1551402.3,1380232.64,1744398.92,1653136.34,2016579.45,1849009.55,2204941.48,2118439.8199999998,2516512.2799999998,2352995.06,1215487.3500000001,1118867.06,1451125.99,1281163.74,1640521.19,1548898.03,1905849.58,1737783.2,2092179.06,2004681.47,2395505.0499999998,2230584.88,1126363.3,1030076.49,1354547.93,1186346.24,1540044.52,1448097.91,1798465.75,1630686.63,1983028.71,1894622.68,2277896.5499999998,2112417.4300000002,1042473.94,946742.62,1263902.76,1097094.92,1444869.05,1352830.42,1697021.12,1529465.19,1879046.74,1789739.84,2166042.85,1999538.1,961795.99,866755.02,1176427.4099999999,1011262.36,1354679.48,1262231.31,1600051.32,1432347.27,1780240.73,1690192.03,2060174.36,1892225.59,885469.85,791726.53,1092519.23,930258.7,1263906.04,1171573.55,1502409.28,1334859.42,1679382.79,1588746.41,1951355.99,1782213.68,812759.13,719932.16,1012080.62,852539.03,1176311.78,1084012.3700000001,1407838.18,1241200.51,1581443.57,1490222.74,1845239.55,1675802.55,742311.44,650496.64,933888.88,777403.34,1090624.1000000001,998623.67,1315340.48,1149703.06,1484304.9,1392540.47,1739995.17,1572274.47,674442.14,583730.01,857841.97,705443.77,1006837.81,915074.76,1224949.3700000001,1060299.96,1389670.22,1297269.8600000001,1639118.18,1470735.87,609189.39,520178.13,784440.51,636260.02,925264.46,834759.23,1136614.68,973957.08,1297215.7,1204478.77,1539697.04,1370913.62,0,0,0,0,0,0,0,0,0,0,0,0,0,0,0,0,0,0,0,0,0,0,0,0,0,0,0,0,0,0,0,0,0,0,0,0,0,0,0,0,0,0,0,0,0,0,0,0,0,0,0,0,0,0,0,0,0,0,0,0,0,0,0,0,0,0,0,0,0,0,0,0,0,0,0,0,0,0,0,0,0,0,0,0,0,0,0,0,0,0,0,0,0,0,0,0,0,0,0,0,0,0,0,0,0,0,0,0,0,0,0,0,0,0,0,0,0,0,0,0]
[2261159.58,2149332.89,2596039.9700000002,2394856.9,2843264.91,2741226.55,3212434.03,3022267.34,3449958.23,3355778.32,3873908.71,3692787.46,2133913.36,2021526,2460845.67,2258806.77,2704093.33,2601122.77,3065682.74,2873720.59,3300842.98,3205221.32,3716126.57,3532761.47,2010258.52,1897317.69,2329143.36,2126550.35,2569732.62,2465347.96,2922671.63,2729025.58,3155516.01,3058546.42,3562083.62,3377188.09,1890156.49,1776782.13,2201135.56,1998654.51,2439239.34,2333956.9700000002,2783599.22,2589139.7000000002,3014390.33,2916034.25,3412122.59,3225707.04,1773816.39,1660320.99,2077380.54,1875161.42,2312581.5099999998,2206144.38,2648470.58,2453254.09,2877067.2,2777446.13,3267063.59,3078146.94,1662731.2,1548481.41,1958365.82,1755991.38,2190054.73,2082847.24,2518790.34,2322050.58,2744471.84,2643461.56,3126794.61,2935102.87,1555805.18,1441239.21,1843524.07,1641041.99,2071826.1,1963908.08,2393797.54,2195604.67,2616646.71,2514313.2799999998,2991343.83,2796939.23,1451388.28,1336736.18,1731070.68,1529335.27,1955836.61,1847094.2,2270742.59,2071282.52,2491884.11,2388070.5499999998,2857268.1,2660519.9700000002,1349844,1235246.76,1621420.14,1421251.14,1842234.83,1732759.59,2149767.71,1950083.65,2369447.64,2264229.0499999998,2724917.51,2526923.73,1253223.1299999999,1139039.3600000001,1517351.44,1318419,1733183.8,1623407.58,2033952.74,1834098.04,2251083.52,2144526.5699999998,2597073.4,2397388.96,0,0,0,0,0,0,0,0,0,0,0,0,0,0,0,0,0,0,0,0,0,0,0,0,0,0,0,0,0,0,0,0,0,0,0,0,0,0,0,0,0,0,0,0,0,0,0,0,0,0,0,0,0,0,0,0,0,0,0,0,0,0,0,0,0,0,0,0,0,0,0,0,0,0,0,0,0,0,0,0,0,0,0,0,0,0,0,0,0,0,0,0,0,0,0,0,0,0,0,0,0,0,0,0,0,0,0,0,0,0,0,0,0,0,0,0,0,0,0,0,0,0,0,0,0,0,0,0,0,0,0,0,0,0,0,0,0,0,0,0,0,0,0,0,0,0,0,0,0,0,0,0,0,0,0,0,0,0,0,0,0,0,0,0,0,0,0,0,0,0,0,0,0,0,0,0,0,0,0,0,0,0,0,0,0,0,0,0,0,0,0,0]
[0,0,3171406.59,2926420.78,3472439.71,3348232.61,3922001.96,3690431.05,4211226.3099999996,4096540.98,4744202.05,4522360.9400000004,2618152.46,2480837.9300000002,3017656.1,2770761.52,3314881.31,3189074.59,3756694.13,3522133.04,4044039.75,3927231.64,4567286.5,4341892.78,2474797.2000000002,2336375.44,2865558.22,2617289.4900000002,3160441.06,3032470.62,3592916.77,3355596.2,3878240.26,3759450.14,4391305.74,4163342.06,0,0,0,0,0,0,0,0,0,0,0,0,0,0,0,0,0,0,0,0,0,0,0,0,0,0,0,0,0,0,0,0,0,0,0,0,0,0,0,0,0,0,0,0,0,0,0,0,0,0,0,0,0,0,0,0,0,0,0,0,0,0,0,0,0,0,0,0,0,0,0,0,0,0,0,0,0,0,0,0,0,0,0,0,0,0,0,0,0,0,0,0,0,0,0,0,0,0,0,0,0,0,0,0,0,0,0,0,0,0,0,0,0,0,0,0,0,0,0,0,0,0,0,0,0,0,0,0,0,0,0,0,0,0,0,0,0,0,0,0,0,0,0,0,0,0,0,0,0,0,0,0,0,0,0,0,0,0,0,0,0,0,0,0,0,0,0,0,0,0,0,0,0,0,0,0,0,0,0,0,0,0,0,0,0,0,0,0,0,0,0,0,0,0,0,0,0,0,0,0,0,0,0,0,0,0,0,0,0,0,0,0,0,0,0,0,0,0,0,0,0,0,0,0,0,0,0,0,0,0,0,0,0,0,0,0,0,0,0,0,0,0,0,0,0,0,0,0,0,0,0,0,0,0,0,0,0,0,0,0,0,0,0,0,0,0,0,0,0,0,0,0,0,0,0,0]
[0,0,0,0,0,0,0,0,0,0,0,0,0,0,0,0,0,0,0,0,0,0,0,0,0,0,0,0,0,0,0,0,0,0,0,0,0,0,0,0,0,0,0,0,0,0,0,0,0,0,0,0,0,0,0,0,0,0,0,0,0,0,0,0,0,0,0,0,0,0,0,0,0,0,0,0,0,0,0,0,0,0,0,0,0,0,0,0,0,0,0,0,0,0,0,0,0,0,0,0,0,0,0,0,0,0,0,0,0,0,0,0,0,0,0,0,0,0,0,0,0,0,0,0,0,0,0,0,0,0,0,0,0,0,0,0,0,0,0,0,0,0,0,0,0,0,0,0,0,0,0,0,0,0,0,0,0,0,0,0,0,0,0,0,0,0,0,0,0,0,0,0,0,0,0,0,0,0,0,0,0,0,0,0,0,0,0,0,0,0,0,0,0,0,0,0,0,0,0,0,0,0,0,0,0,0,0,0,0,0,0,0,0,0,0,0,0,0,0,0,0,0,0,0,0,0,0,0,0,0,0,0,0,0,0,0,0,0,0,0,0,0,0,0,0,0,0,0,0,0,0,0,0,0,0,0,0,0,0,0,0,0,0,0,0,0,0,0,0,0,0,0,0,0,0,0,0,0,0,0,0,0,0,0,0,0,0,0,0,0,0,0,0,0,0,0,0,0,0,0,0,0,0,0,0,0,0,0,0,0,0,0]
[0,0,0,0,0,0,0,0,0,0,0,0,0,0,0,0,0,0,0,0,0,0,0,0,0,0,0,0,0,0,0,0,0,0,0,0,0,0,0,0,0,0,0,0,0,0,0,0,0,0,0,0,0,0,0,0,0,0,0,0,0,0,0,0,0,0,0,0,0,0,0,0,0,0,0,0,0,0,0,0,0,0,0,0,0,0,0,0,0,0,0,0,0,0,0,0,0,0,0,0,0,0,0,0,0,0,0,0,0,0,0,0,0,0,0,0,0,0,0,0,0,0,0,0,0,0,0,0,0,0,0,0,0,0,0,0,0,0,0,0,0,0,0,0,0,0,0,0,0,0,0,0,0,0,0,0,0,0,0,0,0,0,0,0,0,0,0,0,0,0,0,0,0,0,0,0,0,0,0,0,0,0,0,0,0,0,0,0,0,0,0,0,0,0,0,0,0,0,0,0,0,0,0,0,0,0,0,0,0,0,0,0,0,0,0,0,0,0,0,0,0,0,0,0,0,0,0,0,0,0,0,0,0,0,0,0,0,0,0,0,0,0,0,0,0,0,0,0,0,0,0,0,0,0,0,0,0,0,0,0,0,0,0,0,0,0,0,0,0,0,0,0,0,0,0,0,0,0,0,0,0,0,0,0,0,0,0,0,0,0,0,0,0,0,0,0,0,0,0,0,0,0,0,0,0,0,0,0,0,0,0,0]
[0,0,0,0,0,0,0,0,0,0,0,0,0,0,0,0,0,0,0,0,0,0,0,0,0,0,0,0,0,0,0,0,0,0,0,0,0,0,0,0,0,0,0,0,0,0,0,0,0,0,0,0,0,0,0,0,0,0,0,0,0,0,0,0,0,0,0,0,0,0,0,0,0,0,0,0,0,0,0,0,0,0,0,0,0,0,0,0,0,0,0,0,0,0,0,0,0,0,0,0,0,0,0,0,0,0,0,0,0,0,0,0,0,0,0,0,0,0,0,0,0,0,0,0,0,0,0,0,0,0,0,0,0,0,0,0,0,0,0,0,0,0,0,0,0,0,0,0,0,0,0,0,0,0,0,0,0,0,0,0,0,0,0,0,0,0,0,0,0,0,0,0,0,0,0,0,0,0,0,0,0,0,0,0,0,0,0,0,0,0,0,0,0,0,0,0,0,0,0,0,0,0,0,0,0,0,0,0,0,0,0,0,0,0,0,0,0,0,0,0,0,0,0,0,0,0,0,0,0,0,0,0,0,0,0,0,0,0,0,0,0,0,0,0,0,0,0,0,0,0,0,0,0,0,0,0,0,0,0,0,0,0,0,0,0,0,0,0,0,0,0,0,0,0,0,0,0,0,0,0,0,0,0,0,0,0,0,0,0,0,0,0,0,0,0,0,0,0,0,0,0,0,0,0,0,0,0,0,0,0,0,0]
[0,0,0,0,0,0,0,0,0,0,0,0,0,0,0,0,0,0,0,0,0,0,0,0,0,0,0,0,0,0,0,0,0,0,0,0,0,0,0,0,0,0,0,0,0,0,0,0,0,0,0,0,0,0,0,0,0,0,0,0,0,0,0,0,0,0,0,0,0,0,0,0,0,0,0,0,0,0,0,0,0,0,0,0,0,0,0,0,0,0,0,0,0,0,0,0,0,0,0,0,0,0,0,0,0,0,0,0,0,0,0,0,0,0,0,0,0,0,0,0,0,0,0,0,0,0,0,0,0,0,0,0,0,0,0,0,0,0,0,0,0,0,0,0,0,0,0,0,0,0,0,0,0,0,0,0,0,0,0,0,0,0,0,0,0,0,0,0,0,0,0,0,0,0,0,0,0,0,0,0,0,0,0,0,0,0,0,0,0,0,0,0,0,0,0,0,0,0,0,0,0,0,0,0,0,0,0,0,0,0,0,0,0,0,0,0,0,0,0,0,0,0,0,0,0,0,0,0,0,0,0,0,0,0,0,0,0,0,0,0,0,0,0,0,0,0,0,0,0,0,0,0,0,0,0,0,0,0,0,0,0,0,0,0,0,0,0,0,0,0,0,0,0,0,0,0,0,0,0,0,0,0,0,0,0,0,0,0,0,0,0,0,0,0,0,0,0,0,0,0,0,0,0,0,0,0,0,0,0,0,0,0]
[0,0,0,0,0,0,0,0,0,0,0,0,0,0,0,0,0,0,0,0,0,0,0,0,0,0,0,0,0,0,0,0,0,0,0,0,0,0,0,0,0,0,0,0,0,0,0,0,0,0,0,0,0,0,0,0,0,0,0,0,0,0,0,0,0,0,0,0,0,0,0,0,0,0,0,0,0,0,0,0,0,0,0,0,0,0,0,0,0,0,0,0,0,0,0,0,0,0,0,0,0,0,0,0,0,0,0,0,0,0,0,0,0,0,0,0,0,0,0,0,0,0,0,0,0,0,0,0,0,0,0,0,0,0,0,0,0,0,0,0,0,0,0,0,0,0,0,0,0,0,0,0,0,0,0,0,0,0,0,0,0,0,0,0,0,0,0,0,0,0,0,0,0,0,0,0,0,0,0,0,0,0,0,0,0,0,0,0,0,0,0,0,0,0,0,0,0,0,0,0,0,0,0,0,0,0,0,0,0,0,0,0,0,0,0,0,0,0,0,0,0,0,0,0,0,0,0,0,0,0,0,0,0,0,0,0,0,0,0,0,0,0,0,0,0,0,0,0,0,0,0,0,0,0,0,0,0,0,0,0,0,0,0,0,0,0,0,0,0,0,0,0,0,0,0,0,0,0,0,0,0,0,0,0,0,0,0,0,0,0,0,0,0,0,0,0,0,0,0,0,0,0,0,0,0,0,0,0,0,0,0,0]
[0,0,0,0,0,0,0,0,0,0,0,0,0,0,0,0,0,0,0,0,0,0,0,0,0,0,0,0,0,0,0,0,0,0,0,0,0,0,0,0,0,0,0,0,0,0,0,0,0,0,0,0,0,0,0,0,0,0,0,0,0,0,0,0,0,0,0,0,0,0,0,0,0,0,0,0,0,0,0,0,0,0,0,0,0,0,0,0,0,0,0,0,0,0,0,0,0,0,0,0,0,0,0,0,0,0,0,0,0,0,0,0,0,0,0,0,0,0,0,0,0,0,0,0,0,0,0,0,0,0,0,0,0,0,0,0,0,0,0,0,0,0,0,0,0,0,0,0,0,0,0,0,0,0,0,0,0,0,0,0,0,0,0,0,0,0,0,0,0,0,0,0,0,0,0,0,0,0,0,0,0,0,0,0,0,0,0,0,0,0,0,0,0,0,0,0,0,0,0,0,0,0,0,0,0,0,0,0,0,0,0,0,0,0,0,0,0,0,0,0,0,0,0,0,0,0,0,0,0,0,0,0,0,0,0,0,0,0,0,0,0,0,0,0,0,0,0,0,0,0,0,0,0,0,0,0,0,0,0,0,0,0,0,0,0,0,0,0,0,0,0,0,0,0,0,0,0,0,0,0,0,0,0,0,0,0,0,0,0,0,0,0,0,0,0,0,0,0,0,0,0,0,0,0,0,0,0,0,0,0,0,0]
[0,0,0,0,0,0,0,0,0,0,0,0,0,0,0,0,0,0,0,0,0,0,0,0,0,0,0,0,0,0,0,0,0,0,0,0,0,0,0,0,0,0,0,0,0,0,0,0,0,0,0,0,0,0,0,0,0,0,0,0,0,0,0,0,0,0,0,0,0,0,0,0,0,0,0,0,0,0,0,0,0,0,0,0,0,0,0,0,0,0,0,0,0,0,0,0,0,0,0,0,0,0,0,0,0,0,0,0,0,0,0,0,0,0,0,0,0,0,0,0,0,0,0,0,0,0,0,0,0,0,0,0,0,0,0,0,0,0,0,0,0,0,0,0,0,0,0,0,0,0,0,0,0,0,0,0,0,0,0,0,0,0,0,0,0,0,0,0,0,0,0,0,0,0,0,0,0,0,0,0,0,0,0,0,0,0,0,0,0,0,0,0,0,0,0,0,0,0,0,0,0,0,0,0,0,0,0,0,0,0,0,0,0,0,0,0,0,0,0,0,0,0,0,0,0,0,0,0,0,0,0,0,0,0,0,0,0,0,0,0,0,0,0,0,0,0,0,0,0,0,0,0,0,0,0,0,0,0,0,0,0,0,0,0,0,0,0,0,0,0,0,0,0,0,0,0,0,0,0,0,0,0,0,0,0,0,0,0,0,0,0,0,0,0,0,0,0,0,0,0,0,0,0,0,0,0,0,0,0,0,0,0]
[0,0,0,0,0,0,0,0,0,0,0,0,0,0,0,0,0,0,0,0,0,0,0,0,0,0,0,0,0,0,0,0,0,0,0,0,0,0,0,0,0,0,0,0,0,0,0,0,0,0,0,0,0,0,0,0,0,0,0,0,0,0,0,0,0,0,0,0,0,0,0,0,0,0,0,0,0,0,0,0,0,0,0,0,0,0,0,0,0,0,0,0,0,0,0,0,0,0,0,0,0,0,0,0,0,0,0,0,0,0,0,0,0,0,0,0,0,0,0,0,0,0,0,0,0,0,0,0,0,0,0,0,0,0,0,0,0,0,0,0,0,0,0,0,0,0,0,0,0,0,0,0,0,0,0,0,0,0,0,0,0,0,0,0,0,0,0,0,0,0,0,0,0,0,0,0,0,0,0,0,0,0,0,0,0,0,0,0,0,0,0,0,0,0,0,0,0,0,0,0,0,0,0,0,0,0,0,0,0,0,0,0,0,0,0,0,0,0,0,0,0,0,0,0,0,0,0,0,0,0,0,0,0,0,0,0,0,0,0,0,0,0,0,0,0,0,0,0,0,0,0,0,0,0,0,0,0,0,0,0,0,0,0,0,0,0,0,0,0,0,0,0,0,0,0,0,0,0,0,0,0,0,0,0,0,0,0,0,0,0,0,0,0,0,0,0,0,0,0,0,0,0,0,0,0,0,0,0,0,0,0,0]
[]
[]
[]
[]
[]
[]
[]
[]
[]
[]
[]
[]
[]
[]
[]
[]
[]
[]
[]
[]
[]
[]
[]
[]
[]
[]
[]
[]
[]
[]
[]
[]
[]
[]
[]
[]
[8,8,8,8,8,8,8,8,8,8,8,8,8,8,8,8,8,8,8,8,8,8,8,8,8,8,8,8,8,8,8,8,8,8,8,8,8,8,8,8,8,8,8,8,8,8,8,8,8,8,8,8,8,8,8,8,8,8,8,8,8,8,8,8,8,8,8,8,8,8,8,8,8,8,8,8,8,8,8,8,8,8,8,8,8,8,8,8,8,8,8,8,8,8,8,8,8,8,8,8,8,8,8,8,8,8,8,8,8,8,8,8,8,8,8,8,8,8,8,8,8,8,8,8,8,8,8,8,8,8,8,8,8,8,8,8,8,8,8,8,8,8,8,8,8,8,8,8,8,8,8,8,8,8,8,8,8,8,8,8,8,8,8,8,8,8,8,8,8,8,8,8,8,8,8,8,8,8,8,8,8,8,8,8,8,8,8,8,8,8,8,8,8,8,8,8,8,8,8,8,8,8,8,8,8,8,8,8,8,8,8,8,8,8,8,8,8,8,8,8,8,8,8,8,8,8,8,8,8,8,8,8,8,8,8,8,8,8,8,8,8,8,8,8,8,8,8,8,8,8,8,8,8,8,8,8,8,8,8,8,8,8,8,8,8,8,8,8,8,8,8,8,8,8,8,8,8,8,8,8,8,8,8,8,8,8,8,8,8,8,8,8,8,8,8,8,8,8,8,8,8,8,8,8,8,8,8,8,8,8,8,8]
[55334.07,55334.07,55334.07,55334.07,55333.94,55333.94,55333.94,55333.94,55333.82,55333.82,55333.82,55333.82,55364.41,55364.41,55364.41,55364.41,55364.15,55364.15,55364.15,55364.15,55364.15,55364.15,55364.15,55364.15,55372.5,55372.5,55372.5,55372.5,55372.5,55372.5,55372.5,55372.5,55372.5,55372.5,55372.5,55372.5,55372.5,55372.5,55372.5,55372.5,55372.5,55372.5,55372.5,55372.5,55372.5,55372.5,55372.5,55372.5,55372.5,55372.5,55372.5,55372.5,55372.5,55372.5,55372.5,55372.5,55372.5,55372.5,55372.5,55372.5,55372.5,55372.5,55372.5,55372.5,55372.5,55372.5,55372.5,55372.5,55372.5,55372.5,55372.5,55372.5,55372.5,55372.5,55372.5,55372.5,55372.5,55372.5,55372.5,55372.5,55372.5,55372.5,55372.5,55372.5,55372.5,55372.5,55372.5,55372.5,55372.5,55372.5,55372.5,55372.5,55372.5,55372.5,55372.5,55372.5,55347.64,55347.64,55347.64,55347.64,55348.52,55348.52,55348.52,55348.52,55348.39,55348.39,55348.39,55348.39,55370.99,55370.99,55370.99,55370.99,55371.75,55371.75,55371.75,55371.75,55371.5,55371.5,55371.5,55371.5,55327.72,55327.72,55327.72,55327.72,55328.480000000003,55328.480000000003,55328.480000000003,55328.480000000003,55328.22,55328.22,55328.22,55328.22,55372.5,55372.5,55372.5,55372.5,55372.5,55372.5,55372.5,55372.5,55372.5,55372.5,55372.5,55372.5,55372.5,55372.5,55372.5,55372.5,55372.5,55372.5,55372.5,55372.5,55372.5,55372.5,55372.5,55372.5,55372.5,55372.5,55372.5,55372.5,55372.5,55372.5,55372.5,55372.5,55372.5,55372.5,55372.5,55372.5,55372.5,55372.5,55372.5,55372.5,55372.5,55372.5,55372.5,55372.5,55372.5,55372.5,55372.5,55372.5,55372.5,55372.5,55372.5,55372.5,55372.5,55372.5,55372.5,55372.5,55372.5,55372.5,55372.5,55372.5,55372.5,55372.5,55372.5,55372.5,55372.5,55372.5,55372.5,55372.5,55372.5,55372.5,55372.5,55372.5,55372.5,55372.5,55372.5,55372.5,55372.5,55372.5,55372.5,55372.5,55372.5,55372.5,55372.5,55372.5,55357.19,55357.19,55357.19,55357.19,55357.19,55357.19,55357.19,55357.19,55357.19,55357.19,55357.19,55357.19,55286.84,55286.84,55286.84,55286.84,55286.84,55286.84,55286.84,55286.84,55286.84,55286.84,55286.84,55286.84,55167.48,55167.48,55167.48,55167.48,55167.48,55167.48,55167.48,55167.48,55167.48,55167.48,55167.48,55167.48,55077.3,55077.3,55077.3,55077.3,55077.3,55077.3,55077.3,55077.3,55077.3,55077.3,55077.3,55077.3,54961.4,54961.4,54961.4,54961.4,54961.4,54961.4,54961.4,54961.4,54961.4,54961.4,54961.4,54961.4,54826.55,54826.55,54826.55,54826.55,54826.55,54826.55,54826.55,54826.55,54826.55,54826.55,54826.55,54826.55,54678.6,54678.6,54678.6,54678.6,54678.6,54678.6,54678.6,54678.6,54678.6,54678.6,54678.6,54678.6,54536.4,54536.4,54536.4,54536.4,54536.4,54536.4,54536.4,54536.4,54536.4,54536.4,54536.4,54536.4]
[199122.04,199122.04,199122.04,199122.04,199121.61,199121.61,199121.61,199121.61,199121.04,199121.04,199121.04,199121.04,199201.13,199201.13,199201.13,199201.13,199200.26,199200.26,199200.26,199200.26,199200.01,199200.01,199200.01,199200.01,199213.6,199213.6,199213.6,199213.6,199212.59,199212.59,199212.59,199212.59,199212.44,199212.44,199212.44,199212.44,199175.23,199175.23,199175.23,199175.23,199174.39,199174.39,199174.39,199174.39,199173.71,199173.71,199173.71,199173.71,199071.46,199071.46,199071.46,199071.46,199070.62,199070.62,199070.62,199070.62,199069.78,199069.78,199069.78,199069.78,198889.74,198889.74,198889.74,198889.74,198888.75,198888.75,198888.75,198888.75,198888.22,198888.22,198888.22,198888.22,198615.51,198615.51,198615.51,198615.51,198614.39,198614.39,198614.39,198614.39,198613.68,198613.68,198613.68,198613.68,198419.06,198419.06,198419.06,198419.06,198417.53,198417.53,198417.53,198417.53,198417.12,198417.12,198417.12,198417.12,198303.76,198303.76,198303.76,198303.76,198307.43,198307.43,198307.43,198307.43,198306.59,198306.59,198306.59,198306.59,198528.49,198528.49,198528.49,198528.49,198531.86,198531.86,198531.86,198531.86,198531.01,198531.01,198531.01,198531.01,198242.62,198242.62,198242.62,198242.62,198246,198246,198246,198246,198244.99,198244.99,198244.99,198244.99,198295.86,198295.86,198295.86,198295.86,198293.93,198293.93,198293.93,198293.93,198297.81,198297.81,198297.81,198297.81,198257.3,198257.3,198257.3,198257.3,198255.34,198255.34,198255.34,198255.34,198258.99,198258.99,198258.99,198258.99,198124.01,198124.01,198124.01,198124.01,198122.08,198122.08,198122.08,198122.08,198120.42,198120.42,198120.42,198120.42,197893.01,197893.01,197893.01,197893.01,197890.51,197890.51,197890.51,197890.51,197888.99,197888.99,197888.99,197888.99,197557.15,197557.15,197557.15,197557.15,197559.39,197559.39,197559.39,197559.39,197557.98,197557.98,197557.98,197557.98,197210.96,197210.96,197210.96,197210.96,197207.42,197207.42,197207.42,197207.42,197205.5,197205.5,197205.5,197205.5,196729.43,196729.43,196729.43,196729.43,196729.43,196729.43,196729.43,196729.43,196729.43,196729.43,196729.43,196729.43,196023.64,196023.64,196023.64,196023.64,196023.64,196023.64,196023.64,196023.64,196023.64,196023.64,196023.64,196023.64,195143.48,195143.48,195143.48,195143.48,195143.48,195143.48,195143.48,195143.48,195143.48,195143.48,195143.48,195143.48,194106.52,194106.52,194106.52,194106.52,194106.52,194106.52,194106.52,194106.52,194106.52,194106.52,194106.52,194106.52,193326.78,193326.78,193326.78,193326.78,193326.78,193326.78,193326.78,193326.78,193326.78,193326.78,193326.78,193326.78,192589.97,192589.97,192589.97,192589.97,192589.97,192589.97,192589.97,192589.97,192589.97,192589.97,192589.97,192589.97,191911.37,191911.37,191911.37,191911.37,191911.52,191911.52,191911.52,191911.52,191911.52,191911.52,191911.52,191911.52,191270.24,191270.24,191270.24,191270.24,191270.24,191270.24,191270.24,191270.24,191270.24,191270.24,191270.24,191270.24,190860.82,190860.82,190860.82,190860.82,190860.82,190860.82,190860.82,190860.82,190860.82,190860.82,190860.82,190860.82]
[454983.12,454983.12,454983.12,454983.12,454981.52,454981.52,454981.52,454981.52,454980.19,454980.19,454980.19,454980.19,454878.36,454878.36,454878.36,454878.36,454876.15999999997,454876.15999999997,454876.15999999997,454876.15999999997,454875.2,454875.2,454875.2,454875.2,454699.15,454699.15,454699.15,454699.15,454696.72,454696.72,454696.72,454696.72,454696.09,454696.09,454696.09,454696.09,454456.44,454456.44,454456.44,454456.44,454454.16,454454.16,454454.16,454454.16,454452.5,454452.5,454452.5,454452.5,454120.41,454120.41,454120.41,454120.41,454117.86,454117.86,454117.86,454117.86,454116.02,454116.02,454116.02,454116.02,453777.96,453777.96,453777.96,453777.96,453775.31,453775.31,453775.31,453775.31,453773.6,453773.6,453773.6,453773.6,453418.75,453418.75,453418.75,453418.75,453415.6,453415.6,453415.6,453415.6,453413.77,453413.77,453413.77,453413.77,453044.24,453044.24,453044.24,453044.24,453040.44,453040.44,453040.44,453040.44,453038.88,453038.88,453038.88,453038.88,452660.43,452660.43,452660.43,452660.43,452670.22,452670.22,452670.22,452670.22,452668.08,452668.08,452668.08,452668.08,452648.78,452648.78,452648.78,452648.78,452658.09,452658.09,452658.09,452658.09,452655.49,452655.49,452655.49,452655.49,452046.18,452046.18,452046.18,452046.18,452055.42,452055.42,452055.42,452055.42,452052.91,452052.91,452052.91,452052.91,451450.96,451450.96,451450.96,451450.96,451445.87,451445.87,451445.87,451445.87,451456.9,451456.9,451456.9,451456.9,450528.44,450528.44,450528.44,450528.44,450522.58,450522.58,450522.58,450522.58,450533.7,450533.7,450533.7,450533.7,449288.3,449288.3,449288.3,449288.3,449282.09,449282.09,449282.09,449282.09,449277.81,449277.81,449277.81,449277.81,447775.76,447775.76,447775.76,447775.76,447767.87,447767.87,447767.87,447767.87,447763.20000000001,447763.20000000001,447763.20000000001,447763.20000000001,446077.13,446077.13,446077.13,446077.13,446084.16,446084.16,446084.16,446084.16,446079.27,446079.27,446079.27,446079.27,444248.74,444248.74,444248.74,444248.74,444237.49,444237.49,444237.49,444237.49,444231.47,444231.47,444231.47,444231.47,372456.81,252406.83,390555.33,263809.11,442161.18,442161.18,442161.18,442161.18,442161.18,442161.18,442161.18,442161.18,307510.62,206491.79,340483.12,226784.28,439540.53,439540.53,439540.53,439540.53,439540.53,439540.53,439540.53,439540.53,249581.43,166461.67000000001,294247.21000000002,193284.78,436578.12,436578.12,436578.12,436578.12,436578.12,436578.12,436578.12,436578.12,198565.81,132074.31,251780.04,163241.19,433261.46,433261.46,433261.46,433261.46,433261.46,433261.46,433261.46,433261.46,154939.01999999999,103855.75,213776.73,137337.59,430300.12,430300.12,430300.12,430300.12,430300.12,430300.12,430300.12,430300.12,117871.7,80574.25,179446.77,114562.43,360566.52,240481.77,378062.66,251304.99,427169.17,427169.17,427169.17,427169.17,87180.79,63192.53,148640.01,94856.7,298004.83,196963.03,329841.78000000003,216133.94,423930.78,423930.78,423930.78,423930.78,87726.8,63793.49,148395.12,94682.59,242549.54,159449.71,285570.28999999998,184650.32,420623.04,420623.04,420623.04,420623.04,88500.66,64499.97,148337.35,94728.42,194224.03,127807.94,245410.75,156961.57,417582.07,417582.07,417582.07,417582.07]
[704913.57,704913.57,704913.57,704913.57,704910.87,704910.87,704910.87,704910.87,704908.93,704908.93,704908.93,704908.93,704688.43,704688.43,704688.43,704688.43,704684.97,704684.97,704684.97,704684.97,704683.21,704683.21,704683.21,704683.21,704321.36,704321.36,704321.36,704321.36,704317.32,704317.32,704317.32,704317.32,704316.12,704316.12,704316.12,704316.12,703814.31,703814.31,703814.31,703814.31,703810.45,703810.45,703810.45,703810.45,703807.66,703807.66,703807.66,703807.66,703086.99,703086.99,703086.99,703086.99,703082.53,703082.53,703082.53,703082.53,703079.52,703079.52,703079.52,703079.52,702198.01,702198.01,702198.01,702198.01,702193.41,702193.41,702193.41,702193.41,702190.6,702190.6,702190.6,702190.6,701122.34,701122.34,701122.34,701122.34,701116.98,701116.98,701116.98,701116.98,701113.87,701113.87,701113.87,701113.87,699890.05,699890.05,699890.05,699890.05,699883.61,699883.61,699883.61,699883.61,699880.83,699880.83,699880.83,699880.83,698550.83,698550.83,698550.83,698550.83,698567.92,698567.92,698567.92,698567.92,698564.02,698564.02,698564.02,698564.02,697639.38,697639.38,697639.38,697639.38,697655.74,697655.74,697655.74,697655.74,697651.24,697651.24,697651.24,697651.24,696263.94,696263.94,696263.94,696263.94,696280.22,696280.22,696280.22,696280.22,696275.58,696275.58,696275.58,696275.58,694636.69,694636.69,694636.69,694636.69,694627.44,694627.44,694627.44,694627.44,694647.43,694647.43,694647.43,694647.43,594421.6,428575.77,623425.19999999995,448606.28,692622.59,692622.59,692622.59,692622.59,692642.73,692642.73,692642.73,692642.73,502071.49,359403.44,556621.98,396600.71,690191.29,690191.29,690191.29,690191.29,690183.59,690183.59,690183.59,690183.59,417503.41,296997.38,494165.57,348571.84,687330.9,687330.9,687330.9,687330.9,687322.38,687322.38,687322.38,687322.38,340593.12,241181.18,435992.78,304391.74,684065.85,684065.85,684065.85,684065.85,684056.96,684056.96,684056.96,684056.96,271370.57,191984.97,382064.41,263536.12,680303.28,680303.28,680303.28,680303.28,680292.19,680292.19,680292.19,680292.19,209719.96,149241.99,332051.71000000002,226438.34,580812.73,414839.01,609110,434318.14,676083.71,676083.71,676083.71,676083.71,155762.87,112668.47,285970.40999999997,192944.76,489214.93,346337.37,542255.17000000004,382361.84,670959.06000000006,670959.06000000006,670959.06000000006,670959.06000000006,109395.24,82080.98,244032.33,163139.57999999999,405806.07,285022.07,480083.81,334763,665427.68999999994,665427.68999999994,665427.68999999994,665427.68999999994,70456.69,57228.79,206133.45,136955.57999999999,330432.08,230634.75,422501.17,291381.40999999997,659499.24,659499.24,659499.24,659499.24,39023.08,38377.17,172826.5,114799.57,263385.46999999997,183452.1,369952.75,251865.15,654229.35,654229.35,654229.35,654229.35,38249.370000000003,37586.58,143431.82999999999,95812.73,203866.23,142984.6,321593.46000000002,216349.07,557756.24,391873.21,584859.32999999996,410174.98,37595.51,38868.26,117779.47,79829.789999999994,152208.01999999999,108922.58,277564.56,184819.63,469877.58,327157.90000000002,520608.62,360896.81,38903.53,40263.040000000001,118008.84,80112.259999999995,108249.77,80913.009999999995,237746.56,157104.18,390324.7,269696.96999999997,461307.36,316209.14,40468.76,41714.050000000003,118399.52,80624.25,71727.64,58626.55,202238.72,133222.84,319096.51,219432.73,407100.17,276203.59000000003]
[1025095.11,1025095.11,1025095.11,1025095.11,1025090.89,1025090.89,1025090.89,1025090.89,1025087.74,1025087.74,1025087.74,1025087.74,1024129.47,1024129.47,1024129.47,1024129.47,1024124.01,1024124.01,1024124.01,1024124.01,1024121.07,1024121.07,1024121.07,1024121.07,1022835.02,1022835.02,1022835.02,1022835.02,1022828.97,1022828.97,1022828.97,1022828.97,1022826.77,1022826.77,1022826.77,1022826.77,1021266.02,1021266.02,1021266.02,1021266.02,1021259.91,1021259.91,1021259.91,1021259.91,1021255.29,1021255.29,1021255.29,1021255.29,1019361.3,1019361.3,1019361.3,1019361.3,1019354.13,1019354.13,1019354.13,1019354.13,1019349.52,1019349.52,1019349.52,1019349.52,1017305.05,1017305.05,1017305.05,1017305.05,1017297.57,1017297.57,1017297.57,1017297.57,1017292.94,1017292.94,1017292.94,1017292.94,1015080.1,1015080.1,1015080.1,1015080.1,1015071.39,1015071.39,1015071.39,1015071.39,1015066.22,1015066.22,1015066.22,1015066.22,878110.26,666055.34,920606.67,697144.82,1012700.33,1012700.33,1012700.33,1012700.33,1012695.32,1012695.32,1012695.32,1012695.32,750773.77,565888.93000000005,831719.13,624546.30000000005,1010212.02,1010212.02,1010212.02,1010212.02,1010205.49,1010205.49,1010205.49,1010205.49,633287.6,474734.95,748810.71,557627.82999999996,1008161.09,1008161.09,1008161.09,1008161.09,1008153.61,1008153.61,1008153.61,1008153.61,524470.52,391338.1,670670.65,495167.55,1005655.35,1005655.35,1005655.35,1005655.35,1005647.42,1005647.42,1005647.42,1005647.42,425010.83,316359.06,598081.25,437963.33,1002181.18,1002181.18,1002181.18,1002181.18,1002214.81,1002214.81,1002214.81,1002214.81,334134.73,248682.66,530249.32999999996,385106.45,865656.63,653536.56000000006,907672.65,684281.78,998177.29,998177.29,998177.29,998177.29,251507.78,188192.7,467077.9,336490.85,738789.37,553844.54,818649.27,611702.37,993530.91,993530.91,993530.91,993530.91,177063.42,134802.9,408501.19,292038.57,621419.1,462814.87,735044.36,544311.17000000004,988457.78,988457.78,988457.78,988457.78,110695.74,88358.66,354471.5,251567.55,513373.68,380348.82,656776.21,481953.9,982966.03,982966.03,982966.03,982966.03,52644.57,49788.7,305035.39,214793.59,415115.74,306626.27,584312.93000000005,425080.58,976769.27,976769.27,976769.27,976769.27,50070.09,48160.52,259824.02,181914.84,325764.52,240597.82,516912.82,372777.34,841181.04,629152.30000000005,882063.66,658815.38,48130.27,46707.98,218954.76,152819,244848.43,181916.05,454209.6,324747.39,715274.67,530481.34,792716.74,585994.67000000004,46649.18,45410.61,182509.19,127548.11,172508.38,130562.6,396469.9,281123.94,599604.35,441243.48,709378.65,518926.58,45543.41,44308.4,150353.87,106056.56,108618.79,86326.71,343606.32,241858.26,493949.39,361126.08,631894.44999999995,457366.46,44783.63,43894.69,122944.75,88341,53367.96,49898.19,295993.59999999998,206837.72,399182.99,290920.76,561689.13,402704.57,44344.07,43529.77,99712.43,73897.009999999995,51800.9,48992.67,252922.85,175959.75,313619.07,228794.99,496965.56,353074.29,44222.54,45744.47,80397.42,62751.78,50604.84,48377.16,214361.5,148990.15,236810.46,174298.33,437339.84,308104.81,46024.9,47638.65,81313.100000000006,63779.519999999997,49875.79,48169.94,180137.55,125790.56,168397.43,126886.56,382692.3,267595.68,48160.76,49552.23,82300.58,64963.94,49687.33,48297.16,150269.70000000001,106398.34,108293.65,86569.07,333091.42,231625.58]
[1518201.45,1518201.45,1518201.45,1518201.45,1518193.93,1518193.93,1518193.93,1518193.93,1518188.49,1518188.49,1518188.49,1518188.49,1326500.3600000001,1059202.3999999999,1389775.3,1108149.32,1515678.62,1515678.62,1515678.62,1515678.62,1515673.59,1515673.59,1515673.59,1515673.59,1146319.6000000001,911116.26,1268006.4099999999,1004546.38,1512715.3,1512715.3,1512715.3,1512715.3,1512711.13,1512711.13,1512711.13,1512711.13,977365.27,773609.22,1152689.67,907194,1509296,1509296,1509296,1509296,1509288.22,1509288.22,1509288.22,1509288.22,819439.12,646463.52,1043706.77,815999.44,1505308.6,1505308.6,1505308.6,1505308.6,1505300.53,1505300.53,1505300.53,1505300.53,672428.28,529009.27,940957.36,730784.47,1500917.93,1500917.93,1500917.93,1500917.93,1500909.82,1500909.82,1500909.82,1500909.82,535615.34,421111.99,844269.38,651303.78,1309082.58,1041776.41,1371927.63,1090415.79,1496122.38,1496122.38,1496122.38,1496122.38,408824.07,322597.65000000002,753562.71,577475.92000000004,1129242.26,894128.16,1249975.6000000001,986877.96,1491077.75,1491077.75,1491077.75,1491077.75,291946.95,233208.42,668700.94999999995,509036.43,961106.08,757624.22,1134855.17,890018.65,1485920.07,1485920.07,1485920.07,1485920.07,185004.04,152908.49,590087.26,446250.73,804882.46,632494.31000000006,1027108.39,800290.9,1481459.34,1481459.34,1481459.34,1481459.34,87274.1,80845.929999999993,516390.89,387988.34,659476.87,516898.39,925480.25,716356.05,1477166.75,1477166.75,1477166.75,1477166.75,81725.990000000005,75583.179999999993,448443.53,335073.01,523887.08,410492.34,829328.65,637537.68000000005,1286111.67,1018937.84,1348558.56,1067038.5900000001,76675.97,70730.05,385516.94,286727.95,398573.38,313547,739202.72,564384.4,1107193.52,872325.37,1226654.1499999999,963608.85,72106.02,66360.33,327625.28000000003,242906.63,283495.55,226005.1,655014.26,496644.11,940039.19,736888.99,1111267.18,866834.28,68058.570000000007,62521.66,274735.95,203514.65,178405.88,147320.04,576657.41,434171.01,784765.03,612704.15,1003145.2,776739.59,64442.27,59208.68,226823.54,168443.39,83205.09,77832.08,503972.31,376948.11,641061.16,498937.56,901679.82,692951.3,61563.43,57198.44,184058.22,137865.32999999999,79000.42,73765.350000000006,437275.03,325329.28000000003,507989.83,395111.1,806457.42,615071.44999999995,59236.24,55630.77,145978.85,111503.86,75105.64,70021.850000000006,375775.37,278339.23,385663.63,301036.44,717439.13,543029.66,57397.06,54456.1,112769.64,89213.05,71477.52,66758.210000000006,319235.83,235871.07,273449.88,216431.52,633997.97,476040.82,56062.86,53663.43,84532.02,70962.3,68340.19,63871.94,267825.52,197924.7,171741.77,141390.74,556627.25,414690.3,55308.87,53295.18,61040.98,56724.14,65658.100000000006,61397.440000000002,221480.37,164519.85999999999,80386.95,75700.53,485189.51,358783.12,54856.23,53556.27,59764.79,56040.25,63711.65,60204.22,180537.9,135728.29999999999,76940.98,72480.259999999995,420636.1,309425.07,54897.98,53918.84,58905.57,55699.83,62375.88,59453.82,144518.69,111288.53,73996.98,69777.64,361605.31,265080.44,55359.49,56863.1,58250.76,55984.67,61484.21,59061.2,113494.12,91023.75,71564.75,67796.039999999994,307872.27,225606.74,57576.21,59068.54,59770.66,57664.22,61150.33,59271,87277.19,74765.960000000006,69678.73,66105.62,259416.54,190739.01,60105.51,61282.52,61302.38,59480.22,61448.89,59983.71,65824.149999999994,62400.92,68373,65143.69,216234.37,160555.54]
[944513.29,772244.56,1314915.94,1063412.75,2038892.98,2038892.98,2038892.98,2038892.98,2038884.62,2038884.62,2038884.62,2038884.62,759561.28,621256.63,1188974.1200000001,956495.53,1788613.05,1475334.55,1873625.18,1543699.42,2033618.57,2033618.57,2033618.57,2033618.57,586117.73,481358.19,1069913.28,855944.16,1552481.07,1275635.56,1716624.47,1406824.63,2027793.65,2027793.65,2027793.65,2027793.65,423997.53,352270.09,957519.33,761569.01,1330141.8799999999,1089487.73,1567692.54,1277951.1100000001,2021522.97,2021522.97,2021522.97,2021522.97,273120.86,233892.08,851445.88,673317.49,1121237.02,915662.15,1426503.3,1156572.1100000001,2014698.19,2014698.19,2014698.19,2014698.19,133461.94,125829.93,751597.52,591104.05000000005,924957.51,753919.44,1293018.53,1042690.4,2007536.23,2007536.23,2007536.23,2007536.23,124531.14,117085.95,657896.9,514690.46,740705.26,603818.78,1167007.71,935877.77,1757459.31,1444347.64,1843066.34,1513149.59,116230.6,109019.29,570458.64,444182.38,568559.18999999994,465194.46,1048431.32,835887.04,1522330.32,1245817.73,1687186.62,1377324.66,108602.27,101546.16,489116.95,379515.64,408355.97,337904.49,937020.62,742560.97,1301798.73,1061493.28,1539683.49,1249759,101760.79,94930.39,414245.38,320824.62,259854.67,221868.94,832945.55,656380.31999999995,1095887.75,890736.63,1401019.37,1130729.44,95266.85,88710.78,344785.33,267057.38,122540.51,116027.31,735044.85,576125.77,902846.8,732261.61,1270275.1499999999,1019335.57,89920.47,83668.75,281700.92,219080.74,115429.02,109201.04,643209.46,501583.93,721308.01,584911.32999999996,1145345.8799999999,913359.8,85022.399999999994,78973.490000000005,223997.76,175887.23,108848.5,102799.49,557361.13,432694.71,551731.89,449014.3,1027023.21,813962.94,80560.399999999994,74723.899999999994,171735.01,137484.84,102845.63,96998.83,477454.66,369438.89,393965.75,324313.40999999997,915402.32,721553.53,76594.53,70980.570000000007,124869.94,103769.18,97145.37,91267.28,403432.51,311623.31,248019.87,210830.68,811498.79,635633.69999999995,73016.399999999994,67739.27,83405.929999999993,74621.11,91755.4,86389.06,335332.84000000003,259306.1,113930.69,108433.63,714045.2,555947.78,70175.929999999993,65785.75,79752.33,71954.48,87377.96,82206.48,273410.49,212662.63,107578.95,102419.48,622810.36,482259.48,67970.23,64378.7,76475.7,69784.05,83385.490000000005,78423.56,217192.38,170913.46,102004.27,96761.93,537980.27,414600.84,66339.179999999993,63486.84,73801.86,68053.33,79753.34,75274.559999999998,166592.39000000001,134260.97,96658.6,91709.1,459114.58,352425.98,65292.12,63051.87,71769.850000000006,66819.16,76748.98,72596.850000000006,121641.97,102450.44,91897.19,87250.85,386661.1,296325.17,64926.47,63055.61,70099.61,66228.78,74313.179999999993,70423.350000000006,82284.990000000005,75587.56,87693.99,83436.399999999994,320484.84999999998,246041.9,64853.05,63779.24,69216.710000000006,65933.56,72678.490000000005,69618.490000000005,79694.53,73913.240000000005,84365.33,80427.7,261217.62,202205.18,65356.54,64582.46,68828.929999999993,66048.800000000003,71749.02,69303.429999999993,77735.39,72878.350000000006,81647.61,78048.539999999994,207917.88,163659.47,66316.509999999995,67544.88,68677.97,66827.149999999994,71323.850000000006,69359.460000000006,76476.17,72393.009999999995,79552.509999999995,76547.92,160316.15,130278.92,68763.58,69910.28,70484.13,68823.649999999994,71532.17,70107.25,75740.37,72451.97,78118.52,75382.58,118477.89,101761.67,71539.58,72258.94,72272.53,70956.240000000005,72453.850000000006,71413.02,75539.100000000006,73111.94,77380.509999999995,75109.149999999994,82273.62,78126.929999999993]
[200804.05,192043.82,991127.12,812184.93,1083367.76,918175.28,1696604.87,1417438.54,2492526,2124348.1800000002,2613829.8199999998,2225892.15,187879.3,179318.65,866950.76,707887.3,839298.38,713951.25,1534067.04,1275537.7,2170615.7599999998,1844200.09,2405392.1,2039578.65,175811.1,167362.26,750068.76,610717.29,609563.48,523730.53,1379913.65,1141923.18,1866635.1,1581370.03,2207272.1800000002,1863546.43,164513.29,156259.54999999999,640466.47,520510.15,393811.63,347396.9,1233982.3700000001,1016465.77,1579594.52,1334628.53,2019201.29,1697384.05,154056.01,146139.70000000001,538089.23,437194.99,192210.58,184572.6,1096133.72,898822.49,1308145.49,1103436.67,1840792.12,1540263.05,144551.57,136732.66,442834.2,360696.7,180945.91,173573.32,966238.92,789130.83,1052301.46,887682.97,1671866.51,1391927.68,135587.85999999999,127974.2,354232.52,290331.95,170013.19,162950.16,843763.43,686662.23,810984.03,686345.42,1511095.01,1251586.72,127144.3,119810.72,272290.58,226180.97,159735.24,152708.82,728571.62,591147.27,583916.34,499140.9,1358183.93,1119053.25,119281.98,112132.15,196788.28,168162.85,150149.28,143166.45000000001,620536.76,502562.54,371134.54,325691.84000000003,1213002.58,994153.74,112122.78,105268.07,128043.97,116200.05,140946.41,134366.6,519889.24,421104.6,172153.41,165630.39999999999,1075902.81,877209.54,105224.28,98741.18,119923.79,108719.14,132262.79,125767.71,425560.64,345655.45,161341.26999999999,155046.06,946089.11,767452.43,99453.93,93406.63,113059.72,102467.06,124242.04,118188.16,338217.14,276698.15999999997,151484.69,145518.26999999999,822170.5,663445.26,94276.98,88534.86,106710.45,96757.54,116954.15,111196.88,257551.25,214007.33,142225.48000000001,136536.03,705094.61,567097.78,89698.27,84273.45,101016.78,91771.02,110477.92,105044.28,183621.58,157607.25,133576.15,128113.28,595522.06000000006,479509.76000000001,85786.66,80692.92,95929.71,87458.03,104424.02,98994.19,116335.93,107209.21,125492.8,120356.21,495623.3,398963.52,82386.289999999994,77767.44,91480.01,83790.86,98788.39,94091,109754.41,101425.03,118261.86,113450.89,402871.13,325284.87,79850.13,76155.460000000006,87946.44,81347.960000000006,94389.07,90003.199999999997,104002.32,96520.49,111327.06,107058.07,317172.13,258405.12,78056.179999999993,75178.399999999994,84877.87,79517.570000000007,90496.38,86440.11,98898.92,91988.95,105443.65,101149.65,238591.82,198132.24,76952.070000000007,74810.78,82591.75,78247.13,87119.54,83763.839999999997,94533.3,88474.19,99934.07,96127,167007.49,144107.09,76532.710000000006,74970.710000000006,81125.45,77606.2,84594.2,81713.899999999994,90846.11,85590.01,95236.03,91921.74,102617.83,96856.78,76944.33,75660.179999999993,80133.47,77808.33,82845.210000000006,80337.87,87873.21,83689.320000000007,91309.97,88616.49,97453.36,92589.69,77785.16,77359.09,80336.3,78485.47,82244.39,80598.649999999994,86234.45,82947.61,88894.91,86661.48,93855.14,89912.33,79481.72,79244.960000000006,81365.899999999994,79851.28,82736.44,81622.05,85716.7,83271.42,87687.3,85874.29,91671.25,88462.05,81808.25,82348.5,82845.41,82032.639999999999,84019.49,83193.240000000005,86344.05,84477.48,87621.24,86484.85,90607.35,88266.65,85143.99,85558.99,85850.78,85147.24,86200.65,85731.86,87847.89,86542.59,88665.41,87698.95,90878.61,89085.27,89163.28,89092.25,89094.89,88665.09,89330.62,89031.88,90162.02,89476.15,90763.85,90165.64,92363.02,91110.34]
[213823.93,204848.37,536820.52,457436.23,260512.36,252463.32,1228784.24,1038999.27,1159940.43,1013467.55,2155392.4300000002,1849861.1200000001,200382.49,191653.33,416258.44,358658.74,244913.34,236924.15,1067380.82,900481.61,842142.35,742150.11,1948291.18,1665516.58,187582.03,178996.67,303272.84999999998,267280.03000000003,229950.24,221911.42,914536.15,770394.48,541337.51,487835.5,1750463.03,1490522,175297.36,166991.29999999999,197924.82,183164.06,215281.34,207606.39,769993.72,648625.66,257335.91,250159.85,1561717.62,1324615.1399999999,163628,155818.96,184898.87,170699.33,201497.56,193876.86,633755.86,534795.68000000005,240860.49,233883.2,1381703.51,1167486.43,152697,145103.43,172484.04,159013.18,188170.53,180995.37,505578.18,429066.17,225236.28,218426.8,1210390.68,1019036.94,142510.85999999999,135270.73000000001,160788.60999999999,147914.57,175305.42,168636.61,385569.46,331224.15000000002,210092.57,203547.59,1047625.47,879049.32,133054.71,126267.98,149940.45000000001,137735.56,163366.39000000001,156830.91,273611.28000000003,240930.08,195579.2,189498.93,893274.16,747422.64,124390.09,117922.27,139711.25,128506.12,152384.28,145993.32,169590.2,158323.62,182083.76,176141.41,747181.04,623973.56999999995,116612.92,110612.88,130582.29,120266.08,141847.85,136093.85,157719.48000000001,147208.78,169223.63,163449.04999999999,609480.84,508737.56,109341.62,103896.86,121718.88,112342.49,132179.46,126622.01,146067.37,136413.45000000001,156627.93,151257.96,479607.62,401157.64,103300.82,98506.13,114235.71,105762.92,123176.41,118318.82,135779.87,126915.53,145036.54,140235.4,356652.6,300310.07,98050.03,93742.1,107443.01,99923.4,115181.21,110832.12,126175.75,118238.96,134272.94,129975.11,241319.83,208594,93631.61,89829.82,101563.37,95083.81,108330.92,104524.49,117441.41,110587.14,124407.93,120551.43,134977.79999999999,128062.06,90158.1,86880.06,96570.48,91182.27,102131.66,98431.94,109548.91,103763.38,115372.99,112105.9,124264.88,118240.16,87791.94,85157.06,92979.53,88593.26,97149.52,94468.87,103404.27,98743.12,108398.85,105655.4,115411.6,110348.91,86790.47,84926.64,90957.19,87548.55,94262.77,91975.48,98982.43,95380.63,102667.2,100676.62,108451.74,104510.38,86958.55,85700.18,89955.85,87615.42,92595.11,90642.04,96116.49,93080.34,99194.62,97108.39,103384.29,100383.5,88214.29,87434.11,90351.8,88704.34,92134.09,90925.759999999995,94946.19,92658.559999999998,97076.26,95487.11,100236.83,97745.32,90475.48,89981.3,92090.45,90833.58,93181.52,92301.82,95234.04,93462.73,96717.52,95509.94,99049.12,97158.23,93550.38,93022.38,94169.7,93848.42,94939.15,94219.68,96157.33,95227.76,97042.31,96372.79,98626.59,97371.06,96660.08,96977.87,97194.22,96945.32,97359.84,97304.27,97969.5,97469.42,98384.5,98055.73,99156.05,98631.28,100501.81,100832.7,100793.51,100546.93,100576.67,100830.65,100500.46,100503.39,100500.2,100500.21,100610.51,100620.87,0,0,0,0,0,0,0,0,0,0,0,0,0,0,0,0,0,0,0,0,0,0,0,0,0,0,0,0,0,0,0,0,0,0,0,0]
[218179.01,209462.19,244312.81,228630.67,263510.09999999998,255740.87,691639.47,602571.18999999994,310804.31,303462.59000000003,1633002.75,1414413.32,202653.47,194347.59,227037.82,211938.41,245112.62,237513.89,529635.74,466073.07,289407.11,282427.34000000003,1421341.22,1228184.1399999999,188017.18,179989.32,210419.81,196142.79,227574.53,220018.53,376969.28,338734.69,268655.96999999997,261982.97,1219494.49,1051887.73,174088.87,166515.24,194659.4,181229.37,210450.8,203467.94,233289.93,220461.76,248764.79999999999,242233.34,1027249.42,885181.77,160960.62,154121.39000000001,179757.15,167196.70000000001,194475.5,187671.85,215144.64,202958.33,229177.94,223013.68,844264.24,727771.14,148713.32999999999,142265.18,165579.03,154131.07999999999,179032.09,172916.35,197546.23999999999,186398.15,210606.38,204779.83,670420.42000000004,579505.92000000004,137391.78,131509.63,152288.29,141790.35,164126.35999999999,158784.10999999999,180821.79,170744.87,192566.06,187209.93,505597.12,440127.22,126999.03999999999,121817.06,140073.32999999999,130609.74,150391.19,145347.04999999999,165011.14000000001,155816.45000000001,175251.71,170644.71,349718.22,309646.59000000003,117674.87,113017.12,128704.51,120689.94,137955.39000000001,133227.31,150256.64000000001,142145.28,159310.04,155028.37,202749.75,188003.49,109524.61,105575.37,118778.34,112077.92,126143.87,122365.89,136634.57999999999,129710.44,144268.60999999999,140352.99,179764.37,165907.44,103123.15,99889.1,110532.87,105024.45,116923.12,113436.32,125051.97,119284.72,131493.73000000001,128153.83,159564.54999999999,146521.28,98619.36,96152.73,104517.98,100021.62,109256.08,106650.11,116060.49,111266.94,120985.07,118384.13,140775.07,128590.07,95754.73,93766.21,100211.1,96642.5,103881.26,101818.29,109167.03999999999,105331.85,112938.94,110900.63,124243.38,115222.35,94520.02,92931.66,97833.13,95126.01,100906.92,99319.34,104540.68,101680.76,107424.8,105763.1,111825.2,108961.74,94956.91,93675.32,97267.27,95269.5,99603.24,97805.98,102078.36,99966.720000000001,104237.9,103026.52,107602.48,105301.96,95973.43,95186.52,97522.73,96212.84,98769.56,97967.43,100636.08,99398.58,102369.74,101552.12,104298.17,102719.26,97869.89,97525.69,98784.37,98013.92,99492.51,98938.39,100135.38,99774.01,100797.58,100717.09,101955.7,101380.85,100501.44,100513.39,100500.91,100529.49,100826.33,100500.28,100500.03,100500.42,100886.3,100505.44,100611.13,100907.73,0,0,0,0,0,0,0,0,0,0,0,0,0,0,0,0,0,0,0,0,0,0,0,0,0,0,0,0,0,0,0,0,0,0,0,0,0,0,0,0,0,0,0,0,0,0,0,0,0,0,0,0,0,0,0,0,0,0,0,0,0,0,0,0,0,0,0,0,0,0,0,0,0,0,0,0,0,0,0,0,0,0,0,0,0,0,0,0,0,0,0,0,0,0,0,0]
[217251.53,208690.87,242919.23,227518,261767.08,254150.56,563240.73,497892.85,308214.02,301003.78999999998,1507212.66,1309157.3700000001,201303.56,193195.05,225125.89,210372.1,242778.74,235361.54,401207.69,361974.41,286035.58,279228.58,1294589.55,1122591.8400000001,186264.92,178470.89,207992.73,194142.01,224652.35,217304.95,248639.25,235334.66,264490.39,258030.26,1091842.6000000001,946032.46,171945.36,164653.78,191730.81,178809.93,206923.38,200205.29,228896.52,216561.14,243800.25,237515.73,898755.7,779121.37,158432.66,151941.15,176326.94,164365.35,190354.74,183855.76,210018.48,198406.9,223365.63,217497.72,714979.73,621559.68999999994,145864.5,139815.04999999999,161708.6,150965.39000000001,174374.07,168628.86,191739.01,181274.91,204029.47,198548.45,540498.18000000005,473300.96,134315.60999999999,128888.34,148076.54,138376.97,159014.57999999999,154111.81,174440.69,165156.17000000001,185316.82,180361.38,375239.5,334114.51,123794.69,119128.04,135636.03,127059.94,144952.59,140389.97,158178.72,149870.45000000001,167439.04000000001,163303.31,219151.61,204046.98,114430.6,110336.88,124123.37,117100.51,132302.81,128098.08,143079.64000000001,135951.23000000001,151058.82999999999,147294.69,194354.29,180211.51,107090.24000000001,103688.98,115083.01,109347.15,121407.22,118157.09,130459.45,124493.7,137058.32999999999,133641.34,172194.3,158911.47,101617.84,98902.23,107862.48,103261.11,113297.96,110296.97,120076.23,115220.53,125551.85,122688.21,153100.92000000001,140576.6,98033.17,96052.89,102882.19,99215.23,106743.57,104607.03999999999,112339.47,108394.22,116360.52,114218.05,135424.41,123697.61,96191.39,94629.11,99742.52,96898.35,102666.7,101023,106906.96,103822.63,109884.45,108260.52,120283.71,111748.78,96063.99,94822.34,98653.63,96537.43,101155.14,99915.199999999997,103926.59,101692.47,106170.57,104851.38,109604.19,107376.13,96844.41,95920.94,98415.51,97027.81,100175.77,98713.66,101756.96,100306.98,103257.12,102415.64,105628.26,103996.76,98223.45,97813.47,99030.71,98348.26,99681.36,99262.36,100652.91,100114.98,101723.55,101298.7,102613.61,101744.69,100503.34,100503.05,100681.97,100508.43,100802.45,100640.4,100522.26,100894.75,100500.36,100852.64,100611.57,100798.84,0,0,0,0,0,0,0,0,0,0,0,0,0,0,0,0,0,0,0,0,0,0,0,0,0,0,0,0,0,0,0,0,0,0,0,0,0,0,0,0,0,0,0,0,0,0,0,0,0,0,0,0,0,0,0,0,0,0,0,0,0,0,0,0,0,0,0,0,0,0,0,0,0,0,0,0,0,0,0,0,0,0,0,0,0,0,0,0,0,0,0,0,0,0,0,0,0,0,0,0,0,0,0,0,0,0,0,0]
[198165.57,191194.05,219084.37,206541.79,234395.43,228288.26,257494.07,245636.91,272222.27,266350.3,743938.3,667752.63,179384.3,173168.82,197771.34,186366.72,211358.24,205679.26,231478.26,220745.41,244625.33,239457.02,524914.68999999994,478533.27,161877.59,156245.19,177416.8,167483.49,189488.63,184095.28,206607.15,197027.16,217935.35999999999,213401.99,316522.59999999998,300126.83,145497.84,140690.38,158403.98000000001,149950.54999999999,168342.9,163947.70000000001,182717.87,174695.26,192583.57,188466.48,282065.25,266612.36,131795.45000000001,128095.1,142386.59,135277.37,150805.71,146798.78,162347,155400.22,170155.44,166685.51,250901.59,236361.76,120798.8,117656.75,129177.89,123576.31,136069.1,133031.14000000001,145055.96,139584.01999999999,151707.49,148756.26,223220.58,209578.95,112493.42,110005.5,118912.58,114375.18,124030.72,121960.7,131249.17000000001,127081.44,136505.41,134142.6,199050.52,186084.01,106785.17,104989.51,111762.82,108126.97,115502.32,113621.15,120967.84,117596.17,124769.74,123261.1,178582.09,166237.26999999999,103720.54,102213.84,107279.73,104814.63,110563.05,108740.01,114333.3,111714.4,117393.32,116002.87,161993.68,150165.01,101666.33,100656.03,104166.39,102653.86,105939.08,104993.81,108721.86,106937.09,110813.85,109554.18,146265.98000000001,134930.95000000001,100626.73,100167.32,101809.94,101164.75,103116.65,102202.41,104000.21,103106.42,105296.53,104483.28,132067.95000000001,121211.92,100523.37,100756.72,100625.89,100718.63,100512.61,100500.52,100643.96,100533.34,100571.04,100500.33,117209.95,107029.99,0,0,0,0,0,0,0,0,0,0,0,0,0,0,0,0,0,0,0,0,0,0,0,0,0,0,0,0,0,0,0,0,0,0,0,0,0,0,0,0,0,0,0,0,0,0,0,0,0,0,0,0,0,0,0,0,0,0,0,0,0,0,0,0,0,0,0,0,0,0,0,0,0,0,0,0,0,0,0,0,0,0,0,0,0,0,0,0,0,0,0,0,0,0,0,0,0,0,0,0,0,0,0,0,0,0,0,0,0,0,0,0,0,0,0,0,0,0,0,0,0,0,0,0,0,0,0,0,0,0,0,0,0,0,0,0,0,0,0,0,0,0,0,0,0,0,0,0,0,0,0,0,0,0,0,0,0,0,0,0,0,0,0,0,0,0,0,0]
[0,0,129050.86,125741.55,132963.03,131671,139162.01999999999,136031.91,142947.67000000001,141397.88,285137.83,271767.03999999998,114461.27,113312.77,118268.89,115852.42,120959.24,119930.49,124841.36,122702.25,127460.66,126665.74,259717.66,246875.95,106960.36,106178.97,108613.56,107470.6,110389.85,109382.18,112097.46,110875.16,113276.69,113065.99,235240.53,223044.5,100616.49,100502.94,100501.49,100500.16,100500.55,100500.37,100500.25,100644.72,100851.89,100834.99,211743.03,200070.63,0,0,0,0,0,0,0,0,0,0,0,0,0,0,0,0,0,0,0,0,0,0,0,0,0,0,0,0,0,0,0,0,0,0,0,0,0,0,0,0,0,0,0,0,0,0,0,0,0,0,0,0,0,0,0,0,0,0,0,0,0,0,0,0,0,0,0,0,0,0,0,0,0,0,0,0,0,0,0,0,0,0,0,0,0,0,0,0,0,0,0,0,0,0,0,0,0,0,0,0,0,0,0,0,0,0,0,0,0,0,0,0,0,0,0,0,0,0,0,0,0,0,0,0,0,0,0,0,0,0,0,0,0,0,0,0,0,0,0,0,0,0,0,0,0,0,0,0,0,0,0,0,0,0,0,0,0,0,0,0,0,0,0,0,0,0,0,0,0,0,0,0,0,0,0,0,0,0,0,0,0,0,0,0,0,0,0,0,0,0,0,0,0,0,0,0,0,0,0,0,0,0,0,0,0,0,0,0,0,0,0,0,0,0,0,0,0,0,0,0,0,0,0,0,0,0,0,0,0,0,0,0,0,0,0,0,0,0,0,0,0,0,0,0,0,0,0,0,0,0,0,0,0,0,0,0,0,0,0,0,0,0,0,0]
[0,0,0,0,0,0,0,0,0,0,0,0,0,0,0,0,0,0,0,0,0,0,0,0,0,0,0,0,0,0,0,0,0,0,0,0,0,0,0,0,0,0,0,0,0,0,0,0,0,0,0,0,0,0,0,0,0,0,0,0,0,0,0,0,0,0,0,0,0,0,0,0,0,0,0,0,0,0,0,0,0,0,0,0,0,0,0,0,0,0,0,0,0,0,0,0,0,0,0,0,0,0,0,0,0,0,0,0,0,0,0,0,0,0,0,0,0,0,0,0,0,0,0,0,0,0,0,0,0,0,0,0,0,0,0,0,0,0,0,0,0,0,0,0,0,0,0,0,0,0,0,0,0,0,0,0,0,0,0,0,0,0,0,0,0,0,0,0,0,0,0,0,0,0,0,0,0,0,0,0,0,0,0,0,0,0,0,0,0,0,0,0,0,0,0,0,0,0,0,0,0,0,0,0,0,0,0,0,0,0,0,0,0,0,0,0,0,0,0,0,0,0,0,0,0,0,0,0,0,0,0,0,0,0,0,0,0,0,0,0,0,0,0,0,0,0,0,0,0,0,0,0,0,0,0,0,0,0,0,0,0,0,0,0,0,0,0,0,0,0,0,0,0,0,0,0,0,0,0,0,0,0,0,0,0,0,0,0,0,0,0,0,0,0,0,0,0,0,0,0,0,0,0,0,0,0,0,0,0,0,0,0]
[0,0,0,0,0,0,0,0,0,0,0,0,0,0,0,0,0,0,0,0,0,0,0,0,0,0,0,0,0,0,0,0,0,0,0,0,0,0,0,0,0,0,0,0,0,0,0,0,0,0,0,0,0,0,0,0,0,0,0,0,0,0,0,0,0,0,0,0,0,0,0,0,0,0,0,0,0,0,0,0,0,0,0,0,0,0,0,0,0,0,0,0,0,0,0,0,0,0,0,0,0,0,0,0,0,0,0,0,0,0,0,0,0,0,0,0,0,0,0,0,0,0,0,0,0,0,0,0,0,0,0,0,0,0,0,0,0,0,0,0,0,0,0,0,0,0,0,0,0,0,0,0,0,0,0,0,0,0,0,0,0,0,0,0,0,0,0,0,0,0,0,0,0,0,0,0,0,0,0,0,0,0,0,0,0,0,0,0,0,0,0,0,0,0,0,0,0,0,0,0,0,0,0,0,0,0,0,0,0,0,0,0,0,0,0,0,0,0,0,0,0,0,0,0,0,0,0,0,0,0,0,0,0,0,0,0,0,0,0,0,0,0,0,0,0,0,0,0,0,0,0,0,0,0,0,0,0,0,0,0,0,0,0,0,0,0,0,0,0,0,0,0,0,0,0,0,0,0,0,0,0,0,0,0,0,0,0,0,0,0,0,0,0,0,0,0,0,0,0,0,0,0,0,0,0,0,0,0,0,0,0,0]
[0,0,0,0,0,0,0,0,0,0,0,0,0,0,0,0,0,0,0,0,0,0,0,0,0,0,0,0,0,0,0,0,0,0,0,0,0,0,0,0,0,0,0,0,0,0,0,0,0,0,0,0,0,0,0,0,0,0,0,0,0,0,0,0,0,0,0,0,0,0,0,0,0,0,0,0,0,0,0,0,0,0,0,0,0,0,0,0,0,0,0,0,0,0,0,0,0,0,0,0,0,0,0,0,0,0,0,0,0,0,0,0,0,0,0,0,0,0,0,0,0,0,0,0,0,0,0,0,0,0,0,0,0,0,0,0,0,0,0,0,0,0,0,0,0,0,0,0,0,0,0,0,0,0,0,0,0,0,0,0,0,0,0,0,0,0,0,0,0,0,0,0,0,0,0,0,0,0,0,0,0,0,0,0,0,0,0,0,0,0,0,0,0,0,0,0,0,0,0,0,0,0,0,0,0,0,0,0,0,0,0,0,0,0,0,0,0,0,0,0,0,0,0,0,0,0,0,0,0,0,0,0,0,0,0,0,0,0,0,0,0,0,0,0,0,0,0,0,0,0,0,0,0,0,0,0,0,0,0,0,0,0,0,0,0,0,0,0,0,0,0,0,0,0,0,0,0,0,0,0,0,0,0,0,0,0,0,0,0,0,0,0,0,0,0,0,0,0,0,0,0,0,0,0,0,0,0,0,0,0,0,0]
[0,0,0,0,0,0,0,0,0,0,0,0,0,0,0,0,0,0,0,0,0,0,0,0,0,0,0,0,0,0,0,0,0,0,0,0,0,0,0,0,0,0,0,0,0,0,0,0,0,0,0,0,0,0,0,0,0,0,0,0,0,0,0,0,0,0,0,0,0,0,0,0,0,0,0,0,0,0,0,0,0,0,0,0,0,0,0,0,0,0,0,0,0,0,0,0,0,0,0,0,0,0,0,0,0,0,0,0,0,0,0,0,0,0,0,0,0,0,0,0,0,0,0,0,0,0,0,0,0,0,0,0,0,0,0,0,0,0,0,0,0,0,0,0,0,0,0,0,0,0,0,0,0,0,0,0,0,0,0,0,0,0,0,0,0,0,0,0,0,0,0,0,0,0,0,0,0,0,0,0,0,0,0,0,0,0,0,0,0,0,0,0,0,0,0,0,0,0,0,0,0,0,0,0,0,0,0,0,0,0,0,0,0,0,0,0,0,0,0,0,0,0,0,0,0,0,0,0,0,0,0,0,0,0,0,0,0,0,0,0,0,0,0,0,0,0,0,0,0,0,0,0,0,0,0,0,0,0,0,0,0,0,0,0,0,0,0,0,0,0,0,0,0,0,0,0,0,0,0,0,0,0,0,0,0,0,0,0,0,0,0,0,0,0,0,0,0,0,0,0,0,0,0,0,0,0,0,0,0,0,0,0]
[0,0,0,0,0,0,0,0,0,0,0,0,0,0,0,0,0,0,0,0,0,0,0,0,0,0,0,0,0,0,0,0,0,0,0,0,0,0,0,0,0,0,0,0,0,0,0,0,0,0,0,0,0,0,0,0,0,0,0,0,0,0,0,0,0,0,0,0,0,0,0,0,0,0,0,0,0,0,0,0,0,0,0,0,0,0,0,0,0,0,0,0,0,0,0,0,0,0,0,0,0,0,0,0,0,0,0,0,0,0,0,0,0,0,0,0,0,0,0,0,0,0,0,0,0,0,0,0,0,0,0,0,0,0,0,0,0,0,0,0,0,0,0,0,0,0,0,0,0,0,0,0,0,0,0,0,0,0,0,0,0,0,0,0,0,0,0,0,0,0,0,0,0,0,0,0,0,0,0,0,0,0,0,0,0,0,0,0,0,0,0,0,0,0,0,0,0,0,0,0,0,0,0,0,0,0,0,0,0,0,0,0,0,0,0,0,0,0,0,0,0,0,0,0,0,0,0,0,0,0,0,0,0,0,0,0,0,0,0,0,0,0,0,0,0,0,0,0,0,0,0,0,0,0,0,0,0,0,0,0,0,0,0,0,0,0,0,0,0,0,0,0,0,0,0,0,0,0,0,0,0,0,0,0,0,0,0,0,0,0,0,0,0,0,0,0,0,0,0,0,0,0,0,0,0,0,0,0,0,0,0,0]
[0,0,0,0,0,0,0,0,0,0,0,0,0,0,0,0,0,0,0,0,0,0,0,0,0,0,0,0,0,0,0,0,0,0,0,0,0,0,0,0,0,0,0,0,0,0,0,0,0,0,0,0,0,0,0,0,0,0,0,0,0,0,0,0,0,0,0,0,0,0,0,0,0,0,0,0,0,0,0,0,0,0,0,0,0,0,0,0,0,0,0,0,0,0,0,0,0,0,0,0,0,0,0,0,0,0,0,0,0,0,0,0,0,0,0,0,0,0,0,0,0,0,0,0,0,0,0,0,0,0,0,0,0,0,0,0,0,0,0,0,0,0,0,0,0,0,0,0,0,0,0,0,0,0,0,0,0,0,0,0,0,0,0,0,0,0,0,0,0,0,0,0,0,0,0,0,0,0,0,0,0,0,0,0,0,0,0,0,0,0,0,0,0,0,0,0,0,0,0,0,0,0,0,0,0,0,0,0,0,0,0,0,0,0,0,0,0,0,0,0,0,0,0,0,0,0,0,0,0,0,0,0,0,0,0,0,0,0,0,0,0,0,0,0,0,0,0,0,0,0,0,0,0,0,0,0,0,0,0,0,0,0,0,0,0,0,0,0,0,0,0,0,0,0,0,0,0,0,0,0,0,0,0,0,0,0,0,0,0,0,0,0,0,0,0,0,0,0,0,0,0,0,0,0,0,0,0,0,0,0,0,0]
[0,0,0,0,0,0,0,0,0,0,0,0,0,0,0,0,0,0,0,0,0,0,0,0,0,0,0,0,0,0,0,0,0,0,0,0,0,0,0,0,0,0,0,0,0,0,0,0,0,0,0,0,0,0,0,0,0,0,0,0,0,0,0,0,0,0,0,0,0,0,0,0,0,0,0,0,0,0,0,0,0,0,0,0,0,0,0,0,0,0,0,0,0,0,0,0,0,0,0,0,0,0,0,0,0,0,0,0,0,0,0,0,0,0,0,0,0,0,0,0,0,0,0,0,0,0,0,0,0,0,0,0,0,0,0,0,0,0,0,0,0,0,0,0,0,0,0,0,0,0,0,0,0,0,0,0,0,0,0,0,0,0,0,0,0,0,0,0,0,0,0,0,0,0,0,0,0,0,0,0,0,0,0,0,0,0,0,0,0,0,0,0,0,0,0,0,0,0,0,0,0,0,0,0,0,0,0,0,0,0,0,0,0,0,0,0,0,0,0,0,0,0,0,0,0,0,0,0,0,0,0,0,0,0,0,0,0,0,0,0,0,0,0,0,0,0,0,0,0,0,0,0,0,0,0,0,0,0,0,0,0,0,0,0,0,0,0,0,0,0,0,0,0,0,0,0,0,0,0,0,0,0,0,0,0,0,0,0,0,0,0,0,0,0,0,0,0,0,0,0,0,0,0,0,0,0,0,0,0,0,0,0]
[]
[]
[]
[]
[]
[]
[]
[]
[]
[]
[]
[]
[]
[]
[]
[]
[]
[]
[]
[]
[]
[]
[]
[]
[]
[]
[]
[]
[]
[]
[]
[]
[]
[]
[]
[]
[]
["Benefit","Benefit","Benefit","Benefit","Benefit","Benefit","Benefit","Benefit","Benefit","Benefit","Benefit","Benefit","Benefit","Benefit","Benefit","Benefit","Benefit","Benefit","Benefit","Benefit","Benefit","Benefit","Benefit","Benefit","Benefit","Benefit","Benefit","Benefit","Benefit","Benefit","Benefit","Benefit","Benefit","Benefit","Benefit","Benefit","Benefit","Benefit","Benefit","Benefit","Benefit","Benefit","Benefit","Benefit","Benefit","Benefit","Benefit","Benefit","Benefit","Benefit","Benefit","Benefit","Benefit","Benefit","Benefit","Benefit","Benefit","Benefit","Benefit","Benefit","Benefit","Benefit","Benefit","Benefit","Benefit","Benefit","Benefit","Benefit","Benefit","Benefit","Benefit","Benefit","Benefit","Benefit","Benefit","Benefit","Benefit","Benefit","Benefit","Benefit","Benefit","Benefit","Benefit","Benefit","Benefit","Benefit","Benefit","Benefit","Benefit","Benefit","Benefit","Benefit","Benefit","Benefit","Benefit","Benefit","Benefit","Benefit","Benefit","Benefit","Benefit","Benefit","Benefit","Benefit","Benefit","Benefit","Benefit","Benefit","Benefit","Benefit","Benefit","Benefit","Benefit","Benefit","Benefit","Benefit","Benefit","Benefit","Benefit","Benefit","Benefit","Benefit","Benefit","Benefit","Benefit","Benefit","Benefit","Benefit","Benefit","Benefit","Benefit","Benefit","Benefit","Benefit","Benefit","Benefit","Benefit","Benefit","Benefit","Benefit","Benefit","Benefit","Benefit","Benefit","Benefit","Benefit","Benefit","Benefit","Benefit","Benefit","Benefit","Benefit","Benefit","Benefit","Benefit","Benefit","Benefit","Benefit","Benefit","Benefit","Benefit","Benefit","Benefit","Benefit","Benefit","Benefit","Benefit","Benefit","Benefit","Benefit","Benefit","Benefit","Benefit","Benefit","Benefit","Benefit","Benefit","Benefit","Benefit","Benefit","Benefit","Benefit","Benefit","Benefit","Benefit","Benefit","Benefit","Benefit","Benefit","Benefit","Benefit","Benefit","Benefit","Benefit","Benefit","Benefit","Benefit","Benefit","Benefit","Benefit","Benefit","Benefit","Benefit","Benefit","Benefit","Benefit","Benefit","Benefit","Benefit","Benefit","Benefit","Benefit","Benefit","Benefit","Benefit","Benefit","Benefit","Benefit","Benefit","Benefit","Benefit","Benefit","Benefit","Benefit","Benefit","Benefit","Benefit","Benefit","Benefit","Benefit","Benefit","Benefit","Benefit","Benefit","Benefit","Benefit","Benefit","Benefit","Benefit","Benefit","Benefit","Benefit","Benefit","Benefit","Benefit","Benefit","Benefit","Benefit","Benefit","Benefit","Benefit","Benefit","Benefit","Benefit","Benefit","Benefit","Benefit","Benefit","Benefit","Benefit","Benefit","Benefit","Benefit","Benefit","Benefit","Benefit","Benefit","Benefit","Benefit","Benefit","Benefit","Benefit","Benefit","Benefit","Benefit","Benefit","Benefit","Benefit","Benefit","Benefit","Benefit","Benefit","Benefit","Benefit","Benefit","Benefit","Benefit","Benefit","Benefit","Benefit","Benefit","Benefit","Benefit","Benefit","Benefit","Benefit","Benefit","Benefit","Benefit","Benefit","Benefit","Benefit","Benefit","Benefit","Benefit","Benefit","Benefit","Benefit","Benefit","Benefit","Benefit","Benefit"]
[1121099.81,1121099.81,1121099.81,1121099.81,1121172.53,1121172.53,1121172.53,1121172.53,1121220.1299999999,1121220.1299999999,1121220.1299999999,1121220.1299999999,1082607.53,1082607.53,1082607.53,1082607.53,1082681.98,1082681.98,1082681.98,1082681.98,1082729.8500000001,1082729.8500000001,1082729.8500000001,1082729.8500000001,1045404.43,1045404.43,1045404.43,1045404.43,1045480.74,1045480.74,1045480.74,1045480.74,1045529.6,1045529.6,1045529.6,1045529.6,1009487.29,1009487.29,1009487.29,1009487.29,1009565.75,1009565.75,1009565.75,1009565.75,1009616.36,1009616.36,1009616.36,1009616.36,974797.55,974797.55,974797.55,974797.55,974879.01,974879.01,974879.01,974879.01,974930.47,974930.47,974930.47,974930.47,941312.15,941312.15,941312.15,941312.15,941397.48,941397.48,941397.48,941397.48,941450.21,941450.21,941450.21,941450.21,908982.52,908982.52,908982.52,908982.52,909070.73,909070.73,909070.73,909070.73,909125.32,909125.32,909125.32,909125.32,877823.54,877823.54,877823.54,877823.54,877914.48,877914.48,877914.48,877914.48,877971.33,877971.33,877971.33,877971.33,848156.84,848156.84,848156.84,848156.84,847910.27,847910.27,847910.27,847910.27,847967.73,847967.73,847967.73,847967.73,819620.14,819620.14,819620.14,819620.14,819392.28,819392.28,819392.28,819392.28,819451.74,819451.74,819451.74,819451.74,791817.54,791817.54,791817.54,791817.54,791607.69,791607.69,791607.69,791607.69,791670.01,791670.01,791670.01,791670.01,765339.63,765339.63,765339.63,765339.63,765450.43,765450.43,765450.43,765450.43,765212.84,765212.84,765212.84,765212.84,739775.85,739775.85,739775.85,739775.85,739893.65,739893.65,739893.65,739893.65,739670.92,739670.92,739670.92,739670.92,715109.07,715109.07,715109.07,715109.07,715233.87,715233.87,715233.87,715233.87,715303.82,715303.82,715303.82,715303.82,691349.47,691349.47,691349.47,691349.47,691482.88,691482.88,691482.88,691482.88,691555.95,691555.95,691555.95,691555.95,668753.76,668753.76,668753.76,668753.76,668642.12,668642.12,668642.12,668642.12,668719.29,668719.29,668719.29,668719.29,646820.04,646820.04,646820.04,646820.04,646974.74,646974.74,646974.74,646974.74,647055.68000000005,647055.68000000005,647055.68000000005,647055.68000000005,626680.12,626680.12,626680.12,626680.12,626680.12,626680.12,626680.12,626680.12,626680.12,626680.12,626680.12,626680.12,610444.75,610444.75,610444.75,610444.75,610444.75,610444.75,610444.75,610444.75,610444.75,610444.75,610444.75,610444.75,594541.29,594541.29,594541.29,594541.29,594541.29,594541.29,594541.29,594541.29,594541.29,594541.29,594541.29,594541.29,578950.72,578950.72,578950.72,578950.72,578950.72,578950.72,578950.72,578950.72,578950.72,578950.72,578950.72,578950.72,563950.46,563950.46,563950.46,563950.46,563950.46,563950.46,563950.46,563950.46,563950.46,563950.46,563950.46,563950.46,549376.77,549376.77,549376.77,549376.77,549376.77,549376.77,549376.77,549376.77,549376.77,549376.77,549376.77,549376.77,535328.17000000004,535328.17000000004,535328.17000000004,535328.17000000004,535325.30000000005,535325.30000000005,535325.30000000005,535325.30000000005,535325.30000000005,535325.30000000005,535325.30000000005,535325.30000000005,521866.5,521866.5,521866.5,521866.5,521865.5,521865.5,521865.5,521865.5,521865.5,521865.5,521865.5,521865.5,509031.82,509031.82,509031.82,509031.82,509029.82,509029.82,509029.82,509029.82,509029.82,509029.82,509029.82,509029.82]
[1276090,1276090,1276090,1276090,1276162.1100000001,1276162.1100000001,1276162.1100000001,1276162.1100000001,1276209.2,1276209.2,1276209.2,1276209.2,1237455.98,1237455.98,1237455.98,1237455.98,1237529.6100000001,1237529.6100000001,1237529.6100000001,1237529.6100000001,1237576.93,1237576.93,1237576.93,1237576.93,1200057.3400000001,1200057.3400000001,1200057.3400000001,1200057.3400000001,1200132.79,1200132.79,1200132.79,1200132.79,1200181.5,1200181.5,1200181.5,1200181.5,1163862.2,1163862.2,1163862.2,1163862.2,1163939.8400000001,1163939.8400000001,1163939.8400000001,1163939.8400000001,1163989.81,1163989.81,1163989.81,1163989.81,1128949.5,1128949.5,1128949.5,1128949.5,1129030.03,1129030.03,1129030.03,1129030.03,1129080.83,1129080.83,1129080.83,1129080.83,1095307.8899999999,1095307.8899999999,1095307.8899999999,1095307.8899999999,1095392.22,1095392.22,1095392.22,1095392.22,1095444.23,1095444.23,1095444.23,1095444.23,1062865.1299999999,1062865.1299999999,1062865.1299999999,1062865.1299999999,1062952.19,1062952.19,1062952.19,1062952.19,1063006.1200000001,1063006.1200000001,1063006.1200000001,1063006.1200000001,1031634.17,1031634.17,1031634.17,1031634.17,1031723.87,1031723.87,1031723.87,1031723.87,1031780.02,1031780.02,1031780.02,1031780.02,1001944.12,1001944.12,1001944.12,1001944.12,1001701.13,1001701.13,1001701.13,1001701.13,1001757.79,1001757.79,1001757.79,1001757.79,973427.59,973427.59,973427.59,973427.59,973203.21,973203.21,973203.21,973203.21,973261.61,973261.61,973261.61,973261.61,945510.2,945510.2,945510.2,945510.2,945303.75,945303.75,945303.75,945303.75,945365.22,945365.22,945365.22,945365.22,918876.85,918876.85,918876.85,918876.85,918985.72,918985.72,918985.72,918985.72,918752.23,918752.23,918752.23,918752.23,893070.53,893070.53,893070.53,893070.53,893186.1,893186.1,893186.1,893186.1,892967.37,892967.37,892967.37,892967.37,868041.06,868041.06,868041.06,868041.06,868163.68,868163.68,868163.68,868163.68,868232.13,868232.13,868232.13,868232.13,843764.38,843764.38,843764.38,843764.38,843894.94,843894.94,843894.94,843894.94,843966.28,843966.28,843966.28,843966.28,820479.85,820479.85,820479.85,820479.85,820370.81,820370.81,820370.81,820370.81,820446.17,820446.17,820446.17,820446.17,797707.7,797707.7,797707.7,797707.7,797858.46,797858.46,797858.46,797858.46,797937.22,797937.22,797937.22,797937.22,776587.39,776587.39,776587.39,776587.39,776587.39,776587.39,776587.39,776587.39,776587.39,776587.39,776587.39,776587.39,759174.09,759174.09,759174.09,759174.09,759174.09,759174.09,759174.09,759174.09,759174.09,759174.09,759174.09,759174.09,742079.49,742079.49,742079.49,742079.49,742079.49,742079.49,742079.49,742079.49,742079.49,742079.49,742079.49,742079.49,725292.26,725292.26,725292.26,725292.26,725292.26,725292.26,725292.26,725292.26,725292.26,725292.26,725292.26,725292.26,311147.11,227814.06,321767.21999999997,233857.47,709302.59,709302.59,709302.59,709302.59,709302.59,709302.59,709302.59,709302.59,253312.99,185555.6,271853.12,195789.32,693697.07,693697.07,693697.07,693697.07,693697.07,693697.07,693697.07,693697.07,202209.74,149249.78,226018.82,161516.29999999999,678513.45,678513.45,678513.45,678513.45,678513.45,678513.45,678513.45,678513.45,197650.53,144769.60000000001,221138.44,156728.42000000001,663734.1,663734.1,663734.1,663734.1,663734.1,663734.1,663734.1,663734.1,193416.57,140567.17000000001,216567.85,152262.81,649687.55000000005,649687.55000000005,649687.55000000005,649687.55000000005,649687.55000000005,649687.55000000005,649687.55000000005,649687.55000000005]
[1392209.71,1392209.71,1392209.71,1392209.71,1392281.3,1392281.3,1392281.3,1392281.3,1392328.13,1392328.13,1392328.13,1392328.13,1353500.75,1353500.75,1353500.75,1353500.75,1353573.78,1353573.78,1353573.78,1353573.78,1353620.86,1353620.86,1353620.86,1353620.86,1316079.6200000001,1316079.6200000001,1316079.6200000001,1316079.6200000001,1316154.44,1316154.44,1316154.44,1316154.44,1316202.8400000001,1316202.8400000001,1316202.8400000001,1316202.8400000001,1279922.6000000001,1279922.6000000001,1279922.6000000001,1279922.6000000001,1279999.6499999999,1279999.6499999999,1279999.6499999999,1279999.6499999999,1280049.08,1280049.08,1280049.08,1280049.08,1244957.72,1244957.72,1244957.72,1244957.72,1245037.51,1245037.51,1245037.51,1245037.51,1245087.8700000001,1245087.8700000001,1245087.8700000001,1245087.8700000001,1211223.8400000001,1211223.8400000001,1211223.8400000001,1211223.8400000001,1211307.43,1211307.43,1211307.43,1211307.43,1211358.92,1211358.92,1211358.92,1211358.92,1178693.8500000001,1178693.8500000001,1178693.8500000001,1178693.8500000001,1178780.07,1178780.07,1178780.07,1178780.07,1178833.45,1178833.45,1178833.45,1178833.45,1147393.81,1147393.81,1147393.81,1147393.81,1147482.3999999999,1147482.3999999999,1147482.3999999999,1147482.3999999999,1147538.03,1147538.03,1147538.03,1147538.03,1117608.69,1117608.69,1117608.69,1117608.69,1117368.43,1117368.43,1117368.43,1117368.43,1117424.5,1117424.5,1117424.5,1117424.5,1088977.03,1088977.03,1088977.03,1088977.03,1088755.22,1088755.22,1088755.22,1088755.22,1088812.97,1088812.97,1088812.97,1088812.97,1060857.05,1060857.05,1060857.05,1060857.05,1060653.26,1060653.26,1060653.26,1060653.26,1060714.1100000001,1060714.1100000001,1060714.1100000001,1060714.1100000001,1033850.89,1033850.89,1033850.89,1033850.89,1033958.38,1033958.38,1033958.38,1033958.38,1033728.08,1033728.08,1033728.08,1033728.08,1007568.41,1007568.41,1007568.41,1007568.41,1007682.3,1007682.3,1007682.3,1007682.3,1007466.96,1007466.96,1007466.96,1007466.96,981966.87,981966.87,981966.87,981966.87,982087.55,982087.55,982087.55,982087.55,982154.69,982154.69,982154.69,982154.69,957054.73,957054.73,957054.73,957054.73,957182.79,957182.79,957182.79,957182.79,957252.69,957252.69,957252.69,957252.69,933093.32,933093.32,933093.32,933093.32,932986.45,932986.45,932986.45,932986.45,933060.25,933060.25,933060.25,933060.25,909662.7,909662.7,909662.7,909662.7,909809.92,909809.92,909809.92,909809.92,909886.62,909886.62,909886.62,909886.62,887888.46,887888.46,887888.46,887888.46,887888.46,887888.46,887888.46,887888.46,887888.46,887888.46,887888.46,887888.46,446701.29,335358.43,462843.88,345293.15,869720.85,869720.85,869720.85,869720.85,869720.85,869720.85,869720.85,869720.85,371745.38,278213.98,400958.35,295757.13,851731.93,851731.93,851731.93,851731.93,851731.93,851731.93,851731.93,851731.93,304303.06,227570.8,343518.47,250538.75,833867.07,833867.07,833867.07,833867.07,833867.07,833867.07,833867.07,833867.07,245257.83,184337.93,291556.78000000003,210684.49,816761.12,816761.12,816761.12,816761.12,816761.12,816761.12,816761.12,816761.12,193613.15,147080.46,244119.42,174958.9,799950.75,799950.75,799950.75,799950.75,799950.75,799950.75,799950.75,799950.75,149300.60999999999,116640.89,201170.93,143364.72,396365.93,285205.06,411925.54,294574.40999999997,783528.95,783528.95,783528.95,783528.95,147176.1,114615.16,198348.75,140669.56,330421.96000000002,237213.39,358493.11,253656.86,767537.21,767537.21,767537.21,767537.21,145349.85999999999,112784.45,195791.2,138266.59,271889.39,195575.51,309506.14,217000.3,752360.15,752360.15,752360.15,752360.15]
[1868253.62,1868253.62,1868253.62,1868253.62,1868323.12,1868323.12,1868323.12,1868323.12,1868368.49,1868368.49,1868368.49,1868368.49,1829103.2,1829103.2,1829103.2,1829103.2,1829173.71,1829173.71,1829173.71,1829173.71,1829219.27,1829219.27,1829219.27,1829219.27,1791022.94,1791022.94,1791022.94,1791022.94,1791094.78,1791094.78,1791094.78,1791094.78,1791142.01,1791142.01,1791142.01,1791142.01,1754006.22,1754006.22,1754006.22,1754006.22,1754080.12,1754080.12,1754080.12,1754080.12,1754127.27,1754127.27,1754127.27,1754127.27,1717956.75,1717956.75,1717956.75,1717956.75,1718032.82,1718032.82,1718032.82,1718032.82,1718080.96,1718080.96,1718080.96,1718080.96,1682944.99,1682944.99,1682944.99,1682944.99,1683024.77,1683024.77,1683024.77,1683024.77,1683074.01,1683074.01,1683074.01,1683074.01,1648927.32,1648927.32,1648927.32,1648927.32,1649009.08,1649009.08,1649009.08,1649009.08,1649059.83,1649059.83,1649059.83,1649059.83,1616032.69,1616032.69,1616032.69,1616032.69,1616115.96,1616115.96,1616115.96,1616115.96,1616168.97,1616168.97,1616168.97,1616168.97,1584576.83,1584576.83,1584576.83,1584576.83,1584350.99,1584350.99,1584350.99,1584350.99,1584403.6,1584403.6,1584403.6,1584403.6,982524.89,781157.78,1030273.29,806235.97,1554216.93,1554216.93,1554216.93,1554216.93,1554270.67,1554270.67,1554270.67,1554270.67,823624.99,657127.18000000005,912844.59,703081.92,1524695.16,1524695.16,1524695.16,1524695.16,1524751.64,1524751.64,1524751.64,1524751.64,680737.22,547985.88,805444.94,610957.59,1495814.18,1495814.18,1495814.18,1495814.18,1495601.66,1495601.66,1495601.66,1495601.66,552306.47,451583.86,706743.77,528006.69999999995,1467099.81,1467099.81,1467099.81,1467099.81,1466902.69,1466902.69,1466902.69,1466902.69,437673.38,366943.78,616384.51,453527.98,1438821.23,1438821.23,1438821.23,1438821.23,1438881.68,1438881.68,1438881.68,1438881.68,337513.11,293095.18,534026.74,387008.88,891289.11,684695.61,934653.66,709348.72,1411066.85,1411066.85,1411066.85,1411066.85,252524.43,228672.07,463194.13,327825.87,750633.52,567688.64,832014.1,612687.07999999996,1383785.24,1383785.24,1383785.24,1383785.24,189589.69,179250.65,398710.94,281657.71000000002,623520.42000000004,465509.52,737730.29,534121.21,1357052.85,1357052.85,1357052.85,1357052.85,133974.76999999999,135920.35,340034.88,239976.93,508633.46,376109.76,650725.62,466672.1,1331201.6200000001,1331201.6200000001,1331201.6200000001,1331201.6200000001,85314.73,98444.42,287124.75,202461.13,405216.02,298232.62,570342.37,405085.52,1308478.83,1308478.83,1308478.83,1308478.83,79850.02,88835.33,240064.44,169064.05,313288.43,231326.59,496783.45,349466.7,824904.61,616655.06999999995,865049.8,640146.26,73366.649999999994,78982.05,196838.17,139556.97,230414.72,173772.62,426093.64,297015.73,685996.39,505582.76,760307.49,548175.42000000004,68832.710000000006,72173.08,160211.70000000001,116699.64,163637.07999999999,134361.07,363350.68,250747.11,563701.92000000004,410404.72,666819.83999999997,475537.66,63442.97,64847.34,130046.53,96921.82,106108.58,100578.38,307407.03999999998,210409.24,455263.22,327946.06,582101.48,410927.44,56907.65,56065.47,104411.6,78175.19,58643.360000000001,72051.06,258076.66,175656.11,359819.41,257123.14,505627.55,353469.6,55047.06,54145.11,102768.8,75599.509999999995,59962.38,69343.009999999995,214932.96,146064.45000000001,276595.77,197401.31,436936.19,302654.96999999997,53382.47,52365.08,103505.44,76590.73,59741.08,65788.72,181158.79,123808.28,208855.62,151110.10999999999,382937.91,263192.68]
[2235869.31,2235869.31,2235869.31,2235869.31,2235936.69,2235936.69,2235936.69,2235936.69,2235980.52,2235980.52,2235980.52,2235980.52,2195522.1800000002,2195522.1800000002,2195522.1800000002,2195522.1800000002,2195590.09,2195590.09,2195590.09,2195590.09,2195634.17,2195634.17,2195634.17,2195634.17,2156235.4500000002,2156235.4500000002,2156235.4500000002,2156235.4500000002,2156304.4500000002,2156304.4500000002,2156304.4500000002,2156304.4500000002,2156350.4900000002,2156350.4900000002,2156350.4900000002,2156350.4900000002,2118018.11,2118018.11,2118018.11,2118018.11,2118089.0499999998,2118089.0499999998,2118089.0499999998,2118089.0499999998,2118134.0699999998,2118134.0699999998,2118134.0699999998,2118134.0699999998,1412449.12,1159323.8600000001,1480337.82,1196840.21,2080805.39,2080805.39,2080805.39,2080805.39,2080851.27,2080851.27,2080851.27,2080851.27,1195857.0900000001,983801.12,1323852.6599999999,1053324.2,2044482.4,2044482.4,2044482.4,2044482.4,2044529.27,2044529.27,2044529.27,2044529.27,998279.57,826386.44,1178937.96,922774.22,2009009.96,2009009.96,2009009.96,2009009.96,2009058.1,2009058.1,2009058.1,2009058.1,818943.45,685894.45,1045207.62,804437.13,1974439.53,1974439.53,1974439.53,1974439.53,1974489.85,1974489.85,1974489.85,1974489.85,657014.12,560431.43999999994,922168.07,697842.12,1940827.8,1940827.8,1940827.8,1940827.8,1940877.1,1940877.1,1940877.1,1940877.1,516517.2,448744.74,809971.29,606987.66,1286193.1000000001,1025693.52,1348312.12,1062901.53,1908920,1908920,1908920,1908920,402739.29,349138.74,712767.53,530187.06999999995,1095999.03,860177.37,1213908.2,934237.52,1877860.1,1877860.1,1877860.1,1877860.1,298970.48,261939.20000000001,623801.56999999995,460872.81,920217.03,711636.95,1087694.49,830701.97,1846518.17,1846518.17,1846518.17,1846518.17,204499.15,185828.88,541989.30000000005,399315.33,759207.96,580481.93000000005,970208.27,735188.65,1815570.64,1815570.64,1815570.64,1815570.64,119309.91,120284.34,467123.08,344851.49,612499.53,470844.1,861149.26,647396.61,1785233.37,1785233.37,1785233.37,1785233.37,107240.51,107200.78,400057.42,295207.75,481742.47,376514.18,760242.48,566962.44999999995,1205808.44,942446.93,1264284.3600000001,978814.1,93741.94,96050.95,338106.46,247672.22,367068.02,287886.67,661455.86,489411.16,1014825.58,782206.94,1124441.6399999999,859168.9,82409.13,92326.46,282229.40000000002,205903.74,263567.55,209373.28,572329.23,420441.85,841647.97,641037.66,995452.36,754100.98,73014.7,87239.58,231960.59,169231.62,170407.4,140118.73000000001,491768.59,358771.04,685926.87,519660.81,877263.75,658755.6,65310.83,80919,187398.33,137444.51999999999,87426.73,79974.23,419030.57,304811.24,546155.85,412935.31,768732.93,571927.47,61812.21,73691.070000000007,148655.18,110518.56,76670.5,70266.899999999994,354044.02,256538.1,422181.02,321163.42,670124.9,493963.52000000002,58030.82,66013.95,119346.89,91455.33,72429.89,66262.33,302783.94,218653.58,321885.43,246259.18,591946.13,432347.52,55998.19,61080.81,94995.18,76157.62,69112.460000000006,63858.3,257066.8,185452.79,232130.98,180805.94,521169.43,377719.51,55175.49,55436.81,75075.58,64202.720000000001,66473.25,61980.7,216015.15,156482.6,151561.04,123439.73,456080.17,328303.90999999997,54850.65,57182.080000000002,59334.559999999998,55820.3,64342.080000000002,60563.21,179721.47,131610.84,79982.570000000007,74031.08,396474.12,283854.61,57153.89,59543.9,60619.88,57305.48,62846.58,59809.63,148025.41,110678.32,76459.009999999995,70722.559999999998,342264.69,244609.72,59796.81,61914.06,61947.82,58949.3,62084.91,59649.54,120966.75,93683.51,73582.559999999998,68183.960000000006,293476.81,210073.64]
[2319790.33,2319790.33,2319790.33,2319790.33,2319857.1800000002,2319857.1800000002,2319857.1800000002,2319857.1800000002,2319900.5699999998,2319900.5699999998,2319900.5699999998,2319900.5699999998,2279237.08,2279237.08,2279237.08,2279237.08,2279304.2799999998,2279304.2799999998,2279304.2799999998,2279304.2799999998,2279348.04,2279348.04,2279348.04,2279348.04,2239714.36,2239714.36,2239714.36,2239714.36,2239782.59,2239782.59,2239782.59,2239782.59,2239828.2400000002,2239828.2400000002,2239828.2400000002,2239828.2400000002,1511845.27,1247858.45,1584325.57,1288277.2,2201276.69,2201276.69,2201276.69,2201276.69,2201321.1800000002,2201321.1800000002,2201321.1800000002,2201321.1800000002,1282206.93,1060624.7,1419098.01,1135657.3999999999,2163621.15,2163621.15,2163621.15,2163621.15,2163666.4700000002,2163666.4700000002,2163666.4700000002,2163666.4700000002,1072409.03,892395.78,1265954.49,996680.4,2126852.4300000002,2126852.4300000002,2126852.4300000002,2126852.4300000002,2126898.75,2126898.75,2126898.75,2126898.75,881514.21,741921.74,1124314.51,870438.78,2090900.5,2090900.5,2090900.5,2090900.5,2090947.92,2090947.92,2090947.92,2090947.92,708730.02,606455.67000000004,993800.9,757597.41,2055855.1,2055855.1,2055855.1,2055855.1,2055904.74,2055904.74,2055904.74,2055904.74,561180.56999999995,485235.41,873907.72,661380.99,1376079.83,1104287.1000000001,1442402.76,1144369.43,2021820.33,2021820.33,2021820.33,2021820.33,439499.14,377692.34,771198.13,579613.04,1174602.2,927731.08,1300736.05,1009884.51,1989469.2,1989469.2,1989469.2,1989469.2,327075.40000000002,282224.87,675922.97,504473.63,988766,769444.39,1168350.1200000001,900700.73,1958131.46,1958131.46,1958131.46,1958131.46,224917.69,199119.22,588884.86,440432.99,817442.69,631049.94999999995,1044202.31,799031.18,1926316.98,1926316.98,1926316.98,1926316.98,132342.71,127091.94,509014.93,381647.89,660921.77,515429.69,928780.46,705361.59,1894890.11,1894890.11,1894890.11,1894890.11,119057.3,112611.8,439205.11,327818.03000000003,523686.98,413645.96,821776.44,619385.34,1292879.05,1017974.92,1355505.83,1057314.58,104079.27,100473.81,372323.31,275915.51,400227.98,317016,716663.19,536057.85,1090023.8400000001,846451.96,1207679.75,931811.64,90927.77,90236.39,311436.11,229449.82,287579.84000000003,230642,621010.47,461106,906098.89,697144.71,1071505.42,820112.44,79954.070000000007,87212.34,256789.52,188865.41,186387.76,154540.17000000001,534903.30000000005,395776.64,739816.13,566529.74,946106.84,718153.56,70920.42,82764.05,207917.68,153482.35999999999,95833.49,87900.94,457281.55,337266.3,590821.56999999995,452778.17,831409.38,625781.47,63569.14,77028.58,164926.98000000001,123084.11,83617.56,76871.94,387870.85,284472.27,458420.68,352723.6,726309.32,541832.6,61123.34,70329.240000000005,132409.96,101232.65,78839.22,72365.41,332840.75,243015.51,350354.48,270958.13,643016.47,475507.26,59340.14,63135.199999999997,104495.75,83343.86,74558.91,68330.7,282724.52,206013.68,252262.55,198284.44,565833.87,414872.71,58006.33,58618.47,81605.42,69201.38,71223.429999999993,65931.92,238008.42,173790.35,164610.23000000001,134989.76000000001,496050.36,361197.22,57222.85,55646.52,63248.52,58431.92,68587.89,64073.56,198064.16,145859.93,86299.64,79876.02,432008.1,313350.88,56950.44,59290.38,61450.68,57923.6,66476.88,62685.55,162980.99,122080.09,82173.95,76207.490000000005,373502.47,270434.21999999997,59321.29,61713.46,62793.4,59472.34,65021.11,61983.06,132587.57,102285.48,78648.75,72907.97,321095.90000000002,232091.03,62041.48,64144.62,64178.28,61184.18,64321.49,61891.18,106911.03,86451.67,75796.03,70410.47,274273.75,198453.78]
[1500167.28,1278563.93,1766785.71,1428642.02,2798337.32,2798337.32,2798337.32,2798337.32,2798378.27,2798378.27,2798378.27,2798378.27,1244214.23,1068532.8799999999,1581160.2,1266567.25,2755732.03,2755732.03,2755732.03,2755732.03,2755773.33,2755773.33,2755773.33,2755773.33,1019525.16,876819.56,1408934.9,1122185.93,2713867.88,2713867.88,2713867.88,2713867.88,2713911.18,2713911.18,2713911.18,2713911.18,829214.71,702436.57,1249521.78,989565.35,1900356.18,1571623.29,1991030.85,1628727.72,2672843.61,2672843.61,2672843.61,2672843.61,658869.64,552065.36,1111664.83,882676.18,1631873.66,1327378.32,1805146.75,1458677.93,2632518.7999999998,2632518.7999999998,2632518.7999999998,2632518.7999999998,499955,424200.9,983490.75,784133.28,1382889.71,1116422.6100000001,1631035.87,1310297.27,2593107.4700000002,2593107.4700000002,2593107.4700000002,2593107.4700000002,352364.31,307104.90000000002,869681.58,691935.02,1152587.52,937223.08,1468231.05,1172560.1599999999,2554557.06,2554557.06,2554557.06,2554557.06,216119.12,200635.21,766858.63,606204.64,946412.55,779761.49,1316334.71,1045000.12,2516992.81,2516992.81,2516992.81,2516992.81,195060.84,180257.26,670577.54,526930.56000000006,768384.43,633807.42000000004,1174877.3600000001,927195.68,1788115.54,1455109.1,1875118.61,1517974.56,170441.07,156920.16,575013.18999999994,448848.06,594964.93999999994,492658.36,1035170.68,816858.75,1519894.35,1226163.8500000001,1684290.1,1355218.02,147993.07999999999,135812.88,486160.43,377167.27,433884.27,363138.91,906730.17,715568,1274865.1299999999,1024554.59,1507751.29,1205826.26,128571.13,117779.37,405086.91,312886.15999999997,285051.07,245380.07,790995.16,621076.54,1050279.99,845689.1,1342614.6,1066764.8700000001,111473.84,101931.09,330963.94,255019.32,148965.10999999999,139446.73000000001,685757.67,533950.09,848527.99,686277.41,1189899.78,939369.52,96587.92,88268.71,263833.53000000003,203543,128273.24,119938.5,588077.91,454186.11,668947.31000000006,539573.65,1049177.1100000001,823485.49,90794.69,82700.789999999994,212473.38,165541.28,120435.37,112074.07,510277,392329.43,517177.35,419289.59,938660.83,733261.46,85424.47,77676.240000000005,166294.98000000001,131988.84,112938.22,105059.44,438158.3,335808.27,376700.43,309644.96000000002,834988.41,649930.99,80898.17,74341.740000000005,125624.52,103676.01,106518.49,98833.16,372096.72,284938.7,247088.07,210233.74,738460.17,572311.41,77126.990000000005,71656.34,90075.51,79880.94,100510.39,93041,311529.46999999997,238865.81,128839.15,120957.15,649931.07999999996,500541.81,74022.559999999998,69570.59,85630.04,76689.210000000006,94854.67,87857.32,256263.61,197658.64,121107.61,113480.53,567008.89,433978.46,71615.75,68036.399999999994,81886.259999999995,74046.600000000006,89844.71,83195.34,206447.13,161198.73000000001,113964.92,106618.98,490258.13,373314.02,69990.720000000001,67018.5,78575.61,72089.87,85452.45,79107.91,162052.48000000001,129593.98,107439.6,100443.8,419582.04,318339.69,68844.160000000003,66835.72,76185.149999999994,70593.070000000007,82124.81,76833.62,123451.81,103296.77,101968,95274.9,355989.32,270060.09000000003,68350.289999999994,66826.98,74356.149999999994,69553.8,79622.11,75178.16,90245.93,81653.83,97165.85,90799.99,298212.58,227037.63,68429.759999999995,70712.63,72819.92,69379.13,77726.22,74036.639999999999,87240.95,79726,93036.44,87261.25,246009.03,189117.7,71116.61,73403,74455.64,71256.509999999995,76577.63,73685.279999999999,84833.43,78401.72,89622.46,84141.27,199399.34,156028.71,74177.13,76072.86,76103.94,73297.97,76281.61,74014.06,83067.12,77766.509999999995,86991.97,81980.13,158340.01,127843.8]
[731774.13,641935.25,1392479.72,1159374.8500000001,1884345.93,1578778.82,2218346.61,1844680.49,3387821.9,3387821.9,3387821.9,3387821.9,528031.81999999995,474451.76,1246803.43,1032899.44,1581431.32,1348446.2,2007735.27,1661731.57,3342053.09,3342053.09,3342053.09,3342053.09,337320.97,319497.59999999998,1108598.08,913927.53,1327836.45,1131887.31,1810237.78,1492135.45,3297069.78,3297069.78,3297069.78,3297069.78,306500.46000000002,289395.87,977871.16,802369.26,1087886.76,929051.64,1625313.99,1344802.64,2414831.81,2023077.44,2532427.2000000002,2119670.2200000002,268502.55,252874.45,844313.65,688838.4,849841.66,728332.7,1439839.3,1193692.72,2061067.65,1720393.58,2284230.9,1902510.74,233902.95,219538.41,719461.24,583887.05000000005,626711.67000000004,542496.21,1277425.51,1051975.96,1736254.5,1447235.42,2053554.2,1701833.72,202498.05,189520.61,603281.46,487298.01,418421.22,371180.46,1124473.0900000001,919538.03,1438819.3,1209695.54,1839508.05,1516724.54,174215.67,162685.37,495863.51,399175.79,225210.84,214217.24,980760.05,796256.92,1178988.6499999999,988040.04,1641315.12,1346374.24,149026.23000000001,138849.95000000001,397058.73,319434.53000000003,192871.2,183024.2,846252.71,682122.97,935190.98,782121.31,1458239.08,1193440.96,139659.06,129727.63,322611.38,261401.7,181413.51,171873.92000000001,741539.56,595744.02,730282.71,613796.15,1314711.07,1073607.3400000001,130523.18,120914.93,253591.04000000001,208285.47,170440.98,160937.38,642854.9,515140.51,537717.09,457564.39,1182395.3899999999,960765.43999999994,122546.55,113336.15,191123.86,161109.14000000001,160041.35999999999,150888.24,550367.22,440358.45,357324.02,313130.73,1055789.43,853005.22,115151.33,106217.84,134420.20000000001,118996.25,150296.09,141373.48000000001,464121.35,371496.77,189460.82,180642.99,935584.86,752224.27,108325.7,99683.96,126356.51,111628.04,141275.60999999999,132618.22,384153.79,308561.32,178194.1,169522.97,822181.81,659184.21,102150,93815.22,118871.37,104940.49,132667.67000000001,124005.61,310411.84999999998,251332.49,167485.74,159039.14000000001,717376.2,572850.53,96507.95,88624.95,112028.19,98905.16,124500.47,116484.44,242976.46,199966.97,157584.70000000001,149372.79999999999,619301.92000000004,493025.85,91858.46,85268.77,106210.04,94527.49,117640.88,109899.2,182076.44,154562.18,148002.57,140212.45000000001,527789.74,419563.73,88087.11,82665.070000000007,100923.67,90820.54,111306.64,103863.57,127307.23,114304.64,139397.79999999999,131539.16,443004.95,352420.58,85093.58,80755.87,96421.33,87695.78,105438.29,98623.58,120326.76,108146.23,131077.35999999999,123601.8,364588.47,291045.59000000003,82890.98,79465.7,92754.91,85221.26,100369.35,94013.1,113982.99,102595.94,123488.31,116423.75,292896.67,236075.24,81594.100000000006,78765.5,89594.95,83577.789999999994,96055.08,90093.19,108328.04,97996.92,116642.93,110092.3,227845.35,187243.23,80782.460000000006,79030.17,87516.39,82417.45,92913.25,88123.5,103793.02,94827.54,111034.18,104925.21,169960.86,145038.91,80745.320000000007,79462.28,86126.49,81820.960000000006,90749.119999999995,86862.37,100148.14,92534.75,106280.24,100639,118494.43,108491.69,81351.72,83304.679999999993,85106.82,82163.789999999994,89308.51,86168.65,97473.81,91014.080000000002,102398.66,97538.79,113209.95,104281.68,82738.58,84402.02,85211.27,82830.83,86739.94,84659.839999999997,92810.59,88071.69,96272.57,92296.92,104726.81,97598.51,84519.41,85477.67,85495.34,83802.990000000005,85709.26,84366.56,89695.25,86562.86,92062.7,89126.8,98353.84,93011.27]
[333466.43,318303.88,925474.2,781462.91,638447.59,582239.11,1652469.85,1405416.23,2065053.43,1795853.41,2615955.37,2238173.58,287220.05,273618.42,766476.69,645425.39,356428.99,343973.99,1448465.31,1224691.81,1700749.32,1475288.65,2347367.7000000002,2008773.38,245102.78,232976.01,618040.36,519880.77,305040.17,293745.65999999997,1255798.47,1055395.3,1355812.52,1174360.6200000001,2099630.17,1791401.49,230112.11,218166.86,507195.94,429171.82,287761.2,276700.5,1107689.54,928595.6,1067184.72,928630.6,1909939.13,1622952.53,215696.08,204129.75,403491.18,345263.86,271268.14,260173.35,967382.33,809326.79,793854.91,698258.82,1728583.74,1462884.69,202014.84,190568.08,306826.59000000003,268092.59999999998,255202.03,244419.48,834728.31,697743.12,536000.03,483220.86,1555526.8,1311099.6599999999,189007.46,177820.76,217181.02,197344.7,239547.61,229136.03,709736.42,593617.63,293043.78999999998,282986.59000000003,1390568.26,1167385.3799999999,176675.69,165843.01,203375.92,184096.02,224713.36,214356.91,592305.31000000006,496673.8,275762.15999999997,266007.59000000003,1233582.7,1031623.67,165105.25,154520.34,190184.16,171772.29,210755.17,200466.59,482347.13,407018.46,259404.98,249683.11,1084471.95,903703.54,154495.25,144295.35999999999,178164.62,160508.49,197381.52,187587.36,380094.73,324767.58,243779.39,234114.75,943630.6,783904.53,144339.87,134614.15,166372.16,149542.42000000001,184822.52,175142.15,284525.42,248840.31,228428.94,219036.32,810354.85,671546.44,135534.98000000001,126382.66,156039.85999999999,140051.98000000001,172919.86,163791.53,196545.97,179939.74,213996.81,205008.56,683252.43,565221.56999999995,127494.88,118762.03,146367.19,131260.35,161916.04,153177.19,183908.04,168059.67,200274.67,191638.51,563232.9,467163.08,120203,111913.4,137499.07999999999,123370.63,151883.73000000001,143579.9,172008.97,157057.75,187238.97,178906.08,451230.01,378894.85,113770.26,105947.67,129404.69,116362.79,142402.15,134166.1,160819.98000000001,146759.84,174916.61,167009.04,350123.39,297983.15000000002,108043.38,100870.65,122165.39,110224.74,133514.37,126220.01,150544.07999999999,137566.19,163688.15,156216.60999999999,256601.59,224365.7,103500.51,97704.06,116165,105849.45,126247.09,119400.62,141388.63,129571.68,152884.99,146112.85999999999,170692.68,158125.21,100022.66,95443.33,110871.32,102340.03,119729.84,113355.82,133169.06,122180.09,143486.26,136747.1,159234.94,147743.26,94563.11,91460.93,102710.73,96434.29,109233.83,104368.34,119943.96,111187.93,127723.63,122263.81,140232.99,130713.12,90941.06,88934.720000000001,96822.83,92317.95,101279.03,97575.96,109301.17,102561.64,114929.65,110689.66,124411.5,117019.17,89148.53,87727.44,92630.58,90100.72,95607.69,92854.38,101113.88,96537.81,104880.98,101930.2,111615.11,106283.74,88383.19,88123.51,90585.35,89024.55,92170.23,90826.39,95554.51,92767.32,97813.29,95922.33,102024.11,98700.52,89035.29,89074.240000000005,90136.69,89245.440000000002,90730.86,90285.25,92213.59,90968.24,93218.21,92293.83,95302.7,93671.45,92460.36,92694.74,92908.83,92557.4,93429.43,93111.81,94501.48,93614.91,94973.51,94680.88,96264.65,95373.56,96437.11,96530.92,96704.7,96414.13,96746.08,96700.18,97277.67,96834.99,97407.17,97219.1,98032.31,97608.91,100974.07,100503.97,100501.19,100501.85,100772.17,100835.76,100500.38,100665.28,100500.31,100721.73,100500.01,100657.74]
[310667.5,296714.87,820283.63,695271.8,383267.56,370659.63,1540343.47,1310043.06,1803072.17,1571845.95,2485193.04,2139805.89,265102.59999999998,252759.81,662253.47,560680.95999999996,327938.09999999998,316636.95,1336351.5,1129944.8700000001,1438553.09,1252352.74,2226200.4900000002,1909860.16,249180.4,236914.46,544486.55000000005,463690.46,309799.67999999999,298371.51,1180080.51,995357.47,1133760.57,991606.74,2026897.51,1732187,233770.02,221707.28,434016.49,373697.91,291976.37,280808.46000000002,1031800.4,868802.98,845096.84,746909.36,1836363.12,1563314.79,218962.49,207310.63,330831.28999999998,290627.83,274979.09000000003,263789.78999999998,891448.44,749885.77,571925.15,517776.17,1654247.19,1402903.66,204918.63,193407.04,234827.81,214419.11,258425.68,247579.84,758859.25,638765.31000000006,314478.71999999997,304216.62,1480506.08,1250855.5,191588.7,180363.48,219863.58,199955.43,242311.25,231870.69,634068.23,535225.13,296007.84000000003,285912.46999999997,1314958.76,1106965.56,178972.65,168132.47,205707.1,186401.29,227065.1,216696.81,516972.99,438972.87,278172.25,268413.99,1157480.73,971125.71,167169.79,156601.03,192210.11,173830.93,212760.13,202476.75,407509.12,350163.21,261332.83,251625.64,1007996.01,843248.54,156372.37,146218.29999999999,179940.09,162370.37,199066.66,189317.26,305853.42,268837.84000000003,245264.5,235634.16,866858.82,723560.1,146067.4,136419.84,167927.03,151237.31,186242.6,176625.85,210999.82,193934.91,229502.32,220173.62,733374.18,611388.19999999995,137123.39000000001,128088.82,157384.78,141592.31,174057.81,165039.01999999999,197403.73,180993.87,214642.11,205759.82,606210.05000000005,505392.73,128965.77,120386.23,147515.6,132666.84,162798.73000000001,154209.24,184420.18,168837.39,200502.02,192013.45,486229.34,407887.89,121605.57,113505.94,138505.18,124700.56,152578.79999999999,144465.49,172229.73,157621.48000000001,187108.7,178962.98,374534.25,320605.37,115165.79,107569.72,130331.99,117676.31,142965.95000000001,134940.69,160816.95999999999,147175.75,174496.16,166822.76,274234.77,240848.52,109486.37,102581.03,123082.05,111586.45,134008.14000000001,126985.53,150402.98000000001,137921.03,163076.19,155883.31,181740.71,168587.59,105032.08,99504.81,117119.8,107272.3,126741.3,120202.52,141161.97,129917.38,152123.1,145687.71,169110.85,157138.85999999999,98274.5,94425.39,107397.15,100227.16,114892.18,109486.28,126147.37,116906.75,134877.56,129156.97,148082.01999999999,138460.32,93536.78,91048.46,100096.43,95043.05,105367.69,101469.19,113991.13,106944.21,120279.03999999999,115840.29,130317.08,122654.24,90618.61,89114.65,95082.42,91656.94,98420.67,95655.5,104459.37,99370.64,108710.49,105478.36,115816.83,110252.43,89538.48,88509.32,91781.57,90204.99,93798.399999999994,91929.919999999998,97444.06,94448.45,99959.52,97998.91,104457.16,100895.9,89438.53,89510.05,90625.04,89856.11,91357.49,90783.57,93063.63,91659.63,94206.92,93260.17,96336.960000000006,94702.48,92697.63,92826.3,93552.27,92857.49,93898.42,93666.880000000005,94904.91,94040.81,95602.66,94960.59,97084.43,95954.53,96393.06,96515.839999999997,96626.74,96443.68,96908.98,96776.960000000006,97524.07,96994.99,97702.32,97717.68,98375.039999999994,98012.89,100535.36,100502.77,100629.64,100502.18,100549.74,100670.03,100641.53,100538.99,100500.45,100618.62,100500.02,100615.86,0,0,0,0,0,0,0,0,0,0,0,0]
[286443.96999999997,273775.18,708716.19,603847.14,352359.24,340930.77,1420855.31,1208420.8600000001,1525287.38,1334316.83,2358743.1,2034323.43,269408.34000000003,256927.17,583834.14,500257.2,332957.88,321530.46999999997,1255993.8,1065763.1399999999,1203733.8400000001,1057884.21,2149471.96,1847013.92,253026.16,240638.96,466335.22,403908.91,314238.03000000003,302692.51,1099453,931332.54,898711.17,798050.7,1949215.1,1668832.52,237181.04,225021.23,356277.64,314689.34000000003,295845.40000000002,284589.25,951006.81,805051.68,610042.1,554471.5,1757801.56,1499525.44,221966.74,210252.88,253655.63,232518.15,278318.28000000003,267055.73,810618.99,686517.37,337066.76,326670.34999999998,1574889.51,1338759.8600000001,207555.58,196004.8,237573.04,217093.99,261264.85,250379.81,678122.78,575909.97,317518.84999999998,307217.3,1400448.63,1186456.8400000001,193900.83,182665.12,222206.65,202276.12,244679.63,234236.84,553568.62,473011.96,298443.76,288335.11,1234302.3799999999,1042404.64,181012.27,170194.42,207709.01,188429.13,229029.35,218677.24,436871.45,377531,280056.56,270321.83,1076350.24,906526.89,168985.26,158464.32999999999,193912.04,175621.02,214380.67,204132.13,327963.53000000003,289646.26,262730.59999999998,253067.13,926505.61,778728.97,157988.5,147915.94,181372.27,163951.54999999999,200340.96,190670.65,226935.3,209297.1,246177.31,236614.15,785045.56,659149.25,147527.31,137997.70000000001,169124.47,152644.17000000001,187231.26,177716.15,211675.3,194816.32,229966.04,220738.49,651332.98,547169.09,138427.91,129556.53,158346.29,142827.49,174729.77,165864.93,197680.96,181547.87,214621.54,205888.74,524074.7,441497.35,130164.53,121786.6,148288.39000000001,133780.51999999999,163220.44,154828.29999999999,184351.41,169120.46,200058.03,191764.4,404164.02,344605.89,122760.27,114900.79,139158.66,125763.4,152836.25,144963.76999999999,171889.56,157714.84,186325.06,178416.53,292846.76,258413.07,116345.69,109027.33,130939.56,118756.44,143126.34,135362.6,160286.13,147157.29,173454.6,166067.70000000001,193464.2,179936.16,110743.2,104157.99,123708.54,112745.94,134128.21,127431.06,149762.88,137873.68,161870.54,155011.32999999999,179654.59,167105.18,102489.07,97840.78,112679.41,104373.73,120787.62,115266,132875.35999999999,123471.54,142090.07,136727.75,156391.70000000001,146350.12,96524.04,93427.46,103867.92,98100.84,109957.88,105549.67,118962.17,111523.29,126056.99,121385.89,136639.32999999999,128944.92,92572.03,90711.34,97508.15,93705.18,101499.59,98589.82,107989.47,102690.04,112752.31,109357.26,120263.4,114499.29,90437.63,89440.37,93471.7,91134.68,95682.4,93863.25,99720.75,96296.82,102582.96,100366.98,107293.44,103572.45,90144.34,89503.72,91157.04,90527.56,92221.02,91230.49,94019.64,92593.29,95292.73,94315.08,97570.47,95766.17,92976.13,93165.87,93850.57,93330.53,94311.63,93985.96,95493,94521.62,96287.77,95636.78,97767.679999999993,96664.35,96517.48,96743.3,97102.7,96622.42,97178.99,97180.23,97666.76,97218,98030.13,97695.62,98855.01,98271.34,100500.08,100501.49,100500.15,100500.19,100523.12,100592.81,100641.06,100501.01,100500.04,100849.75,100500.2,100712.94,0,0,0,0,0,0,0,0,0,0,0,0,0,0,0,0,0,0,0,0,0,0,0,0]
[290996.92,278184.46000000002,625215.67000000004,538985.73,357658.51,346106.43,1335663.1399999999,1139898.75,1277133.9099999999,1127555.17,2277846.81,1967679.36,273451.14,260850.33,500500.44,435961.52,337620.81,326084.23,1170411.6599999999,997308.22,955154.07,851909.06,2067503.75,1779759.4,256591.19,244103.71,383301.74,340308.12,318291.53999999998,306647.69,1013600.36,863057.78,649921.9,593067.52000000002,1866250.26,1601052.66,240292.9,228059.81,273694.14,251918.87,299299.25,287977.02,864989.55,737076.84,361276.87,350693.57,1673914.42,1431293.24,224665.06,212915.9,256469.08,235253.3,281227.17,269915.58,724589.17,618971.52,340179.47,329745.46000000002,1490184.47,1270176.67,209882.12,198321.3,239932.95,219435.03,263660.59999999998,252763.43,592216.48,508930.63,319975.08,309659.44,1315027.6399999999,1117627.93,195913.77,184698.39,224173.56,204274.82,246610.82,236195.28,467958.35,406754.13,300297.31,290202.63,1148297.25,973451.44,182759.83,171997.43,209339.12,190142.61,230557.31,220252.47,351717.04,312121.48,281351.2,271670.18,989880.75,837569.29,170493.74,160057.70000000001,195218.98,177081.2,215535.3,205356.49,243392.46,225211.26,263491.63,253905.88,839643.64,709844.94,159282.47,149333.31,182385.59,165187.25,201116.91,191566.03,227389.85,209967.2,246402.26,236944.83,697824.89,590365.39,148651.35,139287.03,169879.6,153691.07999999999,187689.69,178321.44,211698.1,195128.27,229688.15,220605.98,563847.97,478568.22,139406.89000000001,130749.27,158871.34,143713.42000000001,174873.22,166211.79,197301.95,181535.37,213849.81,205314.93,436519.52,373267.66,131061.68,122937.99,148647.01999999999,134570.07,163135.34,154992.63,183645.32,168860.09,198878.49,190831.35999999999,316738.12,277076.42,123646.14,116080.58,139431.26,126536.87,152621.94,145044.1,170945.62,157301.32999999999,184838.73,177220.92,205890.27,192098.92,117286.96,110301.69,131196.04,119578.78,142845.16,135397.94,159179.45000000001,146663.87,171736.26,164692.43,190823.46,177916.85,107293.6,101755.37,118197.48,108977.9,126960.82,121328.1,140109.34,130141.81,150341.01,144572.69,165263.87,154696.22,99918.81,96176.6,108153.77,101437.09,114702.33,110228.97,124385.38,116879.07,131800.21,127544.01,143333.29999999999,135281.44,94818.32,92491.22,100343.3,96010.81,104996.8,101608.44,111699.13,106102.65,117122.09,113523.84,125022.96,119299.52,91742.59,90515.09,95041.11,92499.42,97741.85,95829.54,102079.74,98542.91,105304.47,102961.81,110266.53,106417.53,90475.48,89981.3,92090.45,90833.58,93181.52,92301.82,95234.04,93462.73,96717.52,95509.94,99049.12,97158.23,93550.38,93022.38,94169.7,93848.42,94939.15,94219.68,96157.33,95227.76,97042.31,96372.79,98626.59,97371.06,96660.08,96977.87,97194.22,96945.32,97359.84,97304.27,97969.5,97469.42,98384.5,98055.73,99156.05,98631.28,100501.81,100832.7,100793.51,100546.93,100576.67,100830.65,100500.46,100503.39,100500.2,100500.21,100610.51,100620.87,0,0,0,0,0,0,0,0,0,0,0,0,0,0,0,0,0,0,0,0,0,0,0,0,0,0,0,0,0,0,0,0,0,0,0,0]
[295272.11,282334.36,536518.93999999994,469999.88,362584.03,350925.57,1245066.74,1066927.74,1014533.6,908643.83999999997,2191692.31,1896587.98,277193.67,264494.36,411979.91,367576.01,341876.67,330250.34999999998,1079394.06,924402.64,692091.28,633817.88,1980196.68,1708007.13,259832.85,247268.98,295096.33,272657.64,321902.71000000002,310182.28000000003,922285,790334.3,386624.11,376011.72,1777866.65,1528725.94,243071.07,230791.29,276591.8,254737.16,302290.17,290926.68,773505.39,664677.88,364500.32,353878.14,1584552.35,1358488.15,227022.11,215267.37,258862.89,237620.99,283656.09999999998,272322.45,633098.47,547034.9,342665.91,332220.01,1399955.74,1197001.8999999999,211876.74,200337.19,241880.07,221418.86,265580.74,254700.76,500886.39,437623.44,321803.86,311501.62,1224068.5900000001,1044221.82,197599.75,186438.44,225729.05,205921.49,248063.48,237707.51,376961.21,336230.76,301512.92,291462.13,1056735.42,899931.03,184160.55,173492.14,210529.35,191483.25,231570.18,221348.88,261179.64,242477.26,281952.13,272359.84000000003,897790.86,764012.67,171635.8,161328.06,196056.65,178148.21,216137.64,206069.36,243641.96,225684.49,263500.57,254032.38,747097.7,636331.04,160184.95000000001,150408.85999999999,182892.97,166003.89000000001,201292.87,191909.21,227113.84,209993.52,245802.62,236496.63,604843.01,516908.47,149401.04,140254.56,170141.85,154336.72,187557.25,178386.31,210993.79,194805.78,228584.12,219696.56,470610.26,405330.38,140034.89000000001,131646.14000000001,158924.88,144222.59,174445.07,166040.85,196212.48000000001,180909.92,212264.33,203980.11,343247.95,300463.28000000003,131640.98000000001,123827.95,148567.31,135017.79999999999,162512.51,154674.99,182261.67,168022.71,196916.13,189170.65,223661.48,205068.66,124244.41,117030.97,139294.79999999999,127000.55,151899.97,144675.15,169350.97,156342.10999999999,182594.44,175325.36,202664.39,189517.97,112817.7,106928.51,124498.41,114729.43,134357.35,127996.91,148029.5,137512.82,158588.59,152665.42000000001,174654.66,163786.09,103796.09,99337.61,112574.31,105152.14,119629.61,115094.59,130214.41,122228.6,138511.79999999999,133868.41,150484.04,141959.87,97382,94566.91,103616.34,98525.3,108569.11,105168.24,115791.44,110226.97,121364.53,118240.48,130064.95,124049.18,93248.81,91698.559999999998,96937.66,94053.36,100141.54,97782.2,104519.64,100783.02,108255.4,105739.54,113448.89,109715.61,91144.22,90546.1,92815.34,91527.05,94233.59,93312.82,96432.92,94647.78,98129.41,96832.05,100557.82,98612.06,93704.46,93368.63,94880.61,93956.77,95618.85,95036.52,97049.88,95793.52,98103.93,97205.98,99686.37,98368.320000000007,97100.87,96696.4,97290.89,97305.67,97738.33,97315.18,98322.48,97935.360000000001,98783.360000000001,98450.48,99609.95,98954.03,100507.8,100964.5,100670.53,100717.27,100514.24000000001,100752.81,100500.37,100514.3,100501.26,100523.85,100500.2,100606.26,0,0,0,0,0,0,0,0,0,0,0,0,0,0,0,0,0,0,0,0,0,0,0,0,0,0,0,0,0,0,0,0,0,0,0,0,0,0,0,0,0,0,0,0,0,0,0,0]
[299173.63,286133.46999999997,442199.96,396539.26,367016.63,355273.1,1148414,988959.83,736432.8,676681.61,2099346.58,1820248.69,280537.86,267766.11,317877.90000000002,294776.84999999998,345602.91,333910.75,982329.1,846533.26,413579.6,402786.33,1886667.67,1631001.56,262665.71999999997,250053.84,298052.87,275533.59999999998,324963.95,313193.02,824954,712701.76,389909.33,379265.65,1683253.04,1451162.71,245432.3,233136.98,278986.62,257108.5,304712.48,293336.89,676043.74,587431.36,366996.93,356363.03,1488956.75,1280467.6299999999,228973.03,217246.09,260762.21,239552.95,285522.46999999997,274197.25,535700.97,470341.43,344425,333996.21999999997,1303524.3999999999,1118665.6399999999,213470.21,201987.73,243334.14,222972.79,266936.27,256106.87,403715.87,361646.8,322895.51,312637.98,1126930.02,965701.1,198861.75,187794.83,226759.35,207114.18,248910.84,238652.91,280150.99,261088.94,301932.21000000002,291961.12,958965.11,821293.81,185114.15,174585.57,211161.57,192345.77,231935.55,221840.98,261178.59,242711.25,281692.49,272230.68,799460.83,685335.25,172301.83,162174.39000000001,196294.94,178706.96,216040.95,206132.23,243052.22,225409.27,262570.84999999998,253267.97,648265.14,557679.16,160621.43,151074.03,182805.79,166323.38,200768.88,191605.97,225991.49,209270.91,244251.03,235148.01,505603.19,438366.35,149718.74,140847.41,169842.87,154520.99,186756.8,177838.17,209472.99,193767.78,226555.56,217916.29,371193.05,327105.56,140265.42000000001,132204.35999999999,158451.9,144306.65,173383.26,165293.85999999999,194340.74,179606.57,209786.03,201808.91,243891.41,222785,131853.31,124411.67,147990.57,135072.54999999999,161285.54999999999,153813.45000000001,180123.01,166538.85,194085.32,186700.95,220029.94,201872.13,118641.91,112576.01,131297.73000000001,120959.35,141960.47,135885.74,156591.14000000001,145652.79,167720.94,161595.4,184593.97,173545.67,108253.47,103493.75,117637.86,109773.49,125652.23,120411.42,136580.99,128124.16,145081.45000000001,140313.07999999999,158034.4,149265.88,100293.91,96939.3,106898.53,101314.16,112207.42,108794.78,120170.95,114211.56,126490.78,122997.62,135445.94,129011.09,94956.74,93076.55,99173.51,95721.81,102517.03,100197.58,107257.26,103651.7,110972.79,108991.07,116816.48,112854.46,91897.52,91118.48,93763.7,92317.05,95529.35,94190.74,97599.51,95709.119999999995,99661.31,98219.17,102166.77,100409.64,94162.51,93762.559999999998,95325.69,94428.58,96347.33,95739.520000000004,97879.3,96641.38,99103.4,98124.25,100734.82,99383.38,97042.16,96878.44,97741.16,97179.49,98096.1,97836.7,98851.63,98155.02,99438.85,98877.75,100207.36,99511.84,100780.89,100510.87,100505.69,100884.37,100603.68,100502.13,100500.25,100701.23,100501.13,100533.33,100505.82,100500.31,0,0,0,0,0,0,0,0,0,0,0,0,0,0,0,0,0,0,0,0,0,0,0,0,0,0,0,0,0,0,0,0,0,0,0,0,0,0,0,0,0,0,0,0,0,0,0,0,0,0,0,0,0,0,0,0,0,0,0,0]
[302648.51,289531.93,341954.71,318357.13,370887.11,359082.72,1045458.73,905785,442051.11,431003.99,2000672.65,1738537.28,283440.58,270625.21999999997,320917.93,297730.56,348741.98,337010.41,878965.31,763488.87,416959.19,406132.95,1786767.38,1548610.17,265045.03999999998,252416.64000000001,300466.3,277923.21000000002,327415.19,315622.42,721336.42,629934.1,392419.73,381772.29,1582230.98,1368206.16,247348.6,235071.21,280844.07,259002.53,306526.90999999997,295170.34000000003,572342.39,505122.67,368715.34,358098.86,1386953.47,1197082.6200000001,230481.63,218819.07,262122.74,241010.24,286775.64,275492.15000000002,432108.31,388655.74,345390.89,335010.86,1200678.97,1034986.89,214592.31,203208.31,244210.25,224021.97,267630.8,256890.63,300351.81,280708.87,323125.95,312949.44,1023315.11,881808.02,199623.1,188697.69,227171.32,207771.33,249046.35,238931.20000000001,279896.78999999998,261084.21,301417.2,291567.62,854654.17,737252.6,185530.98,175196.26,211126.1,192634.9,231527.54,221610.76,260256.54,242117.92,280408.15000000002,271126.03999999998,694510.6,601208.84,172439.3,162549.98000000001,195867.79,178701.55,215168.29,205473.68,241531.15,224303.28,260599.32,251514.8,542819.31999999995,473614.52,160556.03,151297.60000000001,182077.59,166107.32,199489.7,190605.47,223955.29,207739.92,241671.26,232826.86,399795.17,354482.71,149580.54999999999,141045.62,168950.04,154218.01999999999,185248.38,176640.87,207085.66,191971.13,223545.1,215211.49,265295.25,243648.92,140070.47,132400.73000000001,157414.04999999999,143935.35,171640.94,163928.53,191627.96,177574.89,206347.23,198738.2,239916.16,219149.15,125036.68,118795.36,138605.6,127743.28,149784.23000000001,143501.49,165643.57,154201.35999999999,177363.59,171154.7,200168.76,183942.86,112919.5,108036.27,123107.68,114784.96000000001,131768.91,126879.38,143492.85999999999,134688.32999999999,152444.45000000001,147497.38,166022.94,157136.78,103669.87,100065.01,110705.83,104789.17,116834.18,112737.79,124957.03,118606.73,131352.23000000001,127764.85,141121.66,134500.70000000001,96901.62,94661.08,101312.96000000001,97583.11,104859.47,102579.44,110177.78,106263.63,114502.55,112170.16,120412.74,116086.16,92762.51,91811.08,94975.4,93151.85,96720.62,95475.07,98994.54,97335.73,100864.73,100018.54,103870.84,101949.39,94682.99,94145.31,95979.68,94983.13,97306.46,96276.24,98645,97331.45,100196.26,99077.27,101852.95,100722.85,97280.66,97096.53,97890.4,97419.49,98479.679999999993,98212.69,99284.479999999996,98642.8,99993.64,99361.63,100756.98,100053.1,100502.13,100525.51,100681.88,100514.38,100620.05,100711.72,100640.93,100553.25,100720.34,100525.92,100603.89,100585.44,0,0,0,0,0,0,0,0,0,0,0,0,0,0,0,0,0,0,0,0,0,0,0,0,0,0,0,0,0,0,0,0,0,0,0,0,0,0,0,0,0,0,0,0,0,0,0,0,0,0,0,0,0,0,0,0,0,0,0,0,0,0,0,0,0,0,0,0,0,0,0,0]
[305630.48,292467,345078.55,321396.65000000002,374110.91,362273,935803.95,817068.18,445529.46,434442.81,1895253.7,1651092.12,285834.81,273008.55,323355.17,300139.73,351207.73,339466.69,768906.53,674936.8,419492.5,408661.37,1680076.8,1460470.89,266923.37,254312.9,302280.84999999998,279776.09000000003,329194.23,317411.15000000002,611066.63,541728.62,394077.87,383456.86,1474414.16,1279526.98,248764.58,236542.28,282098.8,260360.46,307660.24,296357.34000000003,462026.8,417442.37,369563.9,358997.15,1278142.3799999999,1107991.8999999999,231455.67,219900.36,262835.28999999998,241894.98,287293.43,276090.90999999997,321893.49,301621.27,345409.8,335115.84000000003,1090951.77,945562.36,215144.31,203907.35,244390.73,224461.67,267532.07,256926.59,299827.86,280435.95,322327.73,312274.96999999997,912741.52,792127.23,199770.83,189042.81,226829.63,207773.34,248317.21,238398.03,278621.25,260155.15,299773.03999999998,290094.59999999998,743290.49,647366.13,185339.99,175259.54,210336.93,192275.57,230248.11,220565.89,258298.47,240592.99,277972.13,268924.5,582507.43000000005,511268.17,171996.46,162408,194711.58,178076.99,213446.31,204025.02,238991.78,222288.43,257489.55,248681.01,430365.56,383808.76,159950.07999999999,151045.16,180659.91,165314.62,197398.9,188855.42,220937.8,205340.59,237987.88,229461.75,287052.37,264956.58,148944.04999999999,140811.71,167409.79999999999,153382.9,182969.27,174736.34,203756.27,189349.02,219467.92,211502.01,260956.9,239656.59,131944.94,125529.19,146541.6,135221.96,158487.35,152001.22,175310.62,163479.5,187676.09,181268.6,218243.05,199349.15,118064.3,113059.92,128986.64,120242.63,137984.56,132927.35,150775.19,141540.07,160184.6,155187.01999999999,179758.36,165519.74,107152.62,103478.62,114817.51,108555.79,121432.53,117754.93,130184.19,123561.48,136908.45000000001,133166.26,147118.19,140442.89000000001,99187.95,96748.26,103854.33,99902.86,108080.43,105137.78,113371.67,109146.84,117642.83,115246.92,124200.33,119746.06,93745.29,92611.57,95977.38,94090.16,97772.800000000003,96618.14,100462.86,98581.29,102806.1,101627.02,105690.35,103458.3,95284.64,94623.4,96877.23,95556.75,98126.97,97211.68,99621.22,98582.73,100914.13,100434.14,103037.26,101759.45,97547.41,97272.65,98223.61,97717.43,99071.67,98378.01,99613.6,98928.56,100607.93,99841.69,101340.32,100892.92,100501.82,100552.32000000001,100509.68,100502.28,100628.53,100732.01,100642.52,100649.24,100791.41,100537.32,100611,100611.36,0,0,0,0,0,0,0,0,0,0,0,0,0,0,0,0,0,0,0,0,0,0,0,0,0,0,0,0,0,0,0,0,0,0,0,0,0,0,0,0,0,0,0,0,0,0,0,0,0,0,0,0,0,0,0,0,0,0,0,0,0,0,0,0,0,0,0,0,0,0,0,0,0,0,0,0,0,0,0,0,0,0,0,0]
[308062.36,294884.90999999997,347553.87,323846.8,376613.24,364772.34,819107.33,722520.58,448107.65,437009.21,1782861.11,1557711.62,287683.32,274881.45,325144.63,301964.11,352949.64,341231.53,651819.94999999995,580601.05000000005,421115.23,410309.45,1566371.61,1366390.2,268253.19,255698.5,303439.33,281041.08,330236.78000000003,318498,493779.86,447783.35,394801.78,384240.32,1359533.7,1184893.21,249590.3,237466.37,282643.68,261086.25,307992.33,296783.53999999998,344653.73,324019.59000000003,369390.97,358911.66,1162153.1399999999,1012871.4,231796.43,220398.55,262781.83,242102.08,286942.84000000003,275867.2,321099.82,301075.87,344312.84,334148.51,973929.7,850031.83,215010.27,203978,243736.45,224168.7,266482.64,256065.87,298187.17,279145.53999999998,320299.86,310421.44,794738.11,696248.52,199234.72,188766.26,225648.21,207045.32,246624.74,236960.69,276208.02,258196.23,296870.94,287419.02,624465.18000000005,551286.82999999996,184491.36,174730.64,208731.5,191214.23,228024.29,218638.47,255217.14,238058.31,274287.21000000002,265533.62,463061.5,415187.3,170937.39,161717.03,192779.72,176794.58,210819.95,201735.45,235367.03,219305.34,253165.83,244694.99,310523.51,287948.52,158762.15,150280.63,178498.92,163900.85999999999,194432.26,186296.79,216860.62,202003.78,233112.2,224968.88,282151.24,260424.41,139409.70000000001,132580.14000000001,154939.03,143182.04999999999,168072.29,161088.57,185484.19,173372.58,198742.27,191996.13,237375.64,217989.6,123631.03999999999,118507.99,135396.34,126302.24,144990.79,139768.57999999999,158553.1,149012.1,168492.3,163323.23000000001,195975.1,179005.75,111026.29,107287.23,119241.34,112664.2,126008.47,122204.97,135660.15,128682.69,142705.87,138947.38,158980.79,146768.51999999999,101483.88,99030.59,106601.71,102420.45,111151.87,108697.61,116902.63,112482.35,121378.47,118852.34,128187.57,123744.11,94956.91,93675.32,97267.27,95269.5,99603.24,97805.98,102078.36,99966.720000000001,104237.9,103026.52,107602.48,105301.96,95973.43,95186.52,97522.73,96212.84,98769.56,97967.43,100636.08,99398.58,102369.74,101552.12,104298.17,102719.26,97869.89,97525.69,98784.37,98013.92,99492.51,98938.39,100135.38,99774.01,100797.58,100717.09,101955.7,101380.85,100501.44,100513.39,100500.91,100529.49,100826.33,100500.28,100500.03,100500.42,100886.3,100505.44,100611.13,100907.73,0,0,0,0,0,0,0,0,0,0,0,0,0,0,0,0,0,0,0,0,0,0,0,0,0,0,0,0,0,0,0,0,0,0,0,0,0,0,0,0,0,0,0,0,0,0,0,0,0,0,0,0,0,0,0,0,0,0,0,0,0,0,0,0,0,0,0,0,0,0,0,0,0,0,0,0,0,0,0,0,0,0,0,0,0,0,0,0,0,0,0,0,0,0,0,0]
[309852.61,296698.26,349276.5,325610.95,378280.53,366471.07,694794.38,621657.84,449649.56,438570.55,1662634.27,1457656.45,288887.32,276149.86,326173.52,303099.5,353844.42,342186.03,527164.78,480025.85,421678.44,410932.38,1444834.07,1265666.6000000001,268892.53999999998,256438.99,303778.34000000003,281568.45,330363.40999999997,318710.49,368913.9,347619.75,394372.87,383910.51,1236748.3999999999,1083578.0900000001,249677.51,237703.72,282307.45,261023.68,307334.2,296267.73,343530.13,323162.65999999997,367964.77,357618,1038180.29,911025.52,231339.65,220159.29,261771.4,241458.26,285512.07,274618.71000000002,319049.28000000003,299375.81,341838.57,331856.19,848822.06,747711.18,214079.14,203316.35,242118.24,223026.31,264339.18,254171.63,295266.31,276686.09999999998,316864.82,307217.58,668655.68000000005,593618.30000000005,197928.81,187787.75,223526.96,205497.06,243857.59,234513.09,272529.94,255090.08,292572.92,283407.75,497619.49,448542.88,182916.78,173545.97,206230.24,189379.53,224767.74,215744.38,250911.54,234420.79,269243.45,260847.64,335689.9,312562.38,169189.17,160409.49,189986.92,174778.13,207193.58,198514.39,230547.09,215253.43,247508.22,239441.66,305125.55,282936.01,147608.21,140481.67000000001,164217.54999999999,151990.41,177583.94,170752.22,196448.32,183962.33,210130.43,203238.34,256416.16,236659.41,129631.84,124144.16,142136.59,132717.76999999999,152770.98000000001,147073.74,166706.16,156959.06,177437.21,171947.27,213140.33,195721.7,115210.47,111408.72,124082.38,117262.71,131273.79,127343.27,141503.71,134303.04000000001,148963.32999999999,145059.84,173306.88,158296.57,104065.28,101602.05,109550.91,105158.32,114069.03,111529.52,120556.34,115854.73,125218.77,122709.5,138177.24,127998.86,96063.99,94822.34,98653.63,96537.43,101155.14,99915.199999999997,103926.59,101692.47,106170.57,104851.38,109604.19,107376.13,96844.41,95920.94,98415.51,97027.81,100175.77,98713.66,101756.96,100306.98,103257.12,102415.64,105628.26,103996.76,98223.45,97813.47,99030.71,98348.26,99681.36,99262.36,100652.91,100114.98,101723.55,101298.7,102613.61,101744.69,100503.34,100503.05,100681.97,100508.43,100802.45,100640.4,100522.26,100894.75,100500.36,100852.64,100611.57,100798.84,0,0,0,0,0,0,0,0,0,0,0,0,0,0,0,0,0,0,0,0,0,0,0,0,0,0,0,0,0,0,0,0,0,0,0,0,0,0,0,0,0,0,0,0,0,0,0,0,0,0,0,0,0,0,0,0,0,0,0,0,0,0,0,0,0,0,0,0,0,0,0,0,0,0,0,0,0,0,0,0,0,0,0,0,0,0,0,0,0,0,0,0,0,0,0,0,0,0,0,0,0,0,0,0,0,0,0,0]
[310943.01,297852.40000000002,350177.88,326626.87,379036.7,367296.22,562487.59,514162.39,450060.3,439034.93,1534300.82,1350688.26,289336.52,276710.11,326312.83,303428.59000000003,353749.11,342193.16,394471.26,372811.09,421004.86,410358.42,1315075.18,1157954.53,268719.96000000002,256420.45,303155.28999999998,281228.96999999997,329415.28999999998,317896.75,367463.67999999999,346437.06,392592.98,382275.78,1105620.98,975194.43,248882.77,237120.4,280920.76,260020.25,305496.87,294629.64,341040.86,321045.53999999998,365048.55,354887.43,905719.73,802008.38,229997.46,219101.28,259698.61,239869.84,282882.31,272232.65999999997,315603.64,296394.12,337835.63,328093.21000000002,715199.96,638229.79,212287.69,201864.4,239458.93,220966.9,261013.6,251160.89,290961.61,272963.36,311908.53000000003,302554.02,534089.21,483892.42,195806.64,186065.38,220408,203078.73,239948.77,230992.55,267507.15999999997,250764.75,286790.28999999998,277976.19,362360.77,338805.61,180562.13,171656.9,202765.55,186713.62,220399.75,211810.37,245287.69,229596.3,262736.14,254766.99,329759.7,307034.06,156351.29999999999,148975.21,173822.19,161072.43,188340.86,180985.79,207915.66,195068.09,222193.57,215415.5,277204.13,257035.99,136184.10999999999,130452.15,149574.68,139787.92000000001,160299.01,154809.18,175495.39,165449.56,186532.99,180928.53,230004.73,212269.78,119723.61,115607.53,129136.92,122108.2,137217.43,132834.82999999999,147598.71,140268.43,155747.13,151540.91,188477.96,173061.25,106863.64,104394.61,112817.91,108291.99,117585.93,114957.87,124455.51,119614.7,129414.6,126787.21,150616.46,137566.97,97370.61,96174.43,100146.19,97922.67,102431.27,101146.73,105776.93,103334.73,108072.69,106803.77,117753.57,109579.79,97578.23,96715.15,99377.98,97906.94,101253.94,100393.52,103084.44,101533.53,104629.6,103684.48,107007.74,105473.32,98730.240000000005,98197.18,99496.12,98773.1,100628.29,99532.54,101236.3,100507.11,102018.03,101579.55,103306.56,102404.17,100500.53,100500.46,100500.84,100500.72,100503.12,100500.72,100501.32,100723.82,100850.3,100852.66,100611.56,100514.89,0,0,0,0,0,0,0,0,0,0,0,0,0,0,0,0,0,0,0,0,0,0,0,0,0,0,0,0,0,0,0,0,0,0,0,0,0,0,0,0,0,0,0,0,0,0,0,0,0,0,0,0,0,0,0,0,0,0,0,0,0,0,0,0,0,0,0,0,0,0,0,0,0,0,0,0,0,0,0,0,0,0,0,0,0,0,0,0,0,0,0,0,0,0,0,0,0,0,0,0,0,0,0,0,0,0,0,0,0,0,0,0,0,0,0,0,0,0,0,0]
[311195.08,298215.93,350098.21,326747.56,378706.15,367078.74,421624.78,399551.63,449125.43,438193.9,1397255.74,1236273.6499999999,288881.08,276420.59000000003,325388.79999999999,302792.26,352472.11,341068.9,392666.3,371284.15,418859.31,408359.29,1176467.02,1042701.04,267562.28999999998,255479.84,301368.3,279839.12,327169.15999999997,315842.84000000003,364517.53,343866.55,389186.48,379069.27,965479.17,859149.42,247095.09,235612.4,278353.36,257958.29,302334.98,291730.59999999998,337019.31,317513.69,360461.17,350545.1,764207.34,685331.61,227686.85,217147.4,256465.2,237248.75,278943.43,268604.14,310635.59999999998,292013.5,332165.15999999997,322725.8,572550.28,521149.4,209572.37,199563.56,235682.41,217922.9,256420.11,246952.19,285173.2,267885.87,305321.46000000002,296325.57,390562.91,366669.29,192796.7,183533.48,216205.18,199714.5,234800.51,226306.96,261025.58,245116.37,279397.65000000002,271004.21000000002,355857.07,332718.93,165884.93,158438.23000000001,184557.9,171050.42,199342.93,192128.72,220249.47,207084.03,234900.3,228257.12,299481.25,278833.65999999997,143200.07999999999,137268.12,157248.15,147028.49,169001.5,163008.48000000001,184688.34,174357.48,196205.8,190753.31,248560.64000000001,230466.18,124610.75,120302.51,134715.23000000001,127420.22,142742.01,138622.25,154193.63,146639.07,162531.47,158241.31,203162.59,187482.23999999999,109878.94,107145.96,116175.37,111556.84,121681.5,118623.67999999999,128478.83,123585.32,134023.81,131111.4,163796.53,150383.07,98795.86,97650.29,101854.06,99605.26,104216.15,102881.05,107750.28,105251.86,110226.96,108866.22,128346.52,117221.26,98486.59,97689.96,100415.43,98869.58,102002.77,101110.35,104371.44,102630.53,105923.16,105041.82,114807.5,107039.79,99057.62,98606.96,99996.7,99228.61,101190.3,100743.38,101996.13,101189.61,102779.94,102242.56,104008.07,103229.37,100611.04,100502.74,100501.43,100501.26,100949.74,100253.66,100500.16,100554.78,100500.58,100500.37,100611.55,100502.27,0,0,0,0,0,0,0,0,0,0,0,0,0,0,0,0,0,0,0,0,0,0,0,0,0,0,0,0,0,0,0,0,0,0,0,0,0,0,0,0,0,0,0,0,0,0,0,0,0,0,0,0,0,0,0,0,0,0,0,0,0,0,0,0,0,0,0,0,0,0,0,0,0,0,0,0,0,0,0,0,0,0,0,0,0,0,0,0,0,0,0,0,0,0,0,0,0,0,0,0,0,0,0,0,0,0,0,0,0,0,0,0,0,0,0,0,0,0,0,0,0,0,0,0,0,0,0,0,0,0,0,0]
[310457.28000000003,297645.46000000002,348861.3,325811.68,377094.5,365631.82,419464.79,397676.06,446606.22,435815.65,1250960.24,1113932.82,287341.78000000003,275112.13,323192.38,300999.93,349782.35,338591.42,389239.53,368246.18,414956.16,404658.24,1028391.07,919355.45,265306.76,253511.57,298284.36,277278.53000000003,323476.77,312407.03999999998,359904.42,339749.7,383967.7,374111.5,815791.26,734979.91,244231.11,233102.32,274505.36,254748.61,297736.3,287463.88,331335,312446.98,354060.27,344453.72,613138.1,560561.92000000004,224344.54,214239.47,251994.08,233527.05,273607.8,263650.34999999998,304042.46999999997,286139.87,324714.03000000003,315645.43,420381.56,396053.86,205859.73,196346.55,230698.98,213815.77,250456.2,241449.18,277780.65000000002,261343.9,296971.01,288405.02,383454.12,359994.18,176146.7,168383.69,195795.95,181949.9,211409.51,204342.28,233429.48,220122.07,248903.61,241843.4,323079,302064.98,150851.29,144905.35,165891.87,155002.26,177745.19,171945.92,194555.24,183988.84,206327.61,201048.97,268434.53000000003,249917.63,129873.02,125415.56,140426.14000000001,132790.03,149356.44,144753.69,161073.10999999999,153311.95000000001,169772.15,165673.21,219462.37,203474.38,113112.11,110238.25,119906.46,115122.19,125215.52,122475.97,132894.74,127849.9,138513.22,135546.49,176340.33,162712.81,100328.92,98969.74,103529.53,101305.53,106479.49,104736.52,109716.04,107242.9,112675.95,111047.76,139571.49,128123.66,99485.88,98762.48,101639.95,100107.67,103244.54,102314.2,105737.84,103969.78,107434.38,106468.19,125128.05,114275.43,99535.39,99175.09,100539.03,99733.62,101363.97,100900,102664.9,101690.52,103403.88,102946.04,111405.8,104093.52,100501.08,100500.22,100501.48,100500.07,100950.13,100954.18,100639,100644.29,100592.57,100500.05,100566.55,100611.95,0,0,0,0,0,0,0,0,0,0,0,0,0,0,0,0,0,0,0,0,0,0,0,0,0,0,0,0,0,0,0,0,0,0,0,0,0,0,0,0,0,0,0,0,0,0,0,0,0,0,0,0,0,0,0,0,0,0,0,0,0,0,0,0,0,0,0,0,0,0,0,0,0,0,0,0,0,0,0,0,0,0,0,0,0,0,0,0,0,0,0,0,0,0,0,0,0,0,0,0,0,0,0,0,0,0,0,0,0,0,0,0,0,0,0,0,0,0,0,0,0,0,0,0,0,0,0,0,0,0,0,0,0,0,0,0,0,0,0,0,0,0,0,0]
[308491.63,295914.37,346195.31,323567.71999999997,373904.89,362668.88,415505.01,394115.09,442144.25,431551.23,1094391.17,982761.14,284558.23,272632.42,319540.13,297882.40999999997,345479.14,334567.36,383964.82,363484.67,409052.65,399019.27,870010.12,787187.23,261829.57,250398.26,293761.69,273417,318182.55,307439.77,353448.98,333922.01,376747.94,367219.24,655836.47,602062.39,240193.05,229497.58,269264.67,250288.45,291577.7,281711.09000000003,323848.89,305715.24,345696.05,336468.06,451888.79,427164.66,219864.83,210277.8,246163.3,228593.59,266740.84000000003,257242.52,295671.74,278631.17,315317.63,306692.64,412598.01,388714.61,187080.02,179111.98,207933.45,193785.44,224583.33,217021.72,247459,233679.97,263619.43,256410.84,348004.93,326715.84000000003,159081.57999999999,152860.65,174866.45,163738.95000000001,187414.95,181814.13,205112.34,194479.57,217607.66,211917.89,289470.03000000003,270633.90000000002,135604.15,131188.9,146940.72,138720.57,155804.23000000001,151447.84,168436.84,160520.88,177273.71,173386.91,236906.59,220553.31,116613.49,113639.08,123651.59,118614.11,129743.26,126538.09,137466.54999999999,132289.82999999999,143331.28,140593.59,190409.08,176524.07,101947.14,100493.19,105465.05,103166.85,108083.39,106710.25,112028.51,109468.08,114955.36,113297.97,150085.51,138466.84,100553.08,99624.52,102788.25,101320.02,104952.1,103605.38,107062.24,105344.9,109226.27,107987.81,136084.35999999999,124911.12,100064.29,99799.41,101235.68,100481.91,102017.25,101526.78,103379.2,102405.04,104228.05,103690.78,121430.12,110891.39,100502.24,100615.08,100502.32,100500.12,100500.32,100501.09,100642.8,100500.12,100500.42,100501.95,107533.03,100726.52,0,0,0,0,0,0,0,0,0,0,0,0,0,0,0,0,0,0,0,0,0,0,0,0,0,0,0,0,0,0,0,0,0,0,0,0,0,0,0,0,0,0,0,0,0,0,0,0,0,0,0,0,0,0,0,0,0,0,0,0,0,0,0,0,0,0,0,0,0,0,0,0,0,0,0,0,0,0,0,0,0,0,0,0,0,0,0,0,0,0,0,0,0,0,0,0,0,0,0,0,0,0,0,0,0,0,0,0,0,0,0,0,0,0,0,0,0,0,0,0,0,0,0,0,0,0,0,0,0,0,0,0,0,0,0,0,0,0,0,0,0,0,0,0,0,0,0,0,0,0,0,0,0,0,0,0]
[305162.7,292894.65000000002,341942.61,319871.24,368963.35,358022.79,409547.08,388682.91,435525.46,425192.78,926992.71,842267.68,280429.95,268887,314313.90000000002,293332.51,339431.16,328871.06,376691.28,356859.11,400985.32,391284.06,700801.61,645741.87,257054.16,246068.45,287708.95,268172.56,311184.39,300843.64,345032.86,326274.05,367398.25,358268.03,485109.9,459963.65,234891.02,224714.72,262524.08,244481.92000000001,283738.68,274357.71000000002,314421.21999999997,297189.57,335215.88,326441.03999999998,443396.3,419129.83,198818.86,190823.39,220897.04,206135.81,238215.98,230181.85,262467.77,248134.09,278926.69,271687.03000000003,374330.12,352653.46,167840.18,161460.32999999999,184597.17,173260.41,198053.78,191977.7,216356.95,205309.54,229403.72,223590.09,311683.34000000003,292618.61,141776.35,137127.99,153621.07999999999,145265.46,163044.34,158939.04,176334.24,168428.97,185792.58,181500.11,255362.99,238737,120427.62,117551.91,128039.71,122503.65,133896.46,130990.98,142328.26,137077.73000000001,148213.22,145726.6,205449.63,191254.86,103720.54,102213.84,107279.73,104814.63,110563.05,108740.01,114333.3,111714.4,117393.32,116002.87,161993.68,150165.01,101666.33,100656.03,104166.39,102653.86,105939.08,104993.81,108721.86,106937.09,110813.85,109554.18,146265.98000000001,134930.95000000001,100626.73,100167.32,101809.94,101164.75,103116.65,102202.41,104000.21,103106.42,105296.53,104483.28,132067.95000000001,121211.92,100523.37,100756.72,100625.89,100718.63,100512.61,100500.52,100643.96,100533.34,100571.04,100500.33,117209.95,107029.99,0,0,0,0,0,0,0,0,0,0,0,0,0,0,0,0,0,0,0,0,0,0,0,0,0,0,0,0,0,0,0,0,0,0,0,0,0,0,0,0,0,0,0,0,0,0,0,0,0,0,0,0,0,0,0,0,0,0,0,0,0,0,0,0,0,0,0,0,0,0,0,0,0,0,0,0,0,0,0,0,0,0,0,0,0,0,0,0,0,0,0,0,0,0,0,0,0,0,0,0,0,0,0,0,0,0,0,0,0,0,0,0,0,0,0,0,0,0,0,0,0,0,0,0,0,0,0,0,0,0,0,0,0,0,0,0,0,0,0,0,0,0,0,0,0,0,0,0,0,0,0,0,0,0,0,0,0,0,0,0,0,0,0,0,0,0,0,0]
[300345.90000000002,288468.15000000002,335959.25,314590.09000000003,362111.58,351541.17,401411.37,381210.84,426556.28,416552.31,748106.43,691877.28,274859.93,263784.45,307401.02,287247.17,331513.83,321382.88,367276.68,348236.56,390600.52,381303.57,520156.15,494492.56,250870.23,240418.46,279997.3,261428.18,302339.32,292481.68,334492.5,316653.5,355741.38,347086.26,475850.14,451182.3,211407.21,202851.74,234579.20000000001,219438.92,252381.4,244509.29,278128.59000000003,263689.18,295628.38,288262.53000000003,402141.21,380121.9,177259.04,170898.93,195001.34,183125.61,208972.65,202442.66,228417.13,216864.3,241601.76,235785.28,335136.39,315719.84000000003,148327.72,143566.63,160909.63,152438.29999999999,171112.12,166550.07999999999,184754.61,176491.34,194628.23,190236.25,274841.53999999998,258033.07,124542.51,121474.68,132427.22,126857.33,138709.54,136108.1,147569.93,142406.31,153976.57999999999,151088.20000000001,221354.96,206932.47,105652,104299.45,109581.15,106699.14,112463.96,110993.37,116741.41,114127.14,119706.99,118605.86,174710.74,162624.74,102900.01,101851.74,105372.11,103716.82,107792.57,106386.78,110317.74,108498.06,112508.2,111538.32,157847.96,146311.97,101189.89,100662.95,102580.61,101923.65,103432.18,102953.06,104948.3,104008.69,106130.3,105304.6,141871.28,130863.56,100536.91,100587.59,100576,100825.47,100949.88,100506.75,100500.3,100502.13,100852.37,100502.15,127483.84,116990.78,0,0,0,0,0,0,0,0,0,0,0,0,0,0,0,0,0,0,0,0,0,0,0,0,0,0,0,0,0,0,0,0,0,0,0,0,0,0,0,0,0,0,0,0,0,0,0,0,0,0,0,0,0,0,0,0,0,0,0,0,0,0,0,0,0,0,0,0,0,0,0,0,0,0,0,0,0,0,0,0,0,0,0,0,0,0,0,0,0,0,0,0,0,0,0,0,0,0,0,0,0,0,0,0,0,0,0,0,0,0,0,0,0,0,0,0,0,0,0,0,0,0,0,0,0,0,0,0,0,0,0,0,0,0,0,0,0,0,0,0,0,0,0,0,0,0,0,0,0,0,0,0,0,0,0,0,0,0,0,0,0,0,0,0,0,0,0,0,0,0,0,0,0,0,0,0,0,0,0,0]
[293941.61,282540.98,328128.33,307617.71999999997,353219.98,343099.65,390949.25,371560.09,415076.05,405473.93,557105.09,531046.51,267731.7,257215.23,298664.24,279502.03999999998,321574.81,311957.03000000003,355546.11,337454.12,377708.31,368894.08,510091.85,484921.14,224790.05,216000.31,249203.52,233625.52,268009.53000000003,259676.99,294940.98,279956.08,312747.03999999998,305536.43,431426.86,409062.6,187352.23,180461.84,205940.7,193781.95,220236.78,213915.03,240913.32,229342.81,255028.04,249109.93,359907.44,340188.58,155390.76999999999,150697.92000000001,168713.53,159778.76999999999,179272.95,174275.54,193817.16,185098.56,203664.01,199298.29,295397.71999999997,278272.49,128885.21,125751.35,137270.73000000001,131679.76999999999,144203.29999999999,141163.01,153160.57999999999,147695.87,159845.39000000001,156882.09,238122.99,223563.16,107744.2,106239.78,111712.34,108897.58,114888.3,113775.2,119367.87,116916.7,122757.27,121257.32,188141.44,175870.5,104239.79,103371.91,107020.64,104964.28,108965.69,107944.7,111942.37,110157.15,113992.33,113336.83,170198.79,158415.35999999999,101832.82,101285.51,103117.15,102346.35,104594.06,103644.92,105759.33,104812.89,106999.29,106488.97,153066.29,141868.66,100500.27,100500.55,100680.91,100956.51,100528.1,100557.32,100662.57,100644.73,100851.83,100500.01,136845.92000000001,126213.47,0,0,0,0,0,0,0,0,0,0,0,0,0,0,0,0,0,0,0,0,0,0,0,0,0,0,0,0,0,0,0,0,0,0,0,0,0,0,0,0,0,0,0,0,0,0,0,0,0,0,0,0,0,0,0,0,0,0,0,0,0,0,0,0,0,0,0,0,0,0,0,0,0,0,0,0,0,0,0,0,0,0,0,0,0,0,0,0,0,0,0,0,0,0,0,0,0,0,0,0,0,0,0,0,0,0,0,0,0,0,0,0,0,0,0,0,0,0,0,0,0,0,0,0,0,0,0,0,0,0,0,0,0,0,0,0,0,0,0,0,0,0,0,0,0,0,0,0,0,0,0,0,0,0,0,0,0,0,0,0,0,0,0,0,0,0,0,0,0,0,0,0,0,0,0,0,0,0,0,0,0,0,0,0,0,0,0,0,0,0,0,0]
[285799.77,274970.02,318279.37,298795.78999999998,342102.71,332518.86,377952.35,359534.06,400861.77,391740.44,546147.06999999995,520596.51,238876.02,230071.31,264847.96999999997,248748.83,284062.01,276013.34999999998,312533.59999999998,297358.2,331122.98,323772.3,462295.1,439479.05,198074.43,190990.68,217649.43,205141.73,232825.91,226058.67,254397.24,242341.88,268669.18,262941.58,385951.01,365944.89,162954.01,157758.64000000001,176876.25,167752.68,187602.98,182859.44,203117.44,194467.67,213786.36,209342.04,317102.68,299715.13,133600.24,130581.08,142488.28,136504.5,149624.57999999999,146164.42000000001,159251.20000000001,153376.34,165748.51,162838.46,255823.9,240980.3,109927.73,108400.1,114171.84,111423.93,117878.26,116339.77,122210.61,119508.22,125749.24,124195.68,202309.07,189942.39,105705.1,104692.24,108448.91,106494.6,110654.88,110021.21,113766.45,112173.92,116224.66,115155.33,183263.02,171301.9,102533.61,102192.12,104066.31,102907.55,104992.59,104460.18,106555.54,105671.19,107610.54,107438.71,165022.60999999999,153587.14000000001,100504.45,100500.53,100500.37,100688.75,100953.07,100500,100643.74,100644.54,100852.34,100840.49,147627.51999999999,136815.6,0,0,0,0,0,0,0,0,0,0,0,0,0,0,0,0,0,0,0,0,0,0,0,0,0,0,0,0,0,0,0,0,0,0,0,0,0,0,0,0,0,0,0,0,0,0,0,0,0,0,0,0,0,0,0,0,0,0,0,0,0,0,0,0,0,0,0,0,0,0,0,0,0,0,0,0,0,0,0,0,0,0,0,0,0,0,0,0,0,0,0,0,0,0,0,0,0,0,0,0,0,0,0,0,0,0,0,0,0,0,0,0,0,0,0,0,0,0,0,0,0,0,0,0,0,0,0,0,0,0,0,0,0,0,0,0,0,0,0,0,0,0,0,0,0,0,0,0,0,0,0,0,0,0,0,0,0,0,0,0,0,0,0,0,0,0,0,0,0,0,0,0,0,0,0,0,0,0,0,0,0,0,0,0,0,0,0,0,0,0,0,0,0,0,0,0,0,0,0,0,0,0,0,0]
[254007.51,244925.84,281255.01,264916.33,301207.34000000003,293234.65999999997,331291.53000000003,315845.8,350482.96,342833.77,494801.78,471647.43,209328.08,202280.05,230209.06,217253.35,245629.39,239191.16,268456.73,256274.54,283379.23,277530.82,413400.75,392993.24,170982.6,165635.06,185632.41,176249.97,197114.89,191940.52,213229.98,204156.46,223904.43,219686.68,339890.56,322272.92,138640.32999999999,135145.42000000001,147880.78,141802.45000000001,155026.46,151866.35,165361.88,159642.68,172574.29,169608.51,274505.26,259437.44,112342.71,110975.83,116855.31,113782.83,120614.78,118670.36,125388.81,122319.2,128580.61,127106.85,217256.18,204635.82,107212.19,106190.71,110162.43,108308.77,112875.35,111806.14,115748.15,113913.34,118315.21,117198.13,197029.62,184984.09,103312.8,102835.39,104722.7,103705.88,105871.8,105759.76,107492.91,106835.25,108935.84,108335.94,177655.29,166051.10999999999,100508.23,100738.75,100683.15,100500.9,100501.84,100500.77,100527.3,100622.46,100500.31,100853.84,159122.94,148084.75,0,0,0,0,0,0,0,0,0,0,0,0,0,0,0,0,0,0,0,0,0,0,0,0,0,0,0,0,0,0,0,0,0,0,0,0,0,0,0,0,0,0,0,0,0,0,0,0,0,0,0,0,0,0,0,0,0,0,0,0,0,0,0,0,0,0,0,0,0,0,0,0,0,0,0,0,0,0,0,0,0,0,0,0,0,0,0,0,0,0,0,0,0,0,0,0,0,0,0,0,0,0,0,0,0,0,0,0,0,0,0,0,0,0,0,0,0,0,0,0,0,0,0,0,0,0,0,0,0,0,0,0,0,0,0,0,0,0,0,0,0,0,0,0,0,0,0,0,0,0,0,0,0,0,0,0,0,0,0,0,0,0,0,0,0,0,0,0,0,0,0,0,0,0,0,0,0,0,0,0,0,0,0,0,0,0,0,0,0,0,0,0,0,0,0,0,0,0,0,0,0,0,0,0,0,0,0,0,0,0,0,0,0,0,0,0]
[221458.6,214170.28,243338.37,230226.02,259319.14,252999.81,283488.65000000002,271092.53000000003,298865.56,292726.71000000002,442298.16,421594.02,179367.38,174106.93,195068.85,185311.3,206629.26,201829.78,223713.67,214576.91,234905.37,230585.75,363901.46,345932.28,143984.37,140377.44,153695.26999999999,147446.51999999999,161474.45000000001,157896.51999999999,172117.96,166034.04,179184.88,176481.66,294082.49,278840.2,114914.98,113096.3,119539.25,116463.27,123154.25,121555.27,128383.48,125553.95,132188.9,130680.81,233027.72,220218.29,108910.76,108071.73,112057.36,109891.3,114772.6,113287.65,118023.46,115823.21,120175.48,119150.42,211552.67,199254.82,104082.95,103612.66,105623.47,104743.75,107253.12,106695.21,108536.41,107646.65,110044.19,109402.93,190962.99,179286.72,100541.14,100645.88,100500.52,100503.19,100500.24,100954.65,100500.34,100858.82,100838.63,100749.38,171265.46,160068.63,0,0,0,0,0,0,0,0,0,0,0,0,0,0,0,0,0,0,0,0,0,0,0,0,0,0,0,0,0,0,0,0,0,0,0,0,0,0,0,0,0,0,0,0,0,0,0,0,0,0,0,0,0,0,0,0,0,0,0,0,0,0,0,0,0,0,0,0,0,0,0,0,0,0,0,0,0,0,0,0,0,0,0,0,0,0,0,0,0,0,0,0,0,0,0,0,0,0,0,0,0,0,0,0,0,0,0,0,0,0,0,0,0,0,0,0,0,0,0,0,0,0,0,0,0,0,0,0,0,0,0,0,0,0,0,0,0,0,0,0,0,0,0,0,0,0,0,0,0,0,0,0,0,0,0,0,0,0,0,0,0,0,0,0,0,0,0,0,0,0,0,0,0,0,0,0,0,0,0,0,0,0,0,0,0,0,0,0,0,0,0,0,0,0,0,0,0,0,0,0,0,0,0,0,0,0,0,0,0,0,0,0,0,0,0,0,0,0,0,0,0,0,0,0,0,0,0,0]
[188452.36,182988.81,204870.16,195040.88,216809.59,212172.99,234960.53,225667.52,246455.79,241853.83,389166,370941.36,149500.85,146033.28,160008.67000000001,153457.82999999999,167698.18,164542.32999999999,179023.22,172940.46,186473.61,183687.59,314694.51,299149.14,117623.69,115732.6,122464.62,119305.59,126593.63,124588.55,131841.54,128704.98,135351.12,134142.16,249502.48,236571.7,110702.1,109404.89,113876.3,111740.88,116385.01,115275.19,120014.28,118094.9,122763.64,121711.76,226858.53,214377.97,104990.15,104727.32,106644.12,105468.66,108217.86,107235.69,109804.77,108554.9,110821.07,110286.25,204982.83,193057.1,100500.24,100630.88,100503.26,100685.47,100950.74,100950.42,100501.27,100641.92,100853.19,100731.08,184033.1,172778.92,0,0,0,0,0,0,0,0,0,0,0,0,0,0,0,0,0,0,0,0,0,0,0,0,0,0,0,0,0,0,0,0,0,0,0,0,0,0,0,0,0,0,0,0,0,0,0,0,0,0,0,0,0,0,0,0,0,0,0,0,0,0,0,0,0,0,0,0,0,0,0,0,0,0,0,0,0,0,0,0,0,0,0,0,0,0,0,0,0,0,0,0,0,0,0,0,0,0,0,0,0,0,0,0,0,0,0,0,0,0,0,0,0,0,0,0,0,0,0,0,0,0,0,0,0,0,0,0,0,0,0,0,0,0,0,0,0,0,0,0,0,0,0,0,0,0,0,0,0,0,0,0,0,0,0,0,0,0,0,0,0,0,0,0,0,0,0,0,0,0,0,0,0,0,0,0,0,0,0,0,0,0,0,0,0,0,0,0,0,0,0,0,0,0,0,0,0,0,0,0,0,0,0,0,0,0,0,0,0,0,0,0,0,0,0,0,0,0,0,0,0,0,0,0,0,0,0,0,0,0,0,0,0,0,0,0,0,0,0,0]
[155569.76,151933.15,166519.37,159976.92000000001,174412.27,171461.14,186537.85,180351.69,194146.75,191083.46,336390.54,320628.5,120358.83,118655.38,125756.96,122360.81,129637.97,128099.57,135295.97,132218.06,139065.43,137789.04999999999,266869.51,253679.66,112602.26,111242.14,115917.52,113723.3,118921,117392.81,122474.34,120253.75,124868.56,124137.66,242862.65,230273.84,105952.21,105221.94,107550.7,106437.57,108857.15,108278.9,110747.78,109817.22,112348.84,111792.72,219790.53,207687.49,100566.59,100928.15,100601.45,100500.57,100936.38,100500.31,100718.69,100500.11,100503.5,100500.42,197518.52,186016.34,0,0,0,0,0,0,0,0,0,0,0,0,0,0,0,0,0,0,0,0,0,0,0,0,0,0,0,0,0,0,0,0,0,0,0,0,0,0,0,0,0,0,0,0,0,0,0,0,0,0,0,0,0,0,0,0,0,0,0,0,0,0,0,0,0,0,0,0,0,0,0,0,0,0,0,0,0,0,0,0,0,0,0,0,0,0,0,0,0,0,0,0,0,0,0,0,0,0,0,0,0,0,0,0,0,0,0,0,0,0,0,0,0,0,0,0,0,0,0,0,0,0,0,0,0,0,0,0,0,0,0,0,0,0,0,0,0,0,0,0,0,0,0,0,0,0,0,0,0,0,0,0,0,0,0,0,0,0,0,0,0,0,0,0,0,0,0,0,0,0,0,0,0,0,0,0,0,0,0,0,0,0,0,0,0,0,0,0,0,0,0,0,0,0,0,0,0,0,0,0,0,0,0,0,0,0,0,0,0,0,0,0,0,0,0,0,0,0,0,0,0,0,0,0,0,0,0,0,0,0,0,0,0,0,0,0,0,0,0,0,0,0,0,0,0,0,0,0,0,0,0,0]
[0,0,129050.86,125741.55,132963.03,131671,139162.01999999999,136031.91,142947.67000000001,141397.88,285137.83,271767.03999999998,114461.27,113312.77,118268.89,115852.42,120959.24,119930.49,124841.36,122702.25,127460.66,126665.74,259717.66,246875.95,106960.36,106178.97,108613.56,107470.6,110389.85,109382.18,112097.46,110875.16,113276.69,113065.99,235240.53,223044.5,100616.49,100502.94,100501.49,100500.16,100500.55,100500.37,100500.25,100644.72,100851.89,100834.99,211743.03,200070.63,0,0,0,0,0,0,0,0,0,0,0,0,0,0,0,0,0,0,0,0,0,0,0,0,0,0,0,0,0,0,0,0,0,0,0,0,0,0,0,0,0,0,0,0,0,0,0,0,0,0,0,0,0,0,0,0,0,0,0,0,0,0,0,0,0,0,0,0,0,0,0,0,0,0,0,0,0,0,0,0,0,0,0,0,0,0,0,0,0,0,0,0,0,0,0,0,0,0,0,0,0,0,0,0,0,0,0,0,0,0,0,0,0,0,0,0,0,0,0,0,0,0,0,0,0,0,0,0,0,0,0,0,0,0,0,0,0,0,0,0,0,0,0,0,0,0,0,0,0,0,0,0,0,0,0,0,0,0,0,0,0,0,0,0,0,0,0,0,0,0,0,0,0,0,0,0,0,0,0,0,0,0,0,0,0,0,0,0,0,0,0,0,0,0,0,0,0,0,0,0,0,0,0,0,0,0,0,0,0,0,0,0,0,0,0,0,0,0,0,0,0,0,0,0,0,0,0,0,0,0,0,0,0,0,0,0,0,0,0,0,0,0,0,0,0,0,0,0,0,0,0,0,0,0,0,0,0,0,0,0,0,0,0,0]
[0,0,120557.71,118258.66,123220.18,122461.17,127572.1,125396.79,130158.5,129081.61,277445.93,264429.36,107864.96000000001,107320.95,109939.3,108590.6,111332.39,110858.66,113279.87,112163.67,114646.07,114375.13,251510.72,239069.09,100654.52,100502.75,100500.44,100500.64,100941.45,100500.41,100642.25,100505.77,100500.29,100854.79,226564.97,214816.35,0,0,0,0,0,0,0,0,0,0,0,0,0,0,0,0,0,0,0,0,0,0,0,0,0,0,0,0,0,0,0,0,0,0,0,0,0,0,0,0,0,0,0,0,0,0,0,0,0,0,0,0,0,0,0,0,0,0,0,0,0,0,0,0,0,0,0,0,0,0,0,0,0,0,0,0,0,0,0,0,0,0,0,0,0,0,0,0,0,0,0,0,0,0,0,0,0,0,0,0,0,0,0,0,0,0,0,0,0,0,0,0,0,0,0,0,0,0,0,0,0,0,0,0,0,0,0,0,0,0,0,0,0,0,0,0,0,0,0,0,0,0,0,0,0,0,0,0,0,0,0,0,0,0,0,0,0,0,0,0,0,0,0,0,0,0,0,0,0,0,0,0,0,0,0,0,0,0,0,0,0,0,0,0,0,0,0,0,0,0,0,0,0,0,0,0,0,0,0,0,0,0,0,0,0,0,0,0,0,0,0,0,0,0,0,0,0,0,0,0,0,0,0,0,0,0,0,0,0,0,0,0,0,0,0,0,0,0,0,0,0,0,0,0,0,0,0,0,0,0,0,0,0,0,0,0,0,0,0,0,0,0,0,0,0,0,0,0,0,0,0,0,0,0,0,0]
[0,0,111106.78,109911.49,112404.05,112226.68,114737.64,113605.52,116013.89,115453.74,268598.14,255989.51,100500.99,100615.98,100684.63,100500.83,100663,100794.38,100500.88,100500.18,100500.37,100800.28,242146.74,230161.92000000001,0,0,0,0,0,0,0,0,0,0,0,0,0,0,0,0,0,0,0,0,0,0,0,0,0,0,0,0,0,0,0,0,0,0,0,0,0,0,0,0,0,0,0,0,0,0,0,0,0,0,0,0,0,0,0,0,0,0,0,0,0,0,0,0,0,0,0,0,0,0,0,0,0,0,0,0,0,0,0,0,0,0,0,0,0,0,0,0,0,0,0,0,0,0,0,0,0,0,0,0,0,0,0,0,0,0,0,0,0,0,0,0,0,0,0,0,0,0,0,0,0,0,0,0,0,0,0,0,0,0,0,0,0,0,0,0,0,0,0,0,0,0,0,0,0,0,0,0,0,0,0,0,0,0,0,0,0,0,0,0,0,0,0,0,0,0,0,0,0,0,0,0,0,0,0,0,0,0,0,0,0,0,0,0,0,0,0,0,0,0,0,0,0,0,0,0,0,0,0,0,0,0,0,0,0,0,0,0,0,0,0,0,0,0,0,0,0,0,0,0,0,0,0,0,0,0,0,0,0,0,0,0,0,0,0,0,0,0,0,0,0,0,0,0,0,0,0,0,0,0,0,0,0,0,0,0,0,0,0,0,0,0,0,0,0,0,0,0,0,0,0,0,0,0,0,0,0,0,0,0,0,0,0,0,0,0,0,0]
[0,0,100684.18,100686.19,100501.01,100953.62,100644.89,100644.4,100500.25,100500.56,258557.74,246412.5,0,0,0,0,0,0,0,0,0,0,0,0,0,0,0,0,0,0,0,0,0,0,0,0,0,0,0,0,0,0,0,0,0,0,0,0,0,0,0,0,0,0,0,0,0,0,0,0,0,0,0,0,0,0,0,0,0,0,0,0,0,0,0,0,0,0,0,0,0,0,0,0,0,0,0,0,0,0,0,0,0,0,0,0,0,0,0,0,0,0,0,0,0,0,0,0,0,0,0,0,0,0,0,0,0,0,0,0,0,0,0,0,0,0,0,0,0,0,0,0,0,0,0,0,0,0,0,0,0,0,0,0,0,0,0,0,0,0,0,0,0,0,0,0,0,0,0,0,0,0,0,0,0,0,0,0,0,0,0,0,0,0,0,0,0,0,0,0,0,0,0,0,0,0,0,0,0,0,0,0,0,0,0,0,0,0,0,0,0,0,0,0,0,0,0,0,0,0,0,0,0,0,0,0,0,0,0,0,0,0,0,0,0,0,0,0,0,0,0,0,0,0,0,0,0,0,0,0,0,0,0,0,0,0,0,0,0,0,0,0,0,0,0,0,0,0,0,0,0,0,0,0,0,0,0,0,0,0,0,0,0,0,0,0,0,0,0,0,0,0,0,0,0,0,0,0,0,0,0,0,0,0,0,0,0,0,0,0,0,0,0,0,0,0,0,0,0,0,0,0]
[0,0,0,0,0,0,0,0,0,0,0,0,0,0,0,0,0,0,0,0,0,0,0,0,0,0,0,0,0,0,0,0,0,0,0,0,0,0,0,0,0,0,0,0,0,0,0,0,0,0,0,0,0,0,0,0,0,0,0,0,0,0,0,0,0,0,0,0,0,0,0,0,0,0,0,0,0,0,0,0,0,0,0,0,0,0,0,0,0,0,0,0,0,0,0,0,0,0,0,0,0,0,0,0,0,0,0,0,0,0,0,0,0,0,0,0,0,0,0,0,0,0,0,0,0,0,0,0,0,0,0,0,0,0,0,0,0,0,0,0,0,0,0,0,0,0,0,0,0,0,0,0,0,0,0,0,0,0,0,0,0,0,0,0,0,0,0,0,0,0,0,0,0,0,0,0,0,0,0,0,0,0,0,0,0,0,0,0,0,0,0,0,0,0,0,0,0,0,0,0,0,0,0,0,0,0,0,0,0,0,0,0,0,0,0,0,0,0,0,0,0,0,0,0,0,0,0,0,0,0,0,0,0,0,0,0,0,0,0,0,0,0,0,0,0,0,0,0,0,0,0,0,0,0,0,0,0,0,0,0,0,0,0,0,0,0,0,0,0,0,0,0,0,0,0,0,0,0,0,0,0,0,0,0,0,0,0,0,0,0,0,0,0,0,0,0,0,0,0,0,0,0,0,0,0,0,0,0,0,0,0,0]
[0,0,0,0,0,0,0,0,0,0,0,0,0,0,0,0,0,0,0,0,0,0,0,0,0,0,0,0,0,0,0,0,0,0,0,0,0,0,0,0,0,0,0,0,0,0,0,0,0,0,0,0,0,0,0,0,0,0,0,0,0,0,0,0,0,0,0,0,0,0,0,0,0,0,0,0,0,0,0,0,0,0,0,0,0,0,0,0,0,0,0,0,0,0,0,0,0,0,0,0,0,0,0,0,0,0,0,0,0,0,0,0,0,0,0,0,0,0,0,0,0,0,0,0,0,0,0,0,0,0,0,0,0,0,0,0,0,0,0,0,0,0,0,0,0,0,0,0,0,0,0,0,0,0,0,0,0,0,0,0,0,0,0,0,0,0,0,0,0,0,0,0,0,0,0,0,0,0,0,0,0,0,0,0,0,0,0,0,0,0,0,0,0,0,0,0,0,0,0,0,0,0,0,0,0,0,0,0,0,0,0,0,0,0,0,0,0,0,0,0,0,0,0,0,0,0,0,0,0,0,0,0,0,0,0,0,0,0,0,0,0,0,0,0,0,0,0,0,0,0,0,0,0,0,0,0,0,0,0,0,0,0,0,0,0,0,0,0,0,0,0,0,0,0,0,0,0,0,0,0,0,0,0,0,0,0,0,0,0,0,0,0,0,0,0,0,0,0,0,0,0,0,0,0,0,0,0,0,0,0,0,0]
[0,0,0,0,0,0,0,0,0,0,0,0,0,0,0,0,0,0,0,0,0,0,0,0,0,0,0,0,0,0,0,0,0,0,0,0,0,0,0,0,0,0,0,0,0,0,0,0,0,0,0,0,0,0,0,0,0,0,0,0,0,0,0,0,0,0,0,0,0,0,0,0,0,0,0,0,0,0,0,0,0,0,0,0,0,0,0,0,0,0,0,0,0,0,0,0,0,0,0,0,0,0,0,0,0,0,0,0,0,0,0,0,0,0,0,0,0,0,0,0,0,0,0,0,0,0,0,0,0,0,0,0,0,0,0,0,0,0,0,0,0,0,0,0,0,0,0,0,0,0,0,0,0,0,0,0,0,0,0,0,0,0,0,0,0,0,0,0,0,0,0,0,0,0,0,0,0,0,0,0,0,0,0,0,0,0,0,0,0,0,0,0,0,0,0,0,0,0,0,0,0,0,0,0,0,0,0,0,0,0,0,0,0,0,0,0,0,0,0,0,0,0,0,0,0,0,0,0,0,0,0,0,0,0,0,0,0,0,0,0,0,0,0,0,0,0,0,0,0,0,0,0,0,0,0,0,0,0,0,0,0,0,0,0,0,0,0,0,0,0,0,0,0,0,0,0,0,0,0,0,0,0,0,0,0,0,0,0,0,0,0,0,0,0,0,0,0,0,0,0,0,0,0,0,0,0,0,0,0,0,0,0]
[0,0,0,0,0,0,0,0,0,0,0,0,0,0,0,0,0,0,0,0,0,0,0,0,0,0,0,0,0,0,0,0,0,0,0,0,0,0,0,0,0,0,0,0,0,0,0,0,0,0,0,0,0,0,0,0,0,0,0,0,0,0,0,0,0,0,0,0,0,0,0,0,0,0,0,0,0,0,0,0,0,0,0,0,0,0,0,0,0,0,0,0,0,0,0,0,0,0,0,0,0,0,0,0,0,0,0,0,0,0,0,0,0,0,0,0,0,0,0,0,0,0,0,0,0,0,0,0,0,0,0,0,0,0,0,0,0,0,0,0,0,0,0,0,0,0,0,0,0,0,0,0,0,0,0,0,0,0,0,0,0,0,0,0,0,0,0,0,0,0,0,0,0,0,0,0,0,0,0,0,0,0,0,0,0,0,0,0,0,0,0,0,0,0,0,0,0,0,0,0,0,0,0,0,0,0,0,0,0,0,0,0,0,0,0,0,0,0,0,0,0,0,0,0,0,0,0,0,0,0,0,0,0,0,0,0,0,0,0,0,0,0,0,0,0,0,0,0,0,0,0,0,0,0,0,0,0,0,0,0,0,0,0,0,0,0,0,0,0,0,0,0,0,0,0,0,0,0,0,0,0,0,0,0,0,0,0,0,0,0,0,0,0,0,0,0,0,0,0,0,0,0,0,0,0,0,0,0,0,0,0,0]
[0,0,0,0,0,0,0,0,0,0,0,0,0,0,0,0,0,0,0,0,0,0,0,0,0,0,0,0,0,0,0,0,0,0,0,0,0,0,0,0,0,0,0,0,0,0,0,0,0,0,0,0,0,0,0,0,0,0,0,0,0,0,0,0,0,0,0,0,0,0,0,0,0,0,0,0,0,0,0,0,0,0,0,0,0,0,0,0,0,0,0,0,0,0,0,0,0,0,0,0,0,0,0,0,0,0,0,0,0,0,0,0,0,0,0,0,0,0,0,0,0,0,0,0,0,0,0,0,0,0,0,0,0,0,0,0,0,0,0,0,0,0,0,0,0,0,0,0,0,0,0,0,0,0,0,0,0,0,0,0,0,0,0,0,0,0,0,0,0,0,0,0,0,0,0,0,0,0,0,0,0,0,0,0,0,0,0,0,0,0,0,0,0,0,0,0,0,0,0,0,0,0,0,0,0,0,0,0,0,0,0,0,0,0,0,0,0,0,0,0,0,0,0,0,0,0,0,0,0,0,0,0,0,0,0,0,0,0,0,0,0,0,0,0,0,0,0,0,0,0,0,0,0,0,0,0,0,0,0,0,0,0,0,0,0,0,0,0,0,0,0,0,0,0,0,0,0,0,0,0,0,0,0,0,0,0,0,0,0,0,0,0,0,0,0,0,0,0,0,0,0,0,0,0,0,0,0,0,0,0,0,0]
[0,0,0,0,0,0,0,0,0,0,0,0,0,0,0,0,0,0,0,0,0,0,0,0,0,0,0,0,0,0,0,0,0,0,0,0,0,0,0,0,0,0,0,0,0,0,0,0,0,0,0,0,0,0,0,0,0,0,0,0,0,0,0,0,0,0,0,0,0,0,0,0,0,0,0,0,0,0,0,0,0,0,0,0,0,0,0,0,0,0,0,0,0,0,0,0,0,0,0,0,0,0,0,0,0,0,0,0,0,0,0,0,0,0,0,0,0,0,0,0,0,0,0,0,0,0,0,0,0,0,0,0,0,0,0,0,0,0,0,0,0,0,0,0,0,0,0,0,0,0,0,0,0,0,0,0,0,0,0,0,0,0,0,0,0,0,0,0,0,0,0,0,0,0,0,0,0,0,0,0,0,0,0,0,0,0,0,0,0,0,0,0,0,0,0,0,0,0,0,0,0,0,0,0,0,0,0,0,0,0,0,0,0,0,0,0,0,0,0,0,0,0,0,0,0,0,0,0,0,0,0,0,0,0,0,0,0,0,0,0,0,0,0,0,0,0,0,0,0,0,0,0,0,0,0,0,0,0,0,0,0,0,0,0,0,0,0,0,0,0,0,0,0,0,0,0,0,0,0,0,0,0,0,0,0,0,0,0,0,0,0,0,0,0,0,0,0,0,0,0,0,0,0,0,0,0,0,0,0,0,0,0]
[0,0,0,0,0,0,0,0,0,0,0,0,0,0,0,0,0,0,0,0,0,0,0,0,0,0,0,0,0,0,0,0,0,0,0,0,0,0,0,0,0,0,0,0,0,0,0,0,0,0,0,0,0,0,0,0,0,0,0,0,0,0,0,0,0,0,0,0,0,0,0,0,0,0,0,0,0,0,0,0,0,0,0,0,0,0,0,0,0,0,0,0,0,0,0,0,0,0,0,0,0,0,0,0,0,0,0,0,0,0,0,0,0,0,0,0,0,0,0,0,0,0,0,0,0,0,0,0,0,0,0,0,0,0,0,0,0,0,0,0,0,0,0,0,0,0,0,0,0,0,0,0,0,0,0,0,0,0,0,0,0,0,0,0,0,0,0,0,0,0,0,0,0,0,0,0,0,0,0,0,0,0,0,0,0,0,0,0,0,0,0,0,0,0,0,0,0,0,0,0,0,0,0,0,0,0,0,0,0,0,0,0,0,0,0,0,0,0,0,0,0,0,0,0,0,0,0,0,0,0,0,0,0,0,0,0,0,0,0,0,0,0,0,0,0,0,0,0,0,0,0,0,0,0,0,0,0,0,0,0,0,0,0,0,0,0,0,0,0,0,0,0,0,0,0,0,0,0,0,0,0,0,0,0,0,0,0,0,0,0,0,0,0,0,0,0,0,0,0,0,0,0,0,0,0,0,0,0,0,0,0,0]
[0,0,0,0,0,0,0,0,0,0,0,0,0,0,0,0,0,0,0,0,0,0,0,0,0,0,0,0,0,0,0,0,0,0,0,0,0,0,0,0,0,0,0,0,0,0,0,0,0,0,0,0,0,0,0,0,0,0,0,0,0,0,0,0,0,0,0,0,0,0,0,0,0,0,0,0,0,0,0,0,0,0,0,0,0,0,0,0,0,0,0,0,0,0,0,0,0,0,0,0,0,0,0,0,0,0,0,0,0,0,0,0,0,0,0,0,0,0,0,0,0,0,0,0,0,0,0,0,0,0,0,0,0,0,0,0,0,0,0,0,0,0,0,0,0,0,0,0,0,0,0,0,0,0,0,0,0,0,0,0,0,0,0,0,0,0,0,0,0,0,0,0,0,0,0,0,0,0,0,0,0,0,0,0,0,0,0,0,0,0,0,0,0,0,0,0,0,0,0,0,0,0,0,0,0,0,0,0,0,0,0,0,0,0,0,0,0,0,0,0,0,0,0,0,0,0,0,0,0,0,0,0,0,0,0,0,0,0,0,0,0,0,0,0,0,0,0,0,0,0,0,0,0,0,0,0,0,0,0,0,0,0,0,0,0,0,0,0,0,0,0,0,0,0,0,0,0,0,0,0,0,0,0,0,0,0,0,0,0,0,0,0,0,0,0,0,0,0,0,0,0,0,0,0,0,0,0,0,0,0,0,0]
[0,0,0,0,0,0,0,0,0,0,0,0,0,0,0,0,0,0,0,0,0,0,0,0,0,0,0,0,0,0,0,0,0,0,0,0,0,0,0,0,0,0,0,0,0,0,0,0,0,0,0,0,0,0,0,0,0,0,0,0,0,0,0,0,0,0,0,0,0,0,0,0,0,0,0,0,0,0,0,0,0,0,0,0,0,0,0,0,0,0,0,0,0,0,0,0,0,0,0,0,0,0,0,0,0,0,0,0,0,0,0,0,0,0,0,0,0,0,0,0,0,0,0,0,0,0,0,0,0,0,0,0,0,0,0,0,0,0,0,0,0,0,0,0,0,0,0,0,0,0,0,0,0,0,0,0,0,0,0,0,0,0,0,0,0,0,0,0,0,0,0,0,0,0,0,0,0,0,0,0,0,0,0,0,0,0,0,0,0,0,0,0,0,0,0,0,0,0,0,0,0,0,0,0,0,0,0,0,0,0,0,0,0,0,0,0,0,0,0,0,0,0,0,0,0,0,0,0,0,0,0,0,0,0,0,0,0,0,0,0,0,0,0,0,0,0,0,0,0,0,0,0,0,0,0,0,0,0,0,0,0,0,0,0,0,0,0,0,0,0,0,0,0,0,0,0,0,0,0,0,0,0,0,0,0,0,0,0,0,0,0,0,0,0,0,0,0,0,0,0,0,0,0,0,0,0,0,0,0,0,0,0]
[0,0,0,0,0,0,0,0,0,0,0,0,0,0,0,0,0,0,0,0,0,0,0,0,0,0,0,0,0,0,0,0,0,0,0,0,0,0,0,0,0,0,0,0,0,0,0,0,0,0,0,0,0,0,0,0,0,0,0,0,0,0,0,0,0,0,0,0,0,0,0,0,0,0,0,0,0,0,0,0,0,0,0,0,0,0,0,0,0,0,0,0,0,0,0,0,0,0,0,0,0,0,0,0,0,0,0,0,0,0,0,0,0,0,0,0,0,0,0,0,0,0,0,0,0,0,0,0,0,0,0,0,0,0,0,0,0,0,0,0,0,0,0,0,0,0,0,0,0,0,0,0,0,0,0,0,0,0,0,0,0,0,0,0,0,0,0,0,0,0,0,0,0,0,0,0,0,0,0,0,0,0,0,0,0,0,0,0,0,0,0,0,0,0,0,0,0,0,0,0,0,0,0,0,0,0,0,0,0,0,0,0,0,0,0,0,0,0,0,0,0,0,0,0,0,0,0,0,0,0,0,0,0,0,0,0,0,0,0,0,0,0,0,0,0,0,0,0,0,0,0,0,0,0,0,0,0,0,0,0,0,0,0,0,0,0,0,0,0,0,0,0,0,0,0,0,0,0,0,0,0,0,0,0,0,0,0,0,0,0,0,0,0,0,0,0,0,0,0,0,0,0,0,0,0,0,0,0,0,0,0,0]
[0,0,0,0,0,0,0,0,0,0,0,0,0,0,0,0,0,0,0,0,0,0,0,0,0,0,0,0,0,0,0,0,0,0,0,0,0,0,0,0,0,0,0,0,0,0,0,0,0,0,0,0,0,0,0,0,0,0,0,0,0,0,0,0,0,0,0,0,0,0,0,0,0,0,0,0,0,0,0,0,0,0,0,0,0,0,0,0,0,0,0,0,0,0,0,0,0,0,0,0,0,0,0,0,0,0,0,0,0,0,0,0,0,0,0,0,0,0,0,0,0,0,0,0,0,0,0,0,0,0,0,0,0,0,0,0,0,0,0,0,0,0,0,0,0,0,0,0,0,0,0,0,0,0,0,0,0,0,0,0,0,0,0,0,0,0,0,0,0,0,0,0,0,0,0,0,0,0,0,0,0,0,0,0,0,0,0,0,0,0,0,0,0,0,0,0,0,0,0,0,0,0,0,0,0,0,0,0,0,0,0,0,0,0,0,0,0,0,0,0,0,0,0,0,0,0,0,0,0,0,0,0,0,0,0,0,0,0,0,0,0,0,0,0,0,0,0,0,0,0,0,0,0,0,0,0,0,0,0,0,0,0,0,0,0,0,0,0,0,0,0,0,0,0,0,0,0,0,0,0,0,0,0,0,0,0,0,0,0,0,0,0,0,0,0,0,0,0,0,0,0,0,0,0,0,0,0,0,0,0,0,0]
[0,0,0,0,0,0,0,0,0,0,0,0,0,0,0,0,0,0,0,0,0,0,0,0,0,0,0,0,0,0,0,0,0,0,0,0,0,0,0,0,0,0,0,0,0,0,0,0,0,0,0,0,0,0,0,0,0,0,0,0,0,0,0,0,0,0,0,0,0,0,0,0,0,0,0,0,0,0,0,0,0,0,0,0,0,0,0,0,0,0,0,0,0,0,0,0,0,0,0,0,0,0,0,0,0,0,0,0,0,0,0,0,0,0,0,0,0,0,0,0,0,0,0,0,0,0,0,0,0,0,0,0,0,0,0,0,0,0,0,0,0,0,0,0,0,0,0,0,0,0,0,0,0,0,0,0,0,0,0,0,0,0,0,0,0,0,0,0,0,0,0,0,0,0,0,0,0,0,0,0,0,0,0,0,0,0,0,0,0,0,0,0,0,0,0,0,0,0,0,0,0,0,0,0,0,0,0,0,0,0,0,0,0,0,0,0,0,0,0,0,0,0,0,0,0,0,0,0,0,0,0,0,0,0,0,0,0,0,0,0,0,0,0,0,0,0,0,0,0,0,0,0,0,0,0,0,0,0,0,0,0,0,0,0,0,0,0,0,0,0,0,0,0,0,0,0,0,0,0,0,0,0,0,0,0,0,0,0,0,0,0,0,0,0,0,0,0,0,0,0,0,0,0,0,0,0,0,0,0,0,0,0]
[0,0,0,0,0,0,0,0,0,0,0,0,0,0,0,0,0,0,0,0,0,0,0,0,0,0,0,0,0,0,0,0,0,0,0,0,0,0,0,0,0,0,0,0,0,0,0,0,0,0,0,0,0,0,0,0,0,0,0,0,0,0,0,0,0,0,0,0,0,0,0,0,0,0,0,0,0,0,0,0,0,0,0,0,0,0,0,0,0,0,0,0,0,0,0,0,0,0,0,0,0,0,0,0,0,0,0,0,0,0,0,0,0,0,0,0,0,0,0,0,0,0,0,0,0,0,0,0,0,0,0,0,0,0,0,0,0,0,0,0,0,0,0,0,0,0,0,0,0,0,0,0,0,0,0,0,0,0,0,0,0,0,0,0,0,0,0,0,0,0,0,0,0,0,0,0,0,0,0,0,0,0,0,0,0,0,0,0,0,0,0,0,0,0,0,0,0,0,0,0,0,0,0,0,0,0,0,0,0,0,0,0,0,0,0,0,0,0,0,0,0,0,0,0,0,0,0,0,0,0,0,0,0,0,0,0,0,0,0,0,0,0,0,0,0,0,0,0,0,0,0,0,0,0,0,0,0,0,0,0,0,0,0,0,0,0,0,0,0,0,0,0,0,0,0,0,0,0,0,0,0,0,0,0,0,0,0,0,0,0,0,0,0,0,0,0,0,0,0,0,0,0,0,0,0,0,0,0,0,0,0,0]
[0,0,0,0,0,0,0,0,0,0,0,0,0,0,0,0,0,0,0,0,0,0,0,0,0,0,0,0,0,0,0,0,0,0,0,0,0,0,0,0,0,0,0,0,0,0,0,0,0,0,0,0,0,0,0,0,0,0,0,0,0,0,0,0,0,0,0,0,0,0,0,0,0,0,0,0,0,0,0,0,0,0,0,0,0,0,0,0,0,0,0,0,0,0,0,0,0,0,0,0,0,0,0,0,0,0,0,0,0,0,0,0,0,0,0,0,0,0,0,0,0,0,0,0,0,0,0,0,0,0,0,0,0,0,0,0,0,0,0,0,0,0,0,0,0,0,0,0,0,0,0,0,0,0,0,0,0,0,0,0,0,0,0,0,0,0,0,0,0,0,0,0,0,0,0,0,0,0,0,0,0,0,0,0,0,0,0,0,0,0,0,0,0,0,0,0,0,0,0,0,0,0,0,0,0,0,0,0,0,0,0,0,0,0,0,0,0,0,0,0,0,0,0,0,0,0,0,0,0,0,0,0,0,0,0,0,0,0,0,0,0,0,0,0,0,0,0,0,0,0,0,0,0,0,0,0,0,0,0,0,0,0,0,0,0,0,0,0,0,0,0,0,0,0,0,0,0,0,0,0,0,0,0,0,0,0,0,0,0,0,0,0,0,0,0,0,0,0,0,0,0,0,0,0,0,0,0,0,0,0,0,0]
[0,0,0,0,0,0,0,0,0,0,0,0,0,0,0,0,0,0,0,0,0,0,0,0,0,0,0,0,0,0,0,0,0,0,0,0,0,0,0,0,0,0,0,0,0,0,0,0,0,0,0,0,0,0,0,0,0,0,0,0,0,0,0,0,0,0,0,0,0,0,0,0,0,0,0,0,0,0,0,0,0,0,0,0,0,0,0,0,0,0,0,0,0,0,0,0,0,0,0,0,0,0,0,0,0,0,0,0,0,0,0,0,0,0,0,0,0,0,0,0,0,0,0,0,0,0,0,0,0,0,0,0,0,0,0,0,0,0,0,0,0,0,0,0,0,0,0,0,0,0,0,0,0,0,0,0,0,0,0,0,0,0,0,0,0,0,0,0,0,0,0,0,0,0,0,0,0,0,0,0,0,0,0,0,0,0,0,0,0,0,0,0,0,0,0,0,0,0,0,0,0,0,0,0,0,0,0,0,0,0,0,0,0,0,0,0,0,0,0,0,0,0,0,0,0,0,0,0,0,0,0,0,0,0,0,0,0,0,0,0,0,0,0,0,0,0,0,0,0,0,0,0,0,0,0,0,0,0,0,0,0,0,0,0,0,0,0,0,0,0,0,0,0,0,0,0,0,0,0,0,0,0,0,0,0,0,0,0,0,0,0,0,0,0,0,0,0,0,0,0,0,0,0,0,0,0,0,0,0,0,0,0]
[0,0,0,0,0,0,0,0,0,0,0,0,0,0,0,0,0,0,0,0,0,0,0,0,0,0,0,0,0,0,0,0,0,0,0,0,0,0,0,0,0,0,0,0,0,0,0,0,0,0,0,0,0,0,0,0,0,0,0,0,0,0,0,0,0,0,0,0,0,0,0,0,0,0,0,0,0,0,0,0,0,0,0,0,0,0,0,0,0,0,0,0,0,0,0,0,0,0,0,0,0,0,0,0,0,0,0,0,0,0,0,0,0,0,0,0,0,0,0,0,0,0,0,0,0,0,0,0,0,0,0,0,0,0,0,0,0,0,0,0,0,0,0,0,0,0,0,0,0,0,0,0,0,0,0,0,0,0,0,0,0,0,0,0,0,0,0,0,0,0,0,0,0,0,0,0,0,0,0,0,0,0,0,0,0,0,0,0,0,0,0,0,0,0,0,0,0,0,0,0,0,0,0,0,0,0,0,0,0,0,0,0,0,0,0,0,0,0,0,0,0,0,0,0,0,0,0,0,0,0,0,0,0,0,0,0,0,0,0,0,0,0,0,0,0,0,0,0,0,0,0,0,0,0,0,0,0,0,0,0,0,0,0,0,0,0,0,0,0,0,0,0,0,0,0,0,0,0,0,0,0,0,0,0,0,0,0,0,0,0,0,0,0,0,0,0,0,0,0,0,0,0,0,0,0,0,0,0,0,0,0,0]
[0,0,0,0,0,0,0,0,0,0,0,0,0,0,0,0,0,0,0,0,0,0,0,0,0,0,0,0,0,0,0,0,0,0,0,0,0,0,0,0,0,0,0,0,0,0,0,0,0,0,0,0,0,0,0,0,0,0,0,0,0,0,0,0,0,0,0,0,0,0,0,0,0,0,0,0,0,0,0,0,0,0,0,0,0,0,0,0,0,0,0,0,0,0,0,0,0,0,0,0,0,0,0,0,0,0,0,0,0,0,0,0,0,0,0,0,0,0,0,0,0,0,0,0,0,0,0,0,0,0,0,0,0,0,0,0,0,0,0,0,0,0,0,0,0,0,0,0,0,0,0,0,0,0,0,0,0,0,0,0,0,0,0,0,0,0,0,0,0,0,0,0,0,0,0,0,0,0,0,0,0,0,0,0,0,0,0,0,0,0,0,0,0,0,0,0,0,0,0,0,0,0,0,0,0,0,0,0,0,0,0,0,0,0,0,0,0,0,0,0,0,0,0,0,0,0,0,0,0,0,0,0,0,0,0,0,0,0,0,0,0,0,0,0,0,0,0,0,0,0,0,0,0,0,0,0,0,0,0,0,0,0,0,0,0,0,0,0,0,0,0,0,0,0,0,0,0,0,0,0,0,0,0,0,0,0,0,0,0,0,0,0,0,0,0,0,0,0,0,0,0,0,0,0,0,0,0,0,0,0,0,0]
[0,0,0,0,0,0,0,0,0,0,0,0,0,0,0,0,0,0,0,0,0,0,0,0,0,0,0,0,0,0,0,0,0,0,0,0,0,0,0,0,0,0,0,0,0,0,0,0,0,0,0,0,0,0,0,0,0,0,0,0,0,0,0,0,0,0,0,0,0,0,0,0,0,0,0,0,0,0,0,0,0,0,0,0,0,0,0,0,0,0,0,0,0,0,0,0,0,0,0,0,0,0,0,0,0,0,0,0,0,0,0,0,0,0,0,0,0,0,0,0,0,0,0,0,0,0,0,0,0,0,0,0,0,0,0,0,0,0,0,0,0,0,0,0,0,0,0,0,0,0,0,0,0,0,0,0,0,0,0,0,0,0,0,0,0,0,0,0,0,0,0,0,0,0,0,0,0,0,0,0,0,0,0,0,0,0,0,0,0,0,0,0,0,0,0,0,0,0,0,0,0,0,0,0,0,0,0,0,0,0,0,0,0,0,0,0,0,0,0,0,0,0,0,0,0,0,0,0,0,0,0,0,0,0,0,0,0,0,0,0,0,0,0,0,0,0,0,0,0,0,0,0,0,0,0,0,0,0,0,0,0,0,0,0,0,0,0,0,0,0,0,0,0,0,0,0,0,0,0,0,0,0,0,0,0,0,0,0,0,0,0,0,0,0,0,0,0,0,0,0,0,0,0,0,0,0,0,0,0,0,0,0]
[0,0,0,0,0,0,0,0,0,0,0,0,0,0,0,0,0,0,0,0,0,0,0,0,0,0,0,0,0,0,0,0,0,0,0,0,0,0,0,0,0,0,0,0,0,0,0,0,0,0,0,0,0,0,0,0,0,0,0,0,0,0,0,0,0,0,0,0,0,0,0,0,0,0,0,0,0,0,0,0,0,0,0,0,0,0,0,0,0,0,0,0,0,0,0,0,0,0,0,0,0,0,0,0,0,0,0,0,0,0,0,0,0,0,0,0,0,0,0,0,0,0,0,0,0,0,0,0,0,0,0,0,0,0,0,0,0,0,0,0,0,0,0,0,0,0,0,0,0,0,0,0,0,0,0,0,0,0,0,0,0,0,0,0,0,0,0,0,0,0,0,0,0,0,0,0,0,0,0,0,0,0,0,0,0,0,0,0,0,0,0,0,0,0,0,0,0,0,0,0,0,0,0,0,0,0,0,0,0,0,0,0,0,0,0,0,0,0,0,0,0,0,0,0,0,0,0,0,0,0,0,0,0,0,0,0,0,0,0,0,0,0,0,0,0,0,0,0,0,0,0,0,0,0,0,0,0,0,0,0,0,0,0,0,0,0,0,0,0,0,0,0,0,0,0,0,0,0,0,0,0,0,0,0,0,0,0,0,0,0,0,0,0,0,0,0,0,0,0,0,0,0,0,0,0,0,0,0,0,0,0,0]
[0,0,0,0,0,0,0,0,0,0,0,0,0,0,0,0,0,0,0,0,0,0,0,0,0,0,0,0,0,0,0,0,0,0,0,0,0,0,0,0,0,0,0,0,0,0,0,0,0,0,0,0,0,0,0,0,0,0,0,0,0,0,0,0,0,0,0,0,0,0,0,0,0,0,0,0,0,0,0,0,0,0,0,0,0,0,0,0,0,0,0,0,0,0,0,0,0,0,0,0,0,0,0,0,0,0,0,0,0,0,0,0,0,0,0,0,0,0,0,0,0,0,0,0,0,0,0,0,0,0,0,0,0,0,0,0,0,0,0,0,0,0,0,0,0,0,0,0,0,0,0,0,0,0,0,0,0,0,0,0,0,0,0,0,0,0,0,0,0,0,0,0,0,0,0,0,0,0,0,0,0,0,0,0,0,0,0,0,0,0,0,0,0,0,0,0,0,0,0,0,0,0,0,0,0,0,0,0,0,0,0,0,0,0,0,0,0,0,0,0,0,0,0,0,0,0,0,0,0,0,0,0,0,0,0,0,0,0,0,0,0,0,0,0,0,0,0,0,0,0,0,0,0,0,0,0,0,0,0,0,0,0,0,0,0,0,0,0,0,0,0,0,0,0,0,0,0,0,0,0,0,0,0,0,0,0,0,0,0,0,0,0,0,0,0,0,0,0,0,0,0,0,0,0,0,0,0,0,0,0,0,0]
[0,0,0,0,0,0,0,0,0,0,0,0,0,0,0,0,0,0,0,0,0,0,0,0,0,0,0,0,0,0,0,0,0,0,0,0,0,0,0,0,0,0,0,0,0,0,0,0,0,0,0,0,0,0,0,0,0,0,0,0,0,0,0,0,0,0,0,0,0,0,0,0,0,0,0,0,0,0,0,0,0,0,0,0,0,0,0,0,0,0,0,0,0,0,0,0,0,0,0,0,0,0,0,0,0,0,0,0,0,0,0,0,0,0,0,0,0,0,0,0,0,0,0,0,0,0,0,0,0,0,0,0,0,0,0,0,0,0,0,0,0,0,0,0,0,0,0,0,0,0,0,0,0,0,0,0,0,0,0,0,0,0,0,0,0,0,0,0,0,0,0,0,0,0,0,0,0,0,0,0,0,0,0,0,0,0,0,0,0,0,0,0,0,0,0,0,0,0,0,0,0,0,0,0,0,0,0,0,0,0,0,0,0,0,0,0,0,0,0,0,0,0,0,0,0,0,0,0,0,0,0,0,0,0,0,0,0,0,0,0,0,0,0,0,0,0,0,0,0,0,0,0,0,0,0,0,0,0,0,0,0,0,0,0,0,0,0,0,0,0,0,0,0,0,0,0,0,0,0,0,0,0,0,0,0,0,0,0,0,0,0,0,0,0,0,0,0,0,0,0,0,0,0,0,0,0,0,0,0,0,0,0]
[0,0,0,0,0,0,0,0,0,0,0,0,0,0,0,0,0,0,0,0,0,0,0,0,0,0,0,0,0,0,0,0,0,0,0,0,0,0,0,0,0,0,0,0,0,0,0,0,0,0,0,0,0,0,0,0,0,0,0,0,0,0,0,0,0,0,0,0,0,0,0,0,0,0,0,0,0,0,0,0,0,0,0,0,0,0,0,0,0,0,0,0,0,0,0,0,0,0,0,0,0,0,0,0,0,0,0,0,0,0,0,0,0,0,0,0,0,0,0,0,0,0,0,0,0,0,0,0,0,0,0,0,0,0,0,0,0,0,0,0,0,0,0,0,0,0,0,0,0,0,0,0,0,0,0,0,0,0,0,0,0,0,0,0,0,0,0,0,0,0,0,0,0,0,0,0,0,0,0,0,0,0,0,0,0,0,0,0,0,0,0,0,0,0,0,0,0,0,0,0,0,0,0,0,0,0,0,0,0,0,0,0,0,0,0,0,0,0,0,0,0,0,0,0,0,0,0,0,0,0,0,0,0,0,0,0,0,0,0,0,0,0,0,0,0,0,0,0,0,0,0,0,0,0,0,0,0,0,0,0,0,0,0,0,0,0,0,0,0,0,0,0,0,0,0,0,0,0,0,0,0,0,0,0,0,0,0,0,0,0,0,0,0,0,0,0,0,0,0,0,0,0,0,0,0,0,0,0,0,0,0,0]
[0,0,0,0,0,0,0,0,0,0,0,0,0,0,0,0,0,0,0,0,0,0,0,0,0,0,0,0,0,0,0,0,0,0,0,0,0,0,0,0,0,0,0,0,0,0,0,0,0,0,0,0,0,0,0,0,0,0,0,0,0,0,0,0,0,0,0,0,0,0,0,0,0,0,0,0,0,0,0,0,0,0,0,0,0,0,0,0,0,0,0,0,0,0,0,0,0,0,0,0,0,0,0,0,0,0,0,0,0,0,0,0,0,0,0,0,0,0,0,0,0,0,0,0,0,0,0,0,0,0,0,0,0,0,0,0,0,0,0,0,0,0,0,0,0,0,0,0,0,0,0,0,0,0,0,0,0,0,0,0,0,0,0,0,0,0,0,0,0,0,0,0,0,0,0,0,0,0,0,0,0,0,0,0,0,0,0,0,0,0,0,0,0,0,0,0,0,0,0,0,0,0,0,0,0,0,0,0,0,0,0,0,0,0,0,0,0,0,0,0,0,0,0,0,0,0,0,0,0,0,0,0,0,0,0,0,0,0,0,0,0,0,0,0,0,0,0,0,0,0,0,0,0,0,0,0,0,0,0,0,0,0,0,0,0,0,0,0,0,0,0,0,0,0,0,0,0,0,0,0,0,0,0,0,0,0,0,0,0,0,0,0,0,0,0,0,0,0,0,0,0,0,0,0,0,0,0,0,0,0,0,0]
[0,0,0,0,0,0,0,0,0,0,0,0,0,0,0,0,0,0,0,0,0,0,0,0,0,0,0,0,0,0,0,0,0,0,0,0,0,0,0,0,0,0,0,0,0,0,0,0,0,0,0,0,0,0,0,0,0,0,0,0,0,0,0,0,0,0,0,0,0,0,0,0,0,0,0,0,0,0,0,0,0,0,0,0,0,0,0,0,0,0,0,0,0,0,0,0,0,0,0,0,0,0,0,0,0,0,0,0,0,0,0,0,0,0,0,0,0,0,0,0,0,0,0,0,0,0,0,0,0,0,0,0,0,0,0,0,0,0,0,0,0,0,0,0,0,0,0,0,0,0,0,0,0,0,0,0,0,0,0,0,0,0,0,0,0,0,0,0,0,0,0,0,0,0,0,0,0,0,0,0,0,0,0,0,0,0,0,0,0,0,0,0,0,0,0,0,0,0,0,0,0,0,0,0,0,0,0,0,0,0,0,0,0,0,0,0,0,0,0,0,0,0,0,0,0,0,0,0,0,0,0,0,0,0,0,0,0,0,0,0,0,0,0,0,0,0,0,0,0,0,0,0,0,0,0,0,0,0,0,0,0,0,0,0,0,0,0,0,0,0,0,0,0,0,0,0,0,0,0,0,0,0,0,0,0,0,0,0,0,0,0,0,0,0,0,0,0,0,0,0,0,0,0,0,0,0,0,0,0,0,0,0]
[0,0,0,0,0,0,0,0,0,0,0,0,0,0,0,0,0,0,0,0,0,0,0,0,0,0,0,0,0,0,0,0,0,0,0,0,0,0,0,0,0,0,0,0,0,0,0,0,0,0,0,0,0,0,0,0,0,0,0,0,0,0,0,0,0,0,0,0,0,0,0,0,0,0,0,0,0,0,0,0,0,0,0,0,0,0,0,0,0,0,0,0,0,0,0,0,0,0,0,0,0,0,0,0,0,0,0,0,0,0,0,0,0,0,0,0,0,0,0,0,0,0,0,0,0,0,0,0,0,0,0,0,0,0,0,0,0,0,0,0,0,0,0,0,0,0,0,0,0,0,0,0,0,0,0,0,0,0,0,0,0,0,0,0,0,0,0,0,0,0,0,0,0,0,0,0,0,0,0,0,0,0,0,0,0,0,0,0,0,0,0,0,0,0,0,0,0,0,0,0,0,0,0,0,0,0,0,0,0,0,0,0,0,0,0,0,0,0,0,0,0,0,0,0,0,0,0,0,0,0,0,0,0,0,0,0,0,0,0,0,0,0,0,0,0,0,0,0,0,0,0,0,0,0,0,0,0,0,0,0,0,0,0,0,0,0,0,0,0,0,0,0,0,0,0,0,0,0,0,0,0,0,0,0,0,0,0,0,0,0,0,0,0,0,0,0,0,0,0,0,0,0,0,0,0,0,0,0,0,0,0,0]
[0,0,0,0,0,0,0,0,0,0,0,0,0,0,0,0,0,0,0,0,0,0,0,0,0,0,0,0,0,0,0,0,0,0,0,0,0,0,0,0,0,0,0,0,0,0,0,0,0,0,0,0,0,0,0,0,0,0,0,0,0,0,0,0,0,0,0,0,0,0,0,0,0,0,0,0,0,0,0,0,0,0,0,0,0,0,0,0,0,0,0,0,0,0,0,0,0,0,0,0,0,0,0,0,0,0,0,0,0,0,0,0,0,0,0,0,0,0,0,0,0,0,0,0,0,0,0,0,0,0,0,0,0,0,0,0,0,0,0,0,0,0,0,0,0,0,0,0,0,0,0,0,0,0,0,0,0,0,0,0,0,0,0,0,0,0,0,0,0,0,0,0,0,0,0,0,0,0,0,0,0,0,0,0,0,0,0,0,0,0,0,0,0,0,0,0,0,0,0,0,0,0,0,0,0,0,0,0,0,0,0,0,0,0,0,0,0,0,0,0,0,0,0,0,0,0,0,0,0,0,0,0,0,0,0,0,0,0,0,0,0,0,0,0,0,0,0,0,0,0,0,0,0,0,0,0,0,0,0,0,0,0,0,0,0,0,0,0,0,0,0,0,0,0,0,0,0,0,0,0,0,0,0,0,0,0,0,0,0,0,0,0,0,0,0,0,0,0,0,0,0,0,0,0,0,0,0,0,0,0,0,0]
[0,0,0,0,0,0,0,0,0,0,0,0,0,0,0,0,0,0,0,0,0,0,0,0,0,0,0,0,0,0,0,0,0,0,0,0,0,0,0,0,0,0,0,0,0,0,0,0,0,0,0,0,0,0,0,0,0,0,0,0,0,0,0,0,0,0,0,0,0,0,0,0,0,0,0,0,0,0,0,0,0,0,0,0,0,0,0,0,0,0,0,0,0,0,0,0,0,0,0,0,0,0,0,0,0,0,0,0,0,0,0,0,0,0,0,0,0,0,0,0,0,0,0,0,0,0,0,0,0,0,0,0,0,0,0,0,0,0,0,0,0,0,0,0,0,0,0,0,0,0,0,0,0,0,0,0,0,0,0,0,0,0,0,0,0,0,0,0,0,0,0,0,0,0,0,0,0,0,0,0,0,0,0,0,0,0,0,0,0,0,0,0,0,0,0,0,0,0,0,0,0,0,0,0,0,0,0,0,0,0,0,0,0,0,0,0,0,0,0,0,0,0,0,0,0,0,0,0,0,0,0,0,0,0,0,0,0,0,0,0,0,0,0,0,0,0,0,0,0,0,0,0,0,0,0,0,0,0,0,0,0,0,0,0,0,0,0,0,0,0,0,0,0,0,0,0,0,0,0,0,0,0,0,0,0,0,0,0,0,0,0,0,0,0,0,0,0,0,0,0,0,0,0,0,0,0,0,0,0,0,0,0]
[0,0,0,0,0,0,0,0,0,0,0,0,0,0,0,0,0,0,0,0,0,0,0,0,0,0,0,0,0,0,0,0,0,0,0,0,0,0,0,0,0,0,0,0,0,0,0,0,0,0,0,0,0,0,0,0,0,0,0,0,0,0,0,0,0,0,0,0,0,0,0,0,0,0,0,0,0,0,0,0,0,0,0,0,0,0,0,0,0,0,0,0,0,0,0,0,0,0,0,0,0,0,0,0,0,0,0,0,0,0,0,0,0,0,0,0,0,0,0,0,0,0,0,0,0,0,0,0,0,0,0,0,0,0,0,0,0,0,0,0,0,0,0,0,0,0,0,0,0,0,0,0,0,0,0,0,0,0,0,0,0,0,0,0,0,0,0,0,0,0,0,0,0,0,0,0,0,0,0,0,0,0,0,0,0,0,0,0,0,0,0,0,0,0,0,0,0,0,0,0,0,0,0,0,0,0,0,0,0,0,0,0,0,0,0,0,0,0,0,0,0,0,0,0,0,0,0,0,0,0,0,0,0,0,0,0,0,0,0,0,0,0,0,0,0,0,0,0,0,0,0,0,0,0,0,0,0,0,0,0,0,0,0,0,0,0,0,0,0,0,0,0,0,0,0,0,0,0,0,0,0,0,0,0,0,0,0,0,0,0,0,0,0,0,0,0,0,0,0,0,0,0,0,0,0,0,0,0,0,0,0,0]
[0,0,0,0,0,0,0,0,0,0,0,0,0,0,0,0,0,0,0,0,0,0,0,0,0,0,0,0,0,0,0,0,0,0,0,0,0,0,0,0,0,0,0,0,0,0,0,0,0,0,0,0,0,0,0,0,0,0,0,0,0,0,0,0,0,0,0,0,0,0,0,0,0,0,0,0,0,0,0,0,0,0,0,0,0,0,0,0,0,0,0,0,0,0,0,0,0,0,0,0,0,0,0,0,0,0,0,0,0,0,0,0,0,0,0,0,0,0,0,0,0,0,0,0,0,0,0,0,0,0,0,0,0,0,0,0,0,0,0,0,0,0,0,0,0,0,0,0,0,0,0,0,0,0,0,0,0,0,0,0,0,0,0,0,0,0,0,0,0,0,0,0,0,0,0,0,0,0,0,0,0,0,0,0,0,0,0,0,0,0,0,0,0,0,0,0,0,0,0,0,0,0,0,0,0,0,0,0,0,0,0,0,0,0,0,0,0,0,0,0,0,0,0,0,0,0,0,0,0,0,0,0,0,0,0,0,0,0,0,0,0,0,0,0,0,0,0,0,0,0,0,0,0,0,0,0,0,0,0,0,0,0,0,0,0,0,0,0,0,0,0,0,0,0,0,0,0,0,0,0,0,0,0,0,0,0,0,0,0,0,0,0,0,0,0,0,0,0,0,0,0,0,0,0,0,0,0,0,0,0,0,0]
[0,0,0,0,0,0,0,0,0,0,0,0,0,0,0,0,0,0,0,0,0,0,0,0,0,0,0,0,0,0,0,0,0,0,0,0,0,0,0,0,0,0,0,0,0,0,0,0,0,0,0,0,0,0,0,0,0,0,0,0,0,0,0,0,0,0,0,0,0,0,0,0,0,0,0,0,0,0,0,0,0,0,0,0,0,0,0,0,0,0,0,0,0,0,0,0,0,0,0,0,0,0,0,0,0,0,0,0,0,0,0,0,0,0,0,0,0,0,0,0,0,0,0,0,0,0,0,0,0,0,0,0,0,0,0,0,0,0,0,0,0,0,0,0,0,0,0,0,0,0,0,0,0,0,0,0,0,0,0,0,0,0,0,0,0,0,0,0,0,0,0,0,0,0,0,0,0,0,0,0,0,0,0,0,0,0,0,0,0,0,0,0,0,0,0,0,0,0,0,0,0,0,0,0,0,0,0,0,0,0,0,0,0,0,0,0,0,0,0,0,0,0,0,0,0,0,0,0,0,0,0,0,0,0,0,0,0,0,0,0,0,0,0,0,0,0,0,0,0,0,0,0,0,0,0,0,0,0,0,0,0,0,0,0,0,0,0,0,0,0,0,0,0,0,0,0,0,0,0,0,0,0,0,0,0,0,0,0,0,0,0,0,0,0,0,0,0,0,0,0,0,0,0,0,0,0,0,0,0,0,0,0]
[0,0,0,0,0,0,0,0,0,0,0,0,0,0,0,0,0,0,0,0,0,0,0,0,0,0,0,0,0,0,0,0,0,0,0,0,0,0,0,0,0,0,0,0,0,0,0,0,0,0,0,0,0,0,0,0,0,0,0,0,0,0,0,0,0,0,0,0,0,0,0,0,0,0,0,0,0,0,0,0,0,0,0,0,0,0,0,0,0,0,0,0,0,0,0,0,0,0,0,0,0,0,0,0,0,0,0,0,0,0,0,0,0,0,0,0,0,0,0,0,0,0,0,0,0,0,0,0,0,0,0,0,0,0,0,0,0,0,0,0,0,0,0,0,0,0,0,0,0,0,0,0,0,0,0,0,0,0,0,0,0,0,0,0,0,0,0,0,0,0,0,0,0,0,0,0,0,0,0,0,0,0,0,0,0,0,0,0,0,0,0,0,0,0,0,0,0,0,0,0,0,0,0,0,0,0,0,0,0,0,0,0,0,0,0,0,0,0,0,0,0,0,0,0,0,0,0,0,0,0,0,0,0,0,0,0,0,0,0,0,0,0,0,0,0,0,0,0,0,0,0,0,0,0,0,0,0,0,0,0,0,0,0,0,0,0,0,0,0,0,0,0,0,0,0,0,0,0,0,0,0,0,0,0,0,0,0,0,0,0,0,0,0,0,0,0,0,0,0,0,0,0,0,0,0,0,0,0,0,0,0,0]
[0,0,0,0,0,0,0,0,0,0,0,0,0,0,0,0,0,0,0,0,0,0,0,0,0,0,0,0,0,0,0,0,0,0,0,0,0,0,0,0,0,0,0,0,0,0,0,0,0,0,0,0,0,0,0,0,0,0,0,0,0,0,0,0,0,0,0,0,0,0,0,0,0,0,0,0,0,0,0,0,0,0,0,0,0,0,0,0,0,0,0,0,0,0,0,0,0,0,0,0,0,0,0,0,0,0,0,0,0,0,0,0,0,0,0,0,0,0,0,0,0,0,0,0,0,0,0,0,0,0,0,0,0,0,0,0,0,0,0,0,0,0,0,0,0,0,0,0,0,0,0,0,0,0,0,0,0,0,0,0,0,0,0,0,0,0,0,0,0,0,0,0,0,0,0,0,0,0,0,0,0,0,0,0,0,0,0,0,0,0,0,0,0,0,0,0,0,0,0,0,0,0,0,0,0,0,0,0,0,0,0,0,0,0,0,0,0,0,0,0,0,0,0,0,0,0,0,0,0,0,0,0,0,0,0,0,0,0,0,0,0,0,0,0,0,0,0,0,0,0,0,0,0,0,0,0,0,0,0,0,0,0,0,0,0,0,0,0,0,0,0,0,0,0,0,0,0,0,0,0,0,0,0,0,0,0,0,0,0,0,0,0,0,0,0,0,0,0,0,0,0,0,0,0,0,0,0,0,0,0,0,0]
[0,0,0,0,0,0,0,0,0,0,0,0,0,0,0,0,0,0,0,0,0,0,0,0,0,0,0,0,0,0,0,0,0,0,0,0,0,0,0,0,0,0,0,0,0,0,0,0,0,0,0,0,0,0,0,0,0,0,0,0,0,0,0,0,0,0,0,0,0,0,0,0,0,0,0,0,0,0,0,0,0,0,0,0,0,0,0,0,0,0,0,0,0,0,0,0,0,0,0,0,0,0,0,0,0,0,0,0,0,0,0,0,0,0,0,0,0,0,0,0,0,0,0,0,0,0,0,0,0,0,0,0,0,0,0,0,0,0,0,0,0,0,0,0,0,0,0,0,0,0,0,0,0,0,0,0,0,0,0,0,0,0,0,0,0,0,0,0,0,0,0,0,0,0,0,0,0,0,0,0,0,0,0,0,0,0,0,0,0,0,0,0,0,0,0,0,0,0,0,0,0,0,0,0,0,0,0,0,0,0,0,0,0,0,0,0,0,0,0,0,0,0,0,0,0,0,0,0,0,0,0,0,0,0,0,0,0,0,0,0,0,0,0,0,0,0,0,0,0,0,0,0,0,0,0,0,0,0,0,0,0,0,0,0,0,0,0,0,0,0,0,0,0,0,0,0,0,0,0,0,0,0,0,0,0,0,0,0,0,0,0,0,0,0,0,0,0,0,0,0,0,0,0,0,0,0,0,0,0,0,0,0]
[0,0,0,0,0,0,0,0,0,0,0,0,0,0,0,0,0,0,0,0,0,0,0,0,0,0,0,0,0,0,0,0,0,0,0,0,0,0,0,0,0,0,0,0,0,0,0,0,0,0,0,0,0,0,0,0,0,0,0,0,0,0,0,0,0,0,0,0,0,0,0,0,0,0,0,0,0,0,0,0,0,0,0,0,0,0,0,0,0,0,0,0,0,0,0,0,0,0,0,0,0,0,0,0,0,0,0,0,0,0,0,0,0,0,0,0,0,0,0,0,0,0,0,0,0,0,0,0,0,0,0,0,0,0,0,0,0,0,0,0,0,0,0,0,0,0,0,0,0,0,0,0,0,0,0,0,0,0,0,0,0,0,0,0,0,0,0,0,0,0,0,0,0,0,0,0,0,0,0,0,0,0,0,0,0,0,0,0,0,0,0,0,0,0,0,0,0,0,0,0,0,0,0,0,0,0,0,0,0,0,0,0,0,0,0,0,0,0,0,0,0,0,0,0,0,0,0,0,0,0,0,0,0,0,0,0,0,0,0,0,0,0,0,0,0,0,0,0,0,0,0,0,0,0,0,0,0,0,0,0,0,0,0,0,0,0,0,0,0,0,0,0,0,0,0,0,0,0,0,0,0,0,0,0,0,0,0,0,0,0,0,0,0,0,0,0,0,0,0,0,0,0,0,0,0,0,0,0,0,0,0,0]
[0,0,0,0,0,0,0,0,0,0,0,0,0,0,0,0,0,0,0,0,0,0,0,0,0,0,0,0,0,0,0,0,0,0,0,0,0,0,0,0,0,0,0,0,0,0,0,0,0,0,0,0,0,0,0,0,0,0,0,0,0,0,0,0,0,0,0,0,0,0,0,0,0,0,0,0,0,0,0,0,0,0,0,0,0,0,0,0,0,0,0,0,0,0,0,0,0,0,0,0,0,0,0,0,0,0,0,0,0,0,0,0,0,0,0,0,0,0,0,0,0,0,0,0,0,0,0,0,0,0,0,0,0,0,0,0,0,0,0,0,0,0,0,0,0,0,0,0,0,0,0,0,0,0,0,0,0,0,0,0,0,0,0,0,0,0,0,0,0,0,0,0,0,0,0,0,0,0,0,0,0,0,0,0,0,0,0,0,0,0,0,0,0,0,0,0,0,0,0,0,0,0,0,0,0,0,0,0,0,0,0,0,0,0,0,0,0,0,0,0,0,0,0,0,0,0,0,0,0,0,0,0,0,0,0,0,0,0,0,0,0,0,0,0,0,0,0,0,0,0,0,0,0,0,0,0,0,0,0,0,0,0,0,0,0,0,0,0,0,0,0,0,0,0,0,0,0,0,0,0,0,0,0,0,0,0,0,0,0,0,0,0,0,0,0,0,0,0,0,0,0,0,0,0,0,0,0,0,0,0,0,0]
[0,0,0,0,0,0,0,0,0,0,0,0,0,0,0,0,0,0,0,0,0,0,0,0,0,0,0,0,0,0,0,0,0,0,0,0,0,0,0,0,0,0,0,0,0,0,0,0,0,0,0,0,0,0,0,0,0,0,0,0,0,0,0,0,0,0,0,0,0,0,0,0,0,0,0,0,0,0,0,0,0,0,0,0,0,0,0,0,0,0,0,0,0,0,0,0,0,0,0,0,0,0,0,0,0,0,0,0,0,0,0,0,0,0,0,0,0,0,0,0,0,0,0,0,0,0,0,0,0,0,0,0,0,0,0,0,0,0,0,0,0,0,0,0,0,0,0,0,0,0,0,0,0,0,0,0,0,0,0,0,0,0,0,0,0,0,0,0,0,0,0,0,0,0,0,0,0,0,0,0,0,0,0,0,0,0,0,0,0,0,0,0,0,0,0,0,0,0,0,0,0,0,0,0,0,0,0,0,0,0,0,0,0,0,0,0,0,0,0,0,0,0,0,0,0,0,0,0,0,0,0,0,0,0,0,0,0,0,0,0,0,0,0,0,0,0,0,0,0,0,0,0,0,0,0,0,0,0,0,0,0,0,0,0,0,0,0,0,0,0,0,0,0,0,0,0,0,0,0,0,0,0,0,0,0,0,0,0,0,0,0,0,0,0,0,0,0,0,0,0,0,0,0,0,0,0,0,0,0,0,0,0]

{"sheet":"Illustration Modelling","index":8,"n_rows":87,"n_cols":49,"rows_kept":87,"cut":false,"hidden":true,"merged":[[13,43,14,43],[13,37,14,37],[13,38,14,38],[13,39,14,39],[13,40,14,40],[13,41,14,41],[13,42,14,42],[13,44,14,44],[13,45,14,45],[13,46,14,46],[13,47,14,47],[13,48,14,48],[13,32,14,32],[13,21,14,21],[13,22,14,22],[13,23,14,23],[13,24,14,24],[13,25,14,25],[13,26,14,26],[13,27,14,27],[13,28,14,28],[13,29,14,29],[13,30,14,30],[13,31,14,31],[11,3,11,7],[11,19,11,20],[12,19,12,20],[13,3,14,3],[13,4,14,4],[13,5,14,5],[13,6,14,6],[13,7,14,7],[11,11,11,15],[13,11,14,11],[13,12,14,12],[13,13,14,13],[13,14,14,14],[13,15,14,15]]}
[null,null,"From the Inputs",null,null,null,null,null,null,null,null,null,null,null,null,null,null,1,"Pay to Age 60 - Wdwl 60 - 10 Yrs."]
[null,null,{"$f":"Age","v":45},"<=Age",null,null,null,null,null,null,{"$f":"CHOOSE(G4,CHOOSE(G3,2,6,10),CHOOSE(G3,4,8,12))","v":8},"<===Type of Illus (Select from the list ====>)",null,null,null,null,null,{"$f":"R1+1","v":2},"Pay to Age 60 - Wdwl 60 - 10 Yrs. - SD",null,null,null,null,605,"<== What Information? Use 605 if illustrating Ret. Ben."]
[null,null,{"$f":"RetAge","v":65},"<=Ret Age - 60=1,65=2,70=3=>",null,null,{"$f":"IF(C3=60,1,IF(C3=65,2,3))","v":2},null,null,null,{"$f":"C2","v":45},"<== What Age",null,null,null,null,null,{"$f":"R2+1","v":3},"Pay to Age 60 - Wdwl 60 - 20 Yrs.",null,null,null,null,1,"<==What Policy Year?"]
[null,null,{"$f":"BenPmtsYears","v":20},"<=Benefit Payments - 10=1; 20=2=>",null,null,{"$f":"IF(C4=10,1,2)","v":2},null,null,null,null,null,null,null,null,null,null,4,"Pay to Age 60 - Wdwl 60 - 20 Yrs. - SD",null,null,null,null,1,"<==Illustrate Ret.? (1=Yes,2=No)"]
[null,null,{"$f":"AcctBalGrowth","v":0.06},"<=Int Rate 5%=1, 6%=2, 7%=3=>",null,null,{"$f":"IF(C5=0.05,1,IF(C5=0.06,2,3))","v":2},null,null,null,{"$f":"VLOOKUP(K3,$AK$16:$AW$41,K2+1)","v":188},"<=Resulting Column",null,null,null,null,null,5,"Pay to Age 65 - Wdwl 65 - 10 Yrs."]
[null,null,{"$f":"'ESP Contributions'!M28","v":0},"<=Pretax Contribution",null,null,null,null,null,null,null,null,null,null,null,null,null,6,"Pay to Age 65 - Wdwl 65 - 10 Yrs. - SD",null,null,null,null,4,"Attained Age"]
[null,null,null,null,null,null,null,null,null,null,null,null,null,null,null,null,null,7,"Pay to Age 65 - Wdwl 65 - 20 Yrs.",null,null,null,null,305,"Planned Premium"]
[null,null,{"$f":"C6/D16","v":0},"Illus_Multiplier",null,null,null,null,null,null,null,null,null,null,null,null,null,8,"Pay to Age 65 - Wdwl 65 - 20 Yrs. - SD",null,null,null,null,605,"Net After Tax Outlay"]
[null,null,null,null,null,null,null,null,null,null,null,null,null,null,null,null,null,9,"Pay to Age 70 - Wdwl 70 - 10 Yrs.",null,null,null,null,905,"Account Value"]
[null,null,null,null,null,null,null,null,null,null,null,null,null,null,null,null,null,10,"Pay to Age 70 - Wdwl 70 - 10 Yrs. - SD",null,null,null,null,1205,"Surrender Value"]
[null,null,null,null,null,null,null,null,null,null,null,null,null,null,null,null,null,11,"Pay to Age 70 - Wdwl 70 - 20 Yrs.",null,null,null,null,1505,"Death Benefit"]
[null,null,null,{"$f":"CHOOSE(TypeofIllus,S1,S2,S3,S4,S5,S6,S7,S8,S9,S10,S11,S12)","v":"Pay to Age 65 - Wdwl 65 - 20 Yrs. - SD"},null,null,null,null,null,null,null,{"$f":"CHOOSE(TypeofIllus,AA1,AA2,AA3,AA4,AA5,AA6,AA7,AA8,AA9,AA10,AA11,AA12)","v":0},null,null,null,null,null,12,"Pay to Age 70 - Wdwl 70 - 20 Yrs. - SD","Don't Touch ===>",null,61,62]
[null,null,null,null,null,null,null,null,null,null,null,null,null,null,null,null,null,null,null,"Don't Touch ===>",null,60,60,60,60,65,65,65,65,70,70,70,70]
[null,null,null,"Planned Premium","Net After Tax Outlay","Acconut Value","Surrender Value","Death Benefit",null,null,null,"Planned Premium","Net After Tax Outlay","Acconut Value","Surrender Value","Death Benefit",null,null,null,null,null,"Pay to Age 60 - Wdwl 60 - 10 Yrs.","Pay to Age 60 - Wdwl 60 - 10 Yrs. - SD","Pay to Age 60 - Wdwl 60 - 20 Yrs.","Pay to Age 60 - Wdwl 60 - 20 Yrs. - SD","Pay to Age 65- Wdwl 65 - 10 Yrs.","Pay to Age 65 - Wdwl 65 - 10 Yrs. - SD","Pay to Age  65- Wdwl 65 - 20 Yrs.","Pay to Age 65- Wdwl 65 - 20 Yrs. - SD","Pay to Age 70  - Wdwl 70 - 10 Yrs.","Pay to Age 70 - Wdwl 70 - 10 Yrs. - SD","Pay to Age 70 - Wdwl 70 - 20 Yrs.","Pay to Age 70 - Wdwl 70 - 20 Yrs. - SD",null,null,null,null,"Pay to Age 60 - Wdwl 60 - 10 Yrs.","Pay to Age 60 - Wdwl 60 - 10 Yrs. - SD","Pay to Age 60 - Wdwl 60 - 20 Yrs.","Pay to Age 60 - Wdwl 60 - 20 Yrs. - SD","Pay to Age 65- Wdwl 65 - 10 Yrs.","Pay to Age 65 - Wdwl 65 - 10 Yrs. - SD","Pay to Age  65- Wdwl 65 - 20 Yrs.","Pay to Age 65- Wdwl 65 - 20 Yrs. - SD","Pay to Age 70  - Wdwl 70 - 10 Yrs.","Pay to Age 70 - Wdwl 70 - 10 Yrs. - SD","Pay to Age 70 - Wdwl 70 - 20 Yrs.","Pay to Age 70 - Wdwl 70 - 20 Yrs. - SD"]
[null,"Yr","Age",null,null,null,null,null,null,"Yr","Age",null,null,null,null,null,null,null,"Note that for every age there are 12 illustrations as detail above."]
[null,1,{"$f":"INDEX(CHOOSE($G$5,IllustrationResults3,IllustrationResults2,IllustrationResults),AttainedAge+$B16,ResultingCol)","v":45},{"$f":"INDEX(CHOOSE($G$5,IllustrationResults3,IllustrationResults2,IllustrationResults),PlannedPremium+$B16-1,ResultingCol)","v":25000},{"$f":"INDEX(CHOOSE($G$5,IllustrationResults3,IllustrationResults2,IllustrationResults),NetAtOutlay+$B16-1,ResultingCol)","v":-25000},{"$f":"INDEX(CHOOSE($G$5,IllustrationResults3,IllustrationResults2,IllustrationResults),AC+$B16-1,ResultingCol)","v":23658.14},{"$f":"INDEX(CHOOSE($G$5,IllustrationResults3,IllustrationResults2,IllustrationResults),SV+$B16-1,ResultingCol)","v":26750},{"$f":"INDEX(CHOOSE($G$5,IllustrationResults3,IllustrationResults2,IllustrationResults),DB+$B16-1,ResultingCol)","v":555440.78},null,1,{"$f":"C16","v":45},{"$f":"D16*Illus_Multiplier","v":0},{"$f":"E16*Illus_Multiplier","v":0},{"$f":"F16*Illus_Multiplier","v":0},{"$f":"G16*Illus_Multiplier","v":0},{"$f":"H16*Illus_Multiplier","v":0},null,null,null,null,30,{"$f":"CHOOSE(IllustrateRetBen,INDEX(IllustrationResults,$X$2+$V$13-$U16+1,AL16),INDEX(IllustrationResults,$X$2+$X$3-1,AL16))","v":265071.82},{"$f":"CHOOSE(IllustrateRetBen,INDEX(IllustrationResults,$X$2+$V$13-$U16+1,AM16),INDEX(IllustrationResults,$X$2+$X$3-1,AM16))","v":225817.92},{"$f":"CHOOSE(IllustrateRetBen,INDEX(IllustrationResults,$X$2+$X$13-$U16+1,AN16),INDEX(IllustrationResults,$X$2+$X$3-1,AN16))","v":175083.99},{"$f":"CHOOSE(IllustrateRetBen,INDEX(IllustrationResults,$X$2+$Y$13-$U16+1,AO16),INDEX(IllustrationResults,$X$2+$X$3-1,AO16))","v":149335.70000000001},{"$f":"CHOOSE(IllustrateRetBen,INDEX(IllustrationResults,$X$2+$Z$13-$U16+1,AP16),INDEX(IllustrationResults,$X$2+$X$3-1,AP16))","v":383825.87},{"$f":"CHOOSE(IllustrateRetBen,INDEX(IllustrationResults,$X$2+$AA$13-$U16+1,AQ16),INDEX(IllustrationResults,$X$2+$X$3-1,AQ16))","v":337821.07},{"$f":"CHOOSE(IllustrateRetBen,INDEX(IllustrationResults,$X$2+$AB$13-$U16+1,AR16),INDEX(IllustrationResults,$X$2+$X$3-1,AR16))","v":251707.15},{"$f":"CHOOSE(IllustrateRetBen,INDEX(IllustrationResults,$X$2+$AC$13-$U16+1,AS16),INDEX(IllustrationResults,$X$2+$X$3-1,AS16))","v":221587.55},{"$f":"CHOOSE(IllustrateRetBen,INDEX(IllustrationResults,$X$2+$AD$13-$U16+1,AT16),INDEX(IllustrationResults,$X$2+$X$3-1,AT16))","v":548435.57999999996},{"$f":"CHOOSE(IllustrateRetBen,INDEX(IllustrationResults,$X$2+$AE$13-$U16+1,AU16),INDEX(IllustrationResults,$X$2+$X$3-1,AU16))","v":495690.35},{"$f":"CHOOSE(IllustrateRetBen,INDEX(IllustrationResults,$X$2+$AF$13-$U16+1,AV16),INDEX(IllustrationResults,$X$2+$X$3-1,AV16))","v":355372.77},{"$f":"CHOOSE(IllustrateRetBen,INDEX(IllustrationResults,$X$2+$AG$13-$U16+1,AW16),INDEX(IllustrationResults,$X$2+$X$3-1,AW16))","v":320869.28000000003},null,null,null,30,1,{"$f":"+AL16+1","v":2},{"$f":"+AM16+1","v":3},4,5,6,7,8,9,10,11,12]
[null,{"$f":"B16+1","v":2},46,25000,-25000,48656.79,55372.5,584291.97,null,{"$f":"J16+1","v":2},{"$f":"INDEX(IllustrationResults,AttainedAge+$B17,ResultingCol)","v":46},0,0,0,0,0,null,null,null,null,{"$f":"+U16+1","v":31},245623.26,207674.12,162201.03,137327.35,356784.54,312131.53000000003,234025.31,204789.97,510883.13,459452.05,331128.58,297506.93,null,null,null,{"$f":"+AK16+1","v":31},{"$f":"+AW16+1","v":13},{"$f":"+AL17+1","v":14},15,16,17,18,19,20,21,22,23,24]
[null,3,47,25000,-25000,75196.17,85998.57,615044.84,null,3,47,0,0,0,0,0,null,null,null,null,{"$f":"+U17+1","v":32},227344.9,190721.14,150108.21,126105.39,331418.26,288108.89,217434.48,189080.25,475671.8,425559.72,308370.23,275635.98,null,null,null,{"$f":"+AK17+1","v":32},{"$f":"+AW17+1","v":25},{"$f":"+AL18+1","v":26},27,28,29,30,31,32,33,34,35,36]
[null,4,48,25000,-25000,103117.49,115117.49,643804.49,null,4,48,0,0,0,0,0,null,null,null,null,33,210175.03,174881.7,138758.5,115624.55,307624.27,265657.09999999998,201878.09,174400.55,442630.12,393883.02,287023.40000000002,255177.87,null,null,null,33,37,38,39,40,41,42,43,44,45,46,47,48]
[null,5,49,25000,-25000,132576.76,143826.76,672513.76,null,5,49,0,0,0,0,0,null,null,null,null,34,194055.21,160092.54,128096.71,105838.56,285279.84999999998,244647.94,187256.03,160668.46,411636.4,364249.57,266995.94,236036.89,null,null,null,34,49,50,51,52,53,54,55,56,57,58,59,60]
[null,6,50,25000,-25000,163628.39000000001,174128.39,702815.39,null,6,50,0,0,0,0,0,null,null,null,null,35,178940.18,146304.54999999999,118091.28,96714.62,264335.3,225038.53,173544.48,147848.03,382593.09,336557.34,248225.75,218146.53,null,null,null,35,61,62,63,64,65,66,67,68,69,70,71,72]
[null,7,51,25000,-25000,196535.73,205285.73,733972.73,null,7,51,0,0,0,0,0,null,null,null,null,36,164761.17000000001,133451.85999999999,108705.57,88206.15,244702.22,206713.45,160693.31,135871.65,355385.23,310682.89,230636.79,201439.53,null,null,null,36,73,74,75,76,77,78,79,80,81,82,83,84]
[null,8,52,25000,-25000,231288.07,237288.07,765975.07,null,8,52,0,0,0,0,0,null,null,null,null,37,151474.91,121480.89,99913.7,80277.03,226289.16,189634.1,148659.13,124710.22,329840.64000000001,286458.3,214169.03,185849.77,null,null,null,37,85,86,87,88,89,90,91,92,93,94,95,96]
[null,9,53,25000,-25000,267745.81,272245.81,800932.81,null,9,53,0,0,0,0,0,null,null,null,null,38,139036.79999999999,110362.98,91684.03,72912.69,209039.67,173714.57,137392.37,114311.65,305923.13,263880.78000000003,198759.07,171320.81,null,null,null,38,97,98,99,100,101,102,103,104,105,106,107,108]
[null,10,54,25000,-25000,306003.49,308483.58,837190.49,null,10,54,0,0,0,0,0,null,null,null,null,39,127479.73,100120.7,84035.14,66136.399999999994,193027.98,159039.53,126926.76,104724.37,283712.71999999997,243000.33,184434.75,157886.96,null,null,null,39,109,110,111,112,113,114,115,116,117,118,119,120]
[null,11,55,25000,-25000,346859.57,346859.57,875546.57,null,11,55,0,0,0,0,0,null,null,null,null,40,116608.42,90563.06,76851.19,59822.66,178027.17,145362.99,117098.81,95777.36,262980.42,223601.12,171049.48,145380.37,null,null,null,40,121,122,123,124,125,126,127,128,129,130,131,132]
[null,12,56,25000,-25000,389948.87,389948.87,918635.87,null,12,56,0,0,0,0,0,null,null,null,null,41,106438.27,81715.88,70121.97,53962.09,163776.38,132443.16,107786.87,87337.69,243208.23,205146.28,158302.97,133508.60999999999,null,null,null,41,133,134,135,136,137,138,139,140,141,142,143,144]
[null,13,57,25000,-25000,435290.41,435290.41,963977.41,null,13,57,0,0,0,0,0,null,null,null,null,42,96883.46,73484.649999999994,63801.46,48508.51,150391.29,120378.24000000001,99041.5,79457.429999999993,224605.48,187883.58,146322.03,122401.51,null,null,null,42,145,146,147,148,149,150,151,152,153,154,155,156]
[null,14,58,25000,-25000,483145.93,483145.93,1011832.93,null,14,58,0,0,0,0,0,null,null,null,null,43,87912.3,65830.14,57858.879999999997,43439.56,137820.10999999999,109129.55,90824.19,72109.38,207099.96,171711.73,135052.87,111998.77,null,null,null,43,157,158,159,160,161,162,163,164,165,166,167,168]
[null,15,59,25000,-25000,533630.14,533630.14,1062317.1399999999,null,15,59,0,0,0,0,0,null,null,null,null,44,79493.5,58719.96,52286.53,38732.78,126010.15,98644.19,83106.45,65239.4,190693.89,156642.12,124468.89,102300.98,null,null,null,44,169,170,171,172,173,174,175,176,177,178,179,180]
[null,16,60,25000,-25000,586972.68999999994,586972.68999999994,1115659.69,null,16,60,0,0,0,0,0,null,null,null,null,45,71583.19,52118.86,47060.04,34363.57,114937.3,88898.15,75841.759999999995,58777.31,175308.08,142592.82999999999,114542.72,93257.66,null,null,null,45,181,182,183,184,185,186,187,188,189,190,191,192]
[null,17,61,25000,-25000,643099.99,643099.99,1171786.99,null,17,61,0,0,0,0,0,null,null,null,null,46,64126.25,45800.24,42142.47,30205.51,104638.2,79926.2,69015.63,52823.63,160825.79,129441,105199.84,84782.27,null,null,null,46,193,194,195,196,197,198,199,200,201,202,203,204]
[null,18,62,25000,-25000,702194.08,702194.08,1230881.08,null,18,62,0,0,0,0,0,null,null,null,null,47,57026.41,39911.1,37492.15,26341.88,94993.2,71613.850000000006,62619,47306.92,147253.03,117199.4,96448.74,76894.58,null,null,null,47,205,206,207,208,209,210,211,212,213,214,215,216]
[null,19,63,25000,-25000,764408.26,764408.26,1293095.26,null,19,63,0,0,0,0,0,null,null,null,null,48,50322.45,34460.589999999997,33113.629999999997,22760.31,85916.87,63859.09,56598.16,42162.12,134448.26,105717.83,88177.4,69501.37,null,null,null,48,217,{"$f":"+AL34+1","v":218},219,220,221,222,223,224,225,226,227,228]
[null,20,64,25000,-25000,830069.14,830069.14,1358756.14,null,20,64,0,0,0,0,0,null,null,null,null,49,44040.65,29456.68,29009.21,19476.509999999998,77420.69,56683.78,50973.24,37403.61,122466.21,95068.78,80445.399999999994,62642.49,null,null,null,49,229,230,231,232,233,234,235,236,237,238,239,240]
[null,21,65,0,246558.29,616507.75,616507.75,749683.69,null,21,65,0,0,0,0,0,null,null,null,null,50,38171.339999999997,24895.35,25168.97,16476.16,69479.149999999994,50056.52,45713.61,33006.93,111275.4,85203.77,73220.789999999994,56280.83,null,null,null,50,241,242,243,244,245,246,247,248,249,250,251,252]
[null,22,66,0,46558.29,602330.51,602330.51,716773.31,null,22,66,0,0,0,0,0,null,null,null,null,51,32800.699999999997,20859.73,21659.29,13816.18,62131.25,43842.720000000001,40859.58,28917.18,101084.92,76346.55,66637.42,50521.06,null,null,null,51,253,254,255,256,257,258,259,260,261,262,263,264]
[null,23,67,0,46558.29,587429.94999999995,587429.94999999995,693167.35,null,23,67,0,0,0,0,0,null,null,null,null,52,27821.55,17218.98,18389.919999999998,11410.74,55184.63,38082.28,36295.769999999997,25138.55,91605.24,68186.509999999995,60472.44,45106.42,null,null,null,52,265,266,267,268,269,270,271,272,273,274,275,276]
[null,24,68,0,46558.29,571788.17000000004,571788.17000000004,668992.16,null,24,68,0,0,0,0,0,null,null,null,null,53,23212.46,13943.88,15352.79,9240.2000000000007,48674.79,32808.800000000003,32033.02,21679.3,82775.73,60682.2,54613.22,40117.5,null,null,null,53,277,278,279,280,281,282,283,284,285,286,287,288]
[null,25,69,0,46558.29,555184.97,555184.97,644014.56999999995,null,25,69,0,0,0,0,0,null,null,null,null,54,{"$f":"CHOOSE(IllustrateRetBen,INDEX(IllustrationResults,$X$2+$V$12-$U40+1,AL40),INDEX(IllustrationResults,$X$2+$X$3-1,AL40))","v":23072.66},{"$f":"CHOOSE(IllustrateRetBen,INDEX(IllustrationResults,$X$2+$V$12-$U40+1,AM40),INDEX(IllustrationResults,$X$2+$X$3-1,AM40))","v":13801.8},15265.32,{"$f":"CHOOSE(IllustrateRetBen,INDEX(IllustrationResults,$X$2+$V$12-$U40+1,AO40),INDEX(IllustrationResults,$X$2+$X$3-1,AO40))","v":9145.64},42586.559999999998,27989.38,28060.13,18521.89,74550.3,53779.91,49160.89,35535.440000000002,null,null,null,54,289,290,291,292,293,294,295,296,297,298,299,300]
[null,26,70,0,46558.29,537611.56999999995,537611.56999999995,618253.31000000006,null,26,70,0,0,0,0,0,null,null,null,null,55,{"$f":"CHOOSE(IllustrateRetBen,INDEX(IllustrationResults,$X$2+$W$12-$U41+1,AL41),INDEX(IllustrationResults,$X$2+$X$3-1,AL41))","v":22955.07},{"$f":"CHOOSE(IllustrateRetBen,INDEX(IllustrationResults,$X$2+$W$12-$U41+1,AM41),INDEX(IllustrationResults,$X$2+$X$3-1,AM41))","v":13682.84},{"$f":"CHOOSE(IllustrateRetBen,INDEX(IllustrationResults,$X$2+$W$12-$U41+1,AN41),INDEX(IllustrationResults,$X$2+$X$3-1,AN41))","v":15193.65},{"$f":"CHOOSE(IllustrateRetBen,INDEX(IllustrationResults,$X$2+$W$12-$U41+1,AO41),INDEX(IllustrationResults,$X$2+$X$3-1,AO41))","v":9069.91},36951.19,23649.54,24384.37,15675.51,66952.160000000003,47493.07,44120.55,31360.18,null,null,null,55,301,302,303,304,305,306,307,308,309,310,311,312]
[null,27,71,0,46558.29,545726.16,518911.35,589855.76,null,27,71,0,0,0,0,0]
[null,28,72,0,46558.29,574948.93999999994,499000.62,562245.01,null,28,72,0,0,0,0,0]
[null,29,73,0,46558.29,604425.81999999995,477631.48,532029.81000000006,null,29,73,0,0,0,0,0]
[null,30,74,0,46558.29,634257.85,454837.88,499235.93,null,30,74,0,0,0,0,0]
[null,31,75,0,46558.29,664460.04,430572.54,463795.55,null,31,75,0,0,0,0,0]
[null,32,76,0,46558.29,694867.89,404579.14,439322.54,null,32,76,0,0,0,0,0]
[null,33,{"$f":"INDEX(CHOOSE($G$5,IllustrationResults3,IllustrationResults2,IllustrationResults),AttainedAge+$B48,ResultingCol)","v":77},{"$f":"INDEX(CHOOSE($G$5,IllustrationResults3,IllustrationResults2,IllustrationResults),PlannedPremium+$B48-1,ResultingCol)","v":0},{"$f":"INDEX(CHOOSE($G$5,IllustrationResults3,IllustrationResults2,IllustrationResults),NetAtOutlay+$B48-1,ResultingCol)","v":46558.29},{"$f":"INDEX(CHOOSE($G$5,IllustrationResults3,IllustrationResults2,IllustrationResults),AC+$B48-1,ResultingCol)","v":725242.85},{"$f":"INDEX(CHOOSE($G$5,IllustrationResults3,IllustrationResults2,IllustrationResults),SV+$B48-1,ResultingCol)","v":376606.16},{"$f":"INDEX(CHOOSE($G$5,IllustrationResults3,IllustrationResults2,IllustrationResults),DB+$B48-1,ResultingCol)","v":412868.31},null,33,77,{"$f":"D48*Illus_Multiplier","v":0},{"$f":"E48*Illus_Multiplier","v":0},{"$f":"F48*Illus_Multiplier","v":0},{"$f":"G48*Illus_Multiplier","v":0},{"$f":"H48*Illus_Multiplier","v":0}]
[null,34,78,0,46558.29,755599.93,346573.13,384353.13,null,34,78,0,0,0,0,0]
[null,35,79,0,46558.29,785860.85,314330.28000000003,353623.33,null,35,79,0,0,0,0,0]
[null,36,80,0,46558.29,816032.43,279759.92,320561.55,null,36,80,0,0,0,0,0]
[null,37,81,0,46558.29,845851.81,242621.93,284914.53000000003,null,37,81,0,0,0,0,0]
[null,38,82,0,46558.29,875314.9,202784.14,246549.89,null,38,82,0,0,0,0,0]
[null,39,83,0,46558.29,904320.2,160063.03,205279.04,null,39,83,0,0,0,0,0]
[null,40,84,0,46558.29,932819.65,114248.5,160889.49,null,40,84,0,0,0,0,0]
[null,41,85,0,0,961833.84,114612.7,162704.4,null,41,85,0,0,0,0,0]
[null,42,86,0,0,991399.62,114525.74,164095.73000000001,null,42,86,0,0,0,0,0]
[null,43,87,0,0,1021488.51,113924.04,164998.47,null,43,87,0,0,0,0,0]
[null,44,88,0,0,1052176.73,112758.97,165367.81,null,44,88,0,0,0,0,0]
[null,45,89,0,0,1083267.02,110969.64,165133,null,45,89,0,0,0,0,0]
[null,46,90,0,0,1114830.1599999999,108502.37,164243.88,null,46,90,0,0,0,0,0]
[null,47,91,0,0,1147688.31,106139.05,152046.59,null,47,91,0,0,0,0,0]
[null,48,92,0,0,1182140.97,104035.88,139500.10999999999,null,48,92,0,0,0,0,0]
[null,49,93,0,0,1218198.8899999999,102360.12,126724.1,null,49,93,0,0,0,0,0]
[null,50,94,0,0,1256302.3600000001,101409.23,113972.26,null,50,94,0,0,0,0,0]
[null,51,95,0,0,1296852.93,101538.54,101538.54,null,51,95,0,0,0,0,0]
[null,52,96,0,0,1338740.7,101473.7,101473.7,null,52,96,0,0,0,0,0]
[null,53,97,0,0,1381766.33,101194.98,101194.98,null,53,97,0,0,0,0,0]
[null,54,98,0,0,1426074.76,100683.41,100683.41,null,54,98,0,0,0,0,0]
[null,55,99,0,0,0,0,0,null,55,99,0,0,0,0,0]
[null,56,100,0,0,0,0,0,null,56,100,0,0,0,0,0]
[null,57,101,0,0,0,0,0,null,57,101,0,0,0,0,0]
[null,58,102,0,0,0,0,0,null,58,102,0,0,0,0,0]
[null,59,103,0,0,0,0,0,null,59,103,0,0,0,0,0]
[null,60,104,0,0,0,0,0,null,60,104,0,0,0,0,0]
[null,61,105,0,0,0,0,0,null,61,105,0,0,0,0,0]
[null,62,106,0,0,0,0,0,null,62,106,0,0,0,0,0]
[null,63,107,0,0,0,0,0,null,63,107,0,0,0,0,0]
[null,64,108,0,0,0,0,0,null,64,108,0,0,0,0,0]
[null,65,{"$f":"INDEX(CHOOSE($G$5,IllustrationResults3,IllustrationResults2,IllustrationResults),AttainedAge+$B80,ResultingCol)","v":109},{"$f":"INDEX(CHOOSE($G$5,IllustrationResults3,IllustrationResults2,IllustrationResults),PlannedPremium+$B80-1,ResultingCol)","v":0},{"$f":"INDEX(CHOOSE($G$5,IllustrationResults3,IllustrationResults2,IllustrationResults),NetAtOutlay+$B80-1,ResultingCol)","v":0},{"$f":"INDEX(CHOOSE($G$5,IllustrationResults3,IllustrationResults2,IllustrationResults),AC+$B80-1,ResultingCol)","v":0},{"$f":"INDEX(CHOOSE($G$5,IllustrationResults3,IllustrationResults2,IllustrationResults),SV+$B80-1,ResultingCol)","v":0},{"$f":"INDEX(CHOOSE($G$5,IllustrationResults3,IllustrationResults2,IllustrationResults),DB+$B80-1,ResultingCol)","v":0},null,65,{"$f":"INDEX(IllustrationResults,AttainedAge+$B80,ResultingCol)","v":109},{"$f":"D80*Illus_Multiplier","v":0},{"$f":"E80*Illus_Multiplier","v":0},{"$f":"F80*Illus_Multiplier","v":0},{"$f":"G80*Illus_Multiplier","v":0},{"$f":"H80*Illus_Multiplier","v":0}]
[null,{"$f":"B80+1","v":66},110,0,0,0,0,0,null,{"$f":"J80+1","v":66},110,0,0,0,0,0]
[null,67,111,0,0,0,0,0,null,67,111,0,0,0,0,0]
[null,68,112,0,0,0,0,0,null,68,112,0,0,0,0,0]
[null,69,113,0,0,0,0,0,null,69,113,0,0,0,0,0]
[null,70,114,0,0,0,0,0,null,70,114,0,0,0,0,0]
[null,71,0,0,0,0,0,0,null,71,0,0,0,0,0,0]
[null,72,0,0,0,0,0,0,null,72,0,0,0,0,0,0]

{"sheet":"Projected Contributions","index":9,"n_rows":86,"n_cols":17,"rows_kept":86,"cut":false,"hidden":false,"merged":[[4,3,4,16],[5,7,5,16],[5,3,6,5],[6,9,6,12]]}
["Projected Contributions - Current Plans"]
[{"$f":"\"Plan Participant - \"&First_Name&\" \"&Last_Name&\" - Age \"&Age","v":"Plan Participant - John Smith - Age 45"}]
[]
[]
[null,null,null,"Contribution Calculation"]
[null,null,null,"Projected Benefit Compensation",null,null,null,"Projected Contributions - Current Plans"]
[null,null,null,null,null,null,null,null,null,"403(b) Plan",null,null,null,"457(b)","Combined"]
["Year","Age",null,{"$f":"\"Projected\nSalary\nGrowing\n@ \"&TEXT(CompGrowthRate,\"0.00%\")","v":"Projected\nSalary\nGrowing\n@ 0.00%"},{"$f":"\"Projected\nBonus\nGrowing\n@ \"&TEXT(CompGrowthRate,\"0.00%\")","v":"Projected\nBonus\nGrowing\n@ 0.00%"},{"$f":"\"Projected\nBenefit\nComp\n\"&IF(CompDefinition=1,\"(Salary Only)\",\"(Salary+Bonus)\")","v":"Projected\nBenefit\nComp\n(Salary+Bonus)"},null,{"$f":"\"Target\nContribution\"&IF(TargetMethod1=1,\"\n(\"&TEXT(TargetContribPercent,\"0.0%\")&\")\",IF(TargetMethod2=1,\"\n(\"&TEXT(TargetContribDollarAmt,\"$0,000\")&\")\",\"\n(Max IRS Limit)\"))","v":"Target\nContribution\n(15.0%)"},null,"Executive\nContribution","Catch-up\nContribution",{"$f":"\"Hospital\nMatch\n@ \"&TEXT(MachtingERCont,\"0.0%\")","v":"Hospital\nMatch\n@ 50.0%"},"Total\n403(b)\nContributions","Executive\nContribution","Total Plan\nContributions",null,"Excluded\nContributions to After Tax Savings"]
[]
[1,{"$f":"Age","v":45},null,{"$f":"'Individual Calculations '!E13","v":0},{"$f":"'Individual Calculations '!F13","v":0},{"$f":"'Individual Calculations '!G13","v":0},null,{"$f":"IF(TargetMethod3=1,\"NA\",'Individual Calculations '!R13)","v":0},null,{"$f":"IF(TargetMethod3=1,'Individual Calculations '!I13,'Individual Calculations '!S13)","v":0},{"$f":"IF(TargetMethod3=1,'Individual Calculations '!J13,'Individual Calculations '!T13)","v":0},{"$f":"IF(TargetMethod3=1,'Individual Calculations '!K13,'Individual Calculations '!U13)","v":0},{"$f":"IF(TargetMethod3=1,'Individual Calculations '!N13,'Individual Calculations '!V13)","v":0},{"$f":"IF(TargetMethod3=1,'Individual Calculations '!O13,'Individual Calculations '!W13)","v":0},{"$f":"IF(TargetMethod3=1,'Individual Calculations '!P13,'Individual Calculations '!X13)","v":0},null,{"$f":"IF(TargetMethod3=1,0,'Individual Calculations '!Y13)","v":0}]
[{"$f":"A10+1","v":2},{"$f":"IF(A11=\"\",\"\",+B10+1)","v":46},null,{"$f":"'Individual Calculations '!E14","v":0},{"$f":"'Individual Calculations '!F14","v":0},{"$f":"'Individual Calculations '!G14","v":0},null,{"$f":"IF(TargetMethod3=1,\"NA\",'Individual Calculations '!R14)","v":0},null,{"$f":"IF(TargetMethod3=1,'Individual Calculations '!I14,'Individual Calculations '!S14)","v":0},{"$f":"IF(TargetMethod3=1,'Individual Calculations '!J14,'Individual Calculations '!T14)","v":0},{"$f":"IF(TargetMethod3=1,'Individual Calculations '!K14,'Individual Calculations '!U14)","v":0},{"$f":"IF(TargetMethod3=1,'Individual Calculations '!N14,'Individual Calculations '!V14)","v":0},{"$f":"IF(TargetMethod3=1,'Individual Calculations '!O14,'Individual Calculations '!W14)","v":0},{"$f":"IF(TargetMethod3=1,'Individual Calculations '!P14,'Individual Calculations '!X14)","v":0},null,{"$f":"IF(TargetMethod3=1,0,'Individual Calculations '!Y14)","v":0}]
[{"$f":"A11+1","v":3},{"$f":"IF(A12=\"\",\"\",+B11+1)","v":47},null,{"$f":"'Individual Calculations '!E15","v":0},{"$f":"'Individual Calculations '!F15","v":0},{"$f":"'Individual Calculations '!G15","v":0},null,{"$f":"IF(TargetMethod3=1,\"NA\",'Individual Calculations '!R15)","v":0},null,{"$f":"IF(TargetMethod3=1,'Individual Calculations '!I15,'Individual Calculations '!S15)","v":0},{"$f":"IF(TargetMethod3=1,'Individual Calculations '!J15,'Individual Calculations '!T15)","v":0},{"$f":"IF(TargetMethod3=1,'Individual Calculations '!K15,'Individual Calculations '!U15)","v":0},{"$f":"IF(TargetMethod3=1,'Individual Calculations '!N15,'Individual Calculations '!V15)","v":0},{"$f":"IF(TargetMethod3=1,'Individual Calculations '!O15,'Individual Calculations '!W15)","v":0},{"$f":"IF(TargetMethod3=1,'Individual Calculations '!P15,'Individual Calculations '!X15)","v":0},null,{"$f":"IF(TargetMethod3=1,0,'Individual Calculations '!Y15)","v":0}]
[4,48,null,{"$f":"'Individual Calculations '!E16","v":0},{"$f":"'Individual Calculations '!F16","v":0},{"$f":"'Individual Calculations '!G16","v":0},null,{"$f":"IF(TargetMethod3=1,\"NA\",'Individual Calculations '!R16)","v":0},null,{"$f":"IF(TargetMethod3=1,'Individual Calculations '!I16,'Individual Calculations '!S16)","v":0},{"$f":"IF(TargetMethod3=1,'Individual Calculations '!J16,'Individual Calculations '!T16)","v":0},{"$f":"IF(TargetMethod3=1,'Individual Calculations '!K16,'Individual Calculations '!U16)","v":0},{"$f":"IF(TargetMethod3=1,'Individual Calculations '!N16,'Individual Calculations '!V16)","v":0},{"$f":"IF(TargetMethod3=1,'Individual Calculations '!O16,'Individual Calculations '!W16)","v":0},{"$f":"IF(TargetMethod3=1,'Individual Calculations '!P16,'Individual Calculations '!X16)","v":0},null,{"$f":"IF(TargetMethod3=1,0,'Individual Calculations '!Y16)","v":0}]
[5,49,null,{"$f":"'Individual Calculations '!E17","v":0},{"$f":"'Individual Calculations '!F17","v":0},{"$f":"'Individual Calculations '!G17","v":0},null,{"$f":"IF(TargetMethod3=1,\"NA\",'Individual Calculations '!R17)","v":0},null,{"$f":"IF(TargetMethod3=1,'Individual Calculations '!I17,'Individual Calculations '!S17)","v":0},{"$f":"IF(TargetMethod3=1,'Individual Calculations '!J17,'Individual Calculations '!T17)","v":0},{"$f":"IF(TargetMethod3=1,'Individual Calculations '!K17,'Individual Calculations '!U17)","v":0},{"$f":"IF(TargetMethod3=1,'Individual Calculations '!N17,'Individual Calculations '!V17)","v":0},{"$f":"IF(TargetMethod3=1,'Individual Calculations '!O17,'Individual Calculations '!W17)","v":0},{"$f":"IF(TargetMethod3=1,'Individual Calculations '!P17,'Individual Calculations '!X17)","v":0},null,{"$f":"IF(TargetMethod3=1,0,'Individual Calculations '!Y17)","v":0}]
[6,50,null,{"$f":"'Individual Calculations '!E18","v":0},{"$f":"'Individual Calculations '!F18","v":0},{"$f":"'Individual Calculations '!G18","v":0},null,{"$f":"IF(TargetMethod3=1,\"NA\",'Individual Calculations '!R18)","v":0},null,{"$f":"IF(TargetMethod3=1,'Individual Calculations '!I18,'Individual Calculations '!S18)","v":0},{"$f":"IF(TargetMethod3=1,'Individual Calculations '!J18,'Individual Calculations '!T18)","v":0},{"$f":"IF(TargetMethod3=1,'Individual Calculations '!K18,'Individual Calculations '!U18)","v":0},{"$f":"IF(TargetMethod3=1,'Individual Calculations '!N18,'Individual Calculations '!V18)","v":0},{"$f":"IF(TargetMethod3=1,'Individual Calculations '!O18,'Individual Calculations '!W18)","v":0},{"$f":"IF(TargetMethod3=1,'Individual Calculations '!P18,'Individual Calculations '!X18)","v":0},null,{"$f":"IF(TargetMethod3=1,0,'Individual Calculations '!Y18)","v":0}]
[7,51,null,{"$f":"'Individual Calculations '!E19","v":0},{"$f":"'Individual Calculations '!F19","v":0},{"$f":"'Individual Calculations '!G19","v":0},null,{"$f":"IF(TargetMethod3=1,\"NA\",'Individual Calculations '!R19)","v":0},null,{"$f":"IF(TargetMethod3=1,'Individual Calculations '!I19,'Individual Calculations '!S19)","v":0},{"$f":"IF(TargetMethod3=1,'Individual Calculations '!J19,'Individual Calculations '!T19)","v":0},{"$f":"IF(TargetMethod3=1,'Individual Calculations '!K19,'Individual Calculations '!U19)","v":0},{"$f":"IF(TargetMethod3=1,'Individual Calculations '!N19,'Individual Calculations '!V19)","v":0},{"$f":"IF(TargetMethod3=1,'Individual Calculations '!O19,'Individual Calculations '!W19)","v":0},{"$f":"IF(TargetMethod3=1,'Individual Calculations '!P19,'Individual Calculations '!X19)","v":0},null,{"$f":"IF(TargetMethod3=1,0,'Individual Calculations '!Y19)","v":0}]
[8,52,null,{"$f":"'Individual Calculations '!E20","v":0},{"$f":"'Individual Calculations '!F20","v":0},{"$f":"'Individual Calculations '!G20","v":0},null,{"$f":"IF(TargetMethod3=1,\"NA\",'Individual Calculations '!R20)","v":0},null,{"$f":"IF(TargetMethod3=1,'Individual Calculations '!I20,'Individual Calculations '!S20)","v":0},{"$f":"IF(TargetMethod3=1,'Individual Calculations '!J20,'Individual Calculations '!T20)","v":0},{"$f":"IF(TargetMethod3=1,'Individual Calculations '!K20,'Individual Calculations '!U20)","v":0},{"$f":"IF(TargetMethod3=1,'Individual Calculations '!N20,'Individual Calculations '!V20)","v":0},{"$f":"IF(TargetMethod3=1,'Individual Calculations '!O20,'Individual Calculations '!W20)","v":0},{"$f":"IF(TargetMethod3=1,'Individual Calculations '!P20,'Individual Calculations '!X20)","v":0},null,{"$f":"IF(TargetMethod3=1,0,'Individual Calculations '!Y20)","v":0}]
[9,53,null,{"$f":"'Individual Calculations '!E21","v":0},{"$f":"'Individual Calculations '!F21","v":0},{"$f":"'Individual Calculations '!G21","v":0},null,{"$f":"IF(TargetMethod3=1,\"NA\",'Individual Calculations '!R21)","v":0},null,{"$f":"IF(TargetMethod3=1,'Individual Calculations '!I21,'Individual Calculations '!S21)","v":0},{"$f":"IF(TargetMethod3=1,'Individual Calculations '!J21,'Individual Calculations '!T21)","v":0},{"$f":"IF(TargetMethod3=1,'Individual Calculations '!K21,'Individual Calculations '!U21)","v":0},{"$f":"IF(TargetMethod3=1,'Individual Calculations '!N21,'Individual Calculations '!V21)","v":0},{"$f":"IF(TargetMethod3=1,'Individual Calculations '!O21,'Individual Calculations '!W21)","v":0},{"$f":"IF(TargetMethod3=1,'Individual Calculations '!P21,'Individual Calculations '!X21)","v":0},null,{"$f":"IF(TargetMethod3=1,0,'Individual Calculations '!Y21)","v":0}]
[10,54,null,{"$f":"'Individual Calculations '!E22","v":0},{"$f":"'Individual Calculations '!F22","v":0},{"$f":"'Individual Calculations '!G22","v":0},null,{"$f":"IF(TargetMethod3=1,\"NA\",'Individual Calculations '!R22)","v":0},null,{"$f":"IF(TargetMethod3=1,'Individual Calculations '!I22,'Individual Calculations '!S22)","v":0},{"$f":"IF(TargetMethod3=1,'Individual Calculations '!J22,'Individual Calculations '!T22)","v":0},{"$f":"IF(TargetMethod3=1,'Individual Calculations '!K22,'Individual Calculations '!U22)","v":0},{"$f":"IF(TargetMethod3=1,'Individual Calculations '!N22,'Individual Calculations '!V22)","v":0},{"$f":"IF(TargetMethod3=1,'Individual Calculations '!O22,'Individual Calculations '!W22)","v":0},{"$f":"IF(TargetMethod3=1,'Individual Calculations '!P22,'Individual Calculations '!X22)","v":0},null,{"$f":"IF(TargetMethod3=1,0,'Individual Calculations '!Y22)","v":0}]
[11,55,null,{"$f":"'Individual Calculations '!E23","v":0},{"$f":"'Individual Calculations '!F23","v":0},{"$f":"'Individual Calculations '!G23","v":0},null,{"$f":"IF(TargetMethod3=1,\"NA\",'Individual Calculations '!R23)","v":0},null,{"$f":"IF(TargetMethod3=1,'Individual Calculations '!I23,'Individual Calculations '!S23)","v":0},{"$f":"IF(TargetMethod3=1,'Individual Calculations '!J23,'Individual Calculations '!T23)","v":0},{"$f":"IF(TargetMethod3=1,'Individual Calculations '!K23,'Individual Calculations '!U23)","v":0},{"$f":"IF(TargetMethod3=1,'Individual Calculations '!N23,'Individual Calculations '!V23)","v":0},{"$f":"IF(TargetMethod3=1,'Individual Calculations '!O23,'Individual Calculations '!W23)","v":0},{"$f":"IF(TargetMethod3=1,'Individual Calculations '!P23,'Individual Calculations '!X23)","v":0},null,{"$f":"IF(TargetMethod3=1,0,'Individual Calculations '!Y23)","v":0}]
[12,56,null,{"$f":"'Individual Calculations '!E24","v":0},{"$f":"'Individual Calculations '!F24","v":0},{"$f":"'Individual Calculations '!G24","v":0},null,{"$f":"IF(TargetMethod3=1,\"NA\",'Individual Calculations '!R24)","v":0},null,{"$f":"IF(TargetMethod3=1,'Individual Calculations '!I24,'Individual Calculations '!S24)","v":0},{"$f":"IF(TargetMethod3=1,'Individual Calculations '!J24,'Individual Calculations '!T24)","v":0},{"$f":"IF(TargetMethod3=1,'Individual Calculations '!K24,'Individual Calculations '!U24)","v":0},{"$f":"IF(TargetMethod3=1,'Individual Calculations '!N24,'Individual Calculations '!V24)","v":0},{"$f":"IF(TargetMethod3=1,'Individual Calculations '!O24,'Individual Calculations '!W24)","v":0},{"$f":"IF(TargetMethod3=1,'Individual Calculations '!P24,'Individual Calculations '!X24)","v":0},null,{"$f":"IF(TargetMethod3=1,0,'Individual Calculations '!Y24)","v":0}]
[13,57,null,{"$f":"'Individual Calculations '!E25","v":0},{"$f":"'Individual Calculations '!F25","v":0},{"$f":"'Individual Calculations '!G25","v":0},null,{"$f":"IF(TargetMethod3=1,\"NA\",'Individual Calculations '!R25)","v":0},null,{"$f":"IF(TargetMethod3=1,'Individual Calculations '!I25,'Individual Calculations '!S25)","v":0},{"$f":"IF(TargetMethod3=1,'Individual Calculations '!J25,'Individual Calculations '!T25)","v":0},{"$f":"IF(TargetMethod3=1,'Individual Calculations '!K25,'Individual Calculations '!U25)","v":0},{"$f":"IF(TargetMethod3=1,'Individual Calculations '!N25,'Individual Calculations '!V25)","v":0},{"$f":"IF(TargetMethod3=1,'Individual Calculations '!O25,'Individual Calculations '!W25)","v":0},{"$f":"IF(TargetMethod3=1,'Individual Calculations '!P25,'Individual Calculations '!X25)","v":0},null,{"$f":"IF(TargetMethod3=1,0,'Individual Calculations '!Y25)","v":0}]
[14,58,null,{"$f":"'Individual Calculations '!E26","v":0},{"$f":"'Individual Calculations '!F26","v":0},{"$f":"'Individual Calculations '!G26","v":0},null,{"$f":"IF(TargetMethod3=1,\"NA\",'Individual Calculations '!R26)","v":0},null,{"$f":"IF(TargetMethod3=1,'Individual Calculations '!I26,'Individual Calculations '!S26)","v":0},{"$f":"IF(TargetMethod3=1,'Individual Calculations '!J26,'Individual Calculations '!T26)","v":0},{"$f":"IF(TargetMethod3=1,'Individual Calculations '!K26,'Individual Calculations '!U26)","v":0},{"$f":"IF(TargetMethod3=1,'Individual Calculations '!N26,'Individual Calculations '!V26)","v":0},{"$f":"IF(TargetMethod3=1,'Individual Calculations '!O26,'Individual Calculations '!W26)","v":0},{"$f":"IF(TargetMethod3=1,'Individual Calculations '!P26,'Individual Calculations '!X26)","v":0},null,{"$f":"IF(TargetMethod3=1,0,'Individual Calculations '!Y26)","v":0}]
[15,59,null,{"$f":"'Individual Calculations '!E27","v":0},{"$f":"'Individual Calculations '!F27","v":0},{"$f":"'Individual Calculations '!G27","v":0},null,{"$f":"IF(TargetMethod3=1,\"NA\",'Individual Calculations '!R27)","v":0},null,{"$f":"IF(TargetMethod3=1,'Individual Calculations '!I27,'Individual Calculations '!S27)","v":0},{"$f":"IF(TargetMethod3=1,'Individual Calculations '!J27,'Individual Calculations '!T27)","v":0},{"$f":"IF(TargetMethod3=1,'Individual Calculations '!K27,'Individual Calculations '!U27)","v":0},{"$f":"IF(TargetMethod3=1,'Individual Calculations '!N27,'Individual Calculations '!V27)","v":0},{"$f":"IF(TargetMethod3=1,'Individual Calculations '!O27,'Individual Calculations '!W27)","v":0},{"$f":"IF(TargetMethod3=1,'Individual Calculations '!P27,'Individual Calculations '!X27)","v":0},null,{"$f":"IF(TargetMethod3=1,0,'Individual Calculations '!Y27)","v":0}]
[16,60,null,{"$f":"'Individual Calculations '!E28","v":0},{"$f":"'Individual Calculations '!F28","v":0},{"$f":"'Individual Calculations '!G28","v":0},null,{"$f":"IF(TargetMethod3=1,\"NA\",'Individual Calculations '!R28)","v":0},null,{"$f":"IF(TargetMethod3=1,'Individual Calculations '!I28,'Individual Calculations '!S28)","v":0},{"$f":"IF(TargetMethod3=1,'Individual Calculations '!J28,'Individual Calculations '!T28)","v":0},{"$f":"IF(TargetMethod3=1,'Individual Calculations '!K28,'Individual Calculations '!U28)","v":0},{"$f":"IF(TargetMethod3=1,'Individual Calculations '!N28,'Individual Calculations '!V28)","v":0},{"$f":"IF(TargetMethod3=1,'Individual Calculations '!O28,'Individual Calculations '!W28)","v":0},{"$f":"IF(TargetMethod3=1,'Individual Calculations '!P28,'Individual Calculations '!X28)","v":0},null,{"$f":"IF(TargetMethod3=1,0,'Individual Calculations '!Y28)","v":0}]
[17,61,null,{"$f":"'Individual Calculations '!E29","v":0},{"$f":"'Individual Calculations '!F29","v":0},{"$f":"'Individual Calculations '!G29","v":0},null,{"$f":"IF(TargetMethod3=1,\"NA\",'Individual Calculations '!R29)","v":0},null,{"$f":"IF(TargetMethod3=1,'Individual Calculations '!I29,'Individual Calculations '!S29)","v":0},{"$f":"IF(TargetMethod3=1,'Individual Calculations '!J29,'Individual Calculations '!T29)","v":0},{"$f":"IF(TargetMethod3=1,'Individual Calculations '!K29,'Individual Calculations '!U29)","v":0},{"$f":"IF(TargetMethod3=1,'Individual Calculations '!N29,'Individual Calculations '!V29)","v":0},{"$f":"IF(TargetMethod3=1,'Individual Calculations '!O29,'Individual Calculations '!W29)","v":0},{"$f":"IF(TargetMethod3=1,'Individual Calculations '!P29,'Individual Calculations '!X29)","v":0},null,{"$f":"IF(TargetMethod3=1,0,'Individual Calculations '!Y29)","v":0}]
[18,62,null,{"$f":"'Individual Calculations '!E30","v":0},{"$f":"'Individual Calculations '!F30","v":0},{"$f":"'Individual Calculations '!G30","v":0},null,{"$f":"IF(TargetMethod3=1,\"NA\",'Individual Calculations '!R30)","v":0},null,{"$f":"IF(TargetMethod3=1,'Individual Calculations '!I30,'Individual Calculations '!S30)","v":0},{"$f":"IF(TargetMethod3=1,'Individual Calculations '!J30,'Individual Calculations '!T30)","v":0},{"$f":"IF(TargetMethod3=1,'Individual Calculations '!K30,'Individual Calculations '!U30)","v":0},{"$f":"IF(TargetMethod3=1,'Individual Calculations '!N30,'Individual Calculations '!V30)","v":0},{"$f":"IF(TargetMethod3=1,'Individual Calculations '!O30,'Individual Calculations '!W30)","v":0},{"$f":"IF(TargetMethod3=1,'Individual Calculations '!P30,'Individual Calculations '!X30)","v":0},null,{"$f":"IF(TargetMethod3=1,0,'Individual Calculations '!Y30)","v":0}]
[19,63,null,{"$f":"'Individual Calculations '!E31","v":0},{"$f":"'Individual Calculations '!F31","v":0},{"$f":"'Individual Calculations '!G31","v":0},null,{"$f":"IF(TargetMethod3=1,\"NA\",'Individual Calculations '!R31)","v":0},null,{"$f":"IF(TargetMethod3=1,'Individual Calculations '!I31,'Individual Calculations '!S31)","v":0},{"$f":"IF(TargetMethod3=1,'Individual Calculations '!J31,'Individual Calculations '!T31)","v":0},{"$f":"IF(TargetMethod3=1,'Individual Calculations '!K31,'Individual Calculations '!U31)","v":0},{"$f":"IF(TargetMethod3=1,'Individual Calculations '!N31,'Individual Calculations '!V31)","v":0},{"$f":"IF(TargetMethod3=1,'Individual Calculations '!O31,'Individual Calculations '!W31)","v":0},{"$f":"IF(TargetMethod3=1,'Individual Calculations '!P31,'Individual Calculations '!X31)","v":0},null,{"$f":"IF(TargetMethod3=1,0,'Individual Calculations '!Y31)","v":0}]
[20,64,null,{"$f":"'Individual Calculations '!E32","v":0},{"$f":"'Individual Calculations '!F32","v":0},{"$f":"'Individual Calculations '!G32","v":0},null,{"$f":"IF(TargetMethod3=1,\"NA\",'Individual Calculations '!R32)","v":0},null,{"$f":"IF(TargetMethod3=1,'Individual Calculations '!I32,'Individual Calculations '!S32)","v":0},{"$f":"IF(TargetMethod3=1,'Individual Calculations '!J32,'Individual Calculations '!T32)","v":0},{"$f":"IF(TargetMethod3=1,'Individual Calculations '!K32,'Individual Calculations '!U32)","v":0},{"$f":"IF(TargetMethod3=1,'Individual Calculations '!N32,'Individual Calculations '!V32)","v":0},{"$f":"IF(TargetMethod3=1,'Individual Calculations '!O32,'Individual Calculations '!W32)","v":0},{"$f":"IF(TargetMethod3=1,'Individual Calculations '!P32,'Individual Calculations '!X32)","v":0},null,{"$f":"IF(TargetMethod3=1,0,'Individual Calculations '!Y32)","v":0}]
[21,65,null,{"$f":"'Individual Calculations '!E33","v":0},{"$f":"'Individual Calculations '!F33","v":0},{"$f":"'Individual Calculations '!G33","v":0},null,{"$f":"IF(TargetMethod3=1,\"NA\",'Individual Calculations '!R33)","v":0},null,{"$f":"IF(TargetMethod3=1,'Individual Calculations '!I33,'Individual Calculations '!S33)","v":0},{"$f":"IF(TargetMethod3=1,'Individual Calculations '!J33,'Individual Calculations '!T33)","v":0},{"$f":"IF(TargetMethod3=1,'Individual Calculations '!K33,'Individual Calculations '!U33)","v":0},{"$f":"IF(TargetMethod3=1,'Individual Calculations '!N33,'Individual Calculations '!V33)","v":0},{"$f":"IF(TargetMethod3=1,'Individual Calculations '!O33,'Individual Calculations '!W33)","v":0},{"$f":"IF(TargetMethod3=1,'Individual Calculations '!P33,'Individual Calculations '!X33)","v":0},null,{"$f":"IF(TargetMethod3=1,0,'Individual Calculations '!Y33)","v":0}]
[22,66,null,{"$f":"'Individual Calculations '!E34","v":0},{"$f":"'Individual Calculations '!F34","v":0},{"$f":"'Individual Calculations '!G34","v":0},null,{"$f":"IF(TargetMethod3=1,\"NA\",'Individual Calculations '!R34)","v":0},null,{"$f":"IF(TargetMethod3=1,'Individual Calculations '!I34,'Individual Calculations '!S34)","v":0},{"$f":"IF(TargetMethod3=1,'Individual Calculations '!J34,'Individual Calculations '!T34)","v":0},{"$f":"IF(TargetMethod3=1,'Individual Calculations '!K34,'Individual Calculations '!U34)","v":0},{"$f":"IF(TargetMethod3=1,'Individual Calculations '!N34,'Individual Calculations '!V34)","v":0},{"$f":"IF(TargetMethod3=1,'Individual Calculations '!O34,'Individual Calculations '!W34)","v":0},{"$f":"IF(TargetMethod3=1,'Individual Calculations '!P34,'Individual Calculations '!X34)","v":0},null,{"$f":"IF(TargetMethod3=1,0,'Individual Calculations '!Y34)","v":0}]
[23,67,null,{"$f":"'Individual Calculations '!E35","v":0},{"$f":"'Individual Calculations '!F35","v":0},{"$f":"'Individual Calculations '!G35","v":0},null,{"$f":"IF(TargetMethod3=1,\"NA\",'Individual Calculations '!R35)","v":0},null,{"$f":"IF(TargetMethod3=1,'Individual Calculations '!I35,'Individual Calculations '!S35)","v":0},{"$f":"IF(TargetMethod3=1,'Individual Calculations '!J35,'Individual Calculations '!T35)","v":0},{"$f":"IF(TargetMethod3=1,'Individual Calculations '!K35,'Individual Calculations '!U35)","v":0},{"$f":"IF(TargetMethod3=1,'Individual Calculations '!N35,'Individual Calculations '!V35)","v":0},{"$f":"IF(TargetMethod3=1,'Individual Calculations '!O35,'Individual Calculations '!W35)","v":0},{"$f":"IF(TargetMethod3=1,'Individual Calculations '!P35,'Individual Calculations '!X35)","v":0},null,{"$f":"IF(TargetMethod3=1,0,'Individual Calculations '!Y35)","v":0}]
[24,68,null,{"$f":"'Individual Calculations '!E36","v":0},{"$f":"'Individual Calculations '!F36","v":0},{"$f":"'Individual Calculations '!G36","v":0},null,{"$f":"IF(TargetMethod3=1,\"NA\",'Individual Calculations '!R36)","v":0},null,{"$f":"IF(TargetMethod3=1,'Individual Calculations '!I36,'Individual Calculations '!S36)","v":0},{"$f":"IF(TargetMethod3=1,'Individual Calculations '!J36,'Individual Calculations '!T36)","v":0},{"$f":"IF(TargetMethod3=1,'Individual Calculations '!K36,'Individual Calculations '!U36)","v":0},{"$f":"IF(TargetMethod3=1,'Individual Calculations '!N36,'Individual Calculations '!V36)","v":0},{"$f":"IF(TargetMethod3=1,'Individual Calculations '!O36,'Individual Calculations '!W36)","v":0},{"$f":"IF(TargetMethod3=1,'Individual Calculations '!P36,'Individual Calculations '!X36)","v":0},null,{"$f":"IF(TargetMethod3=1,0,'Individual Calculations '!Y36)","v":0}]
[25,69,null,{"$f":"'Individual Calculations '!E37","v":0},{"$f":"'Individual Calculations '!F37","v":0},{"$f":"'Individual Calculations '!G37","v":0},null,{"$f":"IF(TargetMethod3=1,\"NA\",'Individual Calculations '!R37)","v":0},null,{"$f":"IF(TargetMethod3=1,'Individual Calculations '!I37,'Individual Calculations '!S37)","v":0},{"$f":"IF(TargetMethod3=1,'Individual Calculations '!J37,'Individual Calculations '!T37)","v":0},{"$f":"IF(TargetMethod3=1,'Individual Calculations '!K37,'Individual Calculations '!U37)","v":0},{"$f":"IF(TargetMethod3=1,'Individual Calculations '!N37,'Individual Calculations '!V37)","v":0},{"$f":"IF(TargetMethod3=1,'Individual Calculations '!O37,'Individual Calculations '!W37)","v":0},{"$f":"IF(TargetMethod3=1,'Individual Calculations '!P37,'Individual Calculations '!X37)","v":0},null,{"$f":"IF(TargetMethod3=1,0,'Individual Calculations '!Y37)","v":0}]
[26,70,null,{"$f":"'Individual Calculations '!E38","v":0},{"$f":"'Individual Calculations '!F38","v":0},{"$f":"'Individual Calculations '!G38","v":0},null,{"$f":"IF(TargetMethod3=1,\"NA\",'Individual Calculations '!R38)","v":0},null,{"$f":"IF(TargetMethod3=1,'Individual Calculations '!I38,'Individual Calculations '!S38)","v":0},{"$f":"IF(TargetMethod3=1,'Individual Calculations '!J38,'Individual Calculations '!T38)","v":0},{"$f":"IF(TargetMethod3=1,'Individual Calculations '!K38,'Individual Calculations '!U38)","v":0},{"$f":"IF(TargetMethod3=1,'Individual Calculations '!N38,'Individual Calculations '!V38)","v":0},{"$f":"IF(TargetMethod3=1,'Individual Calculations '!O38,'Individual Calculations '!W38)","v":0},{"$f":"IF(TargetMethod3=1,'Individual Calculations '!P38,'Individual Calculations '!X38)","v":0},null,{"$f":"IF(TargetMethod3=1,0,'Individual Calculations '!Y38)","v":0}]
[27,71,null,{"$f":"'Individual Calculations '!E39","v":0},{"$f":"'Individual Calculations '!F39","v":0},{"$f":"'Individual Calculations '!G39","v":0},null,{"$f":"IF(TargetMethod3=1,\"NA\",'Individual Calculations '!R39)","v":0},null,{"$f":"IF(TargetMethod3=1,'Individual Calculations '!I39,'Individual Calculations '!S39)","v":0},{"$f":"IF(TargetMethod3=1,'Individual Calculations '!J39,'Individual Calculations '!T39)","v":0},{"$f":"IF(TargetMethod3=1,'Individual Calculations '!K39,'Individual Calculations '!U39)","v":0},{"$f":"IF(TargetMethod3=1,'Individual Calculations '!N39,'Individual Calculations '!V39)","v":0},{"$f":"IF(TargetMethod3=1,'Individual Calculations '!O39,'Individual Calculations '!W39)","v":0},{"$f":"IF(TargetMethod3=1,'Individual Calculations '!P39,'Individual Calculations '!X39)","v":0},null,{"$f":"IF(TargetMethod3=1,0,'Individual Calculations '!Y39)","v":0}]
[28,72,null,{"$f":"'Individual Calculations '!E40","v":0},{"$f":"'Individual Calculations '!F40","v":0},{"$f":"'Individual Calculations '!G40","v":0},null,{"$f":"IF(TargetMethod3=1,\"NA\",'Individual Calculations '!R40)","v":0},null,{"$f":"IF(TargetMethod3=1,'Individual Calculations '!I40,'Individual Calculations '!S40)","v":0},{"$f":"IF(TargetMethod3=1,'Individual Calculations '!J40,'Individual Calculations '!T40)","v":0},{"$f":"IF(TargetMethod3=1,'Individual Calculations '!K40,'Individual Calculations '!U40)","v":0},{"$f":"IF(TargetMethod3=1,'Individual Calculations '!N40,'Individual Calculations '!V40)","v":0},{"$f":"IF(TargetMethod3=1,'Individual Calculations '!O40,'Individual Calculations '!W40)","v":0},{"$f":"IF(TargetMethod3=1,'Individual Calculations '!P40,'Individual Calculations '!X40)","v":0},null,{"$f":"IF(TargetMethod3=1,0,'Individual Calculations '!Y40)","v":0}]
[29,73,null,{"$f":"'Individual Calculations '!E41","v":0},{"$f":"'Individual Calculations '!F41","v":0},{"$f":"'Individual Calculations '!G41","v":0},null,{"$f":"IF(TargetMethod3=1,\"NA\",'Individual Calculations '!R41)","v":0},null,{"$f":"IF(TargetMethod3=1,'Individual Calculations '!I41,'Individual Calculations '!S41)","v":0},{"$f":"IF(TargetMethod3=1,'Individual Calculations '!J41,'Individual Calculations '!T41)","v":0},{"$f":"IF(TargetMethod3=1,'Individual Calculations '!K41,'Individual Calculations '!U41)","v":0},{"$f":"IF(TargetMethod3=1,'Individual Calculations '!N41,'Individual Calculations '!V41)","v":0},{"$f":"IF(TargetMethod3=1,'Individual Calculations '!O41,'Individual Calculations '!W41)","v":0},{"$f":"IF(TargetMethod3=1,'Individual Calculations '!P41,'Individual Calculations '!X41)","v":0},null,{"$f":"IF(TargetMethod3=1,0,'Individual Calculations '!Y41)","v":0}]
[30,74,null,{"$f":"'Individual Calculations '!E42","v":0},{"$f":"'Individual Calculations '!F42","v":0},{"$f":"'Individual Calculations '!G42","v":0},null,{"$f":"IF(TargetMethod3=1,\"NA\",'Individual Calculations '!R42)","v":0},null,{"$f":"IF(TargetMethod3=1,'Individual Calculations '!I42,'Individual Calculations '!S42)","v":0},{"$f":"IF(TargetMethod3=1,'Individual Calculations '!J42,'Individual Calculations '!T42)","v":0},{"$f":"IF(TargetMethod3=1,'Individual Calculations '!K42,'Individual Calculations '!U42)","v":0},{"$f":"IF(TargetMethod3=1,'Individual Calculations '!N42,'Individual Calculations '!V42)","v":0},{"$f":"IF(TargetMethod3=1,'Individual Calculations '!O42,'Individual Calculations '!W42)","v":0},{"$f":"IF(TargetMethod3=1,'Individual Calculations '!P42,'Individual Calculations '!X42)","v":0},null,{"$f":"IF(TargetMethod3=1,0,'Individual Calculations '!Y42)","v":0}]
[31,75,null,{"$f":"'Individual Calculations '!E43","v":0},{"$f":"'Individual Calculations '!F43","v":0},{"$f":"'Individual Calculations '!G43","v":0},null,{"$f":"IF(TargetMethod3=1,\"NA\",'Individual Calculations '!R43)","v":0},null,{"$f":"IF(TargetMethod3=1,'Individual Calculations '!I43,'Individual Calculations '!S43)","v":0},{"$f":"IF(TargetMethod3=1,'Individual Calculations '!J43,'Individual Calculations '!T43)","v":0},{"$f":"IF(TargetMethod3=1,'Individual Calculations '!K43,'Individual Calculations '!U43)","v":0},{"$f":"IF(TargetMethod3=1,'Individual Calculations '!N43,'Individual Calculations '!V43)","v":0},{"$f":"IF(TargetMethod3=1,'Individual Calculations '!O43,'Individual Calculations '!W43)","v":0},{"$f":"IF(TargetMethod3=1,'Individual Calculations '!P43,'Individual Calculations '!X43)","v":0},null,{"$f":"IF(TargetMethod3=1,0,'Individual Calculations '!Y43)","v":0}]
[32,76,null,{"$f":"'Individual Calculations '!E44","v":0},{"$f":"'Individual Calculations '!F44","v":0},{"$f":"'Individual Calculations '!G44","v":0},null,{"$f":"IF(TargetMethod3=1,\"NA\",'Individual Calculations '!R44)","v":0},null,{"$f":"IF(TargetMethod3=1,'Individual Calculations '!I44,'Individual Calculations '!S44)","v":0},{"$f":"IF(TargetMethod3=1,'Individual Calculations '!J44,'Individual Calculations '!T44)","v":0},{"$f":"IF(TargetMethod3=1,'Individual Calculations '!K44,'Individual Calculations '!U44)","v":0},{"$f":"IF(TargetMethod3=1,'Individual Calculations '!N44,'Individual Calculations '!V44)","v":0},{"$f":"IF(TargetMethod3=1,'Individual Calculations '!O44,'Individual Calculations '!W44)","v":0},{"$f":"IF(TargetMethod3=1,'Individual Calculations '!P44,'Individual Calculations '!X44)","v":0},null,{"$f":"IF(TargetMethod3=1,0,'Individual Calculations '!Y44)","v":0}]
[33,77,null,{"$f":"'Individual Calculations '!E45","v":0},{"$f":"'Individual Calculations '!F45","v":0},{"$f":"'Individual Calculations '!G45","v":0},null,{"$f":"IF(TargetMethod3=1,\"NA\",'Individual Calculations '!R45)","v":0},null,{"$f":"IF(TargetMethod3=1,'Individual Calculations '!I45,'Individual Calculations '!S45)","v":0},{"$f":"IF(TargetMethod3=1,'Individual Calculations '!J45,'Individual Calculations '!T45)","v":0},{"$f":"IF(TargetMethod3=1,'Individual Calculations '!K45,'Individual Calculations '!U45)","v":0},{"$f":"IF(TargetMethod3=1,'Individual Calculations '!N45,'Individual Calculations '!V45)","v":0},{"$f":"IF(TargetMethod3=1,'Individual Calculations '!O45,'Individual Calculations '!W45)","v":0},{"$f":"IF(TargetMethod3=1,'Individual Calculations '!P45,'Individual Calculations '!X45)","v":0},null,{"$f":"IF(TargetMethod3=1,0,'Individual Calculations '!Y45)","v":0}]
[34,78,null,{"$f":"'Individual Calculations '!E46","v":0},{"$f":"'Individual Calculations '!F46","v":0},{"$f":"'Individual Calculations '!G46","v":0},null,{"$f":"IF(TargetMethod3=1,\"NA\",'Individual Calculations '!R46)","v":0},null,{"$f":"IF(TargetMethod3=1,'Individual Calculations '!I46,'Individual Calculations '!S46)","v":0},{"$f":"IF(TargetMethod3=1,'Individual Calculations '!J46,'Individual Calculations '!T46)","v":0},{"$f":"IF(TargetMethod3=1,'Individual Calculations '!K46,'Individual Calculations '!U46)","v":0},{"$f":"IF(TargetMethod3=1,'Individual Calculations '!N46,'Individual Calculations '!V46)","v":0},{"$f":"IF(TargetMethod3=1,'Individual Calculations '!O46,'Individual Calculations '!W46)","v":0},{"$f":"IF(TargetMethod3=1,'Individual Calculations '!P46,'Individual Calculations '!X46)","v":0},null,{"$f":"IF(TargetMethod3=1,0,'Individual Calculations '!Y46)","v":0}]
[35,79,null,{"$f":"'Individual Calculations '!E47","v":0},{"$f":"'Individual Calculations '!F47","v":0},{"$f":"'Individual Calculations '!G47","v":0},null,{"$f":"IF(TargetMethod3=1,\"NA\",'Individual Calculations '!R47)","v":0},null,{"$f":"IF(TargetMethod3=1,'Individual Calculations '!I47,'Individual Calculations '!S47)","v":0},{"$f":"IF(TargetMethod3=1,'Individual Calculations '!J47,'Individual Calculations '!T47)","v":0},{"$f":"IF(TargetMethod3=1,'Individual Calculations '!K47,'Individual Calculations '!U47)","v":0},{"$f":"IF(TargetMethod3=1,'Individual Calculations '!N47,'Individual Calculations '!V47)","v":0},{"$f":"IF(TargetMethod3=1,'Individual Calculations '!O47,'Individual Calculations '!W47)","v":0},{"$f":"IF(TargetMethod3=1,'Individual Calculations '!P47,'Individual Calculations '!X47)","v":0},null,{"$f":"IF(TargetMethod3=1,0,'Individual Calculations '!Y47)","v":0}]
[36,80,null,{"$f":"'Individual Calculations '!E48","v":0},{"$f":"'Individual Calculations '!F48","v":0},{"$f":"'Individual Calculations '!G48","v":0},null,{"$f":"IF(TargetMethod3=1,\"NA\",'Individual Calculations '!R48)","v":0},null,{"$f":"IF(TargetMethod3=1,'Individual Calculations '!I48,'Individual Calculations '!S48)","v":0},{"$f":"IF(TargetMethod3=1,'Individual Calculations '!J48,'Individual Calculations '!T48)","v":0},{"$f":"IF(TargetMethod3=1,'Individual Calculations '!K48,'Individual Calculations '!U48)","v":0},{"$f":"IF(TargetMethod3=1,'Individual Calculations '!N48,'Individual Calculations '!V48)","v":0},{"$f":"IF(TargetMethod3=1,'Individual Calculations '!O48,'Individual Calculations '!W48)","v":0},{"$f":"IF(TargetMethod3=1,'Individual Calculations '!P48,'Individual Calculations '!X48)","v":0},null,{"$f":"IF(TargetMethod3=1,0,'Individual Calculations '!Y48)","v":0}]
[37,81,null,{"$f":"'Individual Calculations '!E49","v":0},{"$f":"'Individual Calculations '!F49","v":0},{"$f":"'Individual Calculations '!G49","v":0},null,{"$f":"IF(TargetMethod3=1,\"NA\",'Individual Calculations '!R49)","v":0},null,{"$f":"IF(TargetMethod3=1,'Individual Calculations '!I49,'Individual Calculations '!S49)","v":0},{"$f":"IF(TargetMethod3=1,'Individual Calculations '!J49,'Individual Calculations '!T49)","v":0},{"$f":"IF(TargetMethod3=1,'Individual Calculations '!K49,'Individual Calculations '!U49)","v":0},{"$f":"IF(TargetMethod3=1,'Individual Calculations '!N49,'Individual Calculations '!V49)","v":0},{"$f":"IF(TargetMethod3=1,'Individual Calculations '!O49,'Individual Calculations '!W49)","v":0},{"$f":"IF(TargetMethod3=1,'Individual Calculations '!P49,'Individual Calculations '!X49)","v":0},null,{"$f":"IF(TargetMethod3=1,0,'Individual Calculations '!Y49)","v":0}]
[38,82,null,{"$f":"'Individual Calculations '!E50","v":0},{"$f":"'Individual Calculations '!F50","v":0},{"$f":"'Individual Calculations '!G50","v":0},null,{"$f":"IF(TargetMethod3=1,\"NA\",'Individual Calculations '!R50)","v":0},null,{"$f":"IF(TargetMethod3=1,'Individual Calculations '!I50,'Individual Calculations '!S50)","v":0},{"$f":"IF(TargetMethod3=1,'Individual Calculations '!J50,'Individual Calculations '!T50)","v":0},{"$f":"IF(TargetMethod3=1,'Individual Calculations '!K50,'Individual Calculations '!U50)","v":0},{"$f":"IF(TargetMethod3=1,'Individual Calculations '!N50,'Individual Calculations '!V50)","v":0},{"$f":"IF(TargetMethod3=1,'Individual Calculations '!O50,'Individual Calculations '!W50)","v":0},{"$f":"IF(TargetMethod3=1,'Individual Calculations '!P50,'Individual Calculations '!X50)","v":0},null,{"$f":"IF(TargetMethod3=1,0,'Individual Calculations '!Y50)","v":0}]
[39,83,null,{"$f":"'Individual Calculations '!E51","v":0},{"$f":"'Individual Calculations '!F51","v":0},{"$f":"'Individual Calculations '!G51","v":0},null,{"$f":"IF(TargetMethod3=1,\"NA\",'Individual Calculations '!R51)","v":0},null,{"$f":"IF(TargetMethod3=1,'Individual Calculations '!I51,'Individual Calculations '!S51)","v":0},{"$f":"IF(TargetMethod3=1,'Individual Calculations '!J51,'Individual Calculations '!T51)","v":0},{"$f":"IF(TargetMethod3=1,'Individual Calculations '!K51,'Individual Calculations '!U51)","v":0},{"$f":"IF(TargetMethod3=1,'Individual Calculations '!N51,'Individual Calculations '!V51)","v":0},{"$f":"IF(TargetMethod3=1,'Individual Calculations '!O51,'Individual Calculations '!W51)","v":0},{"$f":"IF(TargetMethod3=1,'Individual Calculations '!P51,'Individual Calculations '!X51)","v":0},null,{"$f":"IF(TargetMethod3=1,0,'Individual Calculations '!Y51)","v":0}]
[40,84,null,{"$f":"'Individual Calculations '!E52","v":0},{"$f":"'Individual Calculations '!F52","v":0},{"$f":"'Individual Calculations '!G52","v":0},null,{"$f":"IF(TargetMethod3=1,\"NA\",'Individual Calculations '!R52)","v":0},null,{"$f":"IF(TargetMethod3=1,'Individual Calculations '!I52,'Individual Calculations '!S52)","v":0},{"$f":"IF(TargetMethod3=1,'Individual Calculations '!J52,'Individual Calculations '!T52)","v":0},{"$f":"IF(TargetMethod3=1,'Individual Calculations '!K52,'Individual Calculations '!U52)","v":0},{"$f":"IF(TargetMethod3=1,'Individual Calculations '!N52,'Individual Calculations '!V52)","v":0},{"$f":"IF(TargetMethod3=1,'Individual Calculations '!O52,'Individual Calculations '!W52)","v":0},{"$f":"IF(TargetMethod3=1,'Individual Calculations '!P52,'Individual Calculations '!X52)","v":0},null,{"$f":"IF(TargetMethod3=1,0,'Individual Calculations '!Y52)","v":0}]
[41,85,null,{"$f":"'Individual Calculations '!E53","v":0},{"$f":"'Individual Calculations '!F53","v":0},{"$f":"'Individual Calculations '!G53","v":0},null,{"$f":"IF(TargetMethod3=1,\"NA\",'Individual Calculations '!R53)","v":0},null,{"$f":"IF(TargetMethod3=1,'Individual Calculations '!I53,'Individual Calculations '!S53)","v":0},{"$f":"IF(TargetMethod3=1,'Individual Calculations '!J53,'Individual Calculations '!T53)","v":0},{"$f":"IF(TargetMethod3=1,'Individual Calculations '!K53,'Individual Calculations '!U53)","v":0},{"$f":"IF(TargetMethod3=1,'Individual Calculations '!N53,'Individual Calculations '!V53)","v":0},{"$f":"IF(TargetMethod3=1,'Individual Calculations '!O53,'Individual Calculations '!W53)","v":0},{"$f":"IF(TargetMethod3=1,'Individual Calculations '!P53,'Individual Calculations '!X53)","v":0},null,{"$f":"IF(TargetMethod3=1,0,'Individual Calculations '!Y53)","v":0}]
[42,86,null,{"$f":"'Individual Calculations '!E54","v":0},{"$f":"'Individual Calculations '!F54","v":0},{"$f":"'Individual Calculations '!G54","v":0},null,{"$f":"IF(TargetMethod3=1,\"NA\",'Individual Calculations '!R54)","v":0},null,{"$f":"IF(TargetMethod3=1,'Individual Calculations '!I54,'Individual Calculations '!S54)","v":0},{"$f":"IF(TargetMethod3=1,'Individual Calculations '!J54,'Individual Calculations '!T54)","v":0},{"$f":"IF(TargetMethod3=1,'Individual Calculations '!K54,'Individual Calculations '!U54)","v":0},{"$f":"IF(TargetMethod3=1,'Individual Calculations '!N54,'Individual Calculations '!V54)","v":0},{"$f":"IF(TargetMethod3=1,'Individual Calculations '!O54,'Individual Calculations '!W54)","v":0},{"$f":"IF(TargetMethod3=1,'Individual Calculations '!P54,'Individual Calculations '!X54)","v":0},null,{"$f":"IF(TargetMethod3=1,0,'Individual Calculations '!Y54)","v":0}]
[43,87,null,{"$f":"'Individual Calculations '!E55","v":0},{"$f":"'Individual Calculations '!F55","v":0},{"$f":"'Individual Calculations '!G55","v":0},null,{"$f":"IF(TargetMethod3=1,\"NA\",'Individual Calculations '!R55)","v":0},null,{"$f":"IF(TargetMethod3=1,'Individual Calculations '!I55,'Individual Calculations '!S55)","v":0},{"$f":"IF(TargetMethod3=1,'Individual Calculations '!J55,'Individual Calculations '!T55)","v":0},{"$f":"IF(TargetMethod3=1,'Individual Calculations '!K55,'Individual Calculations '!U55)","v":0},{"$f":"IF(TargetMethod3=1,'Individual Calculations '!N55,'Individual Calculations '!V55)","v":0},{"$f":"IF(TargetMethod3=1,'Individual Calculations '!O55,'Individual Calculations '!W55)","v":0},{"$f":"IF(TargetMethod3=1,'Individual Calculations '!P55,'Individual Calculations '!X55)","v":0},null,{"$f":"IF(TargetMethod3=1,0,'Individual Calculations '!Y55)","v":0}]
[44,88,null,{"$f":"'Individual Calculations '!E56","v":0},{"$f":"'Individual Calculations '!F56","v":0},{"$f":"'Individual Calculations '!G56","v":0},null,{"$f":"IF(TargetMethod3=1,\"NA\",'Individual Calculations '!R56)","v":0},null,{"$f":"IF(TargetMethod3=1,'Individual Calculations '!I56,'Individual Calculations '!S56)","v":0},{"$f":"IF(TargetMethod3=1,'Individual Calculations '!J56,'Individual Calculations '!T56)","v":0},{"$f":"IF(TargetMethod3=1,'Individual Calculations '!K56,'Individual Calculations '!U56)","v":0},{"$f":"IF(TargetMethod3=1,'Individual Calculations '!N56,'Individual Calculations '!V56)","v":0},{"$f":"IF(TargetMethod3=1,'Individual Calculations '!O56,'Individual Calculations '!W56)","v":0},{"$f":"IF(TargetMethod3=1,'Individual Calculations '!P56,'Individual Calculations '!X56)","v":0},null,{"$f":"IF(TargetMethod3=1,0,'Individual Calculations '!Y56)","v":0}]
[45,89,null,{"$f":"'Individual Calculations '!E57","v":0},{"$f":"'Individual Calculations '!F57","v":0},{"$f":"'Individual Calculations '!G57","v":0},null,{"$f":"IF(TargetMethod3=1,\"NA\",'Individual Calculations '!R57)","v":0},null,{"$f":"IF(TargetMethod3=1,'Individual Calculations '!I57,'Individual Calculations '!S57)","v":0},{"$f":"IF(TargetMethod3=1,'Individual Calculations '!J57,'Individual Calculations '!T57)","v":0},{"$f":"IF(TargetMethod3=1,'Individual Calculations '!K57,'Individual Calculations '!U57)","v":0},{"$f":"IF(TargetMethod3=1,'Individual Calculations '!N57,'Individual Calculations '!V57)","v":0},{"$f":"IF(TargetMethod3=1,'Individual Calculations '!O57,'Individual Calculations '!W57)","v":0},{"$f":"IF(TargetMethod3=1,'Individual Calculations '!P57,'Individual Calculations '!X57)","v":0},null,{"$f":"IF(TargetMethod3=1,0,'Individual Calculations '!Y57)","v":0}]
[46,90,null,{"$f":"'Individual Calculations '!E58","v":0},{"$f":"'Individual Calculations '!F58","v":0},{"$f":"'Individual Calculations '!G58","v":0},null,{"$f":"IF(TargetMethod3=1,\"NA\",'Individual Calculations '!R58)","v":0},null,{"$f":"IF(TargetMethod3=1,'Individual Calculations '!I58,'Individual Calculations '!S58)","v":0},{"$f":"IF(TargetMethod3=1,'Individual Calculations '!J58,'Individual Calculations '!T58)","v":0},{"$f":"IF(TargetMethod3=1,'Individual Calculations '!K58,'Individual Calculations '!U58)","v":0},{"$f":"IF(TargetMethod3=1,'Individual Calculations '!N58,'Individual Calculations '!V58)","v":0},{"$f":"IF(TargetMethod3=1,'Individual Calculations '!O58,'Individual Calculations '!W58)","v":0},{"$f":"IF(TargetMethod3=1,'Individual Calculations '!P58,'Individual Calculations '!X58)","v":0},null,{"$f":"IF(TargetMethod3=1,0,'Individual Calculations '!Y58)","v":0}]
[47,91,null,{"$f":"'Individual Calculations '!E59","v":0},{"$f":"'Individual Calculations '!F59","v":0},{"$f":"'Individual Calculations '!G59","v":0},null,{"$f":"IF(TargetMethod3=1,\"NA\",'Individual Calculations '!R59)","v":0},null,{"$f":"IF(TargetMethod3=1,'Individual Calculations '!I59,'Individual Calculations '!S59)","v":0},{"$f":"IF(TargetMethod3=1,'Individual Calculations '!J59,'Individual Calculations '!T59)","v":0},{"$f":"IF(TargetMethod3=1,'Individual Calculations '!K59,'Individual Calculations '!U59)","v":0},{"$f":"IF(TargetMethod3=1,'Individual Calculations '!N59,'Individual Calculations '!V59)","v":0},{"$f":"IF(TargetMethod3=1,'Individual Calculations '!O59,'Individual Calculations '!W59)","v":0},{"$f":"IF(TargetMethod3=1,'Individual Calculations '!P59,'Individual Calculations '!X59)","v":0},null,{"$f":"IF(TargetMethod3=1,0,'Individual Calculations '!Y59)","v":0}]
[48,92,null,{"$f":"'Individual Calculations '!E60","v":0},{"$f":"'Individual Calculations '!F60","v":0},{"$f":"'Individual Calculations '!G60","v":0},null,{"$f":"IF(TargetMethod3=1,\"NA\",'Individual Calculations '!R60)","v":0},null,{"$f":"IF(TargetMethod3=1,'Individual Calculations '!I60,'Individual Calculations '!S60)","v":0},{"$f":"IF(TargetMethod3=1,'Individual Calculations '!J60,'Individual Calculations '!T60)","v":0},{"$f":"IF(TargetMethod3=1,'Individual Calculations '!K60,'Individual Calculations '!U60)","v":0},{"$f":"IF(TargetMethod3=1,'Individual Calculations '!N60,'Individual Calculations '!V60)","v":0},{"$f":"IF(TargetMethod3=1,'Individual Calculations '!O60,'Individual Calculations '!W60)","v":0},{"$f":"IF(TargetMethod3=1,'Individual Calculations '!P60,'Individual Calculations '!X60)","v":0},null,{"$f":"IF(TargetMethod3=1,0,'Individual Calculations '!Y60)","v":0}]
[49,93,null,{"$f":"'Individual Calculations '!E61","v":0},{"$f":"'Individual Calculations '!F61","v":0},{"$f":"'Individual Calculations '!G61","v":0},null,{"$f":"IF(TargetMethod3=1,\"NA\",'Individual Calculations '!R61)","v":0},null,{"$f":"IF(TargetMethod3=1,'Individual Calculations '!I61,'Individual Calculations '!S61)","v":0},{"$f":"IF(TargetMethod3=1,'Individual Calculations '!J61,'Individual Calculations '!T61)","v":0},{"$f":"IF(TargetMethod3=1,'Individual Calculations '!K61,'Individual Calculations '!U61)","v":0},{"$f":"IF(TargetMethod3=1,'Individual Calculations '!N61,'Individual Calculations '!V61)","v":0},{"$f":"IF(TargetMethod3=1,'Individual Calculations '!O61,'Individual Calculations '!W61)","v":0},{"$f":"IF(TargetMethod3=1,'Individual Calculations '!P61,'Individual Calculations '!X61)","v":0},null,{"$f":"IF(TargetMethod3=1,0,'Individual Calculations '!Y61)","v":0}]
[50,94,null,{"$f":"'Individual Calculations '!E62","v":0},{"$f":"'Individual Calculations '!F62","v":0},{"$f":"'Individual Calculations '!G62","v":0},null,{"$f":"IF(TargetMethod3=1,\"NA\",'Individual Calculations '!R62)","v":0},null,{"$f":"IF(TargetMethod3=1,'Individual Calculations '!I62,'Individual Calculations '!S62)","v":0},{"$f":"IF(TargetMethod3=1,'Individual Calculations '!J62,'Individual Calculations '!T62)","v":0},{"$f":"IF(TargetMethod3=1,'Individual Calculations '!K62,'Individual Calculations '!U62)","v":0},{"$f":"IF(TargetMethod3=1,'Individual Calculations '!N62,'Individual Calculations '!V62)","v":0},{"$f":"IF(TargetMethod3=1,'Individual Calculations '!O62,'Individual Calculations '!W62)","v":0},{"$f":"IF(TargetMethod3=1,'Individual Calculations '!P62,'Individual Calculations '!X62)","v":0},null,{"$f":"IF(TargetMethod3=1,0,'Individual Calculations '!Y62)","v":0}]
[51,95,null,{"$f":"'Individual Calculations '!E63","v":0},{"$f":"'Individual Calculations '!F63","v":0},{"$f":"'Individual Calculations '!G63","v":0},null,{"$f":"IF(TargetMethod3=1,\"NA\",'Individual Calculations '!R63)","v":0},null,{"$f":"IF(TargetMethod3=1,'Individual Calculations '!I63,'Individual Calculations '!S63)","v":0},{"$f":"IF(TargetMethod3=1,'Individual Calculations '!J63,'Individual Calculations '!T63)","v":0},{"$f":"IF(TargetMethod3=1,'Individual Calculations '!K63,'Individual Calculations '!U63)","v":0},{"$f":"IF(TargetMethod3=1,'Individual Calculations '!N63,'Individual Calculations '!V63)","v":0},{"$f":"IF(TargetMethod3=1,'Individual Calculations '!O63,'Individual Calculations '!W63)","v":0},{"$f":"IF(TargetMethod3=1,'Individual Calculations '!P63,'Individual Calculations '!X63)","v":0},null,{"$f":"IF(TargetMethod3=1,0,'Individual Calculations '!Y63)","v":0}]
[52,96,null,{"$f":"'Individual Calculations '!E64","v":0},{"$f":"'Individual Calculations '!F64","v":0},{"$f":"'Individual Calculations '!G64","v":0},null,{"$f":"IF(TargetMethod3=1,\"NA\",'Individual Calculations '!R64)","v":0},null,{"$f":"IF(TargetMethod3=1,'Individual Calculations '!I64,'Individual Calculations '!S64)","v":0},{"$f":"IF(TargetMethod3=1,'Individual Calculations '!J64,'Individual Calculations '!T64)","v":0},{"$f":"IF(TargetMethod3=1,'Individual Calculations '!K64,'Individual Calculations '!U64)","v":0},{"$f":"IF(TargetMethod3=1,'Individual Calculations '!N64,'Individual Calculations '!V64)","v":0},{"$f":"IF(TargetMethod3=1,'Individual Calculations '!O64,'Individual Calculations '!W64)","v":0},{"$f":"IF(TargetMethod3=1,'Individual Calculations '!P64,'Individual Calculations '!X64)","v":0},null,{"$f":"IF(TargetMethod3=1,0,'Individual Calculations '!Y64)","v":0}]
[53,97,null,{"$f":"'Individual Calculations '!E65","v":0},{"$f":"'Individual Calculations '!F65","v":0},{"$f":"'Individual Calculations '!G65","v":0},null,{"$f":"IF(TargetMethod3=1,\"NA\",'Individual Calculations '!R65)","v":0},null,{"$f":"IF(TargetMethod3=1,'Individual Calculations '!I65,'Individual Calculations '!S65)","v":0},{"$f":"IF(TargetMethod3=1,'Individual Calculations '!J65,'Individual Calculations '!T65)","v":0},{"$f":"IF(TargetMethod3=1,'Individual Calculations '!K65,'Individual Calculations '!U65)","v":0},{"$f":"IF(TargetMethod3=1,'Individual Calculations '!N65,'Individual Calculations '!V65)","v":0},{"$f":"IF(TargetMethod3=1,'Individual Calculations '!O65,'Individual Calculations '!W65)","v":0},{"$f":"IF(TargetMethod3=1,'Individual Calculations '!P65,'Individual Calculations '!X65)","v":0},null,{"$f":"IF(TargetMethod3=1,0,'Individual Calculations '!Y65)","v":0}]
[54,98,null,{"$f":"'Individual Calculations '!E66","v":0},{"$f":"'Individual Calculations '!F66","v":0},{"$f":"'Individual Calculations '!G66","v":0},null,{"$f":"IF(TargetMethod3=1,\"NA\",'Individual Calculations '!R66)","v":0},null,{"$f":"IF(TargetMethod3=1,'Individual Calculations '!I66,'Individual Calculations '!S66)","v":0},{"$f":"IF(TargetMethod3=1,'Individual Calculations '!J66,'Individual Calculations '!T66)","v":0},{"$f":"IF(TargetMethod3=1,'Individual Calculations '!K66,'Individual Calculations '!U66)","v":0},{"$f":"IF(TargetMethod3=1,'Individual Calculations '!N66,'Individual Calculations '!V66)","v":0},{"$f":"IF(TargetMethod3=1,'Individual Calculations '!O66,'Individual Calculations '!W66)","v":0},{"$f":"IF(TargetMethod3=1,'Individual Calculations '!P66,'Individual Calculations '!X66)","v":0},null,{"$f":"IF(TargetMethod3=1,0,'Individual Calculations '!Y66)","v":0}]
[55,99,null,{"$f":"'Individual Calculations '!E67","v":0},{"$f":"'Individual Calculations '!F67","v":0},{"$f":"'Individual Calculations '!G67","v":0},null,{"$f":"IF(TargetMethod3=1,\"NA\",'Individual Calculations '!R67)","v":0},null,{"$f":"IF(TargetMethod3=1,'Individual Calculations '!I67,'Individual Calculations '!S67)","v":0},{"$f":"IF(TargetMethod3=1,'Individual Calculations '!J67,'Individual Calculations '!T67)","v":0},{"$f":"IF(TargetMethod3=1,'Individual Calculations '!K67,'Individual Calculations '!U67)","v":0},{"$f":"IF(TargetMethod3=1,'Individual Calculations '!N67,'Individual Calculations '!V67)","v":0},{"$f":"IF(TargetMethod3=1,'Individual Calculations '!O67,'Individual Calculations '!W67)","v":0},{"$f":"IF(TargetMethod3=1,'Individual Calculations '!P67,'Individual Calculations '!X67)","v":0},null,{"$f":"IF(TargetMethod3=1,0,'Individual Calculations '!Y67)","v":0}]
[56,100,null,{"$f":"'Individual Calculations '!E68","v":0},{"$f":"'Individual Calculations '!F68","v":0},{"$f":"'Individual Calculations '!G68","v":0},null,{"$f":"IF(TargetMethod3=1,\"NA\",'Individual Calculations '!R68)","v":0},null,{"$f":"IF(TargetMethod3=1,'Individual Calculations '!I68,'Individual Calculations '!S68)","v":0},{"$f":"IF(TargetMethod3=1,'Individual Calculations '!J68,'Individual Calculations '!T68)","v":0},{"$f":"IF(TargetMethod3=1,'Individual Calculations '!K68,'Individual Calculations '!U68)","v":0},{"$f":"IF(TargetMethod3=1,'Individual Calculations '!N68,'Individual Calculations '!V68)","v":0},{"$f":"IF(TargetMethod3=1,'Individual Calculations '!O68,'Individual Calculations '!W68)","v":0},{"$f":"IF(TargetMethod3=1,'Individual Calculations '!P68,'Individual Calculations '!X68)","v":0},null,{"$f":"IF(TargetMethod3=1,0,'Individual Calculations '!Y68)","v":0}]
[57,101,null,{"$f":"'Individual Calculations '!E69","v":0},{"$f":"'Individual Calculations '!F69","v":0},{"$f":"'Individual Calculations '!G69","v":0},null,{"$f":"IF(TargetMethod3=1,\"NA\",'Individual Calculations '!R69)","v":0},null,{"$f":"IF(TargetMethod3=1,'Individual Calculations '!I69,'Individual Calculations '!S69)","v":0},{"$f":"IF(TargetMethod3=1,'Individual Calculations '!J69,'Individual Calculations '!T69)","v":0},{"$f":"IF(TargetMethod3=1,'Individual Calculations '!K69,'Individual Calculations '!U69)","v":0},{"$f":"IF(TargetMethod3=1,'Individual Calculations '!N69,'Individual Calculations '!V69)","v":0},{"$f":"IF(TargetMethod3=1,'Individual Calculations '!O69,'Individual Calculations '!W69)","v":0},{"$f":"IF(TargetMethod3=1,'Individual Calculations '!P69,'Individual Calculations '!X69)","v":0},null,{"$f":"IF(TargetMethod3=1,0,'Individual Calculations '!Y69)","v":0}]
[58,102,null,{"$f":"'Individual Calculations '!E70","v":0},{"$f":"'Individual Calculations '!F70","v":0},{"$f":"'Individual Calculations '!G70","v":0},null,{"$f":"IF(TargetMethod3=1,\"NA\",'Individual Calculations '!R70)","v":0},null,{"$f":"IF(TargetMethod3=1,'Individual Calculations '!I70,'Individual Calculations '!S70)","v":0},{"$f":"IF(TargetMethod3=1,'Individual Calculations '!J70,'Individual Calculations '!T70)","v":0},{"$f":"IF(TargetMethod3=1,'Individual Calculations '!K70,'Individual Calculations '!U70)","v":0},{"$f":"IF(TargetMethod3=1,'Individual Calculations '!N70,'Individual Calculations '!V70)","v":0},{"$f":"IF(TargetMethod3=1,'Individual Calculations '!O70,'Individual Calculations '!W70)","v":0},{"$f":"IF(TargetMethod3=1,'Individual Calculations '!P70,'Individual Calculations '!X70)","v":0},null,{"$f":"IF(TargetMethod3=1,0,'Individual Calculations '!Y70)","v":0}]
[59,103,null,{"$f":"'Individual Calculations '!E71","v":0},{"$f":"'Individual Calculations '!F71","v":0},{"$f":"'Individual Calculations '!G71","v":0},null,{"$f":"IF(TargetMethod3=1,\"NA\",'Individual Calculations '!R71)","v":0},null,{"$f":"IF(TargetMethod3=1,'Individual Calculations '!I71,'Individual Calculations '!S71)","v":0},{"$f":"IF(TargetMethod3=1,'Individual Calculations '!J71,'Individual Calculations '!T71)","v":0},{"$f":"IF(TargetMethod3=1,'Individual Calculations '!K71,'Individual Calculations '!U71)","v":0},{"$f":"IF(TargetMethod3=1,'Individual Calculations '!N71,'Individual Calculations '!V71)","v":0},{"$f":"IF(TargetMethod3=1,'Individual Calculations '!O71,'Individual Calculations '!W71)","v":0},{"$f":"IF(TargetMethod3=1,'Individual Calculations '!P71,'Individual Calculations '!X71)","v":0},null,{"$f":"IF(TargetMethod3=1,0,'Individual Calculations '!Y71)","v":0}]
[60,104,null,{"$f":"'Individual Calculations '!E72","v":0},{"$f":"'Individual Calculations '!F72","v":0},{"$f":"'Individual Calculations '!G72","v":0},null,{"$f":"IF(TargetMethod3=1,\"NA\",'Individual Calculations '!R72)","v":0},null,{"$f":"IF(TargetMethod3=1,'Individual Calculations '!I72,'Individual Calculations '!S72)","v":0},{"$f":"IF(TargetMethod3=1,'Individual Calculations '!J72,'Individual Calculations '!T72)","v":0},{"$f":"IF(TargetMethod3=1,'Individual Calculations '!K72,'Individual Calculations '!U72)","v":0},{"$f":"IF(TargetMethod3=1,'Individual Calculations '!N72,'Individual Calculations '!V72)","v":0},{"$f":"IF(TargetMethod3=1,'Individual Calculations '!O72,'Individual Calculations '!W72)","v":0},{"$f":"IF(TargetMethod3=1,'Individual Calculations '!P72,'Individual Calculations '!X72)","v":0},null,{"$f":"IF(TargetMethod3=1,0,'Individual Calculations '!Y72)","v":0}]
[61,105,null,{"$f":"'Individual Calculations '!E73","v":0},{"$f":"'Individual Calculations '!F73","v":0},{"$f":"'Individual Calculations '!G73","v":0},null,{"$f":"IF(TargetMethod3=1,\"NA\",'Individual Calculations '!R73)","v":0},null,{"$f":"IF(TargetMethod3=1,'Individual Calculations '!I73,'Individual Calculations '!S73)","v":0},{"$f":"IF(TargetMethod3=1,'Individual Calculations '!J73,'Individual Calculations '!T73)","v":0},{"$f":"IF(TargetMethod3=1,'Individual Calculations '!K73,'Individual Calculations '!U73)","v":0},{"$f":"IF(TargetMethod3=1,'Individual Calculations '!N73,'Individual Calculations '!V73)","v":0},{"$f":"IF(TargetMethod3=1,'Individual Calculations '!O73,'Individual Calculations '!W73)","v":0},{"$f":"IF(TargetMethod3=1,'Individual Calculations '!P73,'Individual Calculations '!X73)","v":0},null,{"$f":"IF(TargetMethod3=1,0,'Individual Calculations '!Y73)","v":0}]
[62,106,null,{"$f":"'Individual Calculations '!E74","v":0},{"$f":"'Individual Calculations '!F74","v":0},{"$f":"'Individual Calculations '!G74","v":0},null,{"$f":"IF(TargetMethod3=1,\"NA\",'Individual Calculations '!R74)","v":0},null,{"$f":"IF(TargetMethod3=1,'Individual Calculations '!I74,'Individual Calculations '!S74)","v":0},{"$f":"IF(TargetMethod3=1,'Individual Calculations '!J74,'Individual Calculations '!T74)","v":0},{"$f":"IF(TargetMethod3=1,'Individual Calculations '!K74,'Individual Calculations '!U74)","v":0},{"$f":"IF(TargetMethod3=1,'Individual Calculations '!N74,'Individual Calculations '!V74)","v":0},{"$f":"IF(TargetMethod3=1,'Individual Calculations '!O74,'Individual Calculations '!W74)","v":0},{"$f":"IF(TargetMethod3=1,'Individual Calculations '!P74,'Individual Calculations '!X74)","v":0},null,{"$f":"IF(TargetMethod3=1,0,'Individual Calculations '!Y74)","v":0}]
[63,107,null,{"$f":"'Individual Calculations '!E75","v":0},{"$f":"'Individual Calculations '!F75","v":0},{"$f":"'Individual Calculations '!G75","v":0},null,{"$f":"IF(TargetMethod3=1,\"NA\",'Individual Calculations '!R75)","v":0},null,{"$f":"IF(TargetMethod3=1,'Individual Calculations '!I75,'Individual Calculations '!S75)","v":0},{"$f":"IF(TargetMethod3=1,'Individual Calculations '!J75,'Individual Calculations '!T75)","v":0},{"$f":"IF(TargetMethod3=1,'Individual Calculations '!K75,'Individual Calculations '!U75)","v":0},{"$f":"IF(TargetMethod3=1,'Individual Calculations '!N75,'Individual Calculations '!V75)","v":0},{"$f":"IF(TargetMethod3=1,'Individual Calculations '!O75,'Individual Calculations '!W75)","v":0},{"$f":"IF(TargetMethod3=1,'Individual Calculations '!P75,'Individual Calculations '!X75)","v":0},null,{"$f":"IF(TargetMethod3=1,0,'Individual Calculations '!Y75)","v":0}]
[64,108,null,{"$f":"'Individual Calculations '!E76","v":0},{"$f":"'Individual Calculations '!F76","v":0},{"$f":"'Individual Calculations '!G76","v":0},null,{"$f":"IF(TargetMethod3=1,\"NA\",'Individual Calculations '!R76)","v":0},null,{"$f":"IF(TargetMethod3=1,'Individual Calculations '!I76,'Individual Calculations '!S76)","v":0},{"$f":"IF(TargetMethod3=1,'Individual Calculations '!J76,'Individual Calculations '!T76)","v":0},{"$f":"IF(TargetMethod3=1,'Individual Calculations '!K76,'Individual Calculations '!U76)","v":0},{"$f":"IF(TargetMethod3=1,'Individual Calculations '!N76,'Individual Calculations '!V76)","v":0},{"$f":"IF(TargetMethod3=1,'Individual Calculations '!O76,'Individual Calculations '!W76)","v":0},{"$f":"IF(TargetMethod3=1,'Individual Calculations '!P76,'Individual Calculations '!X76)","v":0},null,{"$f":"IF(TargetMethod3=1,0,'Individual Calculations '!Y76)","v":0}]
[65,109,null,{"$f":"'Individual Calculations '!E77","v":0},{"$f":"'Individual Calculations '!F77","v":0},{"$f":"'Individual Calculations '!G77","v":0},null,{"$f":"IF(TargetMethod3=1,\"NA\",'Individual Calculations '!R77)","v":0},null,{"$f":"IF(TargetMethod3=1,'Individual Calculations '!I77,'Individual Calculations '!S77)","v":0},{"$f":"IF(TargetMethod3=1,'Individual Calculations '!J77,'Individual Calculations '!T77)","v":0},{"$f":"IF(TargetMethod3=1,'Individual Calculations '!K77,'Individual Calculations '!U77)","v":0},{"$f":"IF(TargetMethod3=1,'Individual Calculations '!N77,'Individual Calculations '!V77)","v":0},{"$f":"IF(TargetMethod3=1,'Individual Calculations '!O77,'Individual Calculations '!W77)","v":0},{"$f":"IF(TargetMethod3=1,'Individual Calculations '!P77,'Individual Calculations '!X77)","v":0},null,{"$f":"IF(TargetMethod3=1,0,'Individual Calculations '!Y77)","v":0}]
[66,110,null,{"$f":"'Individual Calculations '!E78","v":0},{"$f":"'Individual Calculations '!F78","v":0},{"$f":"'Individual Calculations '!G78","v":0},null,{"$f":"IF(TargetMethod3=1,\"NA\",'Individual Calculations '!R78)","v":0},null,{"$f":"IF(TargetMethod3=1,'Individual Calculations '!I78,'Individual Calculations '!S78)","v":0},{"$f":"IF(TargetMethod3=1,'Individual Calculations '!J78,'Individual Calculations '!T78)","v":0},{"$f":"IF(TargetMethod3=1,'Individual Calculations '!K78,'Individual Calculations '!U78)","v":0},{"$f":"IF(TargetMethod3=1,'Individual Calculations '!N78,'Individual Calculations '!V78)","v":0},{"$f":"IF(TargetMethod3=1,'Individual Calculations '!O78,'Individual Calculations '!W78)","v":0},{"$f":"IF(TargetMethod3=1,'Individual Calculations '!P78,'Individual Calculations '!X78)","v":0},null,{"$f":"IF(TargetMethod3=1,0,'Individual Calculations '!Y78)","v":0}]
[{"$f":"A75+1","v":67},{"$f":"IF(A76=\"\",\"\",+B75+1)","v":111},null,{"$f":"'Individual Calculations '!E79","v":0},{"$f":"'Individual Calculations '!F79","v":0},{"$f":"'Individual Calculations '!G79","v":0},null,{"$f":"IF(TargetMethod3=1,\"NA\",'Individual Calculations '!R79)","v":0},null,{"$f":"IF(TargetMethod3=1,'Individual Calculations '!I79,'Individual Calculations '!S79)","v":0},{"$f":"IF(TargetMethod3=1,'Individual Calculations '!J79,'Individual Calculations '!T79)","v":0},{"$f":"IF(TargetMethod3=1,'Individual Calculations '!K79,'Individual Calculations '!U79)","v":0},{"$f":"IF(TargetMethod3=1,'Individual Calculations '!N79,'Individual Calculations '!V79)","v":0},{"$f":"IF(TargetMethod3=1,'Individual Calculations '!O79,'Individual Calculations '!W79)","v":0},{"$f":"IF(TargetMethod3=1,'Individual Calculations '!P79,'Individual Calculations '!X79)","v":0},null,{"$f":"IF(TargetMethod3=1,0,'Individual Calculations '!Y79)","v":0}]
[68,112,null,{"$f":"'Individual Calculations '!E80","v":0},{"$f":"'Individual Calculations '!F80","v":0},{"$f":"'Individual Calculations '!G80","v":0},null,{"$f":"IF(TargetMethod3=1,\"NA\",'Individual Calculations '!R80)","v":0},null,{"$f":"IF(TargetMethod3=1,'Individual Calculations '!I80,'Individual Calculations '!S80)","v":0},{"$f":"IF(TargetMethod3=1,'Individual Calculations '!J80,'Individual Calculations '!T80)","v":0},{"$f":"IF(TargetMethod3=1,'Individual Calculations '!K80,'Individual Calculations '!U80)","v":0},{"$f":"IF(TargetMethod3=1,'Individual Calculations '!N80,'Individual Calculations '!V80)","v":0},{"$f":"IF(TargetMethod3=1,'Individual Calculations '!O80,'Individual Calculations '!W80)","v":0},{"$f":"IF(TargetMethod3=1,'Individual Calculations '!P80,'Individual Calculations '!X80)","v":0},null,{"$f":"IF(TargetMethod3=1,0,'Individual Calculations '!Y80)","v":0}]
[69,113,null,{"$f":"'Individual Calculations '!E81","v":0},{"$f":"'Individual Calculations '!F81","v":0},{"$f":"'Individual Calculations '!G81","v":0},null,{"$f":"IF(TargetMethod3=1,\"NA\",'Individual Calculations '!R81)","v":0},null,{"$f":"IF(TargetMethod3=1,'Individual Calculations '!I81,'Individual Calculations '!S81)","v":0},{"$f":"IF(TargetMethod3=1,'Individual Calculations '!J81,'Individual Calculations '!T81)","v":0},{"$f":"IF(TargetMethod3=1,'Individual Calculations '!K81,'Individual Calculations '!U81)","v":0},{"$f":"IF(TargetMethod3=1,'Individual Calculations '!N81,'Individual Calculations '!V81)","v":0},{"$f":"IF(TargetMethod3=1,'Individual Calculations '!O81,'Individual Calculations '!W81)","v":0},{"$f":"IF(TargetMethod3=1,'Individual Calculations '!P81,'Individual Calculations '!X81)","v":0},null,{"$f":"IF(TargetMethod3=1,0,'Individual Calculations '!Y81)","v":0}]
[70,114,null,{"$f":"'Individual Calculations '!E82","v":0},{"$f":"'Individual Calculations '!F82","v":0},{"$f":"'Individual Calculations '!G82","v":0},null,{"$f":"IF(TargetMethod3=1,\"NA\",'Individual Calculations '!R82)","v":0},null,{"$f":"IF(TargetMethod3=1,'Individual Calculations '!I82,'Individual Calculations '!S82)","v":0},{"$f":"IF(TargetMethod3=1,'Individual Calculations '!J82,'Individual Calculations '!T82)","v":0},{"$f":"IF(TargetMethod3=1,'Individual Calculations '!K82,'Individual Calculations '!U82)","v":0},{"$f":"IF(TargetMethod3=1,'Individual Calculations '!N82,'Individual Calculations '!V82)","v":0},{"$f":"IF(TargetMethod3=1,'Individual Calculations '!O82,'Individual Calculations '!W82)","v":0},{"$f":"IF(TargetMethod3=1,'Individual Calculations '!P82,'Individual Calculations '!X82)","v":0},null,{"$f":"IF(TargetMethod3=1,0,'Individual Calculations '!Y82)","v":0}]
[71,115,null,{"$f":"'Individual Calculations '!E83","v":0},{"$f":"'Individual Calculations '!F83","v":0},{"$f":"'Individual Calculations '!G83","v":0},null,{"$f":"IF(TargetMethod3=1,\"NA\",'Individual Calculations '!R83)","v":0},null,{"$f":"IF(TargetMethod3=1,'Individual Calculations '!I83,'Individual Calculations '!S83)","v":0},{"$f":"IF(TargetMethod3=1,'Individual Calculations '!J83,'Individual Calculations '!T83)","v":0},{"$f":"IF(TargetMethod3=1,'Individual Calculations '!K83,'Individual Calculations '!U83)","v":0},{"$f":"IF(TargetMethod3=1,'Individual Calculations '!N83,'Individual Calculations '!V83)","v":0},{"$f":"IF(TargetMethod3=1,'Individual Calculations '!O83,'Individual Calculations '!W83)","v":0},{"$f":"IF(TargetMethod3=1,'Individual Calculations '!P83,'Individual Calculations '!X83)","v":0},null,{"$f":"IF(TargetMethod3=1,0,'Individual Calculations '!Y83)","v":0}]
[72,116,null,{"$f":"'Individual Calculations '!E84","v":0},{"$f":"'Individual Calculations '!F84","v":0},{"$f":"'Individual Calculations '!G84","v":0},null,{"$f":"IF(TargetMethod3=1,\"NA\",'Individual Calculations '!R84)","v":0},null,{"$f":"IF(TargetMethod3=1,'Individual Calculations '!I84,'Individual Calculations '!S84)","v":0},{"$f":"IF(TargetMethod3=1,'Individual Calculations '!J84,'Individual Calculations '!T84)","v":0},{"$f":"IF(TargetMethod3=1,'Individual Calculations '!K84,'Individual Calculations '!U84)","v":0},{"$f":"IF(TargetMethod3=1,'Individual Calculations '!N84,'Individual Calculations '!V84)","v":0},{"$f":"IF(TargetMethod3=1,'Individual Calculations '!O84,'Individual Calculations '!W84)","v":0},{"$f":"IF(TargetMethod3=1,'Individual Calculations '!P84,'Individual Calculations '!X84)","v":0},null,{"$f":"IF(TargetMethod3=1,0,'Individual Calculations '!Y84)","v":0}]
[73,117,null,{"$f":"'Individual Calculations '!E85","v":0},{"$f":"'Individual Calculations '!F85","v":0},{"$f":"'Individual Calculations '!G85","v":0},null,{"$f":"IF(TargetMethod3=1,\"NA\",'Individual Calculations '!R85)","v":0},null,{"$f":"IF(TargetMethod3=1,'Individual Calculations '!I85,'Individual Calculations '!S85)","v":0},{"$f":"IF(TargetMethod3=1,'Individual Calculations '!J85,'Individual Calculations '!T85)","v":0},{"$f":"IF(TargetMethod3=1,'Individual Calculations '!K85,'Individual Calculations '!U85)","v":0},{"$f":"IF(TargetMethod3=1,'Individual Calculations '!N85,'Individual Calculations '!V85)","v":0},{"$f":"IF(TargetMethod3=1,'Individual Calculations '!O85,'Individual Calculations '!W85)","v":0},{"$f":"IF(TargetMethod3=1,'Individual Calculations '!P85,'Individual Calculations '!X85)","v":0},null,{"$f":"IF(TargetMethod3=1,0,'Individual Calculations '!Y85)","v":0}]
[74,118,null,{"$f":"'Individual Calculations '!E86","v":0},{"$f":"'Individual Calculations '!F86","v":0},{"$f":"'Individual Calculations '!G86","v":0},null,{"$f":"IF(TargetMethod3=1,\"NA\",'Individual Calculations '!R86)","v":0},null,{"$f":"IF(TargetMethod3=1,'Individual Calculations '!I86,'Individual Calculations '!S86)","v":0},{"$f":"IF(TargetMethod3=1,'Individual Calculations '!J86,'Individual Calculations '!T86)","v":0},{"$f":"IF(TargetMethod3=1,'Individual Calculations '!K86,'Individual Calculations '!U86)","v":0},{"$f":"IF(TargetMethod3=1,'Individual Calculations '!N86,'Individual Calculations '!V86)","v":0},{"$f":"IF(TargetMethod3=1,'Individual Calculations '!O86,'Individual Calculations '!W86)","v":0},{"$f":"IF(TargetMethod3=1,'Individual Calculations '!P86,'Individual Calculations '!X86)","v":0},null,{"$f":"IF(TargetMethod3=1,0,'Individual Calculations '!Y86)","v":0}]
[75,119,null,{"$f":"'Individual Calculations '!E87","v":0},{"$f":"'Individual Calculations '!F87","v":0},{"$f":"'Individual Calculations '!G87","v":0},null,{"$f":"IF(TargetMethod3=1,\"NA\",'Individual Calculations '!R87)","v":0},null,{"$f":"IF(TargetMethod3=1,'Individual Calculations '!I87,'Individual Calculations '!S87)","v":0},{"$f":"IF(TargetMethod3=1,'Individual Calculations '!J87,'Individual Calculations '!T87)","v":0},{"$f":"IF(TargetMethod3=1,'Individual Calculations '!K87,'Individual Calculations '!U87)","v":0},{"$f":"IF(TargetMethod3=1,'Individual Calculations '!N87,'Individual Calculations '!V87)","v":0},{"$f":"IF(TargetMethod3=1,'Individual Calculations '!O87,'Individual Calculations '!W87)","v":0},{"$f":"IF(TargetMethod3=1,'Individual Calculations '!P87,'Individual Calculations '!X87)","v":0},null,{"$f":"IF(TargetMethod3=1,0,'Individual Calculations '!Y87)","v":0}]
[]
[null,null,null,null,null,null,null,{"$f":"SUBTOTAL(9,H10:H84)","v":0},null,null,null,null,null,null,{"$f":"SUBTOTAL(9,O10:O84)","v":0},null,{"$f":"SUBTOTAL(9,Q10:Q84)","v":0}]

{"sheet":"Current Plans","index":10,"n_rows":84,"n_cols":27,"rows_kept":84,"cut":false,"hidden":false,"merged":[[5,5,5,9],[5,11,5,16],[5,18,5,23],[4,3,4,23],[5,25,5,26]]}
["Retirement Benefit using Current 403(b) Plan, 457(b) Plan, and After Tax Savings"]
[{"$f":"\"Plan Participant - \"&First_Name&\" \"&Last_Name&\" - Age \"&Age","v":"Plan Participant - John Smith - Age 45"}]
[]
[]
[null,null,null,"Combined Accounts"]
[null,null,null,"Compensation",null,"Contributions",null,null,null,null,null,"403(b) and 457(b) Plans",null,null,null,null,null,null,"After Tax Savings (Excluded Target Contributions)",null,null,null,null,null,null,"Retirement Income"]
["Year","Age",null,{"$f":"\"Projected\nBenefit\nComp\n\"&IF(CompDefinition=1,\"(Salary Only)\",\"(Salary+Bonus)\")","v":"Projected\nBenefit\nComp\n(Salary+Bonus)"},null,{"$f":"\"Exec's Target\nContribution\"&IF(TargetMethod1=1,\"\n(\"&TEXT(TargetContribPercent,\"0.0%\")&\")\",IF(TargetMethod2=1,\"\n(\"&TEXT(TargetContribDollarAmt,\"$0,000\")&\")\",\"\n(Max IRS Limit)\"))","v":"Exec's Target\nContribution\n(15.0%)"},null,"Exec's 403(b) & 457(b) Contributions","Employer Match\n403(b) Plan","Excluded\nContributions to After Tax Savings",null,"Annual\nContribution","Pretax\nRetirement\nDistribution","Individual\nTax Rate","After Tax\nRetirement\nDistribution",{"$f":"\"Investment\nEarnings\n@ \"&TEXT(AcctBalGrowth,\"0.00%\")","v":"Investment\nEarnings\n@ 6.00%"},"End of Yr\nAccount\nBalance",null,"Excluded\nContributions","Individual\nTax Rate","After Tax Savings","After Tax\nRetirement\nDistribution",{"$f":"\"Investment Earnings\n@ \"&TEXT(AcctBalGrowth,\"0.00%\")&\n\n\"\n(\"&TEXT(AcctBalGrowth*(1-EEBlendedTaxRate),\"0.00%\")&\n\"\nAfter Tax)\"","v":"Investment Earnings\n@ 6.00%\n(4.20%\nAfter Tax)"},"End of Yr\nAccount\nBalance",null,"After Tax\nRetirement\nDistribution","Pretax\nEquivalent"]
[1,{"$f":"Age","v":45},null,{"$f":"'Individual Calculations '!G13","v":0},null,{"$f":"IF(TargetMethod3=1,\"NA\",'Individual Calculations '!R13)","v":0},null,{"$f":"IF(TargetMethod3=1,'Individual Calculations '!I13+'Individual Calculations '!J13+'Individual Calculations '!O13,'Individual Calculations '!S13+'Individual Calculations '!T13+'Individual Calculations '!W13)","v":0},{"$f":"IF(TargetMethod3=1,'Individual Calculations '!K13,'Individual Calculations '!U13)","v":0},{"$f":"IF(TargetMethod3=1,0,'Individual Calculations '!Y13)","v":0},null,{"$f":"'Individual Calculations '!AA13+'Individual Calculations '!AH13+'Individual Calculations '!AP13","v":0},{"$f":"'Individual Calculations '!AB13+'Individual Calculations '!AI13+'Individual Calculations '!AQ13","v":0},{"$f":"'Individual Calculations '!AC13","v":0.4},{"$f":"'Individual Calculations '!AD13+'Individual Calculations '!AK13+'Individual Calculations '!AS13","v":0},{"$f":"'Individual Calculations '!AE13+'Individual Calculations '!AL13+'Individual Calculations '!AT13","v":0},{"$f":"'Individual Calculations '!AF13+'Individual Calculations '!AM13+'Individual Calculations '!AU13","v":0},null,{"$f":"'Individual Calculations '!AX13","v":0},{"$f":"'Individual Calculations '!AY13","v":0.4},{"$f":"'Individual Calculations '!AZ13","v":0},{"$f":"'Individual Calculations '!BA13","v":0},{"$f":"'Individual Calculations '!BB13","v":0},{"$f":"'Individual Calculations '!BC13","v":0},null,{"$f":"-(O8+V8)","v":0},{"$f":"Z8/(1-T8)","v":0}]
[{"$f":"A8+1","v":2},{"$f":"IF(A9=\"\",\"\",+B8+1)","v":46},null,{"$f":"'Individual Calculations '!G14","v":0},null,{"$f":"IF(TargetMethod3=1,\"NA\",'Individual Calculations '!R14)","v":0},null,{"$f":"IF(TargetMethod3=1,'Individual Calculations '!I14+'Individual Calculations '!J14+'Individual Calculations '!O14,'Individual Calculations '!S14+'Individual Calculations '!T14+'Individual Calculations '!W14)","v":0},{"$f":"IF(TargetMethod3=1,'Individual Calculations '!K14,'Individual Calculations '!U14)","v":0},{"$f":"IF(TargetMethod3=1,0,'Individual Calculations '!Y14)","v":0},null,{"$f":"'Individual Calculations '!AA14+'Individual Calculations '!AH14+'Individual Calculations '!AP14","v":0},{"$f":"'Individual Calculations '!AB14+'Individual Calculations '!AI14+'Individual Calculations '!AQ14","v":0},{"$f":"'Individual Calculations '!AC14","v":0.4},{"$f":"'Individual Calculations '!AD14+'Individual Calculations '!AK14+'Individual Calculations '!AS14","v":0},{"$f":"'Individual Calculations '!AE14+'Individual Calculations '!AL14+'Individual Calculations '!AT14","v":0},{"$f":"'Individual Calculations '!AF14+'Individual Calculations '!AM14+'Individual Calculations '!AU14","v":0},null,{"$f":"'Individual Calculations '!AX14","v":0},{"$f":"'Individual Calculations '!AY14","v":0.4},{"$f":"'Individual Calculations '!AZ14","v":0},{"$f":"'Individual Calculations '!BA14","v":0},{"$f":"'Individual Calculations '!BB14","v":0},{"$f":"'Individual Calculations '!BC14","v":0},null,{"$f":"-(O9+V9)","v":0},{"$f":"Z9/(1-T9)","v":0}]
[{"$f":"A9+1","v":3},{"$f":"IF(A10=\"\",\"\",+B9+1)","v":47},null,{"$f":"'Individual Calculations '!G15","v":0},null,{"$f":"IF(TargetMethod3=1,\"NA\",'Individual Calculations '!R15)","v":0},null,{"$f":"IF(TargetMethod3=1,'Individual Calculations '!I15+'Individual Calculations '!J15+'Individual Calculations '!O15,'Individual Calculations '!S15+'Individual Calculations '!T15+'Individual Calculations '!W15)","v":0},{"$f":"IF(TargetMethod3=1,'Individual Calculations '!K15,'Individual Calculations '!U15)","v":0},{"$f":"IF(TargetMethod3=1,0,'Individual Calculations '!Y15)","v":0},null,{"$f":"'Individual Calculations '!AA15+'Individual Calculations '!AH15+'Individual Calculations '!AP15","v":0},{"$f":"'Individual Calculations '!AB15+'Individual Calculations '!AI15+'Individual Calculations '!AQ15","v":0},{"$f":"'Individual Calculations '!AC15","v":0.4},{"$f":"'Individual Calculations '!AD15+'Individual Calculations '!AK15+'Individual Calculations '!AS15","v":0},{"$f":"'Individual Calculations '!AE15+'Individual Calculations '!AL15+'Individual Calculations '!AT15","v":0},{"$f":"'Individual Calculations '!AF15+'Individual Calculations '!AM15+'Individual Calculations '!AU15","v":0},null,{"$f":"'Individual Calculations '!AX15","v":0},{"$f":"'Individual Calculations '!AY15","v":0.4},{"$f":"'Individual Calculations '!AZ15","v":0},{"$f":"'Individual Calculations '!BA15","v":0},{"$f":"'Individual Calculations '!BB15","v":0},{"$f":"'Individual Calculations '!BC15","v":0},null,0,0]
[4,48,null,{"$f":"'Individual Calculations '!G16","v":0},null,{"$f":"IF(TargetMethod3=1,\"NA\",'Individual Calculations '!R16)","v":0},null,{"$f":"IF(TargetMethod3=1,'Individual Calculations '!I16+'Individual Calculations '!J16+'Individual Calculations '!O16,'Individual Calculations '!S16+'Individual Calculations '!T16+'Individual Calculations '!W16)","v":0},{"$f":"IF(TargetMethod3=1,'Individual Calculations '!K16,'Individual Calculations '!U16)","v":0},{"$f":"IF(TargetMethod3=1,0,'Individual Calculations '!Y16)","v":0},null,{"$f":"'Individual Calculations '!AA16+'Individual Calculations '!AH16+'Individual Calculations '!AP16","v":0},{"$f":"'Individual Calculations '!AB16+'Individual Calculations '!AI16+'Individual Calculations '!AQ16","v":0},{"$f":"'Individual Calculations '!AC16","v":0.4},{"$f":"'Individual Calculations '!AD16+'Individual Calculations '!AK16+'Individual Calculations '!AS16","v":0},{"$f":"'Individual Calculations '!AE16+'Individual Calculations '!AL16+'Individual Calculations '!AT16","v":0},{"$f":"'Individual Calculations '!AF16+'Individual Calculations '!AM16+'Individual Calculations '!AU16","v":0},null,{"$f":"'Individual Calculations '!AX16","v":0},{"$f":"'Individual Calculations '!AY16","v":0.4},{"$f":"'Individual Calculations '!AZ16","v":0},{"$f":"'Individual Calculations '!BA16","v":0},{"$f":"'Individual Calculations '!BB16","v":0},{"$f":"'Individual Calculations '!BC16","v":0},null,0,0]
[5,49,null,{"$f":"'Individual Calculations '!G17","v":0},null,{"$f":"IF(TargetMethod3=1,\"NA\",'Individual Calculations '!R17)","v":0},null,{"$f":"IF(TargetMethod3=1,'Individual Calculations '!I17+'Individual Calculations '!J17+'Individual Calculations '!O17,'Individual Calculations '!S17+'Individual Calculations '!T17+'Individual Calculations '!W17)","v":0},{"$f":"IF(TargetMethod3=1,'Individual Calculations '!K17,'Individual Calculations '!U17)","v":0},{"$f":"IF(TargetMethod3=1,0,'Individual Calculations '!Y17)","v":0},null,{"$f":"'Individual Calculations '!AA17+'Individual Calculations '!AH17+'Individual Calculations '!AP17","v":0},{"$f":"'Individual Calculations '!AB17+'Individual Calculations '!AI17+'Individual Calculations '!AQ17","v":0},{"$f":"'Individual Calculations '!AC17","v":0.4},{"$f":"'Individual Calculations '!AD17+'Individual Calculations '!AK17+'Individual Calculations '!AS17","v":0},{"$f":"'Individual Calculations '!AE17+'Individual Calculations '!AL17+'Individual Calculations '!AT17","v":0},{"$f":"'Individual Calculations '!AF17+'Individual Calculations '!AM17+'Individual Calculations '!AU17","v":0},null,{"$f":"'Individual Calculations '!AX17","v":0},{"$f":"'Individual Calculations '!AY17","v":0.4},{"$f":"'Individual Calculations '!AZ17","v":0},{"$f":"'Individual Calculations '!BA17","v":0},{"$f":"'Individual Calculations '!BB17","v":0},{"$f":"'Individual Calculations '!BC17","v":0},null,0,0]
[6,50,null,{"$f":"'Individual Calculations '!G18","v":0},null,{"$f":"IF(TargetMethod3=1,\"NA\",'Individual Calculations '!R18)","v":0},null,{"$f":"IF(TargetMethod3=1,'Individual Calculations '!I18+'Individual Calculations '!J18+'Individual Calculations '!O18,'Individual Calculations '!S18+'Individual Calculations '!T18+'Individual Calculations '!W18)","v":0},{"$f":"IF(TargetMethod3=1,'Individual Calculations '!K18,'Individual Calculations '!U18)","v":0},{"$f":"IF(TargetMethod3=1,0,'Individual Calculations '!Y18)","v":0},null,{"$f":"'Individual Calculations '!AA18+'Individual Calculations '!AH18+'Individual Calculations '!AP18","v":0},{"$f":"'Individual Calculations '!AB18+'Individual Calculations '!AI18+'Individual Calculations '!AQ18","v":0},{"$f":"'Individual Calculations '!AC18","v":0.4},{"$f":"'Individual Calculations '!AD18+'Individual Calculations '!AK18+'Individual Calculations '!AS18","v":0},{"$f":"'Individual Calculations '!AE18+'Individual Calculations '!AL18+'Individual Calculations '!AT18","v":0},{"$f":"'Individual Calculations '!AF18+'Individual Calculations '!AM18+'Individual Calculations '!AU18","v":0},null,{"$f":"'Individual Calculations '!AX18","v":0},{"$f":"'Individual Calculations '!AY18","v":0.4},{"$f":"'Individual Calculations '!AZ18","v":0},{"$f":"'Individual Calculations '!BA18","v":0},{"$f":"'Individual Calculations '!BB18","v":0},{"$f":"'Individual Calculations '!BC18","v":0},null,0,0]
[7,51,null,{"$f":"'Individual Calculations '!G19","v":0},null,{"$f":"IF(TargetMethod3=1,\"NA\",'Individual Calculations '!R19)","v":0},null,{"$f":"IF(TargetMethod3=1,'Individual Calculations '!I19+'Individual Calculations '!J19+'Individual Calculations '!O19,'Individual Calculations '!S19+'Individual Calculations '!T19+'Individual Calculations '!W19)","v":0},{"$f":"IF(TargetMethod3=1,'Individual Calculations '!K19,'Individual Calculations '!U19)","v":0},{"$f":"IF(TargetMethod3=1,0,'Individual Calculations '!Y19)","v":0},null,{"$f":"'Individual Calculations '!AA19+'Individual Calculations '!AH19+'Individual Calculations '!AP19","v":0},{"$f":"'Individual Calculations '!AB19+'Individual Calculations '!AI19+'Individual Calculations '!AQ19","v":0},{"$f":"'Individual Calculations '!AC19","v":0.4},{"$f":"'Individual Calculations '!AD19+'Individual Calculations '!AK19+'Individual Calculations '!AS19","v":0},{"$f":"'Individual Calculations '!AE19+'Individual Calculations '!AL19+'Individual Calculations '!AT19","v":0},{"$f":"'Individual Calculations '!AF19+'Individual Calculations '!AM19+'Individual Calculations '!AU19","v":0},null,{"$f":"'Individual Calculations '!AX19","v":0},{"$f":"'Individual Calculations '!AY19","v":0.4},{"$f":"'Individual Calculations '!AZ19","v":0},{"$f":"'Individual Calculations '!BA19","v":0},{"$f":"'Individual Calculations '!BB19","v":0},{"$f":"'Individual Calculations '!BC19","v":0},null,0,0]
[8,52,null,{"$f":"'Individual Calculations '!G20","v":0},null,{"$f":"IF(TargetMethod3=1,\"NA\",'Individual Calculations '!R20)","v":0},null,{"$f":"IF(TargetMethod3=1,'Individual Calculations '!I20+'Individual Calculations '!J20+'Individual Calculations '!O20,'Individual Calculations '!S20+'Individual Calculations '!T20+'Individual Calculations '!W20)","v":0},{"$f":"IF(TargetMethod3=1,'Individual Calculations '!K20,'Individual Calculations '!U20)","v":0},{"$f":"IF(TargetMethod3=1,0,'Individual Calculations '!Y20)","v":0},null,{"$f":"'Individual Calculations '!AA20+'Individual Calculations '!AH20+'Individual Calculations '!AP20","v":0},{"$f":"'Individual Calculations '!AB20+'Individual Calculations '!AI20+'Individual Calculations '!AQ20","v":0},{"$f":"'Individual Calculations '!AC20","v":0.4},{"$f":"'Individual Calculations '!AD20+'Individual Calculations '!AK20+'Individual Calculations '!AS20","v":0},{"$f":"'Individual Calculations '!AE20+'Individual Calculations '!AL20+'Individual Calculations '!AT20","v":0},{"$f":"'Individual Calculations '!AF20+'Individual Calculations '!AM20+'Individual Calculations '!AU20","v":0},null,{"$f":"'Individual Calculations '!AX20","v":0},{"$f":"'Individual Calculations '!AY20","v":0.4},{"$f":"'Individual Calculations '!AZ20","v":0},{"$f":"'Individual Calculations '!BA20","v":0},{"$f":"'Individual Calculations '!BB20","v":0},{"$f":"'Individual Calculations '!BC20","v":0},null,0,0]
[9,53,null,{"$f":"'Individual Calculations '!G21","v":0},null,{"$f":"IF(TargetMethod3=1,\"NA\",'Individual Calculations '!R21)","v":0},null,{"$f":"IF(TargetMethod3=1,'Individual Calculations '!I21+'Individual Calculations '!J21+'Individual Calculations '!O21,'Individual Calculations '!S21+'Individual Calculations '!T21+'Individual Calculations '!W21)","v":0},{"$f":"IF(TargetMethod3=1,'Individual Calculations '!K21,'Individual Calculations '!U21)","v":0},{"$f":"IF(TargetMethod3=1,0,'Individual Calculations '!Y21)","v":0},null,{"$f":"'Individual Calculations '!AA21+'Individual Calculations '!AH21+'Individual Calculations '!AP21","v":0},{"$f":"'Individual Calculations '!AB21+'Individual Calculations '!AI21+'Individual Calculations '!AQ21","v":0},{"$f":"'Individual Calculations '!AC21","v":0.4},{"$f":"'Individual Calculations '!AD21+'Individual Calculations '!AK21+'Individual Calculations '!AS21","v":0},{"$f":"'Individual Calculations '!AE21+'Individual Calculations '!AL21+'Individual Calculations '!AT21","v":0},{"$f":"'Individual Calculations '!AF21+'Individual Calculations '!AM21+'Individual Calculations '!AU21","v":0},null,{"$f":"'Individual Calculations '!AX21","v":0},{"$f":"'Individual Calculations '!AY21","v":0.4},{"$f":"'Individual Calculations '!AZ21","v":0},{"$f":"'Individual Calculations '!BA21","v":0},{"$f":"'Individual Calculations '!BB21","v":0},{"$f":"'Individual Calculations '!BC21","v":0},null,0,0]
[10,54,null,{"$f":"'Individual Calculations '!G22","v":0},null,{"$f":"IF(TargetMethod3=1,\"NA\",'Individual Calculations '!R22)","v":0},null,{"$f":"IF(TargetMethod3=1,'Individual Calculations '!I22+'Individual Calculations '!J22+'Individual Calculations '!O22,'Individual Calculations '!S22+'Individual Calculations '!T22+'Individual Calculations '!W22)","v":0},{"$f":"IF(TargetMethod3=1,'Individual Calculations '!K22,'Individual Calculations '!U22)","v":0},{"$f":"IF(TargetMethod3=1,0,'Individual Calculations '!Y22)","v":0},null,{"$f":"'Individual Calculations '!AA22+'Individual Calculations '!AH22+'Individual Calculations '!AP22","v":0},{"$f":"'Individual Calculations '!AB22+'Individual Calculations '!AI22+'Individual Calculations '!AQ22","v":0},{"$f":"'Individual Calculations '!AC22","v":0.4},{"$f":"'Individual Calculations '!AD22+'Individual Calculations '!AK22+'Individual Calculations '!AS22","v":0},{"$f":"'Individual Calculations '!AE22+'Individual Calculations '!AL22+'Individual Calculations '!AT22","v":0},{"$f":"'Individual Calculations '!AF22+'Individual Calculations '!AM22+'Individual Calculations '!AU22","v":0},null,{"$f":"'Individual Calculations '!AX22","v":0},{"$f":"'Individual Calculations '!AY22","v":0.4},{"$f":"'Individual Calculations '!AZ22","v":0},{"$f":"'Individual Calculations '!BA22","v":0},{"$f":"'Individual Calculations '!BB22","v":0},{"$f":"'Individual Calculations '!BC22","v":0},null,0,0]
[11,55,null,{"$f":"'Individual Calculations '!G23","v":0},null,{"$f":"IF(TargetMethod3=1,\"NA\",'Individual Calculations '!R23)","v":0},null,{"$f":"IF(TargetMethod3=1,'Individual Calculations '!I23+'Individual Calculations '!J23+'Individual Calculations '!O23,'Individual Calculations '!S23+'Individual Calculations '!T23+'Individual Calculations '!W23)","v":0},{"$f":"IF(TargetMethod3=1,'Individual Calculations '!K23,'Individual Calculations '!U23)","v":0},{"$f":"IF(TargetMethod3=1,0,'Individual Calculations '!Y23)","v":0},null,{"$f":"'Individual Calculations '!AA23+'Individual Calculations '!AH23+'Individual Calculations '!AP23","v":0},{"$f":"'Individual Calculations '!AB23+'Individual Calculations '!AI23+'Individual Calculations '!AQ23","v":0},{"$f":"'Individual Calculations '!AC23","v":0.4},{"$f":"'Individual Calculations '!AD23+'Individual Calculations '!AK23+'Individual Calculations '!AS23","v":0},{"$f":"'Individual Calculations '!AE23+'Individual Calculations '!AL23+'Individual Calculations '!AT23","v":0},{"$f":"'Individual Calculations '!AF23+'Individual Calculations '!AM23+'Individual Calculations '!AU23","v":0},null,{"$f":"'Individual Calculations '!AX23","v":0},{"$f":"'Individual Calculations '!AY23","v":0.4},{"$f":"'Individual Calculations '!AZ23","v":0},{"$f":"'Individual Calculations '!BA23","v":0},{"$f":"'Individual Calculations '!BB23","v":0},{"$f":"'Individual Calculations '!BC23","v":0},null,0,0]
[12,56,null,{"$f":"'Individual Calculations '!G24","v":0},null,{"$f":"IF(TargetMethod3=1,\"NA\",'Individual Calculations '!R24)","v":0},null,{"$f":"IF(TargetMethod3=1,'Individual Calculations '!I24+'Individual Calculations '!J24+'Individual Calculations '!O24,'Individual Calculations '!S24+'Individual Calculations '!T24+'Individual Calculations '!W24)","v":0},{"$f":"IF(TargetMethod3=1,'Individual Calculations '!K24,'Individual Calculations '!U24)","v":0},{"$f":"IF(TargetMethod3=1,0,'Individual Calculations '!Y24)","v":0},null,{"$f":"'Individual Calculations '!AA24+'Individual Calculations '!AH24+'Individual Calculations '!AP24","v":0},{"$f":"'Individual Calculations '!AB24+'Individual Calculations '!AI24+'Individual Calculations '!AQ24","v":0},{"$f":"'Individual Calculations '!AC24","v":0.4},{"$f":"'Individual Calculations '!AD24+'Individual Calculations '!AK24+'Individual Calculations '!AS24","v":0},{"$f":"'Individual Calculations '!AE24+'Individual Calculations '!AL24+'Individual Calculations '!AT24","v":0},{"$f":"'Individual Calculations '!AF24+'Individual Calculations '!AM24+'Individual Calculations '!AU24","v":0},null,{"$f":"'Individual Calculations '!AX24","v":0},{"$f":"'Individual Calculations '!AY24","v":0.4},{"$f":"'Individual Calculations '!AZ24","v":0},{"$f":"'Individual Calculations '!BA24","v":0},{"$f":"'Individual Calculations '!BB24","v":0},{"$f":"'Individual Calculations '!BC24","v":0},null,0,0]
[13,57,null,{"$f":"'Individual Calculations '!G25","v":0},null,{"$f":"IF(TargetMethod3=1,\"NA\",'Individual Calculations '!R25)","v":0},null,{"$f":"IF(TargetMethod3=1,'Individual Calculations '!I25+'Individual Calculations '!J25+'Individual Calculations '!O25,'Individual Calculations '!S25+'Individual Calculations '!T25+'Individual Calculations '!W25)","v":0},{"$f":"IF(TargetMethod3=1,'Individual Calculations '!K25,'Individual Calculations '!U25)","v":0},{"$f":"IF(TargetMethod3=1,0,'Individual Calculations '!Y25)","v":0},null,{"$f":"'Individual Calculations '!AA25+'Individual Calculations '!AH25+'Individual Calculations '!AP25","v":0},{"$f":"'Individual Calculations '!AB25+'Individual Calculations '!AI25+'Individual Calculations '!AQ25","v":0},{"$f":"'Individual Calculations '!AC25","v":0.4},{"$f":"'Individual Calculations '!AD25+'Individual Calculations '!AK25+'Individual Calculations '!AS25","v":0},{"$f":"'Individual Calculations '!AE25+'Individual Calculations '!AL25+'Individual Calculations '!AT25","v":0},{"$f":"'Individual Calculations '!AF25+'Individual Calculations '!AM25+'Individual Calculations '!AU25","v":0},null,{"$f":"'Individual Calculations '!AX25","v":0},{"$f":"'Individual Calculations '!AY25","v":0.4},{"$f":"'Individual Calculations '!AZ25","v":0},{"$f":"'Individual Calculations '!BA25","v":0},{"$f":"'Individual Calculations '!BB25","v":0},{"$f":"'Individual Calculations '!BC25","v":0},null,0,0]
[14,58,null,{"$f":"'Individual Calculations '!G26","v":0},null,{"$f":"IF(TargetMethod3=1,\"NA\",'Individual Calculations '!R26)","v":0},null,{"$f":"IF(TargetMethod3=1,'Individual Calculations '!I26+'Individual Calculations '!J26+'Individual Calculations '!O26,'Individual Calculations '!S26+'Individual Calculations '!T26+'Individual Calculations '!W26)","v":0},{"$f":"IF(TargetMethod3=1,'Individual Calculations '!K26,'Individual Calculations '!U26)","v":0},{"$f":"IF(TargetMethod3=1,0,'Individual Calculations '!Y26)","v":0},null,{"$f":"'Individual Calculations '!AA26+'Individual Calculations '!AH26+'Individual Calculations '!AP26","v":0},{"$f":"'Individual Calculations '!AB26+'Individual Calculations '!AI26+'Individual Calculations '!AQ26","v":0},{"$f":"'Individual Calculations '!AC26","v":0.4},{"$f":"'Individual Calculations '!AD26+'Individual Calculations '!AK26+'Individual Calculations '!AS26","v":0},{"$f":"'Individual Calculations '!AE26+'Individual Calculations '!AL26+'Individual Calculations '!AT26","v":0},{"$f":"'Individual Calculations '!AF26+'Individual Calculations '!AM26+'Individual Calculations '!AU26","v":0},null,{"$f":"'Individual Calculations '!AX26","v":0},{"$f":"'Individual Calculations '!AY26","v":0.4},{"$f":"'Individual Calculations '!AZ26","v":0},{"$f":"'Individual Calculations '!BA26","v":0},{"$f":"'Individual Calculations '!BB26","v":0},{"$f":"'Individual Calculations '!BC26","v":0},null,0,0]
[15,59,null,{"$f":"'Individual Calculations '!G27","v":0},null,{"$f":"IF(TargetMethod3=1,\"NA\",'Individual Calculations '!R27)","v":0},null,{"$f":"IF(TargetMethod3=1,'Individual Calculations '!I27+'Individual Calculations '!J27+'Individual Calculations '!O27,'Individual Calculations '!S27+'Individual Calculations '!T27+'Individual Calculations '!W27)","v":0},{"$f":"IF(TargetMethod3=1,'Individual Calculations '!K27,'Individual Calculations '!U27)","v":0},{"$f":"IF(TargetMethod3=1,0,'Individual Calculations '!Y27)","v":0},null,{"$f":"'Individual Calculations '!AA27+'Individual Calculations '!AH27+'Individual Calculations '!AP27","v":0},{"$f":"'Individual Calculations '!AB27+'Individual Calculations '!AI27+'Individual Calculations '!AQ27","v":0},{"$f":"'Individual Calculations '!AC27","v":0.4},{"$f":"'Individual Calculations '!AD27+'Individual Calculations '!AK27+'Individual Calculations '!AS27","v":0},{"$f":"'Individual Calculations '!AE27+'Individual Calculations '!AL27+'Individual Calculations '!AT27","v":0},{"$f":"'Individual Calculations '!AF27+'Individual Calculations '!AM27+'Individual Calculations '!AU27","v":0},null,{"$f":"'Individual Calculations '!AX27","v":0},{"$f":"'Individual Calculations '!AY27","v":0.4},{"$f":"'Individual Calculations '!AZ27","v":0},{"$f":"'Individual Calculations '!BA27","v":0},{"$f":"'Individual Calculations '!BB27","v":0},{"$f":"'Individual Calculations '!BC27","v":0},null,0,0]
[16,60,null,{"$f":"'Individual Calculations '!G28","v":0},null,{"$f":"IF(TargetMethod3=1,\"NA\",'Individual Calculations '!R28)","v":0},null,{"$f":"IF(TargetMethod3=1,'Individual Calculations '!I28+'Individual Calculations '!J28+'Individual Calculations '!O28,'Individual Calculations '!S28+'Individual Calculations '!T28+'Individual Calculations '!W28)","v":0},{"$f":"IF(TargetMethod3=1,'Individual Calculations '!K28,'Individual Calculations '!U28)","v":0},{"$f":"IF(TargetMethod3=1,0,'Individual Calculations '!Y28)","v":0},null,{"$f":"'Individual Calculations '!AA28+'Individual Calculations '!AH28+'Individual Calculations '!AP28","v":0},{"$f":"'Individual Calculations '!AB28+'Individual Calculations '!AI28+'Individual Calculations '!AQ28","v":0},{"$f":"'Individual Calculations '!AC28","v":0.4},{"$f":"'Individual Calculations '!AD28+'Individual Calculations '!AK28+'Individual Calculations '!AS28","v":0},{"$f":"'Individual Calculations '!AE28+'Individual Calculations '!AL28+'Individual Calculations '!AT28","v":0},{"$f":"'Individual Calculations '!AF28+'Individual Calculations '!AM28+'Individual Calculations '!AU28","v":0},null,{"$f":"'Individual Calculations '!AX28","v":0},{"$f":"'Individual Calculations '!AY28","v":0.4},{"$f":"'Individual Calculations '!AZ28","v":0},{"$f":"'Individual Calculations '!BA28","v":0},{"$f":"'Individual Calculations '!BB28","v":0},{"$f":"'Individual Calculations '!BC28","v":0},null,0,0]
[17,61,null,{"$f":"'Individual Calculations '!G29","v":0},null,{"$f":"IF(TargetMethod3=1,\"NA\",'Individual Calculations '!R29)","v":0},null,{"$f":"IF(TargetMethod3=1,'Individual Calculations '!I29+'Individual Calculations '!J29+'Individual Calculations '!O29,'Individual Calculations '!S29+'Individual Calculations '!T29+'Individual Calculations '!W29)","v":0},{"$f":"IF(TargetMethod3=1,'Individual Calculations '!K29,'Individual Calculations '!U29)","v":0},{"$f":"IF(TargetMethod3=1,0,'Individual Calculations '!Y29)","v":0},null,{"$f":"'Individual Calculations '!AA29+'Individual Calculations '!AH29+'Individual Calculations '!AP29","v":0},{"$f":"'Individual Calculations '!AB29+'Individual Calculations '!AI29+'Individual Calculations '!AQ29","v":0},{"$f":"'Individual Calculations '!AC29","v":0.4},{"$f":"'Individual Calculations '!AD29+'Individual Calculations '!AK29+'Individual Calculations '!AS29","v":0},{"$f":"'Individual Calculations '!AE29+'Individual Calculations '!AL29+'Individual Calculations '!AT29","v":0},{"$f":"'Individual Calculations '!AF29+'Individual Calculations '!AM29+'Individual Calculations '!AU29","v":0},null,{"$f":"'Individual Calculations '!AX29","v":0},{"$f":"'Individual Calculations '!AY29","v":0.4},{"$f":"'Individual Calculations '!AZ29","v":0},{"$f":"'Individual Calculations '!BA29","v":0},{"$f":"'Individual Calculations '!BB29","v":0},{"$f":"'Individual Calculations '!BC29","v":0},null,0,0]
[18,62,null,{"$f":"'Individual Calculations '!G30","v":0},null,{"$f":"IF(TargetMethod3=1,\"NA\",'Individual Calculations '!R30)","v":0},null,{"$f":"IF(TargetMethod3=1,'Individual Calculations '!I30+'Individual Calculations '!J30+'Individual Calculations '!O30,'Individual Calculations '!S30+'Individual Calculations '!T30+'Individual Calculations '!W30)","v":0},{"$f":"IF(TargetMethod3=1,'Individual Calculations '!K30,'Individual Calculations '!U30)","v":0},{"$f":"IF(TargetMethod3=1,0,'Individual Calculations '!Y30)","v":0},null,{"$f":"'Individual Calculations '!AA30+'Individual Calculations '!AH30+'Individual Calculations '!AP30","v":0},{"$f":"'Individual Calculations '!AB30+'Individual Calculations '!AI30+'Individual Calculations '!AQ30","v":0},{"$f":"'Individual Calculations '!AC30","v":0.4},{"$f":"'Individual Calculations '!AD30+'Individual Calculations '!AK30+'Individual Calculations '!AS30","v":0},{"$f":"'Individual Calculations '!AE30+'Individual Calculations '!AL30+'Individual Calculations '!AT30","v":0},{"$f":"'Individual Calculations '!AF30+'Individual Calculations '!AM30+'Individual Calculations '!AU30","v":0},null,{"$f":"'Individual Calculations '!AX30","v":0},{"$f":"'Individual Calculations '!AY30","v":0.4},{"$f":"'Individual Calculations '!AZ30","v":0},{"$f":"'Individual Calculations '!BA30","v":0},{"$f":"'Individual Calculations '!BB30","v":0},{"$f":"'Individual Calculations '!BC30","v":0},null,0,0]
[19,63,null,{"$f":"'Individual Calculations '!G31","v":0},null,{"$f":"IF(TargetMethod3=1,\"NA\",'Individual Calculations '!R31)","v":0},null,{"$f":"IF(TargetMethod3=1,'Individual Calculations '!I31+'Individual Calculations '!J31+'Individual Calculations '!O31,'Individual Calculations '!S31+'Individual Calculations '!T31+'Individual Calculations '!W31)","v":0},{"$f":"IF(TargetMethod3=1,'Individual Calculations '!K31,'Individual Calculations '!U31)","v":0},{"$f":"IF(TargetMethod3=1,0,'Individual Calculations '!Y31)","v":0},null,{"$f":"'Individual Calculations '!AA31+'Individual Calculations '!AH31+'Individual Calculations '!AP31","v":0},{"$f":"'Individual Calculations '!AB31+'Individual Calculations '!AI31+'Individual Calculations '!AQ31","v":0},{"$f":"'Individual Calculations '!AC31","v":0.4},{"$f":"'Individual Calculations '!AD31+'Individual Calculations '!AK31+'Individual Calculations '!AS31","v":0},{"$f":"'Individual Calculations '!AE31+'Individual Calculations '!AL31+'Individual Calculations '!AT31","v":0},{"$f":"'Individual Calculations '!AF31+'Individual Calculations '!AM31+'Individual Calculations '!AU31","v":0},null,{"$f":"'Individual Calculations '!AX31","v":0},{"$f":"'Individual Calculations '!AY31","v":0.4},{"$f":"'Individual Calculations '!AZ31","v":0},{"$f":"'Individual Calculations '!BA31","v":0},{"$f":"'Individual Calculations '!BB31","v":0},{"$f":"'Individual Calculations '!BC31","v":0},null,0,0]
[20,64,null,{"$f":"'Individual Calculations '!G32","v":0},null,{"$f":"IF(TargetMethod3=1,\"NA\",'Individual Calculations '!R32)","v":0},null,{"$f":"IF(TargetMethod3=1,'Individual Calculations '!I32+'Individual Calculations '!J32+'Individual Calculations '!O32,'Individual Calculations '!S32+'Individual Calculations '!T32+'Individual Calculations '!W32)","v":0},{"$f":"IF(TargetMethod3=1,'Individual Calculations '!K32,'Individual Calculations '!U32)","v":0},{"$f":"IF(TargetMethod3=1,0,'Individual Calculations '!Y32)","v":0},null,{"$f":"'Individual Calculations '!AA32+'Individual Calculations '!AH32+'Individual Calculations '!AP32","v":0},{"$f":"'Individual Calculations '!AB32+'Individual Calculations '!AI32+'Individual Calculations '!AQ32","v":0},{"$f":"'Individual Calculations '!AC32","v":0.4},{"$f":"'Individual Calculations '!AD32+'Individual Calculations '!AK32+'Individual Calculations '!AS32","v":0},{"$f":"'Individual Calculations '!AE32+'Individual Calculations '!AL32+'Individual Calculations '!AT32","v":0},{"$f":"'Individual Calculations '!AF32+'Individual Calculations '!AM32+'Individual Calculations '!AU32","v":0},null,{"$f":"'Individual Calculations '!AX32","v":0},{"$f":"'Individual Calculations '!AY32","v":0.4},{"$f":"'Individual Calculations '!AZ32","v":0},{"$f":"'Individual Calculations '!BA32","v":0},{"$f":"'Individual Calculations '!BB32","v":0},{"$f":"'Individual Calculations '!BC32","v":0},null,0,0]
[21,65,null,{"$f":"'Individual Calculations '!G33","v":0},null,{"$f":"IF(TargetMethod3=1,\"NA\",'Individual Calculations '!R33)","v":0},null,{"$f":"IF(TargetMethod3=1,'Individual Calculations '!I33+'Individual Calculations '!J33+'Individual Calculations '!O33,'Individual Calculations '!S33+'Individual Calculations '!T33+'Individual Calculations '!W33)","v":0},{"$f":"IF(TargetMethod3=1,'Individual Calculations '!K33,'Individual Calculations '!U33)","v":0},{"$f":"IF(TargetMethod3=1,0,'Individual Calculations '!Y33)","v":0},null,{"$f":"'Individual Calculations '!AA33+'Individual Calculations '!AH33+'Individual Calculations '!AP33","v":0},{"$f":"'Individual Calculations '!AB33+'Individual Calculations '!AI33+'Individual Calculations '!AQ33","v":0},{"$f":"'Individual Calculations '!AC33","v":0.4},{"$f":"'Individual Calculations '!AD33+'Individual Calculations '!AK33+'Individual Calculations '!AS33","v":0},{"$f":"'Individual Calculations '!AE33+'Individual Calculations '!AL33+'Individual Calculations '!AT33","v":0},{"$f":"'Individual Calculations '!AF33+'Individual Calculations '!AM33+'Individual Calculations '!AU33","v":0},null,{"$f":"'Individual Calculations '!AX33","v":0},{"$f":"'Individual Calculations '!AY33","v":0.4},{"$f":"'Individual Calculations '!AZ33","v":0},{"$f":"'Individual Calculations '!BA33","v":0},{"$f":"'Individual Calculations '!BB33","v":0},{"$f":"'Individual Calculations '!BC33","v":0},null,0,0]
[22,66,null,{"$f":"'Individual Calculations '!G34","v":0},null,{"$f":"IF(TargetMethod3=1,\"NA\",'Individual Calculations '!R34)","v":0},null,{"$f":"IF(TargetMethod3=1,'Individual Calculations '!I34+'Individual Calculations '!J34+'Individual Calculations '!O34,'Individual Calculations '!S34+'Individual Calculations '!T34+'Individual Calculations '!W34)","v":0},{"$f":"IF(TargetMethod3=1,'Individual Calculations '!K34,'Individual Calculations '!U34)","v":0},{"$f":"IF(TargetMethod3=1,0,'Individual Calculations '!Y34)","v":0},null,{"$f":"'Individual Calculations '!AA34+'Individual Calculations '!AH34+'Individual Calculations '!AP34","v":0},{"$f":"'Individual Calculations '!AB34+'Individual Calculations '!AI34+'Individual Calculations '!AQ34","v":0},{"$f":"'Individual Calculations '!AC34","v":0.4},{"$f":"'Individual Calculations '!AD34+'Individual Calculations '!AK34+'Individual Calculations '!AS34","v":0},{"$f":"'Individual Calculations '!AE34+'Individual Calculations '!AL34+'Individual Calculations '!AT34","v":0},{"$f":"'Individual Calculations '!AF34+'Individual Calculations '!AM34+'Individual Calculations '!AU34","v":0},null,{"$f":"'Individual Calculations '!AX34","v":0},{"$f":"'Individual Calculations '!AY34","v":0.4},{"$f":"'Individual Calculations '!AZ34","v":0},{"$f":"'Individual Calculations '!BA34","v":0},{"$f":"'Individual Calculations '!BB34","v":0},{"$f":"'Individual Calculations '!BC34","v":0},null,0,0]
[23,67,null,{"$f":"'Individual Calculations '!G35","v":0},null,{"$f":"IF(TargetMethod3=1,\"NA\",'Individual Calculations '!R35)","v":0},null,{"$f":"IF(TargetMethod3=1,'Individual Calculations '!I35+'Individual Calculations '!J35+'Individual Calculations '!O35,'Individual Calculations '!S35+'Individual Calculations '!T35+'Individual Calculations '!W35)","v":0},{"$f":"IF(TargetMethod3=1,'Individual Calculations '!K35,'Individual Calculations '!U35)","v":0},{"$f":"IF(TargetMethod3=1,0,'Individual Calculations '!Y35)","v":0},null,{"$f":"'Individual Calculations '!AA35+'Individual Calculations '!AH35+'Individual Calculations '!AP35","v":0},{"$f":"'Individual Calculations '!AB35+'Individual Calculations '!AI35+'Individual Calculations '!AQ35","v":0},{"$f":"'Individual Calculations '!AC35","v":0.4},{"$f":"'Individual Calculations '!AD35+'Individual Calculations '!AK35+'Individual Calculations '!AS35","v":0},{"$f":"'Individual Calculations '!AE35+'Individual Calculations '!AL35+'Individual Calculations '!AT35","v":0},{"$f":"'Individual Calculations '!AF35+'Individual Calculations '!AM35+'Individual Calculations '!AU35","v":0},null,{"$f":"'Individual Calculations '!AX35","v":0},{"$f":"'Individual Calculations '!AY35","v":0.4},{"$f":"'Individual Calculations '!AZ35","v":0},{"$f":"'Individual Calculations '!BA35","v":0},{"$f":"'Individual Calculations '!BB35","v":0},{"$f":"'Individual Calculations '!BC35","v":0},null,0,0]
[24,68,null,{"$f":"'Individual Calculations '!G36","v":0},null,{"$f":"IF(TargetMethod3=1,\"NA\",'Individual Calculations '!R36)","v":0},null,{"$f":"IF(TargetMethod3=1,'Individual Calculations '!I36+'Individual Calculations '!J36+'Individual Calculations '!O36,'Individual Calculations '!S36+'Individual Calculations '!T36+'Individual Calculations '!W36)","v":0},{"$f":"IF(TargetMethod3=1,'Individual Calculations '!K36,'Individual Calculations '!U36)","v":0},{"$f":"IF(TargetMethod3=1,0,'Individual Calculations '!Y36)","v":0},null,{"$f":"'Individual Calculations '!AA36+'Individual Calculations '!AH36+'Individual Calculations '!AP36","v":0},{"$f":"'Individual Calculations '!AB36+'Individual Calculations '!AI36+'Individual Calculations '!AQ36","v":0},{"$f":"'Individual Calculations '!AC36","v":0.4},{"$f":"'Individual Calculations '!AD36+'Individual Calculations '!AK36+'Individual Calculations '!AS36","v":0},{"$f":"'Individual Calculations '!AE36+'Individual Calculations '!AL36+'Individual Calculations '!AT36","v":0},{"$f":"'Individual Calculations '!AF36+'Individual Calculations '!AM36+'Individual Calculations '!AU36","v":0},null,{"$f":"'Individual Calculations '!AX36","v":0},{"$f":"'Individual Calculations '!AY36","v":0.4},{"$f":"'Individual Calculations '!AZ36","v":0},{"$f":"'Individual Calculations '!BA36","v":0},{"$f":"'Individual Calculations '!BB36","v":0},{"$f":"'Individual Calculations '!BC36","v":0},null,0,0]
[25,69,null,{"$f":"'Individual Calculations '!G37","v":0},null,{"$f":"IF(TargetMethod3=1,\"NA\",'Individual Calculations '!R37)","v":0},null,{"$f":"IF(TargetMethod3=1,'Individual Calculations '!I37+'Individual Calculations '!J37+'Individual Calculations '!O37,'Individual Calculations '!S37+'Individual Calculations '!T37+'Individual Calculations '!W37)","v":0},{"$f":"IF(TargetMethod3=1,'Individual Calculations '!K37,'Individual Calculations '!U37)","v":0},{"$f":"IF(TargetMethod3=1,0,'Individual Calculations '!Y37)","v":0},null,{"$f":"'Individual Calculations '!AA37+'Individual Calculations '!AH37+'Individual Calculations '!AP37","v":0},{"$f":"'Individual Calculations '!AB37+'Individual Calculations '!AI37+'Individual Calculations '!AQ37","v":0},{"$f":"'Individual Calculations '!AC37","v":0.4},{"$f":"'Individual Calculations '!AD37+'Individual Calculations '!AK37+'Individual Calculations '!AS37","v":0},{"$f":"'Individual Calculations '!AE37+'Individual Calculations '!AL37+'Individual Calculations '!AT37","v":0},{"$f":"'Individual Calculations '!AF37+'Individual Calculations '!AM37+'Individual Calculations '!AU37","v":0},null,{"$f":"'Individual Calculations '!AX37","v":0},{"$f":"'Individual Calculations '!AY37","v":0.4},{"$f":"'Individual Calculations '!AZ37","v":0},{"$f":"'Individual Calculations '!BA37","v":0},{"$f":"'Individual Calculations '!BB37","v":0},{"$f":"'Individual Calculations '!BC37","v":0},null,0,0]
[26,70,null,{"$f":"'Individual Calculations '!G38","v":0},null,{"$f":"IF(TargetMethod3=1,\"NA\",'Individual Calculations '!R38)","v":0},null,{"$f":"IF(TargetMethod3=1,'Individual Calculations '!I38+'Individual Calculations '!J38+'Individual Calculations '!O38,'Individual Calculations '!S38+'Individual Calculations '!T38+'Individual Calculations '!W38)","v":0},{"$f":"IF(TargetMethod3=1,'Individual Calculations '!K38,'Individual Calculations '!U38)","v":0},{"$f":"IF(TargetMethod3=1,0,'Individual Calculations '!Y38)","v":0},null,{"$f":"'Individual Calculations '!AA38+'Individual Calculations '!AH38+'Individual Calculations '!AP38","v":0},{"$f":"'Individual Calculations '!AB38+'Individual Calculations '!AI38+'Individual Calculations '!AQ38","v":0},{"$f":"'Individual Calculations '!AC38","v":0.4},{"$f":"'Individual Calculations '!AD38+'Individual Calculations '!AK38+'Individual Calculations '!AS38","v":0},{"$f":"'Individual Calculations '!AE38+'Individual Calculations '!AL38+'Individual Calculations '!AT38","v":0},{"$f":"'Individual Calculations '!AF38+'Individual Calculations '!AM38+'Individual Calculations '!AU38","v":0},null,{"$f":"'Individual Calculations '!AX38","v":0},{"$f":"'Individual Calculations '!AY38","v":0.4},{"$f":"'Individual Calculations '!AZ38","v":0},{"$f":"'Individual Calculations '!BA38","v":0},{"$f":"'Individual Calculations '!BB38","v":0},{"$f":"'Individual Calculations '!BC38","v":0},null,0,0]
[27,71,null,{"$f":"'Individual Calculations '!G39","v":0},null,{"$f":"IF(TargetMethod3=1,\"NA\",'Individual Calculations '!R39)","v":0},null,{"$f":"IF(TargetMethod3=1,'Individual Calculations '!I39+'Individual Calculations '!J39+'Individual Calculations '!O39,'Individual Calculations '!S39+'Individual Calculations '!T39+'Individual Calculations '!W39)","v":0},{"$f":"IF(TargetMethod3=1,'Individual Calculations '!K39,'Individual Calculations '!U39)","v":0},{"$f":"IF(TargetMethod3=1,0,'Individual Calculations '!Y39)","v":0},null,{"$f":"'Individual Calculations '!AA39+'Individual Calculations '!AH39+'Individual Calculations '!AP39","v":0},{"$f":"'Individual Calculations '!AB39+'Individual Calculations '!AI39+'Individual Calculations '!AQ39","v":0},{"$f":"'Individual Calculations '!AC39","v":0.4},{"$f":"'Individual Calculations '!AD39+'Individual Calculations '!AK39+'Individual Calculations '!AS39","v":0},{"$f":"'Individual Calculations '!AE39+'Individual Calculations '!AL39+'Individual Calculations '!AT39","v":0},{"$f":"'Individual Calculations '!AF39+'Individual Calculations '!AM39+'Individual Calculations '!AU39","v":0},null,{"$f":"'Individual Calculations '!AX39","v":0},{"$f":"'Individual Calculations '!AY39","v":0.4},{"$f":"'Individual Calculations '!AZ39","v":0},{"$f":"'Individual Calculations '!BA39","v":0},{"$f":"'Individual Calculations '!BB39","v":0},{"$f":"'Individual Calculations '!BC39","v":0},null,0,0]
[28,72,null,{"$f":"'Individual Calculations '!G40","v":0},null,{"$f":"IF(TargetMethod3=1,\"NA\",'Individual Calculations '!R40)","v":0},null,{"$f":"IF(TargetMethod3=1,'Individual Calculations '!I40+'Individual Calculations '!J40+'Individual Calculations '!O40,'Individual Calculations '!S40+'Individual Calculations '!T40+'Individual Calculations '!W40)","v":0},{"$f":"IF(TargetMethod3=1,'Individual Calculations '!K40,'Individual Calculations '!U40)","v":0},{"$f":"IF(TargetMethod3=1,0,'Individual Calculations '!Y40)","v":0},null,{"$f":"'Individual Calculations '!AA40+'Individual Calculations '!AH40+'Individual Calculations '!AP40","v":0},{"$f":"'Individual Calculations '!AB40+'Individual Calculations '!AI40+'Individual Calculations '!AQ40","v":0},{"$f":"'Individual Calculations '!AC40","v":0.4},{"$f":"'Individual Calculations '!AD40+'Individual Calculations '!AK40+'Individual Calculations '!AS40","v":0},{"$f":"'Individual Calculations '!AE40+'Individual Calculations '!AL40+'Individual Calculations '!AT40","v":0},{"$f":"'Individual Calculations '!AF40+'Individual Calculations '!AM40+'Individual Calculations '!AU40","v":0},null,{"$f":"'Individual Calculations '!AX40","v":0},{"$f":"'Individual Calculations '!AY40","v":0.4},{"$f":"'Individual Calculations '!AZ40","v":0},{"$f":"'Individual Calculations '!BA40","v":0},{"$f":"'Individual Calculations '!BB40","v":0},{"$f":"'Individual Calculations '!BC40","v":0},null,0,0]
[29,73,null,{"$f":"'Individual Calculations '!G41","v":0},null,{"$f":"IF(TargetMethod3=1,\"NA\",'Individual Calculations '!R41)","v":0},null,{"$f":"IF(TargetMethod3=1,'Individual Calculations '!I41+'Individual Calculations '!J41+'Individual Calculations '!O41,'Individual Calculations '!S41+'Individual Calculations '!T41+'Individual Calculations '!W41)","v":0},{"$f":"IF(TargetMethod3=1,'Individual Calculations '!K41,'Individual Calculations '!U41)","v":0},{"$f":"IF(TargetMethod3=1,0,'Individual Calculations '!Y41)","v":0},null,{"$f":"'Individual Calculations '!AA41+'Individual Calculations '!AH41+'Individual Calculations '!AP41","v":0},{"$f":"'Individual Calculations '!AB41+'Individual Calculations '!AI41+'Individual Calculations '!AQ41","v":0},{"$f":"'Individual Calculations '!AC41","v":0.4},{"$f":"'Individual Calculations '!AD41+'Individual Calculations '!AK41+'Individual Calculations '!AS41","v":0},{"$f":"'Individual Calculations '!AE41+'Individual Calculations '!AL41+'Individual Calculations '!AT41","v":0},{"$f":"'Individual Calculations '!AF41+'Individual Calculations '!AM41+'Individual Calculations '!AU41","v":0},null,{"$f":"'Individual Calculations '!AX41","v":0},{"$f":"'Individual Calculations '!AY41","v":0.4},{"$f":"'Individual Calculations '!AZ41","v":0},{"$f":"'Individual Calculations '!BA41","v":0},{"$f":"'Individual Calculations '!BB41","v":0},{"$f":"'Individual Calculations '!BC41","v":0},null,0,0]
[30,74,null,{"$f":"'Individual Calculations '!G42","v":0},null,{"$f":"IF(TargetMethod3=1,\"NA\",'Individual Calculations '!R42)","v":0},null,{"$f":"IF(TargetMethod3=1,'Individual Calculations '!I42+'Individual Calculations '!J42+'Individual Calculations '!O42,'Individual Calculations '!S42+'Individual Calculations '!T42+'Individual Calculations '!W42)","v":0},{"$f":"IF(TargetMethod3=1,'Individual Calculations '!K42,'Individual Calculations '!U42)","v":0},{"$f":"IF(TargetMethod3=1,0,'Individual Calculations '!Y42)","v":0},null,{"$f":"'Individual Calculations '!AA42+'Individual Calculations '!AH42+'Individual Calculations '!AP42","v":0},{"$f":"'Individual Calculations '!AB42+'Individual Calculations '!AI42+'Individual Calculations '!AQ42","v":0},{"$f":"'Individual Calculations '!AC42","v":0.4},{"$f":"'Individual Calculations '!AD42+'Individual Calculations '!AK42+'Individual Calculations '!AS42","v":0},{"$f":"'Individual Calculations '!AE42+'Individual Calculations '!AL42+'Individual Calculations '!AT42","v":0},{"$f":"'Individual Calculations '!AF42+'Individual Calculations '!AM42+'Individual Calculations '!AU42","v":0},null,{"$f":"'Individual Calculations '!AX42","v":0},{"$f":"'Individual Calculations '!AY42","v":0.4},{"$f":"'Individual Calculations '!AZ42","v":0},{"$f":"'Individual Calculations '!BA42","v":0},{"$f":"'Individual Calculations '!BB42","v":0},{"$f":"'Individual Calculations '!BC42","v":0},null,0,0]
[31,75,null,{"$f":"'Individual Calculations '!G43","v":0},null,{"$f":"IF(TargetMethod3=1,\"NA\",'Individual Calculations '!R43)","v":0},null,{"$f":"IF(TargetMethod3=1,'Individual Calculations '!I43+'Individual Calculations '!J43+'Individual Calculations '!O43,'Individual Calculations '!S43+'Individual Calculations '!T43+'Individual Calculations '!W43)","v":0},{"$f":"IF(TargetMethod3=1,'Individual Calculations '!K43,'Individual Calculations '!U43)","v":0},{"$f":"IF(TargetMethod3=1,0,'Individual Calculations '!Y43)","v":0},null,{"$f":"'Individual Calculations '!AA43+'Individual Calculations '!AH43+'Individual Calculations '!AP43","v":0},{"$f":"'Individual Calculations '!AB43+'Individual Calculations '!AI43+'Individual Calculations '!AQ43","v":0},{"$f":"'Individual Calculations '!AC43","v":0.4},{"$f":"'Individual Calculations '!AD43+'Individual Calculations '!AK43+'Individual Calculations '!AS43","v":0},{"$f":"'Individual Calculations '!AE43+'Individual Calculations '!AL43+'Individual Calculations '!AT43","v":0},{"$f":"'Individual Calculations '!AF43+'Individual Calculations '!AM43+'Individual Calculations '!AU43","v":0},null,{"$f":"'Individual Calculations '!AX43","v":0},{"$f":"'Individual Calculations '!AY43","v":0.4},{"$f":"'Individual Calculations '!AZ43","v":0},{"$f":"'Individual Calculations '!BA43","v":0},{"$f":"'Individual Calculations '!BB43","v":0},{"$f":"'Individual Calculations '!BC43","v":0},null,0,0]
[32,76,null,{"$f":"'Individual Calculations '!G44","v":0},null,{"$f":"IF(TargetMethod3=1,\"NA\",'Individual Calculations '!R44)","v":0},null,{"$f":"IF(TargetMethod3=1,'Individual Calculations '!I44+'Individual Calculations '!J44+'Individual Calculations '!O44,'Individual Calculations '!S44+'Individual Calculations '!T44+'Individual Calculations '!W44)","v":0},{"$f":"IF(TargetMethod3=1,'Individual Calculations '!K44,'Individual Calculations '!U44)","v":0},{"$f":"IF(TargetMethod3=1,0,'Individual Calculations '!Y44)","v":0},null,{"$f":"'Individual Calculations '!AA44+'Individual Calculations '!AH44+'Individual Calculations '!AP44","v":0},{"$f":"'Individual Calculations '!AB44+'Individual Calculations '!AI44+'Individual Calculations '!AQ44","v":0},{"$f":"'Individual Calculations '!AC44","v":0.4},{"$f":"'Individual Calculations '!AD44+'Individual Calculations '!AK44+'Individual Calculations '!AS44","v":0},{"$f":"'Individual Calculations '!AE44+'Individual Calculations '!AL44+'Individual Calculations '!AT44","v":0},{"$f":"'Individual Calculations '!AF44+'Individual Calculations '!AM44+'Individual Calculations '!AU44","v":0},null,{"$f":"'Individual Calculations '!AX44","v":0},{"$f":"'Individual Calculations '!AY44","v":0.4},{"$f":"'Individual Calculations '!AZ44","v":0},{"$f":"'Individual Calculations '!BA44","v":0},{"$f":"'Individual Calculations '!BB44","v":0},{"$f":"'Individual Calculations '!BC44","v":0},null,0,0]
[33,77,null,{"$f":"'Individual Calculations '!G45","v":0},null,{"$f":"IF(TargetMethod3=1,\"NA\",'Individual Calculations '!R45)","v":0},null,{"$f":"IF(TargetMethod3=1,'Individual Calculations '!I45+'Individual Calculations '!J45+'Individual Calculations '!O45,'Individual Calculations '!S45+'Individual Calculations '!T45+'Individual Calculations '!W45)","v":0},{"$f":"IF(TargetMethod3=1,'Individual Calculations '!K45,'Individual Calculations '!U45)","v":0},{"$f":"IF(TargetMethod3=1,0,'Individual Calculations '!Y45)","v":0},null,{"$f":"'Individual Calculations '!AA45+'Individual Calculations '!AH45+'Individual Calculations '!AP45","v":0},{"$f":"'Individual Calculations '!AB45+'Individual Calculations '!AI45+'Individual Calculations '!AQ45","v":0},{"$f":"'Individual Calculations '!AC45","v":0.4},{"$f":"'Individual Calculations '!AD45+'Individual Calculations '!AK45+'Individual Calculations '!AS45","v":0},{"$f":"'Individual Calculations '!AE45+'Individual Calculations '!AL45+'Individual Calculations '!AT45","v":0},{"$f":"'Individual Calculations '!AF45+'Individual Calculations '!AM45+'Individual Calculations '!AU45","v":0},null,{"$f":"'Individual Calculations '!AX45","v":0},{"$f":"'Individual Calculations '!AY45","v":0.4},{"$f":"'Individual Calculations '!AZ45","v":0},{"$f":"'Individual Calculations '!BA45","v":0},{"$f":"'Individual Calculations '!BB45","v":0},{"$f":"'Individual Calculations '!BC45","v":0},null,0,0]
[34,78,null,{"$f":"'Individual Calculations '!G46","v":0},null,{"$f":"IF(TargetMethod3=1,\"NA\",'Individual Calculations '!R46)","v":0},null,{"$f":"IF(TargetMethod3=1,'Individual Calculations '!I46+'Individual Calculations '!J46+'Individual Calculations '!O46,'Individual Calculations '!S46+'Individual Calculations '!T46+'Individual Calculations '!W46)","v":0},{"$f":"IF(TargetMethod3=1,'Individual Calculations '!K46,'Individual Calculations '!U46)","v":0},{"$f":"IF(TargetMethod3=1,0,'Individual Calculations '!Y46)","v":0},null,{"$f":"'Individual Calculations '!AA46+'Individual Calculations '!AH46+'Individual Calculations '!AP46","v":0},{"$f":"'Individual Calculations '!AB46+'Individual Calculations '!AI46+'Individual Calculations '!AQ46","v":0},{"$f":"'Individual Calculations '!AC46","v":0.4},{"$f":"'Individual Calculations '!AD46+'Individual Calculations '!AK46+'Individual Calculations '!AS46","v":0},{"$f":"'Individual Calculations '!AE46+'Individual Calculations '!AL46+'Individual Calculations '!AT46","v":0},{"$f":"'Individual Calculations '!AF46+'Individual Calculations '!AM46+'Individual Calculations '!AU46","v":0},null,{"$f":"'Individual Calculations '!AX46","v":0},{"$f":"'Individual Calculations '!AY46","v":0.4},{"$f":"'Individual Calculations '!AZ46","v":0},{"$f":"'Individual Calculations '!BA46","v":0},{"$f":"'Individual Calculations '!BB46","v":0},{"$f":"'Individual Calculations '!BC46","v":0},null,0,0]
[35,79,null,{"$f":"'Individual Calculations '!G47","v":0},null,{"$f":"IF(TargetMethod3=1,\"NA\",'Individual Calculations '!R47)","v":0},null,{"$f":"IF(TargetMethod3=1,'Individual Calculations '!I47+'Individual Calculations '!J47+'Individual Calculations '!O47,'Individual Calculations '!S47+'Individual Calculations '!T47+'Individual Calculations '!W47)","v":0},{"$f":"IF(TargetMethod3=1,'Individual Calculations '!K47,'Individual Calculations '!U47)","v":0},{"$f":"IF(TargetMethod3=1,0,'Individual Calculations '!Y47)","v":0},null,{"$f":"'Individual Calculations '!AA47+'Individual Calculations '!AH47+'Individual Calculations '!AP47","v":0},{"$f":"'Individual Calculations '!AB47+'Individual Calculations '!AI47+'Individual Calculations '!AQ47","v":0},{"$f":"'Individual Calculations '!AC47","v":0.4},{"$f":"'Individual Calculations '!AD47+'Individual Calculations '!AK47+'Individual Calculations '!AS47","v":0},{"$f":"'Individual Calculations '!AE47+'Individual Calculations '!AL47+'Individual Calculations '!AT47","v":0},{"$f":"'Individual Calculations '!AF47+'Individual Calculations '!AM47+'Individual Calculations '!AU47","v":0},null,{"$f":"'Individual Calculations '!AX47","v":0},{"$f":"'Individual Calculations '!AY47","v":0.4},{"$f":"'Individual Calculations '!AZ47","v":0},{"$f":"'Individual Calculations '!BA47","v":0},{"$f":"'Individual Calculations '!BB47","v":0},{"$f":"'Individual Calculations '!BC47","v":0},null,0,0]
[36,80,null,{"$f":"'Individual Calculations '!G48","v":0},null,{"$f":"IF(TargetMethod3=1,\"NA\",'Individual Calculations '!R48)","v":0},null,{"$f":"IF(TargetMethod3=1,'Individual Calculations '!I48+'Individual Calculations '!J48+'Individual Calculations '!O48,'Individual Calculations '!S48+'Individual Calculations '!T48+'Individual Calculations '!W48)","v":0},{"$f":"IF(TargetMethod3=1,'Individual Calculations '!K48,'Individual Calculations '!U48)","v":0},{"$f":"IF(TargetMethod3=1,0,'Individual Calculations '!Y48)","v":0},null,{"$f":"'Individual Calculations '!AA48+'Individual Calculations '!AH48+'Individual Calculations '!AP48","v":0},{"$f":"'Individual Calculations '!AB48+'Individual Calculations '!AI48+'Individual Calculations '!AQ48","v":0},{"$f":"'Individual Calculations '!AC48","v":0.4},{"$f":"'Individual Calculations '!AD48+'Individual Calculations '!AK48+'Individual Calculations '!AS48","v":0},{"$f":"'Individual Calculations '!AE48+'Individual Calculations '!AL48+'Individual Calculations '!AT48","v":0},{"$f":"'Individual Calculations '!AF48+'Individual Calculations '!AM48+'Individual Calculations '!AU48","v":0},null,{"$f":"'Individual Calculations '!AX48","v":0},{"$f":"'Individual Calculations '!AY48","v":0.4},{"$f":"'Individual Calculations '!AZ48","v":0},{"$f":"'Individual Calculations '!BA48","v":0},{"$f":"'Individual Calculations '!BB48","v":0},{"$f":"'Individual Calculations '!BC48","v":0},null,0,0]
[37,81,null,{"$f":"'Individual Calculations '!G49","v":0},null,{"$f":"IF(TargetMethod3=1,\"NA\",'Individual Calculations '!R49)","v":0},null,{"$f":"IF(TargetMethod3=1,'Individual Calculations '!I49+'Individual Calculations '!J49+'Individual Calculations '!O49,'Individual Calculations '!S49+'Individual Calculations '!T49+'Individual Calculations '!W49)","v":0},{"$f":"IF(TargetMethod3=1,'Individual Calculations '!K49,'Individual Calculations '!U49)","v":0},{"$f":"IF(TargetMethod3=1,0,'Individual Calculations '!Y49)","v":0},null,{"$f":"'Individual Calculations '!AA49+'Individual Calculations '!AH49+'Individual Calculations '!AP49","v":0},{"$f":"'Individual Calculations '!AB49+'Individual Calculations '!AI49+'Individual Calculations '!AQ49","v":0},{"$f":"'Individual Calculations '!AC49","v":0.4},{"$f":"'Individual Calculations '!AD49+'Individual Calculations '!AK49+'Individual Calculations '!AS49","v":0},{"$f":"'Individual Calculations '!AE49+'Individual Calculations '!AL49+'Individual Calculations '!AT49","v":0},{"$f":"'Individual Calculations '!AF49+'Individual Calculations '!AM49+'Individual Calculations '!AU49","v":0},null,{"$f":"'Individual Calculations '!AX49","v":0},{"$f":"'Individual Calculations '!AY49","v":0.4},{"$f":"'Individual Calculations '!AZ49","v":0},{"$f":"'Individual Calculations '!BA49","v":0},{"$f":"'Individual Calculations '!BB49","v":0},{"$f":"'Individual Calculations '!BC49","v":0},null,0,0]
[38,82,null,{"$f":"'Individual Calculations '!G50","v":0},null,{"$f":"IF(TargetMethod3=1,\"NA\",'Individual Calculations '!R50)","v":0},null,{"$f":"IF(TargetMethod3=1,'Individual Calculations '!I50+'Individual Calculations '!J50+'Individual Calculations '!O50,'Individual Calculations '!S50+'Individual Calculations '!T50+'Individual Calculations '!W50)","v":0},{"$f":"IF(TargetMethod3=1,'Individual Calculations '!K50,'Individual Calculations '!U50)","v":0},{"$f":"IF(TargetMethod3=1,0,'Individual Calculations '!Y50)","v":0},null,{"$f":"'Individual Calculations '!AA50+'Individual Calculations '!AH50+'Individual Calculations '!AP50","v":0},{"$f":"'Individual Calculations '!AB50+'Individual Calculations '!AI50+'Individual Calculations '!AQ50","v":0},{"$f":"'Individual Calculations '!AC50","v":0.4},{"$f":"'Individual Calculations '!AD50+'Individual Calculations '!AK50+'Individual Calculations '!AS50","v":0},{"$f":"'Individual Calculations '!AE50+'Individual Calculations '!AL50+'Individual Calculations '!AT50","v":0},{"$f":"'Individual Calculations '!AF50+'Individual Calculations '!AM50+'Individual Calculations '!AU50","v":0},null,{"$f":"'Individual Calculations '!AX50","v":0},{"$f":"'Individual Calculations '!AY50","v":0.4},{"$f":"'Individual Calculations '!AZ50","v":0},{"$f":"'Individual Calculations '!BA50","v":0},{"$f":"'Individual Calculations '!BB50","v":0},{"$f":"'Individual Calculations '!BC50","v":0},null,0,0]
[39,83,null,{"$f":"'Individual Calculations '!G51","v":0},null,{"$f":"IF(TargetMethod3=1,\"NA\",'Individual Calculations '!R51)","v":0},null,{"$f":"IF(TargetMethod3=1,'Individual Calculations '!I51+'Individual Calculations '!J51+'Individual Calculations '!O51,'Individual Calculations '!S51+'Individual Calculations '!T51+'Individual Calculations '!W51)","v":0},{"$f":"IF(TargetMethod3=1,'Individual Calculations '!K51,'Individual Calculations '!U51)","v":0},{"$f":"IF(TargetMethod3=1,0,'Individual Calculations '!Y51)","v":0},null,{"$f":"'Individual Calculations '!AA51+'Individual Calculations '!AH51+'Individual Calculations '!AP51","v":0},{"$f":"'Individual Calculations '!AB51+'Individual Calculations '!AI51+'Individual Calculations '!AQ51","v":0},{"$f":"'Individual Calculations '!AC51","v":0.4},{"$f":"'Individual Calculations '!AD51+'Individual Calculations '!AK51+'Individual Calculations '!AS51","v":0},{"$f":"'Individual Calculations '!AE51+'Individual Calculations '!AL51+'Individual Calculations '!AT51","v":0},{"$f":"'Individual Calculations '!AF51+'Individual Calculations '!AM51+'Individual Calculations '!AU51","v":0},null,{"$f":"'Individual Calculations '!AX51","v":0},{"$f":"'Individual Calculations '!AY51","v":0.4},{"$f":"'Individual Calculations '!AZ51","v":0},{"$f":"'Individual Calculations '!BA51","v":0},{"$f":"'Individual Calculations '!BB51","v":0},{"$f":"'Individual Calculations '!BC51","v":0},null,0,0]
[40,84,null,{"$f":"'Individual Calculations '!G52","v":0},null,{"$f":"IF(TargetMethod3=1,\"NA\",'Individual Calculations '!R52)","v":0},null,{"$f":"IF(TargetMethod3=1,'Individual Calculations '!I52+'Individual Calculations '!J52+'Individual Calculations '!O52,'Individual Calculations '!S52+'Individual Calculations '!T52+'Individual Calculations '!W52)","v":0},{"$f":"IF(TargetMethod3=1,'Individual Calculations '!K52,'Individual Calculations '!U52)","v":0},{"$f":"IF(TargetMethod3=1,0,'Individual Calculations '!Y52)","v":0},null,{"$f":"'Individual Calculations '!AA52+'Individual Calculations '!AH52+'Individual Calculations '!AP52","v":0},{"$f":"'Individual Calculations '!AB52+'Individual Calculations '!AI52+'Individual Calculations '!AQ52","v":0},{"$f":"'Individual Calculations '!AC52","v":0.4},{"$f":"'Individual Calculations '!AD52+'Individual Calculations '!AK52+'Individual Calculations '!AS52","v":0},{"$f":"'Individual Calculations '!AE52+'Individual Calculations '!AL52+'Individual Calculations '!AT52","v":0},{"$f":"'Individual Calculations '!AF52+'Individual Calculations '!AM52+'Individual Calculations '!AU52","v":0},null,{"$f":"'Individual Calculations '!AX52","v":0},{"$f":"'Individual Calculations '!AY52","v":0.4},{"$f":"'Individual Calculations '!AZ52","v":0},{"$f":"'Individual Calculations '!BA52","v":0},{"$f":"'Individual Calculations '!BB52","v":0},{"$f":"'Individual Calculations '!BC52","v":0},null,0,0]
[41,85,null,{"$f":"'Individual Calculations '!G53","v":0},null,{"$f":"IF(TargetMethod3=1,\"NA\",'Individual Calculations '!R53)","v":0},null,{"$f":"IF(TargetMethod3=1,'Individual Calculations '!I53+'Individual Calculations '!J53+'Individual Calculations '!O53,'Individual Calculations '!S53+'Individual Calculations '!T53+'Individual Calculations '!W53)","v":0},{"$f":"IF(TargetMethod3=1,'Individual Calculations '!K53,'Individual Calculations '!U53)","v":0},{"$f":"IF(TargetMethod3=1,0,'Individual Calculations '!Y53)","v":0},null,{"$f":"'Individual Calculations '!AA53+'Individual Calculations '!AH53+'Individual Calculations '!AP53","v":0},{"$f":"'Individual Calculations '!AB53+'Individual Calculations '!AI53+'Individual Calculations '!AQ53","v":0},{"$f":"'Individual Calculations '!AC53","v":0.4},{"$f":"'Individual Calculations '!AD53+'Individual Calculations '!AK53+'Individual Calculations '!AS53","v":0},{"$f":"'Individual Calculations '!AE53+'Individual Calculations '!AL53+'Individual Calculations '!AT53","v":0},{"$f":"'Individual Calculations '!AF53+'Individual Calculations '!AM53+'Individual Calculations '!AU53","v":0},null,{"$f":"'Individual Calculations '!AX53","v":0},{"$f":"'Individual Calculations '!AY53","v":0.4},{"$f":"'Individual Calculations '!AZ53","v":0},{"$f":"'Individual Calculations '!BA53","v":0},{"$f":"'Individual Calculations '!BB53","v":0},{"$f":"'Individual Calculations '!BC53","v":0},null,0,0]
[42,86,null,{"$f":"'Individual Calculations '!G54","v":0},null,{"$f":"IF(TargetMethod3=1,\"NA\",'Individual Calculations '!R54)","v":0},null,{"$f":"IF(TargetMethod3=1,'Individual Calculations '!I54+'Individual Calculations '!J54+'Individual Calculations '!O54,'Individual Calculations '!S54+'Individual Calculations '!T54+'Individual Calculations '!W54)","v":0},{"$f":"IF(TargetMethod3=1,'Individual Calculations '!K54,'Individual Calculations '!U54)","v":0},{"$f":"IF(TargetMethod3=1,0,'Individual Calculations '!Y54)","v":0},null,{"$f":"'Individual Calculations '!AA54+'Individual Calculations '!AH54+'Individual Calculations '!AP54","v":0},{"$f":"'Individual Calculations '!AB54+'Individual Calculations '!AI54+'Individual Calculations '!AQ54","v":0},{"$f":"'Individual Calculations '!AC54","v":0.4},{"$f":"'Individual Calculations '!AD54+'Individual Calculations '!AK54+'Individual Calculations '!AS54","v":0},{"$f":"'Individual Calculations '!AE54+'Individual Calculations '!AL54+'Individual Calculations '!AT54","v":0},{"$f":"'Individual Calculations '!AF54+'Individual Calculations '!AM54+'Individual Calculations '!AU54","v":0},null,{"$f":"'Individual Calculations '!AX54","v":0},{"$f":"'Individual Calculations '!AY54","v":0.4},{"$f":"'Individual Calculations '!AZ54","v":0},{"$f":"'Individual Calculations '!BA54","v":0},{"$f":"'Individual Calculations '!BB54","v":0},{"$f":"'Individual Calculations '!BC54","v":0},null,0,0]
[43,87,null,{"$f":"'Individual Calculations '!G55","v":0},null,{"$f":"IF(TargetMethod3=1,\"NA\",'Individual Calculations '!R55)","v":0},null,{"$f":"IF(TargetMethod3=1,'Individual Calculations '!I55+'Individual Calculations '!J55+'Individual Calculations '!O55,'Individual Calculations '!S55+'Individual Calculations '!T55+'Individual Calculations '!W55)","v":0},{"$f":"IF(TargetMethod3=1,'Individual Calculations '!K55,'Individual Calculations '!U55)","v":0},{"$f":"IF(TargetMethod3=1,0,'Individual Calculations '!Y55)","v":0},null,{"$f":"'Individual Calculations '!AA55+'Individual Calculations '!AH55+'Individual Calculations '!AP55","v":0},{"$f":"'Individual Calculations '!AB55+'Individual Calculations '!AI55+'Individual Calculations '!AQ55","v":0},{"$f":"'Individual Calculations '!AC55","v":0.4},{"$f":"'Individual Calculations '!AD55+'Individual Calculations '!AK55+'Individual Calculations '!AS55","v":0},{"$f":"'Individual Calculations '!AE55+'Individual Calculations '!AL55+'Individual Calculations '!AT55","v":0},{"$f":"'Individual Calculations '!AF55+'Individual Calculations '!AM55+'Individual Calculations '!AU55","v":0},null,{"$f":"'Individual Calculations '!AX55","v":0},{"$f":"'Individual Calculations '!AY55","v":0.4},{"$f":"'Individual Calculations '!AZ55","v":0},{"$f":"'Individual Calculations '!BA55","v":0},{"$f":"'Individual Calculations '!BB55","v":0},{"$f":"'Individual Calculations '!BC55","v":0},null,0,0]
[44,88,null,{"$f":"'Individual Calculations '!G56","v":0},null,{"$f":"IF(TargetMethod3=1,\"NA\",'Individual Calculations '!R56)","v":0},null,{"$f":"IF(TargetMethod3=1,'Individual Calculations '!I56+'Individual Calculations '!J56+'Individual Calculations '!O56,'Individual Calculations '!S56+'Individual Calculations '!T56+'Individual Calculations '!W56)","v":0},{"$f":"IF(TargetMethod3=1,'Individual Calculations '!K56,'Individual Calculations '!U56)","v":0},{"$f":"IF(TargetMethod3=1,0,'Individual Calculations '!Y56)","v":0},null,{"$f":"'Individual Calculations '!AA56+'Individual Calculations '!AH56+'Individual Calculations '!AP56","v":0},{"$f":"'Individual Calculations '!AB56+'Individual Calculations '!AI56+'Individual Calculations '!AQ56","v":0},{"$f":"'Individual Calculations '!AC56","v":0.4},{"$f":"'Individual Calculations '!AD56+'Individual Calculations '!AK56+'Individual Calculations '!AS56","v":0},{"$f":"'Individual Calculations '!AE56+'Individual Calculations '!AL56+'Individual Calculations '!AT56","v":0},{"$f":"'Individual Calculations '!AF56+'Individual Calculations '!AM56+'Individual Calculations '!AU56","v":0},null,{"$f":"'Individual Calculations '!AX56","v":0},{"$f":"'Individual Calculations '!AY56","v":0.4},{"$f":"'Individual Calculations '!AZ56","v":0},{"$f":"'Individual Calculations '!BA56","v":0},{"$f":"'Individual Calculations '!BB56","v":0},{"$f":"'Individual Calculations '!BC56","v":0},null,0,0]
[45,89,null,{"$f":"'Individual Calculations '!G57","v":0},null,{"$f":"IF(TargetMethod3=1,\"NA\",'Individual Calculations '!R57)","v":0},null,{"$f":"IF(TargetMethod3=1,'Individual Calculations '!I57+'Individual Calculations '!J57+'Individual Calculations '!O57,'Individual Calculations '!S57+'Individual Calculations '!T57+'Individual Calculations '!W57)","v":0},{"$f":"IF(TargetMethod3=1,'Individual Calculations '!K57,'Individual Calculations '!U57)","v":0},{"$f":"IF(TargetMethod3=1,0,'Individual Calculations '!Y57)","v":0},null,{"$f":"'Individual Calculations '!AA57+'Individual Calculations '!AH57+'Individual Calculations '!AP57","v":0},{"$f":"'Individual Calculations '!AB57+'Individual Calculations '!AI57+'Individual Calculations '!AQ57","v":0},{"$f":"'Individual Calculations '!AC57","v":0.4},{"$f":"'Individual Calculations '!AD57+'Individual Calculations '!AK57+'Individual Calculations '!AS57","v":0},{"$f":"'Individual Calculations '!AE57+'Individual Calculations '!AL57+'Individual Calculations '!AT57","v":0},{"$f":"'Individual Calculations '!AF57+'Individual Calculations '!AM57+'Individual Calculations '!AU57","v":0},null,{"$f":"'Individual Calculations '!AX57","v":0},{"$f":"'Individual Calculations '!AY57","v":0.4},{"$f":"'Individual Calculations '!AZ57","v":0},{"$f":"'Individual Calculations '!BA57","v":0},{"$f":"'Individual Calculations '!BB57","v":0},{"$f":"'Individual Calculations '!BC57","v":0},null,0,0]
[46,90,null,{"$f":"'Individual Calculations '!G58","v":0},null,{"$f":"IF(TargetMethod3=1,\"NA\",'Individual Calculations '!R58)","v":0},null,{"$f":"IF(TargetMethod3=1,'Individual Calculations '!I58+'Individual Calculations '!J58+'Individual Calculations '!O58,'Individual Calculations '!S58+'Individual Calculations '!T58+'Individual Calculations '!W58)","v":0},{"$f":"IF(TargetMethod3=1,'Individual Calculations '!K58,'Individual Calculations '!U58)","v":0},{"$f":"IF(TargetMethod3=1,0,'Individual Calculations '!Y58)","v":0},null,{"$f":"'Individual Calculations '!AA58+'Individual Calculations '!AH58+'Individual Calculations '!AP58","v":0},{"$f":"'Individual Calculations '!AB58+'Individual Calculations '!AI58+'Individual Calculations '!AQ58","v":0},{"$f":"'Individual Calculations '!AC58","v":0.4},{"$f":"'Individual Calculations '!AD58+'Individual Calculations '!AK58+'Individual Calculations '!AS58","v":0},{"$f":"'Individual Calculations '!AE58+'Individual Calculations '!AL58+'Individual Calculations '!AT58","v":0},{"$f":"'Individual Calculations '!AF58+'Individual Calculations '!AM58+'Individual Calculations '!AU58","v":0},null,{"$f":"'Individual Calculations '!AX58","v":0},{"$f":"'Individual Calculations '!AY58","v":0.4},{"$f":"'Individual Calculations '!AZ58","v":0},{"$f":"'Individual Calculations '!BA58","v":0},{"$f":"'Individual Calculations '!BB58","v":0},{"$f":"'Individual Calculations '!BC58","v":0},null,0,0]
[47,91,null,{"$f":"'Individual Calculations '!G59","v":0},null,{"$f":"IF(TargetMethod3=1,\"NA\",'Individual Calculations '!R59)","v":0},null,{"$f":"IF(TargetMethod3=1,'Individual Calculations '!I59+'Individual Calculations '!J59+'Individual Calculations '!O59,'Individual Calculations '!S59+'Individual Calculations '!T59+'Individual Calculations '!W59)","v":0},{"$f":"IF(TargetMethod3=1,'Individual Calculations '!K59,'Individual Calculations '!U59)","v":0},{"$f":"IF(TargetMethod3=1,0,'Individual Calculations '!Y59)","v":0},null,{"$f":"'Individual Calculations '!AA59+'Individual Calculations '!AH59+'Individual Calculations '!AP59","v":0},{"$f":"'Individual Calculations '!AB59+'Individual Calculations '!AI59+'Individual Calculations '!AQ59","v":0},{"$f":"'Individual Calculations '!AC59","v":0.4},{"$f":"'Individual Calculations '!AD59+'Individual Calculations '!AK59+'Individual Calculations '!AS59","v":0},{"$f":"'Individual Calculations '!AE59+'Individual Calculations '!AL59+'Individual Calculations '!AT59","v":0},{"$f":"'Individual Calculations '!AF59+'Individual Calculations '!AM59+'Individual Calculations '!AU59","v":0},null,{"$f":"'Individual Calculations '!AX59","v":0},{"$f":"'Individual Calculations '!AY59","v":0.4},{"$f":"'Individual Calculations '!AZ59","v":0},{"$f":"'Individual Calculations '!BA59","v":0},{"$f":"'Individual Calculations '!BB59","v":0},{"$f":"'Individual Calculations '!BC59","v":0},null,0,0]
[48,92,null,{"$f":"'Individual Calculations '!G60","v":0},null,{"$f":"IF(TargetMethod3=1,\"NA\",'Individual Calculations '!R60)","v":0},null,{"$f":"IF(TargetMethod3=1,'Individual Calculations '!I60+'Individual Calculations '!J60+'Individual Calculations '!O60,'Individual Calculations '!S60+'Individual Calculations '!T60+'Individual Calculations '!W60)","v":0},{"$f":"IF(TargetMethod3=1,'Individual Calculations '!K60,'Individual Calculations '!U60)","v":0},{"$f":"IF(TargetMethod3=1,0,'Individual Calculations '!Y60)","v":0},null,{"$f":"'Individual Calculations '!AA60+'Individual Calculations '!AH60+'Individual Calculations '!AP60","v":0},{"$f":"'Individual Calculations '!AB60+'Individual Calculations '!AI60+'Individual Calculations '!AQ60","v":0},{"$f":"'Individual Calculations '!AC60","v":0.4},{"$f":"'Individual Calculations '!AD60+'Individual Calculations '!AK60+'Individual Calculations '!AS60","v":0},{"$f":"'Individual Calculations '!AE60+'Individual Calculations '!AL60+'Individual Calculations '!AT60","v":0},{"$f":"'Individual Calculations '!AF60+'Individual Calculations '!AM60+'Individual Calculations '!AU60","v":0},null,{"$f":"'Individual Calculations '!AX60","v":0},{"$f":"'Individual Calculations '!AY60","v":0.4},{"$f":"'Individual Calculations '!AZ60","v":0},{"$f":"'Individual Calculations '!BA60","v":0},{"$f":"'Individual Calculations '!BB60","v":0},{"$f":"'Individual Calculations '!BC60","v":0},null,0,0]
[49,93,null,{"$f":"'Individual Calculations '!G61","v":0},null,{"$f":"IF(TargetMethod3=1,\"NA\",'Individual Calculations '!R61)","v":0},null,{"$f":"IF(TargetMethod3=1,'Individual Calculations '!I61+'Individual Calculations '!J61+'Individual Calculations '!O61,'Individual Calculations '!S61+'Individual Calculations '!T61+'Individual Calculations '!W61)","v":0},{"$f":"IF(TargetMethod3=1,'Individual Calculations '!K61,'Individual Calculations '!U61)","v":0},{"$f":"IF(TargetMethod3=1,0,'Individual Calculations '!Y61)","v":0},null,{"$f":"'Individual Calculations '!AA61+'Individual Calculations '!AH61+'Individual Calculations '!AP61","v":0},{"$f":"'Individual Calculations '!AB61+'Individual Calculations '!AI61+'Individual Calculations '!AQ61","v":0},{"$f":"'Individual Calculations '!AC61","v":0.4},{"$f":"'Individual Calculations '!AD61+'Individual Calculations '!AK61+'Individual Calculations '!AS61","v":0},{"$f":"'Individual Calculations '!AE61+'Individual Calculations '!AL61+'Individual Calculations '!AT61","v":0},{"$f":"'Individual Calculations '!AF61+'Individual Calculations '!AM61+'Individual Calculations '!AU61","v":0},null,{"$f":"'Individual Calculations '!AX61","v":0},{"$f":"'Individual Calculations '!AY61","v":0.4},{"$f":"'Individual Calculations '!AZ61","v":0},{"$f":"'Individual Calculations '!BA61","v":0},{"$f":"'Individual Calculations '!BB61","v":0},{"$f":"'Individual Calculations '!BC61","v":0},null,0,0]
[50,94,null,{"$f":"'Individual Calculations '!G62","v":0},null,{"$f":"IF(TargetMethod3=1,\"NA\",'Individual Calculations '!R62)","v":0},null,{"$f":"IF(TargetMethod3=1,'Individual Calculations '!I62+'Individual Calculations '!J62+'Individual Calculations '!O62,'Individual Calculations '!S62+'Individual Calculations '!T62+'Individual Calculations '!W62)","v":0},{"$f":"IF(TargetMethod3=1,'Individual Calculations '!K62,'Individual Calculations '!U62)","v":0},{"$f":"IF(TargetMethod3=1,0,'Individual Calculations '!Y62)","v":0},null,{"$f":"'Individual Calculations '!AA62+'Individual Calculations '!AH62+'Individual Calculations '!AP62","v":0},{"$f":"'Individual Calculations '!AB62+'Individual Calculations '!AI62+'Individual Calculations '!AQ62","v":0},{"$f":"'Individual Calculations '!AC62","v":0.4},{"$f":"'Individual Calculations '!AD62+'Individual Calculations '!AK62+'Individual Calculations '!AS62","v":0},{"$f":"'Individual Calculations '!AE62+'Individual Calculations '!AL62+'Individual Calculations '!AT62","v":0},{"$f":"'Individual Calculations '!AF62+'Individual Calculations '!AM62+'Individual Calculations '!AU62","v":0},null,{"$f":"'Individual Calculations '!AX62","v":0},{"$f":"'Individual Calculations '!AY62","v":0.4},{"$f":"'Individual Calculations '!AZ62","v":0},{"$f":"'Individual Calculations '!BA62","v":0},{"$f":"'Individual Calculations '!BB62","v":0},{"$f":"'Individual Calculations '!BC62","v":0},null,0,0]
[51,95,null,{"$f":"'Individual Calculations '!G63","v":0},null,{"$f":"IF(TargetMethod3=1,\"NA\",'Individual Calculations '!R63)","v":0},null,{"$f":"IF(TargetMethod3=1,'Individual Calculations '!I63+'Individual Calculations '!J63+'Individual Calculations '!O63,'Individual Calculations '!S63+'Individual Calculations '!T63+'Individual Calculations '!W63)","v":0},{"$f":"IF(TargetMethod3=1,'Individual Calculations '!K63,'Individual Calculations '!U63)","v":0},{"$f":"IF(TargetMethod3=1,0,'Individual Calculations '!Y63)","v":0},null,{"$f":"'Individual Calculations '!AA63+'Individual Calculations '!AH63+'Individual Calculations '!AP63","v":0},{"$f":"'Individual Calculations '!AB63+'Individual Calculations '!AI63+'Individual Calculations '!AQ63","v":0},{"$f":"'Individual Calculations '!AC63","v":0.4},{"$f":"'Individual Calculations '!AD63+'Individual Calculations '!AK63+'Individual Calculations '!AS63","v":0},{"$f":"'Individual Calculations '!AE63+'Individual Calculations '!AL63+'Individual Calculations '!AT63","v":0},{"$f":"'Individual Calculations '!AF63+'Individual Calculations '!AM63+'Individual Calculations '!AU63","v":0},null,{"$f":"'Individual Calculations '!AX63","v":0},{"$f":"'Individual Calculations '!AY63","v":0.4},{"$f":"'Individual Calculations '!AZ63","v":0},{"$f":"'Individual Calculations '!BA63","v":0},{"$f":"'Individual Calculations '!BB63","v":0},{"$f":"'Individual Calculations '!BC63","v":0},null,0,0]
[52,96,null,{"$f":"'Individual Calculations '!G64","v":0},null,{"$f":"IF(TargetMethod3=1,\"NA\",'Individual Calculations '!R64)","v":0},null,{"$f":"IF(TargetMethod3=1,'Individual Calculations '!I64+'Individual Calculations '!J64+'Individual Calculations '!O64,'Individual Calculations '!S64+'Individual Calculations '!T64+'Individual Calculations '!W64)","v":0},{"$f":"IF(TargetMethod3=1,'Individual Calculations '!K64,'Individual Calculations '!U64)","v":0},{"$f":"IF(TargetMethod3=1,0,'Individual Calculations '!Y64)","v":0},null,{"$f":"'Individual Calculations '!AA64+'Individual Calculations '!AH64+'Individual Calculations '!AP64","v":0},{"$f":"'Individual Calculations '!AB64+'Individual Calculations '!AI64+'Individual Calculations '!AQ64","v":0},{"$f":"'Individual Calculations '!AC64","v":0.4},{"$f":"'Individual Calculations '!AD64+'Individual Calculations '!AK64+'Individual Calculations '!AS64","v":0},{"$f":"'Individual Calculations '!AE64+'Individual Calculations '!AL64+'Individual Calculations '!AT64","v":0},{"$f":"'Individual Calculations '!AF64+'Individual Calculations '!AM64+'Individual Calculations '!AU64","v":0},null,{"$f":"'Individual Calculations '!AX64","v":0},{"$f":"'Individual Calculations '!AY64","v":0.4},{"$f":"'Individual Calculations '!AZ64","v":0},{"$f":"'Individual Calculations '!BA64","v":0},{"$f":"'Individual Calculations '!BB64","v":0},{"$f":"'Individual Calculations '!BC64","v":0},null,0,0]
[53,97,null,{"$f":"'Individual Calculations '!G65","v":0},null,{"$f":"IF(TargetMethod3=1,\"NA\",'Individual Calculations '!R65)","v":0},null,{"$f":"IF(TargetMethod3=1,'Individual Calculations '!I65+'Individual Calculations '!J65+'Individual Calculations '!O65,'Individual Calculations '!S65+'Individual Calculations '!T65+'Individual Calculations '!W65)","v":0},{"$f":"IF(TargetMethod3=1,'Individual Calculations '!K65,'Individual Calculations '!U65)","v":0},{"$f":"IF(TargetMethod3=1,0,'Individual Calculations '!Y65)","v":0},null,{"$f":"'Individual Calculations '!AA65+'Individual Calculations '!AH65+'Individual Calculations '!AP65","v":0},{"$f":"'Individual Calculations '!AB65+'Individual Calculations '!AI65+'Individual Calculations '!AQ65","v":0},{"$f":"'Individual Calculations '!AC65","v":0.4},{"$f":"'Individual Calculations '!AD65+'Individual Calculations '!AK65+'Individual Calculations '!AS65","v":0},{"$f":"'Individual Calculations '!AE65+'Individual Calculations '!AL65+'Individual Calculations '!AT65","v":0},{"$f":"'Individual Calculations '!AF65+'Individual Calculations '!AM65+'Individual Calculations '!AU65","v":0},null,{"$f":"'Individual Calculations '!AX65","v":0},{"$f":"'Individual Calculations '!AY65","v":0.4},{"$f":"'Individual Calculations '!AZ65","v":0},{"$f":"'Individual Calculations '!BA65","v":0},{"$f":"'Individual Calculations '!BB65","v":0},{"$f":"'Individual Calculations '!BC65","v":0},null,0,0]
[54,98,null,{"$f":"'Individual Calculations '!G66","v":0},null,{"$f":"IF(TargetMethod3=1,\"NA\",'Individual Calculations '!R66)","v":0},null,{"$f":"IF(TargetMethod3=1,'Individual Calculations '!I66+'Individual Calculations '!J66+'Individual Calculations '!O66,'Individual Calculations '!S66+'Individual Calculations '!T66+'Individual Calculations '!W66)","v":0},{"$f":"IF(TargetMethod3=1,'Individual Calculations '!K66,'Individual Calculations '!U66)","v":0},{"$f":"IF(TargetMethod3=1,0,'Individual Calculations '!Y66)","v":0},null,{"$f":"'Individual Calculations '!AA66+'Individual Calculations '!AH66+'Individual Calculations '!AP66","v":0},{"$f":"'Individual Calculations '!AB66+'Individual Calculations '!AI66+'Individual Calculations '!AQ66","v":0},{"$f":"'Individual Calculations '!AC66","v":0.4},{"$f":"'Individual Calculations '!AD66+'Individual Calculations '!AK66+'Individual Calculations '!AS66","v":0},{"$f":"'Individual Calculations '!AE66+'Individual Calculations '!AL66+'Individual Calculations '!AT66","v":0},{"$f":"'Individual Calculations '!AF66+'Individual Calculations '!AM66+'Individual Calculations '!AU66","v":0},null,{"$f":"'Individual Calculations '!AX66","v":0},{"$f":"'Individual Calculations '!AY66","v":0.4},{"$f":"'Individual Calculations '!AZ66","v":0},{"$f":"'Individual Calculations '!BA66","v":0},{"$f":"'Individual Calculations '!BB66","v":0},{"$f":"'Individual Calculations '!BC66","v":0},null,0,0]
[55,99,null,{"$f":"'Individual Calculations '!G67","v":0},null,{"$f":"IF(TargetMethod3=1,\"NA\",'Individual Calculations '!R67)","v":0},null,{"$f":"IF(TargetMethod3=1,'Individual Calculations '!I67+'Individual Calculations '!J67+'Individual Calculations '!O67,'Individual Calculations '!S67+'Individual Calculations '!T67+'Individual Calculations '!W67)","v":0},{"$f":"IF(TargetMethod3=1,'Individual Calculations '!K67,'Individual Calculations '!U67)","v":0},{"$f":"IF(TargetMethod3=1,0,'Individual Calculations '!Y67)","v":0},null,{"$f":"'Individual Calculations '!AA67+'Individual Calculations '!AH67+'Individual Calculations '!AP67","v":0},{"$f":"'Individual Calculations '!AB67+'Individual Calculations '!AI67+'Individual Calculations '!AQ67","v":0},{"$f":"'Individual Calculations '!AC67","v":0.4},{"$f":"'Individual Calculations '!AD67+'Individual Calculations '!AK67+'Individual Calculations '!AS67","v":0},{"$f":"'Individual Calculations '!AE67+'Individual Calculations '!AL67+'Individual Calculations '!AT67","v":0},{"$f":"'Individual Calculations '!AF67+'Individual Calculations '!AM67+'Individual Calculations '!AU67","v":0},null,{"$f":"'Individual Calculations '!AX67","v":0},{"$f":"'Individual Calculations '!AY67","v":0.4},{"$f":"'Individual Calculations '!AZ67","v":0},{"$f":"'Individual Calculations '!BA67","v":0},{"$f":"'Individual Calculations '!BB67","v":0},{"$f":"'Individual Calculations '!BC67","v":0},null,0,0]
[56,100,null,{"$f":"'Individual Calculations '!G68","v":0},null,{"$f":"IF(TargetMethod3=1,\"NA\",'Individual Calculations '!R68)","v":0},null,{"$f":"IF(TargetMethod3=1,'Individual Calculations '!I68+'Individual Calculations '!J68+'Individual Calculations '!O68,'Individual Calculations '!S68+'Individual Calculations '!T68+'Individual Calculations '!W68)","v":0},{"$f":"IF(TargetMethod3=1,'Individual Calculations '!K68,'Individual Calculations '!U68)","v":0},{"$f":"IF(TargetMethod3=1,0,'Individual Calculations '!Y68)","v":0},null,{"$f":"'Individual Calculations '!AA68+'Individual Calculations '!AH68+'Individual Calculations '!AP68","v":0},{"$f":"'Individual Calculations '!AB68+'Individual Calculations '!AI68+'Individual Calculations '!AQ68","v":0},{"$f":"'Individual Calculations '!AC68","v":0.4},{"$f":"'Individual Calculations '!AD68+'Individual Calculations '!AK68+'Individual Calculations '!AS68","v":0},{"$f":"'Individual Calculations '!AE68+'Individual Calculations '!AL68+'Individual Calculations '!AT68","v":0},{"$f":"'Individual Calculations '!AF68+'Individual Calculations '!AM68+'Individual Calculations '!AU68","v":0},null,{"$f":"'Individual Calculations '!AX68","v":0},{"$f":"'Individual Calculations '!AY68","v":0.4},{"$f":"'Individual Calculations '!AZ68","v":0},{"$f":"'Individual Calculations '!BA68","v":0},{"$f":"'Individual Calculations '!BB68","v":0},{"$f":"'Individual Calculations '!BC68","v":0},null,0,0]
[57,101,null,{"$f":"'Individual Calculations '!G69","v":0},null,{"$f":"IF(TargetMethod3=1,\"NA\",'Individual Calculations '!R69)","v":0},null,{"$f":"IF(TargetMethod3=1,'Individual Calculations '!I69+'Individual Calculations '!J69+'Individual Calculations '!O69,'Individual Calculations '!S69+'Individual Calculations '!T69+'Individual Calculations '!W69)","v":0},{"$f":"IF(TargetMethod3=1,'Individual Calculations '!K69,'Individual Calculations '!U69)","v":0},{"$f":"IF(TargetMethod3=1,0,'Individual Calculations '!Y69)","v":0},null,{"$f":"'Individual Calculations '!AA69+'Individual Calculations '!AH69+'Individual Calculations '!AP69","v":0},{"$f":"'Individual Calculations '!AB69+'Individual Calculations '!AI69+'Individual Calculations '!AQ69","v":0},{"$f":"'Individual Calculations '!AC69","v":0.4},{"$f":"'Individual Calculations '!AD69+'Individual Calculations '!AK69+'Individual Calculations '!AS69","v":0},{"$f":"'Individual Calculations '!AE69+'Individual Calculations '!AL69+'Individual Calculations '!AT69","v":0},{"$f":"'Individual Calculations '!AF69+'Individual Calculations '!AM69+'Individual Calculations '!AU69","v":0},null,{"$f":"'Individual Calculations '!AX69","v":0},{"$f":"'Individual Calculations '!AY69","v":0.4},{"$f":"'Individual Calculations '!AZ69","v":0},{"$f":"'Individual Calculations '!BA69","v":0},{"$f":"'Individual Calculations '!BB69","v":0},{"$f":"'Individual Calculations '!BC69","v":0},null,0,0]
[58,102,null,{"$f":"'Individual Calculations '!G70","v":0},null,{"$f":"IF(TargetMethod3=1,\"NA\",'Individual Calculations '!R70)","v":0},null,{"$f":"IF(TargetMethod3=1,'Individual Calculations '!I70+'Individual Calculations '!J70+'Individual Calculations '!O70,'Individual Calculations '!S70+'Individual Calculations '!T70+'Individual Calculations '!W70)","v":0},{"$f":"IF(TargetMethod3=1,'Individual Calculations '!K70,'Individual Calculations '!U70)","v":0},{"$f":"IF(TargetMethod3=1,0,'Individual Calculations '!Y70)","v":0},null,{"$f":"'Individual Calculations '!AA70+'Individual Calculations '!AH70+'Individual Calculations '!AP70","v":0},{"$f":"'Individual Calculations '!AB70+'Individual Calculations '!AI70+'Individual Calculations '!AQ70","v":0},{"$f":"'Individual Calculations '!AC70","v":0.4},{"$f":"'Individual Calculations '!AD70+'Individual Calculations '!AK70+'Individual Calculations '!AS70","v":0},{"$f":"'Individual Calculations '!AE70+'Individual Calculations '!AL70+'Individual Calculations '!AT70","v":0},{"$f":"'Individual Calculations '!AF70+'Individual Calculations '!AM70+'Individual Calculations '!AU70","v":0},null,{"$f":"'Individual Calculations '!AX70","v":0},{"$f":"'Individual Calculations '!AY70","v":0.4},{"$f":"'Individual Calculations '!AZ70","v":0},{"$f":"'Individual Calculations '!BA70","v":0},{"$f":"'Individual Calculations '!BB70","v":0},{"$f":"'Individual Calculations '!BC70","v":0},null,0,0]
[59,103,null,{"$f":"'Individual Calculations '!G71","v":0},null,{"$f":"IF(TargetMethod3=1,\"NA\",'Individual Calculations '!R71)","v":0},null,{"$f":"IF(TargetMethod3=1,'Individual Calculations '!I71+'Individual Calculations '!J71+'Individual Calculations '!O71,'Individual Calculations '!S71+'Individual Calculations '!T71+'Individual Calculations '!W71)","v":0},{"$f":"IF(TargetMethod3=1,'Individual Calculations '!K71,'Individual Calculations '!U71)","v":0},{"$f":"IF(TargetMethod3=1,0,'Individual Calculations '!Y71)","v":0},null,{"$f":"'Individual Calculations '!AA71+'Individual Calculations '!AH71+'Individual Calculations '!AP71","v":0},{"$f":"'Individual Calculations '!AB71+'Individual Calculations '!AI71+'Individual Calculations '!AQ71","v":0},{"$f":"'Individual Calculations '!AC71","v":0.4},{"$f":"'Individual Calculations '!AD71+'Individual Calculations '!AK71+'Individual Calculations '!AS71","v":0},{"$f":"'Individual Calculations '!AE71+'Individual Calculations '!AL71+'Individual Calculations '!AT71","v":0},{"$f":"'Individual Calculations '!AF71+'Individual Calculations '!AM71+'Individual Calculations '!AU71","v":0},null,{"$f":"'Individual Calculations '!AX71","v":0},{"$f":"'Individual Calculations '!AY71","v":0.4},{"$f":"'Individual Calculations '!AZ71","v":0},{"$f":"'Individual Calculations '!BA71","v":0},{"$f":"'Individual Calculations '!BB71","v":0},{"$f":"'Individual Calculations '!BC71","v":0},null,0,0]
[60,104,null,{"$f":"'Individual Calculations '!G72","v":0},null,{"$f":"IF(TargetMethod3=1,\"NA\",'Individual Calculations '!R72)","v":0},null,{"$f":"IF(TargetMethod3=1,'Individual Calculations '!I72+'Individual Calculations '!J72+'Individual Calculations '!O72,'Individual Calculations '!S72+'Individual Calculations '!T72+'Individual Calculations '!W72)","v":0},{"$f":"IF(TargetMethod3=1,'Individual Calculations '!K72,'Individual Calculations '!U72)","v":0},{"$f":"IF(TargetMethod3=1,0,'Individual Calculations '!Y72)","v":0},null,{"$f":"'Individual Calculations '!AA72+'Individual Calculations '!AH72+'Individual Calculations '!AP72","v":0},{"$f":"'Individual Calculations '!AB72+'Individual Calculations '!AI72+'Individual Calculations '!AQ72","v":0},{"$f":"'Individual Calculations '!AC72","v":0.4},{"$f":"'Individual Calculations '!AD72+'Individual Calculations '!AK72+'Individual Calculations '!AS72","v":0},{"$f":"'Individual Calculations '!AE72+'Individual Calculations '!AL72+'Individual Calculations '!AT72","v":0},{"$f":"'Individual Calculations '!AF72+'Individual Calculations '!AM72+'Individual Calculations '!AU72","v":0},null,{"$f":"'Individual Calculations '!AX72","v":0},{"$f":"'Individual Calculations '!AY72","v":0.4},{"$f":"'Individual Calculations '!AZ72","v":0},{"$f":"'Individual Calculations '!BA72","v":0},{"$f":"'Individual Calculations '!BB72","v":0},{"$f":"'Individual Calculations '!BC72","v":0},null,0,0]
[61,105,null,{"$f":"'Individual Calculations '!G73","v":0},null,{"$f":"IF(TargetMethod3=1,\"NA\",'Individual Calculations '!R73)","v":0},null,{"$f":"IF(TargetMethod3=1,'Individual Calculations '!I73+'Individual Calculations '!J73+'Individual Calculations '!O73,'Individual Calculations '!S73+'Individual Calculations '!T73+'Individual Calculations '!W73)","v":0},{"$f":"IF(TargetMethod3=1,'Individual Calculations '!K73,'Individual Calculations '!U73)","v":0},{"$f":"IF(TargetMethod3=1,0,'Individual Calculations '!Y73)","v":0},null,{"$f":"'Individual Calculations '!AA73+'Individual Calculations '!AH73+'Individual Calculations '!AP73","v":0},{"$f":"'Individual Calculations '!AB73+'Individual Calculations '!AI73+'Individual Calculations '!AQ73","v":0},{"$f":"'Individual Calculations '!AC73","v":0.4},{"$f":"'Individual Calculations '!AD73+'Individual Calculations '!AK73+'Individual Calculations '!AS73","v":0},{"$f":"'Individual Calculations '!AE73+'Individual Calculations '!AL73+'Individual Calculations '!AT73","v":0},{"$f":"'Individual Calculations '!AF73+'Individual Calculations '!AM73+'Individual Calculations '!AU73","v":0},null,{"$f":"'Individual Calculations '!AX73","v":0},{"$f":"'Individual Calculations '!AY73","v":0.4},{"$f":"'Individual Calculations '!AZ73","v":0},{"$f":"'Individual Calculations '!BA73","v":0},{"$f":"'Individual Calculations '!BB73","v":0},{"$f":"'Individual Calculations '!BC73","v":0},null,0,0]
[62,106,null,{"$f":"'Individual Calculations '!G74","v":0},null,{"$f":"IF(TargetMethod3=1,\"NA\",'Individual Calculations '!R74)","v":0},null,{"$f":"IF(TargetMethod3=1,'Individual Calculations '!I74+'Individual Calculations '!J74+'Individual Calculations '!O74,'Individual Calculations '!S74+'Individual Calculations '!T74+'Individual Calculations '!W74)","v":0},{"$f":"IF(TargetMethod3=1,'Individual Calculations '!K74,'Individual Calculations '!U74)","v":0},{"$f":"IF(TargetMethod3=1,0,'Individual Calculations '!Y74)","v":0},null,{"$f":"'Individual Calculations '!AA74+'Individual Calculations '!AH74+'Individual Calculations '!AP74","v":0},{"$f":"'Individual Calculations '!AB74+'Individual Calculations '!AI74+'Individual Calculations '!AQ74","v":0},{"$f":"'Individual Calculations '!AC74","v":0.4},{"$f":"'Individual Calculations '!AD74+'Individual Calculations '!AK74+'Individual Calculations '!AS74","v":0},{"$f":"'Individual Calculations '!AE74+'Individual Calculations '!AL74+'Individual Calculations '!AT74","v":0},{"$f":"'Individual Calculations '!AF74+'Individual Calculations '!AM74+'Individual Calculations '!AU74","v":0},null,{"$f":"'Individual Calculations '!AX74","v":0},{"$f":"'Individual Calculations '!AY74","v":0.4},{"$f":"'Individual Calculations '!AZ74","v":0},{"$f":"'Individual Calculations '!BA74","v":0},{"$f":"'Individual Calculations '!BB74","v":0},{"$f":"'Individual Calculations '!BC74","v":0},null,0,0]
[63,107,null,{"$f":"'Individual Calculations '!G75","v":0},null,{"$f":"IF(TargetMethod3=1,\"NA\",'Individual Calculations '!R75)","v":0},null,{"$f":"IF(TargetMethod3=1,'Individual Calculations '!I75+'Individual Calculations '!J75+'Individual Calculations '!O75,'Individual Calculations '!S75+'Individual Calculations '!T75+'Individual Calculations '!W75)","v":0},{"$f":"IF(TargetMethod3=1,'Individual Calculations '!K75,'Individual Calculations '!U75)","v":0},{"$f":"IF(TargetMethod3=1,0,'Individual Calculations '!Y75)","v":0},null,{"$f":"'Individual Calculations '!AA75+'Individual Calculations '!AH75+'Individual Calculations '!AP75","v":0},{"$f":"'Individual Calculations '!AB75+'Individual Calculations '!AI75+'Individual Calculations '!AQ75","v":0},{"$f":"'Individual Calculations '!AC75","v":0.4},{"$f":"'Individual Calculations '!AD75+'Individual Calculations '!AK75+'Individual Calculations '!AS75","v":0},{"$f":"'Individual Calculations '!AE75+'Individual Calculations '!AL75+'Individual Calculations '!AT75","v":0},{"$f":"'Individual Calculations '!AF75+'Individual Calculations '!AM75+'Individual Calculations '!AU75","v":0},null,{"$f":"'Individual Calculations '!AX75","v":0},{"$f":"'Individual Calculations '!AY75","v":0.4},{"$f":"'Individual Calculations '!AZ75","v":0},{"$f":"'Individual Calculations '!BA75","v":0},{"$f":"'Individual Calculations '!BB75","v":0},{"$f":"'Individual Calculations '!BC75","v":0},null,0,0]
[64,108,null,{"$f":"'Individual Calculations '!G76","v":0},null,{"$f":"IF(TargetMethod3=1,\"NA\",'Individual Calculations '!R76)","v":0},null,{"$f":"IF(TargetMethod3=1,'Individual Calculations '!I76+'Individual Calculations '!J76+'Individual Calculations '!O76,'Individual Calculations '!S76+'Individual Calculations '!T76+'Individual Calculations '!W76)","v":0},{"$f":"IF(TargetMethod3=1,'Individual Calculations '!K76,'Individual Calculations '!U76)","v":0},{"$f":"IF(TargetMethod3=1,0,'Individual Calculations '!Y76)","v":0},null,{"$f":"'Individual Calculations '!AA76+'Individual Calculations '!AH76+'Individual Calculations '!AP76","v":0},{"$f":"'Individual Calculations '!AB76+'Individual Calculations '!AI76+'Individual Calculations '!AQ76","v":0},{"$f":"'Individual Calculations '!AC76","v":0.4},{"$f":"'Individual Calculations '!AD76+'Individual Calculations '!AK76+'Individual Calculations '!AS76","v":0},{"$f":"'Individual Calculations '!AE76+'Individual Calculations '!AL76+'Individual Calculations '!AT76","v":0},{"$f":"'Individual Calculations '!AF76+'Individual Calculations '!AM76+'Individual Calculations '!AU76","v":0},null,{"$f":"'Individual Calculations '!AX76","v":0},{"$f":"'Individual Calculations '!AY76","v":0.4},{"$f":"'Individual Calculations '!AZ76","v":0},{"$f":"'Individual Calculations '!BA76","v":0},{"$f":"'Individual Calculations '!BB76","v":0},{"$f":"'Individual Calculations '!BC76","v":0},null,0,0]
[65,109,null,{"$f":"'Individual Calculations '!G77","v":0},null,{"$f":"IF(TargetMethod3=1,\"NA\",'Individual Calculations '!R77)","v":0},null,{"$f":"IF(TargetMethod3=1,'Individual Calculations '!I77+'Individual Calculations '!J77+'Individual Calculations '!O77,'Individual Calculations '!S77+'Individual Calculations '!T77+'Individual Calculations '!W77)","v":0},{"$f":"IF(TargetMethod3=1,'Individual Calculations '!K77,'Individual Calculations '!U77)","v":0},{"$f":"IF(TargetMethod3=1,0,'Individual Calculations '!Y77)","v":0},null,{"$f":"'Individual Calculations '!AA77+'Individual Calculations '!AH77+'Individual Calculations '!AP77","v":0},{"$f":"'Individual Calculations '!AB77+'Individual Calculations '!AI77+'Individual Calculations '!AQ77","v":0},{"$f":"'Individual Calculations '!AC77","v":0.4},{"$f":"'Individual Calculations '!AD77+'Individual Calculations '!AK77+'Individual Calculations '!AS77","v":0},{"$f":"'Individual Calculations '!AE77+'Individual Calculations '!AL77+'Individual Calculations '!AT77","v":0},{"$f":"'Individual Calculations '!AF77+'Individual Calculations '!AM77+'Individual Calculations '!AU77","v":0},null,{"$f":"'Individual Calculations '!AX77","v":0},{"$f":"'Individual Calculations '!AY77","v":0.4},{"$f":"'Individual Calculations '!AZ77","v":0},{"$f":"'Individual Calculations '!BA77","v":0},{"$f":"'Individual Calculations '!BB77","v":0},{"$f":"'Individual Calculations '!BC77","v":0},null,0,0]
[66,110,null,{"$f":"'Individual Calculations '!G78","v":0},null,{"$f":"IF(TargetMethod3=1,\"NA\",'Individual Calculations '!R78)","v":0},null,{"$f":"IF(TargetMethod3=1,'Individual Calculations '!I78+'Individual Calculations '!J78+'Individual Calculations '!O78,'Individual Calculations '!S78+'Individual Calculations '!T78+'Individual Calculations '!W78)","v":0},{"$f":"IF(TargetMethod3=1,'Individual Calculations '!K78,'Individual Calculations '!U78)","v":0},{"$f":"IF(TargetMethod3=1,0,'Individual Calculations '!Y78)","v":0},null,{"$f":"'Individual Calculations '!AA78+'Individual Calculations '!AH78+'Individual Calculations '!AP78","v":0},{"$f":"'Individual Calculations '!AB78+'Individual Calculations '!AI78+'Individual Calculations '!AQ78","v":0},{"$f":"'Individual Calculations '!AC78","v":0.4},{"$f":"'Individual Calculations '!AD78+'Individual Calculations '!AK78+'Individual Calculations '!AS78","v":0},{"$f":"'Individual Calculations '!AE78+'Individual Calculations '!AL78+'Individual Calculations '!AT78","v":0},{"$f":"'Individual Calculations '!AF78+'Individual Calculations '!AM78+'Individual Calculations '!AU78","v":0},null,{"$f":"'Individual Calculations '!AX78","v":0},{"$f":"'Individual Calculations '!AY78","v":0.4},{"$f":"'Individual Calculations '!AZ78","v":0},{"$f":"'Individual Calculations '!BA78","v":0},{"$f":"'Individual Calculations '!BB78","v":0},{"$f":"'Individual Calculations '!BC78","v":0},null,{"$f":"-(O73+V73)","v":0},{"$f":"Z73/(1-T73)","v":0}]
[{"$f":"A73+1","v":67},{"$f":"IF(A74=\"\",\"\",+B73+1)","v":111},null,{"$f":"'Individual Calculations '!G79","v":0},null,{"$f":"IF(TargetMethod3=1,\"NA\",'Individual Calculations '!R79)","v":0},null,{"$f":"IF(TargetMethod3=1,'Individual Calculations '!I79+'Individual Calculations '!J79+'Individual Calculations '!O79,'Individual Calculations '!S79+'Individual Calculations '!T79+'Individual Calculations '!W79)","v":0},{"$f":"IF(TargetMethod3=1,'Individual Calculations '!K79,'Individual Calculations '!U79)","v":0},{"$f":"IF(TargetMethod3=1,0,'Individual Calculations '!Y79)","v":0},null,{"$f":"'Individual Calculations '!AA79+'Individual Calculations '!AH79+'Individual Calculations '!AP79","v":0},{"$f":"'Individual Calculations '!AB79+'Individual Calculations '!AI79+'Individual Calculations '!AQ79","v":0},{"$f":"'Individual Calculations '!AC79","v":0.4},{"$f":"'Individual Calculations '!AD79+'Individual Calculations '!AK79+'Individual Calculations '!AS79","v":0},{"$f":"'Individual Calculations '!AE79+'Individual Calculations '!AL79+'Individual Calculations '!AT79","v":0},{"$f":"'Individual Calculations '!AF79+'Individual Calculations '!AM79+'Individual Calculations '!AU79","v":0},null,{"$f":"'Individual Calculations '!AX79","v":0},{"$f":"'Individual Calculations '!AY79","v":0.4},{"$f":"'Individual Calculations '!AZ79","v":0},{"$f":"'Individual Calculations '!BA79","v":0},{"$f":"'Individual Calculations '!BB79","v":0},{"$f":"'Individual Calculations '!BC79","v":0},null,0,0]
[68,112,null,{"$f":"'Individual Calculations '!G80","v":0},null,{"$f":"IF(TargetMethod3=1,\"NA\",'Individual Calculations '!R80)","v":0},null,{"$f":"IF(TargetMethod3=1,'Individual Calculations '!I80+'Individual Calculations '!J80+'Individual Calculations '!O80,'Individual Calculations '!S80+'Individual Calculations '!T80+'Individual Calculations '!W80)","v":0},{"$f":"IF(TargetMethod3=1,'Individual Calculations '!K80,'Individual Calculations '!U80)","v":0},{"$f":"IF(TargetMethod3=1,0,'Individual Calculations '!Y80)","v":0},null,{"$f":"'Individual Calculations '!AA80+'Individual Calculations '!AH80+'Individual Calculations '!AP80","v":0},{"$f":"'Individual Calculations '!AB80+'Individual Calculations '!AI80+'Individual Calculations '!AQ80","v":0},{"$f":"'Individual Calculations '!AC80","v":0.4},{"$f":"'Individual Calculations '!AD80+'Individual Calculations '!AK80+'Individual Calculations '!AS80","v":0},{"$f":"'Individual Calculations '!AE80+'Individual Calculations '!AL80+'Individual Calculations '!AT80","v":0},{"$f":"'Individual Calculations '!AF80+'Individual Calculations '!AM80+'Individual Calculations '!AU80","v":0},null,{"$f":"'Individual Calculations '!AX80","v":0},{"$f":"'Individual Calculations '!AY80","v":0.4},{"$f":"'Individual Calculations '!AZ80","v":0},{"$f":"'Individual Calculations '!BA80","v":0},{"$f":"'Individual Calculations '!BB80","v":0},{"$f":"'Individual Calculations '!BC80","v":0},null,0,0]
[69,113,null,{"$f":"'Individual Calculations '!G81","v":0},null,{"$f":"IF(TargetMethod3=1,\"NA\",'Individual Calculations '!R81)","v":0},null,{"$f":"IF(TargetMethod3=1,'Individual Calculations '!I81+'Individual Calculations '!J81+'Individual Calculations '!O81,'Individual Calculations '!S81+'Individual Calculations '!T81+'Individual Calculations '!W81)","v":0},{"$f":"IF(TargetMethod3=1,'Individual Calculations '!K81,'Individual Calculations '!U81)","v":0},{"$f":"IF(TargetMethod3=1,0,'Individual Calculations '!Y81)","v":0},null,{"$f":"'Individual Calculations '!AA81+'Individual Calculations '!AH81+'Individual Calculations '!AP81","v":0},{"$f":"'Individual Calculations '!AB81+'Individual Calculations '!AI81+'Individual Calculations '!AQ81","v":0},{"$f":"'Individual Calculations '!AC81","v":0.4},{"$f":"'Individual Calculations '!AD81+'Individual Calculations '!AK81+'Individual Calculations '!AS81","v":0},{"$f":"'Individual Calculations '!AE81+'Individual Calculations '!AL81+'Individual Calculations '!AT81","v":0},{"$f":"'Individual Calculations '!AF81+'Individual Calculations '!AM81+'Individual Calculations '!AU81","v":0},null,{"$f":"'Individual Calculations '!AX81","v":0},{"$f":"'Individual Calculations '!AY81","v":0.4},{"$f":"'Individual Calculations '!AZ81","v":0},{"$f":"'Individual Calculations '!BA81","v":0},{"$f":"'Individual Calculations '!BB81","v":0},{"$f":"'Individual Calculations '!BC81","v":0},null,0,0]
[70,114,null,{"$f":"'Individual Calculations '!G82","v":0},null,{"$f":"IF(TargetMethod3=1,\"NA\",'Individual Calculations '!R82)","v":0},null,{"$f":"IF(TargetMethod3=1,'Individual Calculations '!I82+'Individual Calculations '!J82+'Individual Calculations '!O82,'Individual Calculations '!S82+'Individual Calculations '!T82+'Individual Calculations '!W82)","v":0},{"$f":"IF(TargetMethod3=1,'Individual Calculations '!K82,'Individual Calculations '!U82)","v":0},{"$f":"IF(TargetMethod3=1,0,'Individual Calculations '!Y82)","v":0},null,{"$f":"'Individual Calculations '!AA82+'Individual Calculations '!AH82+'Individual Calculations '!AP82","v":0},{"$f":"'Individual Calculations '!AB82+'Individual Calculations '!AI82+'Individual Calculations '!AQ82","v":0},{"$f":"'Individual Calculations '!AC82","v":0.4},{"$f":"'Individual Calculations '!AD82+'Individual Calculations '!AK82+'Individual Calculations '!AS82","v":0},{"$f":"'Individual Calculations '!AE82+'Individual Calculations '!AL82+'Individual Calculations '!AT82","v":0},{"$f":"'Individual Calculations '!AF82+'Individual Calculations '!AM82+'Individual Calculations '!AU82","v":0},null,{"$f":"'Individual Calculations '!AX82","v":0},{"$f":"'Individual Calculations '!AY82","v":0.4},{"$f":"'Individual Calculations '!AZ82","v":0},{"$f":"'Individual Calculations '!BA82","v":0},{"$f":"'Individual Calculations '!BB82","v":0},{"$f":"'Individual Calculations '!BC82","v":0},null,0,0]
[71,115,null,{"$f":"'Individual Calculations '!G83","v":0},null,{"$f":"IF(TargetMethod3=1,\"NA\",'Individual Calculations '!R83)","v":0},null,{"$f":"IF(TargetMethod3=1,'Individual Calculations '!I83+'Individual Calculations '!J83+'Individual Calculations '!O83,'Individual Calculations '!S83+'Individual Calculations '!T83+'Individual Calculations '!W83)","v":0},{"$f":"IF(TargetMethod3=1,'Individual Calculations '!K83,'Individual Calculations '!U83)","v":0},{"$f":"IF(TargetMethod3=1,0,'Individual Calculations '!Y83)","v":0},null,{"$f":"'Individual Calculations '!AA83+'Individual Calculations '!AH83+'Individual Calculations '!AP83","v":0},{"$f":"'Individual Calculations '!AB83+'Individual Calculations '!AI83+'Individual Calculations '!AQ83","v":0},{"$f":"'Individual Calculations '!AC83","v":0.4},{"$f":"'Individual Calculations '!AD83+'Individual Calculations '!AK83+'Individual Calculations '!AS83","v":0},{"$f":"'Individual Calculations '!AE83+'Individual Calculations '!AL83+'Individual Calculations '!AT83","v":0},{"$f":"'Individual Calculations '!AF83+'Individual Calculations '!AM83+'Individual Calculations '!AU83","v":0},null,{"$f":"'Individual Calculations '!AX83","v":0},{"$f":"'Individual Calculations '!AY83","v":0.4},{"$f":"'Individual Calculations '!AZ83","v":0},{"$f":"'Individual Calculations '!BA83","v":0},{"$f":"'Individual Calculations '!BB83","v":0},{"$f":"'Individual Calculations '!BC83","v":0},null,0,0]
[72,116,null,{"$f":"'Individual Calculations '!G84","v":0},null,{"$f":"IF(TargetMethod3=1,\"NA\",'Individual Calculations '!R84)","v":0},null,{"$f":"IF(TargetMethod3=1,'Individual Calculations '!I84+'Individual Calculations '!J84+'Individual Calculations '!O84,'Individual Calculations '!S84+'Individual Calculations '!T84+'Individual Calculations '!W84)","v":0},{"$f":"IF(TargetMethod3=1,'Individual Calculations '!K84,'Individual Calculations '!U84)","v":0},{"$f":"IF(TargetMethod3=1,0,'Individual Calculations '!Y84)","v":0},null,{"$f":"'Individual Calculations '!AA84+'Individual Calculations '!AH84+'Individual Calculations '!AP84","v":0},{"$f":"'Individual Calculations '!AB84+'Individual Calculations '!AI84+'Individual Calculations '!AQ84","v":0},{"$f":"'Individual Calculations '!AC84","v":0.4},{"$f":"'Individual Calculations '!AD84+'Individual Calculations '!AK84+'Individual Calculations '!AS84","v":0},{"$f":"'Individual Calculations '!AE84+'Individual Calculations '!AL84+'Individual Calculations '!AT84","v":0},{"$f":"'Individual Calculations '!AF84+'Individual Calculations '!AM84+'Individual Calculations '!AU84","v":0},null,{"$f":"'Individual Calculations '!AX84","v":0},{"$f":"'Individual Calculations '!AY84","v":0.4},{"$f":"'Individual Calculations '!AZ84","v":0},{"$f":"'Individual Calculations '!BA84","v":0},{"$f":"'Individual Calculations '!BB84","v":0},{"$f":"'Individual Calculations '!BC84","v":0},null,0,0]
[73,117,null,{"$f":"'Individual Calculations '!G85","v":0},null,{"$f":"IF(TargetMethod3=1,\"NA\",'Individual Calculations '!R85)","v":0},null,{"$f":"IF(TargetMethod3=1,'Individual Calculations '!I85+'Individual Calculations '!J85+'Individual Calculations '!O85,'Individual Calculations '!S85+'Individual Calculations '!T85+'Individual Calculations '!W85)","v":0},{"$f":"IF(TargetMethod3=1,'Individual Calculations '!K85,'Individual Calculations '!U85)","v":0},{"$f":"IF(TargetMethod3=1,0,'Individual Calculations '!Y85)","v":0},null,{"$f":"'Individual Calculations '!AA85+'Individual Calculations '!AH85+'Individual Calculations '!AP85","v":0},{"$f":"'Individual Calculations '!AB85+'Individual Calculations '!AI85+'Individual Calculations '!AQ85","v":0},{"$f":"'Individual Calculations '!AC85","v":0.4},{"$f":"'Individual Calculations '!AD85+'Individual Calculations '!AK85+'Individual Calculations '!AS85","v":0},{"$f":"'Individual Calculations '!AE85+'Individual Calculations '!AL85+'Individual Calculations '!AT85","v":0},{"$f":"'Individual Calculations '!AF85+'Individual Calculations '!AM85+'Individual Calculations '!AU85","v":0},null,{"$f":"'Individual Calculations '!AX85","v":0},{"$f":"'Individual Calculations '!AY85","v":0.4},{"$f":"'Individual Calculations '!AZ85","v":0},{"$f":"'Individual Calculations '!BA85","v":0},{"$f":"'Individual Calculations '!BB85","v":0},{"$f":"'Individual Calculations '!BC85","v":0},null,0,0]
[74,118,null,{"$f":"'Individual Calculations '!G86","v":0},null,{"$f":"IF(TargetMethod3=1,\"NA\",'Individual Calculations '!R86)","v":0},null,{"$f":"IF(TargetMethod3=1,'Individual Calculations '!I86+'Individual Calculations '!J86+'Individual Calculations '!O86,'Individual Calculations '!S86+'Individual Calculations '!T86+'Individual Calculations '!W86)","v":0},{"$f":"IF(TargetMethod3=1,'Individual Calculations '!K86,'Individual Calculations '!U86)","v":0},{"$f":"IF(TargetMethod3=1,0,'Individual Calculations '!Y86)","v":0},null,{"$f":"'Individual Calculations '!AA86+'Individual Calculations '!AH86+'Individual Calculations '!AP86","v":0},{"$f":"'Individual Calculations '!AB86+'Individual Calculations '!AI86+'Individual Calculations '!AQ86","v":0},{"$f":"'Individual Calculations '!AC86","v":0.4},{"$f":"'Individual Calculations '!AD86+'Individual Calculations '!AK86+'Individual Calculations '!AS86","v":0},{"$f":"'Individual Calculations '!AE86+'Individual Calculations '!AL86+'Individual Calculations '!AT86","v":0},{"$f":"'Individual Calculations '!AF86+'Individual Calculations '!AM86+'Individual Calculations '!AU86","v":0},null,{"$f":"'Individual Calculations '!AX86","v":0},{"$f":"'Individual Calculations '!AY86","v":0.4},{"$f":"'Individual Calculations '!AZ86","v":0},{"$f":"'Individual Calculations '!BA86","v":0},{"$f":"'Individual Calculations '!BB86","v":0},{"$f":"'Individual Calculations '!BC86","v":0},null,0,0]
[75,119,null,{"$f":"'Individual Calculations '!G87","v":0},null,{"$f":"IF(TargetMethod3=1,\"NA\",'Individual Calculations '!R87)","v":0},null,{"$f":"IF(TargetMethod3=1,'Individual Calculations '!I87+'Individual Calculations '!J87+'Individual Calculations '!O87,'Individual Calculations '!S87+'Individual Calculations '!T87+'Individual Calculations '!W87)","v":0},{"$f":"IF(TargetMethod3=1,'Individual Calculations '!K87,'Individual Calculations '!U87)","v":0},{"$f":"IF(TargetMethod3=1,0,'Individual Calculations '!Y87)","v":0},null,{"$f":"'Individual Calculations '!AA87+'Individual Calculations '!AH87+'Individual Calculations '!AP87","v":0},{"$f":"'Individual Calculations '!AB87+'Individual Calculations '!AI87+'Individual Calculations '!AQ87","v":0},{"$f":"'Individual Calculations '!AC87","v":0.4},{"$f":"'Individual Calculations '!AD87+'Individual Calculations '!AK87+'Individual Calculations '!AS87","v":0},{"$f":"'Individual Calculations '!AE87+'Individual Calculations '!AL87+'Individual Calculations '!AT87","v":0},{"$f":"'Individual Calculations '!AF87+'Individual Calculations '!AM87+'Individual Calculations '!AU87","v":0},null,{"$f":"'Individual Calculations '!AX87","v":0},{"$f":"'Individual Calculations '!AY87","v":0.4},{"$f":"'Individual Calculations '!AZ87","v":0},{"$f":"'Individual Calculations '!BA87","v":0},{"$f":"'Individual Calculations '!BB87","v":0},{"$f":"'Individual Calculations '!BC87","v":0},null,0,0]
[]
[null,null,null,null,null,{"$f":"SUBTOTAL(9,F8:F82)","v":0},null,{"$f":"SUBTOTAL(9,H8:H82)","v":0},{"$f":"SUBTOTAL(9,I8:I82)","v":0},{"$f":"SUBTOTAL(9,J8:J82)","v":0},null,{"$f":"SUBTOTAL(9,L8:L82)","v":0},{"$f":"-SUBTOTAL(9,M8:M82)","v":0},null,{"$f":"-SUBTOTAL(9,O8:O82)","v":0},null,null,null,{"$f":"SUBTOTAL(9,S8:S82)","v":0},null,{"$f":"SUBTOTAL(9,U8:U82)","v":0},{"$f":"-SUBTOTAL(9,V8:V82)","v":0},null,null,null,{"$f":"SUBTOTAL(9,Z8:Z82)","v":0},{"$f":"SUBTOTAL(9,AA8:AA82)","v":0}]

{"sheet":"Executive Security Plan - ESP","index":11,"n_rows":84,"n_cols":19,"rows_kept":84,"cut":false,"hidden":false,"merged":[[4,3,4,18],[5,15,5,18],[5,3,5,8],[5,10,5,13]]}
["Retirement Benefit - Executive Security Plan with Tax Restoration Loan from Hospital"]
[{"$f":"\"Plan Participant - \"&First_Name&\" \"&Last_Name&\" - Age \"&Age","v":"Plan Participant - John Smith - Age 45"}]
[]
[]
[null,null,null,"Executive Security Plan with Tax Restoration Loan from Hospital (Split Dollar Plan)"]
[null,null,null,"Contributions",null,null,null,null,null,null,"Participant's Tax Cost on Imputed Interest",null,null,null,null,"Executive Security Plan - Lincoln National VUL"]
["Year","Age",null,"Exec's Contributions to the ESP","Income\nTax Rate","Taxes\nPayable","Participant's After Tax Premium","Hospital Tax Restoration\nLoan","Total\nPremium",null,"Cumulative\nHospital Tax Restoration\nLoan","Loan\nInterest\nRate","Participant's\nImputed\nTax Cost","Participant's\nTax Cost\non Loan",null,"Distributions\nto Repay\nHospital\nLoan","Participant's\nRetirement\nBenefit &\nDth Benefit","Participant's\nCash Value Net of Hospital Loan","Participant's\nDeath\nBenefit"]
[1,{"$f":"Age","v":45},null,{"$f":"'Individual Calculations '!BT13","v":0},{"$f":"'Individual Calculations '!BU13","v":0.4},{"$f":"'Individual Calculations '!BV13","v":0},{"$f":"'Individual Calculations '!BW13","v":0},{"$f":"'Individual Calculations '!BX13","v":0},{"$f":"'Individual Calculations '!BY13","v":0},null,{"$f":"'Individual Calculations '!CA13","v":0},{"$f":"'Individual Calculations '!CB13","v":5.8999999999999999E-3},{"$f":"'Individual Calculations '!CC13","v":0},{"$f":"'Individual Calculations '!CD13","v":0},null,{"$f":"'Individual Calculations '!CF13","v":0},{"$f":"'Individual Calculations '!CG13","v":0},{"$f":"'Individual Calculations '!CH13","v":0},{"$f":"'Individual Calculations '!CI13","v":0}]
[{"$f":"A8+1","v":2},{"$f":"IF(A9=\"\",\"\",+B8+1)","v":46},null,{"$f":"'Individual Calculations '!BT14","v":0},{"$f":"'Individual Calculations '!BU14","v":0.4},{"$f":"'Individual Calculations '!BV14","v":0},{"$f":"'Individual Calculations '!BW14","v":0},{"$f":"'Individual Calculations '!BX14","v":0},{"$f":"'Individual Calculations '!BY14","v":0},null,{"$f":"'Individual Calculations '!CA14","v":0},{"$f":"'Individual Calculations '!CB14","v":1.5900000000000001E-2},{"$f":"'Individual Calculations '!CC14","v":0},{"$f":"'Individual Calculations '!CD14","v":0},null,{"$f":"'Individual Calculations '!CF14","v":0},{"$f":"'Individual Calculations '!CG14","v":0},{"$f":"'Individual Calculations '!CH14","v":0},{"$f":"'Individual Calculations '!CI14","v":0}]
[{"$f":"A9+1","v":3},{"$f":"IF(A10=\"\",\"\",+B9+1)","v":47},null,{"$f":"'Individual Calculations '!BT15","v":0},{"$f":"'Individual Calculations '!BU15","v":0.4},{"$f":"'Individual Calculations '!BV15","v":0},{"$f":"'Individual Calculations '!BW15","v":0},{"$f":"'Individual Calculations '!BX15","v":0},{"$f":"'Individual Calculations '!BY15","v":0},null,{"$f":"'Individual Calculations '!CA15","v":0},{"$f":"'Individual Calculations '!CB15","v":2.5000000000000001E-2},{"$f":"'Individual Calculations '!CC15","v":0},{"$f":"'Individual Calculations '!CD15","v":0},null,{"$f":"'Individual Calculations '!CF15","v":0},{"$f":"'Individual Calculations '!CG15","v":0},{"$f":"'Individual Calculations '!CH15","v":0},{"$f":"'Individual Calculations '!CI15","v":0}]
[4,48,null,{"$f":"'Individual Calculations '!BT16","v":0},{"$f":"'Individual Calculations '!BU16","v":0.4},{"$f":"'Individual Calculations '!BV16","v":0},{"$f":"'Individual Calculations '!BW16","v":0},{"$f":"'Individual Calculations '!BX16","v":0},{"$f":"'Individual Calculations '!BY16","v":0},null,{"$f":"'Individual Calculations '!CA16","v":0},{"$f":"'Individual Calculations '!CB16","v":2.5000000000000001E-2},{"$f":"'Individual Calculations '!CC16","v":0},{"$f":"'Individual Calculations '!CD16","v":0},null,{"$f":"'Individual Calculations '!CF16","v":0},{"$f":"'Individual Calculations '!CG16","v":0},{"$f":"'Individual Calculations '!CH16","v":0},{"$f":"'Individual Calculations '!CI16","v":0}]
[5,49,null,{"$f":"'Individual Calculations '!BT17","v":0},{"$f":"'Individual Calculations '!BU17","v":0.4},{"$f":"'Individual Calculations '!BV17","v":0},{"$f":"'Individual Calculations '!BW17","v":0},{"$f":"'Individual Calculations '!BX17","v":0},{"$f":"'Individual Calculations '!BY17","v":0},null,{"$f":"'Individual Calculations '!CA17","v":0},{"$f":"'Individual Calculations '!CB17","v":2.5000000000000001E-2},{"$f":"'Individual Calculations '!CC17","v":0},{"$f":"'Individual Calculations '!CD17","v":0},null,{"$f":"'Individual Calculations '!CF17","v":0},{"$f":"'Individual Calculations '!CG17","v":0},{"$f":"'Individual Calculations '!CH17","v":0},{"$f":"'Individual Calculations '!CI17","v":0}]
[6,50,null,{"$f":"'Individual Calculations '!BT18","v":0},{"$f":"'Individual Calculations '!BU18","v":0.4},{"$f":"'Individual Calculations '!BV18","v":0},{"$f":"'Individual Calculations '!BW18","v":0},{"$f":"'Individual Calculations '!BX18","v":0},{"$f":"'Individual Calculations '!BY18","v":0},null,{"$f":"'Individual Calculations '!CA18","v":0},{"$f":"'Individual Calculations '!CB18","v":2.5000000000000001E-2},{"$f":"'Individual Calculations '!CC18","v":0},{"$f":"'Individual Calculations '!CD18","v":0},null,{"$f":"'Individual Calculations '!CF18","v":0},{"$f":"'Individual Calculations '!CG18","v":0},{"$f":"'Individual Calculations '!CH18","v":0},{"$f":"'Individual Calculations '!CI18","v":0}]
[7,51,null,{"$f":"'Individual Calculations '!BT19","v":0},{"$f":"'Individual Calculations '!BU19","v":0.4},{"$f":"'Individual Calculations '!BV19","v":0},{"$f":"'Individual Calculations '!BW19","v":0},{"$f":"'Individual Calculations '!BX19","v":0},{"$f":"'Individual Calculations '!BY19","v":0},null,{"$f":"'Individual Calculations '!CA19","v":0},{"$f":"'Individual Calculations '!CB19","v":2.5000000000000001E-2},{"$f":"'Individual Calculations '!CC19","v":0},{"$f":"'Individual Calculations '!CD19","v":0},null,{"$f":"'Individual Calculations '!CF19","v":0},{"$f":"'Individual Calculations '!CG19","v":0},{"$f":"'Individual Calculations '!CH19","v":0},{"$f":"'Individual Calculations '!CI19","v":0}]
[8,52,null,{"$f":"'Individual Calculations '!BT20","v":0},{"$f":"'Individual Calculations '!BU20","v":0.4},{"$f":"'Individual Calculations '!BV20","v":0},{"$f":"'Individual Calculations '!BW20","v":0},{"$f":"'Individual Calculations '!BX20","v":0},{"$f":"'Individual Calculations '!BY20","v":0},null,{"$f":"'Individual Calculations '!CA20","v":0},{"$f":"'Individual Calculations '!CB20","v":2.5000000000000001E-2},{"$f":"'Individual Calculations '!CC20","v":0},{"$f":"'Individual Calculations '!CD20","v":0},null,{"$f":"'Individual Calculations '!CF20","v":0},{"$f":"'Individual Calculations '!CG20","v":0},{"$f":"'Individual Calculations '!CH20","v":0},{"$f":"'Individual Calculations '!CI20","v":0}]
[9,53,null,{"$f":"'Individual Calculations '!BT21","v":0},{"$f":"'Individual Calculations '!BU21","v":0.4},{"$f":"'Individual Calculations '!BV21","v":0},{"$f":"'Individual Calculations '!BW21","v":0},{"$f":"'Individual Calculations '!BX21","v":0},{"$f":"'Individual Calculations '!BY21","v":0},null,{"$f":"'Individual Calculations '!CA21","v":0},{"$f":"'Individual Calculations '!CB21","v":2.5000000000000001E-2},{"$f":"'Individual Calculations '!CC21","v":0},{"$f":"'Individual Calculations '!CD21","v":0},null,{"$f":"'Individual Calculations '!CF21","v":0},{"$f":"'Individual Calculations '!CG21","v":0},{"$f":"'Individual Calculations '!CH21","v":0},{"$f":"'Individual Calculations '!CI21","v":0}]
[10,54,null,{"$f":"'Individual Calculations '!BT22","v":0},{"$f":"'Individual Calculations '!BU22","v":0.4},{"$f":"'Individual Calculations '!BV22","v":0},{"$f":"'Individual Calculations '!BW22","v":0},{"$f":"'Individual Calculations '!BX22","v":0},{"$f":"'Individual Calculations '!BY22","v":0},null,{"$f":"'Individual Calculations '!CA22","v":0},{"$f":"'Individual Calculations '!CB22","v":2.5000000000000001E-2},{"$f":"'Individual Calculations '!CC22","v":0},{"$f":"'Individual Calculations '!CD22","v":0},null,{"$f":"'Individual Calculations '!CF22","v":0},{"$f":"'Individual Calculations '!CG22","v":0},{"$f":"'Individual Calculations '!CH22","v":0},{"$f":"'Individual Calculations '!CI22","v":0}]
[11,55,null,{"$f":"'Individual Calculations '!BT23","v":0},{"$f":"'Individual Calculations '!BU23","v":0.4},{"$f":"'Individual Calculations '!BV23","v":0},{"$f":"'Individual Calculations '!BW23","v":0},{"$f":"'Individual Calculations '!BX23","v":0},{"$f":"'Individual Calculations '!BY23","v":0},null,{"$f":"'Individual Calculations '!CA23","v":0},{"$f":"'Individual Calculations '!CB23","v":2.5000000000000001E-2},{"$f":"'Individual Calculations '!CC23","v":0},{"$f":"'Individual Calculations '!CD23","v":0},null,{"$f":"'Individual Calculations '!CF23","v":0},{"$f":"'Individual Calculations '!CG23","v":0},{"$f":"'Individual Calculations '!CH23","v":0},{"$f":"'Individual Calculations '!CI23","v":0}]
[12,56,null,{"$f":"'Individual Calculations '!BT24","v":0},{"$f":"'Individual Calculations '!BU24","v":0.4},{"$f":"'Individual Calculations '!BV24","v":0},{"$f":"'Individual Calculations '!BW24","v":0},{"$f":"'Individual Calculations '!BX24","v":0},{"$f":"'Individual Calculations '!BY24","v":0},null,{"$f":"'Individual Calculations '!CA24","v":0},{"$f":"'Individual Calculations '!CB24","v":2.5000000000000001E-2},{"$f":"'Individual Calculations '!CC24","v":0},{"$f":"'Individual Calculations '!CD24","v":0},null,{"$f":"'Individual Calculations '!CF24","v":0},{"$f":"'Individual Calculations '!CG24","v":0},{"$f":"'Individual Calculations '!CH24","v":0},{"$f":"'Individual Calculations '!CI24","v":0}]
[13,57,null,{"$f":"'Individual Calculations '!BT25","v":0},{"$f":"'Individual Calculations '!BU25","v":0.4},{"$f":"'Individual Calculations '!BV25","v":0},{"$f":"'Individual Calculations '!BW25","v":0},{"$f":"'Individual Calculations '!BX25","v":0},{"$f":"'Individual Calculations '!BY25","v":0},null,{"$f":"'Individual Calculations '!CA25","v":0},{"$f":"'Individual Calculations '!CB25","v":2.5000000000000001E-2},{"$f":"'Individual Calculations '!CC25","v":0},{"$f":"'Individual Calculations '!CD25","v":0},null,{"$f":"'Individual Calculations '!CF25","v":0},{"$f":"'Individual Calculations '!CG25","v":0},{"$f":"'Individual Calculations '!CH25","v":0},{"$f":"'Individual Calculations '!CI25","v":0}]
[14,58,null,{"$f":"'Individual Calculations '!BT26","v":0},{"$f":"'Individual Calculations '!BU26","v":0.4},{"$f":"'Individual Calculations '!BV26","v":0},{"$f":"'Individual Calculations '!BW26","v":0},{"$f":"'Individual Calculations '!BX26","v":0},{"$f":"'Individual Calculations '!BY26","v":0},null,{"$f":"'Individual Calculations '!CA26","v":0},{"$f":"'Individual Calculations '!CB26","v":2.5000000000000001E-2},{"$f":"'Individual Calculations '!CC26","v":0},{"$f":"'Individual Calculations '!CD26","v":0},null,{"$f":"'Individual Calculations '!CF26","v":0},{"$f":"'Individual Calculations '!CG26","v":0},{"$f":"'Individual Calculations '!CH26","v":0},{"$f":"'Individual Calculations '!CI26","v":0}]
[15,59,null,{"$f":"'Individual Calculations '!BT27","v":0},{"$f":"'Individual Calculations '!BU27","v":0.4},{"$f":"'Individual Calculations '!BV27","v":0},{"$f":"'Individual Calculations '!BW27","v":0},{"$f":"'Individual Calculations '!BX27","v":0},{"$f":"'Individual Calculations '!BY27","v":0},null,{"$f":"'Individual Calculations '!CA27","v":0},{"$f":"'Individual Calculations '!CB27","v":2.5000000000000001E-2},{"$f":"'Individual Calculations '!CC27","v":0},{"$f":"'Individual Calculations '!CD27","v":0},null,{"$f":"'Individual Calculations '!CF27","v":0},{"$f":"'Individual Calculations '!CG27","v":0},{"$f":"'Individual Calculations '!CH27","v":0},{"$f":"'Individual Calculations '!CI27","v":0}]
[16,60,null,{"$f":"'Individual Calculations '!BT28","v":0},{"$f":"'Individual Calculations '!BU28","v":0.4},{"$f":"'Individual Calculations '!BV28","v":0},{"$f":"'Individual Calculations '!BW28","v":0},{"$f":"'Individual Calculations '!BX28","v":0},{"$f":"'Individual Calculations '!BY28","v":0},null,{"$f":"'Individual Calculations '!CA28","v":0},{"$f":"'Individual Calculations '!CB28","v":2.5000000000000001E-2},{"$f":"'Individual Calculations '!CC28","v":0},{"$f":"'Individual Calculations '!CD28","v":0},null,{"$f":"'Individual Calculations '!CF28","v":0},{"$f":"'Individual Calculations '!CG28","v":0},{"$f":"'Individual Calculations '!CH28","v":0},{"$f":"'Individual Calculations '!CI28","v":0}]
[17,61,null,{"$f":"'Individual Calculations '!BT29","v":0},{"$f":"'Individual Calculations '!BU29","v":0.4},{"$f":"'Individual Calculations '!BV29","v":0},{"$f":"'Individual Calculations '!BW29","v":0},{"$f":"'Individual Calculations '!BX29","v":0},{"$f":"'Individual Calculations '!BY29","v":0},null,{"$f":"'Individual Calculations '!CA29","v":0},{"$f":"'Individual Calculations '!CB29","v":2.5000000000000001E-2},{"$f":"'Individual Calculations '!CC29","v":0},{"$f":"'Individual Calculations '!CD29","v":0},null,{"$f":"'Individual Calculations '!CF29","v":0},{"$f":"'Individual Calculations '!CG29","v":0},{"$f":"'Individual Calculations '!CH29","v":0},{"$f":"'Individual Calculations '!CI29","v":0}]
[18,62,null,{"$f":"'Individual Calculations '!BT30","v":0},{"$f":"'Individual Calculations '!BU30","v":0.4},{"$f":"'Individual Calculations '!BV30","v":0},{"$f":"'Individual Calculations '!BW30","v":0},{"$f":"'Individual Calculations '!BX30","v":0},{"$f":"'Individual Calculations '!BY30","v":0},null,{"$f":"'Individual Calculations '!CA30","v":0},{"$f":"'Individual Calculations '!CB30","v":2.5000000000000001E-2},{"$f":"'Individual Calculations '!CC30","v":0},{"$f":"'Individual Calculations '!CD30","v":0},null,{"$f":"'Individual Calculations '!CF30","v":0},{"$f":"'Individual Calculations '!CG30","v":0},{"$f":"'Individual Calculations '!CH30","v":0},{"$f":"'Individual Calculations '!CI30","v":0}]
[19,63,null,{"$f":"'Individual Calculations '!BT31","v":0},{"$f":"'Individual Calculations '!BU31","v":0.4},{"$f":"'Individual Calculations '!BV31","v":0},{"$f":"'Individual Calculations '!BW31","v":0},{"$f":"'Individual Calculations '!BX31","v":0},{"$f":"'Individual Calculations '!BY31","v":0},null,{"$f":"'Individual Calculations '!CA31","v":0},{"$f":"'Individual Calculations '!CB31","v":2.5000000000000001E-2},{"$f":"'Individual Calculations '!CC31","v":0},{"$f":"'Individual Calculations '!CD31","v":0},null,{"$f":"'Individual Calculations '!CF31","v":0},{"$f":"'Individual Calculations '!CG31","v":0},{"$f":"'Individual Calculations '!CH31","v":0},{"$f":"'Individual Calculations '!CI31","v":0}]
[20,64,null,{"$f":"'Individual Calculations '!BT32","v":0},{"$f":"'Individual Calculations '!BU32","v":0.4},{"$f":"'Individual Calculations '!BV32","v":0},{"$f":"'Individual Calculations '!BW32","v":0},{"$f":"'Individual Calculations '!BX32","v":0},{"$f":"'Individual Calculations '!BY32","v":0},null,{"$f":"'Individual Calculations '!CA32","v":0},{"$f":"'Individual Calculations '!CB32","v":2.5000000000000001E-2},{"$f":"'Individual Calculations '!CC32","v":0},{"$f":"'Individual Calculations '!CD32","v":0},null,{"$f":"'Individual Calculations '!CF32","v":0},{"$f":"'Individual Calculations '!CG32","v":0},{"$f":"'Individual Calculations '!CH32","v":0},{"$f":"'Individual Calculations '!CI32","v":0}]
[21,65,null,{"$f":"'Individual Calculations '!BT33","v":0},{"$f":"'Individual Calculations '!BU33","v":0.4},{"$f":"'Individual Calculations '!BV33","v":0},{"$f":"'Individual Calculations '!BW33","v":0},{"$f":"'Individual Calculations '!BX33","v":0},{"$f":"'Individual Calculations '!BY33","v":0},null,{"$f":"'Individual Calculations '!CA33","v":0},{"$f":"'Individual Calculations '!CB33","v":2.5000000000000001E-2},{"$f":"'Individual Calculations '!CC33","v":0},{"$f":"'Individual Calculations '!CD33","v":0},null,{"$f":"'Individual Calculations '!CF33","v":0},{"$f":"'Individual Calculations '!CG33","v":0},{"$f":"'Individual Calculations '!CH33","v":0},{"$f":"'Individual Calculations '!CI33","v":0}]
[22,66,null,{"$f":"'Individual Calculations '!BT34","v":0},{"$f":"'Individual Calculations '!BU34","v":0.4},{"$f":"'Individual Calculations '!BV34","v":0},{"$f":"'Individual Calculations '!BW34","v":0},{"$f":"'Individual Calculations '!BX34","v":0},{"$f":"'Individual Calculations '!BY34","v":0},null,{"$f":"'Individual Calculations '!CA34","v":0},{"$f":"'Individual Calculations '!CB34","v":2.5000000000000001E-2},{"$f":"'Individual Calculations '!CC34","v":0},{"$f":"'Individual Calculations '!CD34","v":0},null,{"$f":"'Individual Calculations '!CF34","v":0},{"$f":"'Individual Calculations '!CG34","v":0},{"$f":"'Individual Calculations '!CH34","v":0},{"$f":"'Individual Calculations '!CI34","v":0}]
[23,67,null,{"$f":"'Individual Calculations '!BT35","v":0},{"$f":"'Individual Calculations '!BU35","v":0.4},{"$f":"'Individual Calculations '!BV35","v":0},{"$f":"'Individual Calculations '!BW35","v":0},{"$f":"'Individual Calculations '!BX35","v":0},{"$f":"'Individual Calculations '!BY35","v":0},null,{"$f":"'Individual Calculations '!CA35","v":0},{"$f":"'Individual Calculations '!CB35","v":2.5000000000000001E-2},{"$f":"'Individual Calculations '!CC35","v":0},{"$f":"'Individual Calculations '!CD35","v":0},null,{"$f":"'Individual Calculations '!CF35","v":0},{"$f":"'Individual Calculations '!CG35","v":0},{"$f":"'Individual Calculations '!CH35","v":0},{"$f":"'Individual Calculations '!CI35","v":0}]
[24,68,null,{"$f":"'Individual Calculations '!BT36","v":0},{"$f":"'Individual Calculations '!BU36","v":0.4},{"$f":"'Individual Calculations '!BV36","v":0},{"$f":"'Individual Calculations '!BW36","v":0},{"$f":"'Individual Calculations '!BX36","v":0},{"$f":"'Individual Calculations '!BY36","v":0},null,{"$f":"'Individual Calculations '!CA36","v":0},{"$f":"'Individual Calculations '!CB36","v":2.5000000000000001E-2},{"$f":"'Individual Calculations '!CC36","v":0},{"$f":"'Individual Calculations '!CD36","v":0},null,{"$f":"'Individual Calculations '!CF36","v":0},{"$f":"'Individual Calculations '!CG36","v":0},{"$f":"'Individual Calculations '!CH36","v":0},{"$f":"'Individual Calculations '!CI36","v":0}]
[25,69,null,{"$f":"'Individual Calculations '!BT37","v":0},{"$f":"'Individual Calculations '!BU37","v":0.4},{"$f":"'Individual Calculations '!BV37","v":0},{"$f":"'Individual Calculations '!BW37","v":0},{"$f":"'Individual Calculations '!BX37","v":0},{"$f":"'Individual Calculations '!BY37","v":0},null,{"$f":"'Individual Calculations '!CA37","v":0},{"$f":"'Individual Calculations '!CB37","v":2.5000000000000001E-2},{"$f":"'Individual Calculations '!CC37","v":0},{"$f":"'Individual Calculations '!CD37","v":0},null,{"$f":"'Individual Calculations '!CF37","v":0},{"$f":"'Individual Calculations '!CG37","v":0},{"$f":"'Individual Calculations '!CH37","v":0},{"$f":"'Individual Calculations '!CI37","v":0}]
[26,70,null,{"$f":"'Individual Calculations '!BT38","v":0},{"$f":"'Individual Calculations '!BU38","v":0.4},{"$f":"'Individual Calculations '!BV38","v":0},{"$f":"'Individual Calculations '!BW38","v":0},{"$f":"'Individual Calculations '!BX38","v":0},{"$f":"'Individual Calculations '!BY38","v":0},null,{"$f":"'Individual Calculations '!CA38","v":0},{"$f":"'Individual Calculations '!CB38","v":2.5000000000000001E-2},{"$f":"'Individual Calculations '!CC38","v":0},{"$f":"'Individual Calculations '!CD38","v":0},null,{"$f":"'Individual Calculations '!CF38","v":0},{"$f":"'Individual Calculations '!CG38","v":0},{"$f":"'Individual Calculations '!CH38","v":0},{"$f":"'Individual Calculations '!CI38","v":0}]
[27,71,null,{"$f":"'Individual Calculations '!BT39","v":0},{"$f":"'Individual Calculations '!BU39","v":0.4},{"$f":"'Individual Calculations '!BV39","v":0},{"$f":"'Individual Calculations '!BW39","v":0},{"$f":"'Individual Calculations '!BX39","v":0},{"$f":"'Individual Calculations '!BY39","v":0},null,{"$f":"'Individual Calculations '!CA39","v":0},{"$f":"'Individual Calculations '!CB39","v":2.5000000000000001E-2},{"$f":"'Individual Calculations '!CC39","v":0},{"$f":"'Individual Calculations '!CD39","v":0},null,{"$f":"'Individual Calculations '!CF39","v":0},{"$f":"'Individual Calculations '!CG39","v":0},{"$f":"'Individual Calculations '!CH39","v":0},{"$f":"'Individual Calculations '!CI39","v":0}]
[28,72,null,{"$f":"'Individual Calculations '!BT40","v":0},{"$f":"'Individual Calculations '!BU40","v":0.4},{"$f":"'Individual Calculations '!BV40","v":0},{"$f":"'Individual Calculations '!BW40","v":0},{"$f":"'Individual Calculations '!BX40","v":0},{"$f":"'Individual Calculations '!BY40","v":0},null,{"$f":"'Individual Calculations '!CA40","v":0},{"$f":"'Individual Calculations '!CB40","v":2.5000000000000001E-2},{"$f":"'Individual Calculations '!CC40","v":0},{"$f":"'Individual Calculations '!CD40","v":0},null,{"$f":"'Individual Calculations '!CF40","v":0},{"$f":"'Individual Calculations '!CG40","v":0},{"$f":"'Individual Calculations '!CH40","v":0},{"$f":"'Individual Calculations '!CI40","v":0}]
[29,73,null,{"$f":"'Individual Calculations '!BT41","v":0},{"$f":"'Individual Calculations '!BU41","v":0.4},{"$f":"'Individual Calculations '!BV41","v":0},{"$f":"'Individual Calculations '!BW41","v":0},{"$f":"'Individual Calculations '!BX41","v":0},{"$f":"'Individual Calculations '!BY41","v":0},null,{"$f":"'Individual Calculations '!CA41","v":0},{"$f":"'Individual Calculations '!CB41","v":2.5000000000000001E-2},{"$f":"'Individual Calculations '!CC41","v":0},{"$f":"'Individual Calculations '!CD41","v":0},null,{"$f":"'Individual Calculations '!CF41","v":0},{"$f":"'Individual Calculations '!CG41","v":0},{"$f":"'Individual Calculations '!CH41","v":0},{"$f":"'Individual Calculations '!CI41","v":0}]
[30,74,null,{"$f":"'Individual Calculations '!BT42","v":0},{"$f":"'Individual Calculations '!BU42","v":0.4},{"$f":"'Individual Calculations '!BV42","v":0},{"$f":"'Individual Calculations '!BW42","v":0},{"$f":"'Individual Calculations '!BX42","v":0},{"$f":"'Individual Calculations '!BY42","v":0},null,{"$f":"'Individual Calculations '!CA42","v":0},{"$f":"'Individual Calculations '!CB42","v":2.5000000000000001E-2},{"$f":"'Individual Calculations '!CC42","v":0},{"$f":"'Individual Calculations '!CD42","v":0},null,{"$f":"'Individual Calculations '!CF42","v":0},{"$f":"'Individual Calculations '!CG42","v":0},{"$f":"'Individual Calculations '!CH42","v":0},{"$f":"'Individual Calculations '!CI42","v":0}]
[31,75,null,{"$f":"'Individual Calculations '!BT43","v":0},{"$f":"'Individual Calculations '!BU43","v":0.4},{"$f":"'Individual Calculations '!BV43","v":0},{"$f":"'Individual Calculations '!BW43","v":0},{"$f":"'Individual Calculations '!BX43","v":0},{"$f":"'Individual Calculations '!BY43","v":0},null,{"$f":"'Individual Calculations '!CA43","v":0},{"$f":"'Individual Calculations '!CB43","v":2.5000000000000001E-2},{"$f":"'Individual Calculations '!CC43","v":0},{"$f":"'Individual Calculations '!CD43","v":0},null,{"$f":"'Individual Calculations '!CF43","v":0},{"$f":"'Individual Calculations '!CG43","v":0},{"$f":"'Individual Calculations '!CH43","v":0},{"$f":"'Individual Calculations '!CI43","v":0}]
[32,76,null,{"$f":"'Individual Calculations '!BT44","v":0},{"$f":"'Individual Calculations '!BU44","v":0.4},{"$f":"'Individual Calculations '!BV44","v":0},{"$f":"'Individual Calculations '!BW44","v":0},{"$f":"'Individual Calculations '!BX44","v":0},{"$f":"'Individual Calculations '!BY44","v":0},null,{"$f":"'Individual Calculations '!CA44","v":0},{"$f":"'Individual Calculations '!CB44","v":2.5000000000000001E-2},{"$f":"'Individual Calculations '!CC44","v":0},{"$f":"'Individual Calculations '!CD44","v":0},null,{"$f":"'Individual Calculations '!CF44","v":0},{"$f":"'Individual Calculations '!CG44","v":0},{"$f":"'Individual Calculations '!CH44","v":0},{"$f":"'Individual Calculations '!CI44","v":0}]
[33,77,null,{"$f":"'Individual Calculations '!BT45","v":0},{"$f":"'Individual Calculations '!BU45","v":0.4},{"$f":"'Individual Calculations '!BV45","v":0},{"$f":"'Individual Calculations '!BW45","v":0},{"$f":"'Individual Calculations '!BX45","v":0},{"$f":"'Individual Calculations '!BY45","v":0},null,{"$f":"'Individual Calculations '!CA45","v":0},{"$f":"'Individual Calculations '!CB45","v":2.5000000000000001E-2},{"$f":"'Individual Calculations '!CC45","v":0},{"$f":"'Individual Calculations '!CD45","v":0},null,{"$f":"'Individual Calculations '!CF45","v":0},{"$f":"'Individual Calculations '!CG45","v":0},{"$f":"'Individual Calculations '!CH45","v":0},{"$f":"'Individual Calculations '!CI45","v":0}]
[34,78,null,{"$f":"'Individual Calculations '!BT46","v":0},{"$f":"'Individual Calculations '!BU46","v":0.4},{"$f":"'Individual Calculations '!BV46","v":0},{"$f":"'Individual Calculations '!BW46","v":0},{"$f":"'Individual Calculations '!BX46","v":0},{"$f":"'Individual Calculations '!BY46","v":0},null,{"$f":"'Individual Calculations '!CA46","v":0},{"$f":"'Individual Calculations '!CB46","v":2.5000000000000001E-2},{"$f":"'Individual Calculations '!CC46","v":0},{"$f":"'Individual Calculations '!CD46","v":0},null,{"$f":"'Individual Calculations '!CF46","v":0},{"$f":"'Individual Calculations '!CG46","v":0},{"$f":"'Individual Calculations '!CH46","v":0},{"$f":"'Individual Calculations '!CI46","v":0}]
[35,79,null,{"$f":"'Individual Calculations '!BT47","v":0},{"$f":"'Individual Calculations '!BU47","v":0.4},{"$f":"'Individual Calculations '!BV47","v":0},{"$f":"'Individual Calculations '!BW47","v":0},{"$f":"'Individual Calculations '!BX47","v":0},{"$f":"'Individual Calculations '!BY47","v":0},null,{"$f":"'Individual Calculations '!CA47","v":0},{"$f":"'Individual Calculations '!CB47","v":2.5000000000000001E-2},{"$f":"'Individual Calculations '!CC47","v":0},{"$f":"'Individual Calculations '!CD47","v":0},null,{"$f":"'Individual Calculations '!CF47","v":0},{"$f":"'Individual Calculations '!CG47","v":0},{"$f":"'Individual Calculations '!CH47","v":0},{"$f":"'Individual Calculations '!CI47","v":0}]
[36,80,null,{"$f":"'Individual Calculations '!BT48","v":0},{"$f":"'Individual Calculations '!BU48","v":0.4},{"$f":"'Individual Calculations '!BV48","v":0},{"$f":"'Individual Calculations '!BW48","v":0},{"$f":"'Individual Calculations '!BX48","v":0},{"$f":"'Individual Calculations '!BY48","v":0},null,{"$f":"'Individual Calculations '!CA48","v":0},{"$f":"'Individual Calculations '!CB48","v":2.5000000000000001E-2},{"$f":"'Individual Calculations '!CC48","v":0},{"$f":"'Individual Calculations '!CD48","v":0},null,{"$f":"'Individual Calculations '!CF48","v":0},{"$f":"'Individual Calculations '!CG48","v":0},{"$f":"'Individual Calculations '!CH48","v":0},{"$f":"'Individual Calculations '!CI48","v":0}]
[37,81,null,{"$f":"'Individual Calculations '!BT49","v":0},{"$f":"'Individual Calculations '!BU49","v":0.4},{"$f":"'Individual Calculations '!BV49","v":0},{"$f":"'Individual Calculations '!BW49","v":0},{"$f":"'Individual Calculations '!BX49","v":0},{"$f":"'Individual Calculations '!BY49","v":0},null,{"$f":"'Individual Calculations '!CA49","v":0},{"$f":"'Individual Calculations '!CB49","v":2.5000000000000001E-2},{"$f":"'Individual Calculations '!CC49","v":0},{"$f":"'Individual Calculations '!CD49","v":0},null,{"$f":"'Individual Calculations '!CF49","v":0},{"$f":"'Individual Calculations '!CG49","v":0},{"$f":"'Individual Calculations '!CH49","v":0},{"$f":"'Individual Calculations '!CI49","v":0}]
[38,82,null,{"$f":"'Individual Calculations '!BT50","v":0},{"$f":"'Individual Calculations '!BU50","v":0.4},{"$f":"'Individual Calculations '!BV50","v":0},{"$f":"'Individual Calculations '!BW50","v":0},{"$f":"'Individual Calculations '!BX50","v":0},{"$f":"'Individual Calculations '!BY50","v":0},null,{"$f":"'Individual Calculations '!CA50","v":0},{"$f":"'Individual Calculations '!CB50","v":2.5000000000000001E-2},{"$f":"'Individual Calculations '!CC50","v":0},{"$f":"'Individual Calculations '!CD50","v":0},null,{"$f":"'Individual Calculations '!CF50","v":0},{"$f":"'Individual Calculations '!CG50","v":0},{"$f":"'Individual Calculations '!CH50","v":0},{"$f":"'Individual Calculations '!CI50","v":0}]
[39,83,null,{"$f":"'Individual Calculations '!BT51","v":0},{"$f":"'Individual Calculations '!BU51","v":0.4},{"$f":"'Individual Calculations '!BV51","v":0},{"$f":"'Individual Calculations '!BW51","v":0},{"$f":"'Individual Calculations '!BX51","v":0},{"$f":"'Individual Calculations '!BY51","v":0},null,{"$f":"'Individual Calculations '!CA51","v":0},{"$f":"'Individual Calculations '!CB51","v":2.5000000000000001E-2},{"$f":"'Individual Calculations '!CC51","v":0},{"$f":"'Individual Calculations '!CD51","v":0},null,{"$f":"'Individual Calculations '!CF51","v":0},{"$f":"'Individual Calculations '!CG51","v":0},{"$f":"'Individual Calculations '!CH51","v":0},{"$f":"'Individual Calculations '!CI51","v":0}]
[40,84,null,{"$f":"'Individual Calculations '!BT52","v":0},{"$f":"'Individual Calculations '!BU52","v":0.4},{"$f":"'Individual Calculations '!BV52","v":0},{"$f":"'Individual Calculations '!BW52","v":0},{"$f":"'Individual Calculations '!BX52","v":0},{"$f":"'Individual Calculations '!BY52","v":0},null,{"$f":"'Individual Calculations '!CA52","v":0},{"$f":"'Individual Calculations '!CB52","v":2.5000000000000001E-2},{"$f":"'Individual Calculations '!CC52","v":0},{"$f":"'Individual Calculations '!CD52","v":0},null,{"$f":"'Individual Calculations '!CF52","v":0},{"$f":"'Individual Calculations '!CG52","v":0},{"$f":"'Individual Calculations '!CH52","v":0},{"$f":"'Individual Calculations '!CI52","v":0}]
[41,85,null,{"$f":"'Individual Calculations '!BT53","v":0},{"$f":"'Individual Calculations '!BU53","v":0.4},{"$f":"'Individual Calculations '!BV53","v":0},{"$f":"'Individual Calculations '!BW53","v":0},{"$f":"'Individual Calculations '!BX53","v":0},{"$f":"'Individual Calculations '!BY53","v":0},null,{"$f":"'Individual Calculations '!CA53","v":0},{"$f":"'Individual Calculations '!CB53","v":2.5000000000000001E-2},{"$f":"'Individual Calculations '!CC53","v":0},{"$f":"'Individual Calculations '!CD53","v":0},null,{"$f":"'Individual Calculations '!CF53","v":0},{"$f":"'Individual Calculations '!CG53","v":0},{"$f":"'Individual Calculations '!CH53","v":0},{"$f":"'Individual Calculations '!CI53","v":0}]
[42,86,null,{"$f":"'Individual Calculations '!BT54","v":0},{"$f":"'Individual Calculations '!BU54","v":0.4},{"$f":"'Individual Calculations '!BV54","v":0},{"$f":"'Individual Calculations '!BW54","v":0},{"$f":"'Individual Calculations '!BX54","v":0},{"$f":"'Individual Calculations '!BY54","v":0},null,{"$f":"'Individual Calculations '!CA54","v":0},{"$f":"'Individual Calculations '!CB54","v":2.5000000000000001E-2},{"$f":"'Individual Calculations '!CC54","v":0},{"$f":"'Individual Calculations '!CD54","v":0},null,{"$f":"'Individual Calculations '!CF54","v":0},{"$f":"'Individual Calculations '!CG54","v":0},{"$f":"'Individual Calculations '!CH54","v":0},{"$f":"'Individual Calculations '!CI54","v":0}]
[43,87,null,{"$f":"'Individual Calculations '!BT55","v":0},{"$f":"'Individual Calculations '!BU55","v":0.4},{"$f":"'Individual Calculations '!BV55","v":0},{"$f":"'Individual Calculations '!BW55","v":0},{"$f":"'Individual Calculations '!BX55","v":0},{"$f":"'Individual Calculations '!BY55","v":0},null,{"$f":"'Individual Calculations '!CA55","v":0},{"$f":"'Individual Calculations '!CB55","v":2.5000000000000001E-2},{"$f":"'Individual Calculations '!CC55","v":0},{"$f":"'Individual Calculations '!CD55","v":0},null,{"$f":"'Individual Calculations '!CF55","v":0},{"$f":"'Individual Calculations '!CG55","v":0},{"$f":"'Individual Calculations '!CH55","v":0},{"$f":"'Individual Calculations '!CI55","v":0}]
[44,88,null,{"$f":"'Individual Calculations '!BT56","v":0},{"$f":"'Individual Calculations '!BU56","v":0.4},{"$f":"'Individual Calculations '!BV56","v":0},{"$f":"'Individual Calculations '!BW56","v":0},{"$f":"'Individual Calculations '!BX56","v":0},{"$f":"'Individual Calculations '!BY56","v":0},null,{"$f":"'Individual Calculations '!CA56","v":0},{"$f":"'Individual Calculations '!CB56","v":2.5000000000000001E-2},{"$f":"'Individual Calculations '!CC56","v":0},{"$f":"'Individual Calculations '!CD56","v":0},null,{"$f":"'Individual Calculations '!CF56","v":0},{"$f":"'Individual Calculations '!CG56","v":0},{"$f":"'Individual Calculations '!CH56","v":0},{"$f":"'Individual Calculations '!CI56","v":0}]
[45,89,null,{"$f":"'Individual Calculations '!BT57","v":0},{"$f":"'Individual Calculations '!BU57","v":0.4},{"$f":"'Individual Calculations '!BV57","v":0},{"$f":"'Individual Calculations '!BW57","v":0},{"$f":"'Individual Calculations '!BX57","v":0},{"$f":"'Individual Calculations '!BY57","v":0},null,{"$f":"'Individual Calculations '!CA57","v":0},{"$f":"'Individual Calculations '!CB57","v":2.5000000000000001E-2},{"$f":"'Individual Calculations '!CC57","v":0},{"$f":"'Individual Calculations '!CD57","v":0},null,{"$f":"'Individual Calculations '!CF57","v":0},{"$f":"'Individual Calculations '!CG57","v":0},{"$f":"'Individual Calculations '!CH57","v":0},{"$f":"'Individual Calculations '!CI57","v":0}]
[46,90,null,{"$f":"'Individual Calculations '!BT58","v":0},{"$f":"'Individual Calculations '!BU58","v":0.4},{"$f":"'Individual Calculations '!BV58","v":0},{"$f":"'Individual Calculations '!BW58","v":0},{"$f":"'Individual Calculations '!BX58","v":0},{"$f":"'Individual Calculations '!BY58","v":0},null,{"$f":"'Individual Calculations '!CA58","v":0},{"$f":"'Individual Calculations '!CB58","v":2.5000000000000001E-2},{"$f":"'Individual Calculations '!CC58","v":0},{"$f":"'Individual Calculations '!CD58","v":0},null,{"$f":"'Individual Calculations '!CF58","v":0},{"$f":"'Individual Calculations '!CG58","v":0},{"$f":"'Individual Calculations '!CH58","v":0},{"$f":"'Individual Calculations '!CI58","v":0}]
[47,91,null,{"$f":"'Individual Calculations '!BT59","v":0},{"$f":"'Individual Calculations '!BU59","v":0.4},{"$f":"'Individual Calculations '!BV59","v":0},{"$f":"'Individual Calculations '!BW59","v":0},{"$f":"'Individual Calculations '!BX59","v":0},{"$f":"'Individual Calculations '!BY59","v":0},null,{"$f":"'Individual Calculations '!CA59","v":0},{"$f":"'Individual Calculations '!CB59","v":2.5000000000000001E-2},{"$f":"'Individual Calculations '!CC59","v":0},{"$f":"'Individual Calculations '!CD59","v":0},null,{"$f":"'Individual Calculations '!CF59","v":0},{"$f":"'Individual Calculations '!CG59","v":0},{"$f":"'Individual Calculations '!CH59","v":0},{"$f":"'Individual Calculations '!CI59","v":0}]
[48,92,null,{"$f":"'Individual Calculations '!BT60","v":0},{"$f":"'Individual Calculations '!BU60","v":0.4},{"$f":"'Individual Calculations '!BV60","v":0},{"$f":"'Individual Calculations '!BW60","v":0},{"$f":"'Individual Calculations '!BX60","v":0},{"$f":"'Individual Calculations '!BY60","v":0},null,{"$f":"'Individual Calculations '!CA60","v":0},{"$f":"'Individual Calculations '!CB60","v":2.5000000000000001E-2},{"$f":"'Individual Calculations '!CC60","v":0},{"$f":"'Individual Calculations '!CD60","v":0},null,{"$f":"'Individual Calculations '!CF60","v":0},{"$f":"'Individual Calculations '!CG60","v":0},{"$f":"'Individual Calculations '!CH60","v":0},{"$f":"'Individual Calculations '!CI60","v":0}]
[49,93,null,{"$f":"'Individual Calculations '!BT61","v":0},{"$f":"'Individual Calculations '!BU61","v":0.4},{"$f":"'Individual Calculations '!BV61","v":0},{"$f":"'Individual Calculations '!BW61","v":0},{"$f":"'Individual Calculations '!BX61","v":0},{"$f":"'Individual Calculations '!BY61","v":0},null,{"$f":"'Individual Calculations '!CA61","v":0},{"$f":"'Individual Calculations '!CB61","v":2.5000000000000001E-2},{"$f":"'Individual Calculations '!CC61","v":0},{"$f":"'Individual Calculations '!CD61","v":0},null,{"$f":"'Individual Calculations '!CF61","v":0},{"$f":"'Individual Calculations '!CG61","v":0},{"$f":"'Individual Calculations '!CH61","v":0},{"$f":"'Individual Calculations '!CI61","v":0}]
[50,94,null,{"$f":"'Individual Calculations '!BT62","v":0},{"$f":"'Individual Calculations '!BU62","v":0.4},{"$f":"'Individual Calculations '!BV62","v":0},{"$f":"'Individual Calculations '!BW62","v":0},{"$f":"'Individual Calculations '!BX62","v":0},{"$f":"'Individual Calculations '!BY62","v":0},null,{"$f":"'Individual Calculations '!CA62","v":0},{"$f":"'Individual Calculations '!CB62","v":2.5000000000000001E-2},{"$f":"'Individual Calculations '!CC62","v":0},{"$f":"'Individual Calculations '!CD62","v":0},null,{"$f":"'Individual Calculations '!CF62","v":0},{"$f":"'Individual Calculations '!CG62","v":0},{"$f":"'Individual Calculations '!CH62","v":0},{"$f":"'Individual Calculations '!CI62","v":0}]
[51,95,null,{"$f":"'Individual Calculations '!BT63","v":0},{"$f":"'Individual Calculations '!BU63","v":0.4},{"$f":"'Individual Calculations '!BV63","v":0},{"$f":"'Individual Calculations '!BW63","v":0},{"$f":"'Individual Calculations '!BX63","v":0},{"$f":"'Individual Calculations '!BY63","v":0},null,{"$f":"'Individual Calculations '!CA63","v":0},{"$f":"'Individual Calculations '!CB63","v":2.5000000000000001E-2},{"$f":"'Individual Calculations '!CC63","v":0},{"$f":"'Individual Calculations '!CD63","v":0},null,{"$f":"'Individual Calculations '!CF63","v":0},{"$f":"'Individual Calculations '!CG63","v":0},{"$f":"'Individual Calculations '!CH63","v":0},{"$f":"'Individual Calculations '!CI63","v":0}]
[52,96,null,{"$f":"'Individual Calculations '!BT64","v":0},{"$f":"'Individual Calculations '!BU64","v":0.4},{"$f":"'Individual Calculations '!BV64","v":0},{"$f":"'Individual Calculations '!BW64","v":0},{"$f":"'Individual Calculations '!BX64","v":0},{"$f":"'Individual Calculations '!BY64","v":0},null,{"$f":"'Individual Calculations '!CA64","v":0},{"$f":"'Individual Calculations '!CB64","v":2.5000000000000001E-2},{"$f":"'Individual Calculations '!CC64","v":0},{"$f":"'Individual Calculations '!CD64","v":0},null,{"$f":"'Individual Calculations '!CF64","v":0},{"$f":"'Individual Calculations '!CG64","v":0},{"$f":"'Individual Calculations '!CH64","v":0},{"$f":"'Individual Calculations '!CI64","v":0}]
[53,97,null,{"$f":"'Individual Calculations '!BT65","v":0},{"$f":"'Individual Calculations '!BU65","v":0.4},{"$f":"'Individual Calculations '!BV65","v":0},{"$f":"'Individual Calculations '!BW65","v":0},{"$f":"'Individual Calculations '!BX65","v":0},{"$f":"'Individual Calculations '!BY65","v":0},null,{"$f":"'Individual Calculations '!CA65","v":0},{"$f":"'Individual Calculations '!CB65","v":2.5000000000000001E-2},{"$f":"'Individual Calculations '!CC65","v":0},{"$f":"'Individual Calculations '!CD65","v":0},null,{"$f":"'Individual Calculations '!CF65","v":0},{"$f":"'Individual Calculations '!CG65","v":0},{"$f":"'Individual Calculations '!CH65","v":0},{"$f":"'Individual Calculations '!CI65","v":0}]
[54,98,null,{"$f":"'Individual Calculations '!BT66","v":0},{"$f":"'Individual Calculations '!BU66","v":0.4},{"$f":"'Individual Calculations '!BV66","v":0},{"$f":"'Individual Calculations '!BW66","v":0},{"$f":"'Individual Calculations '!BX66","v":0},{"$f":"'Individual Calculations '!BY66","v":0},null,{"$f":"'Individual Calculations '!CA66","v":0},{"$f":"'Individual Calculations '!CB66","v":2.5000000000000001E-2},{"$f":"'Individual Calculations '!CC66","v":0},{"$f":"'Individual Calculations '!CD66","v":0},null,{"$f":"'Individual Calculations '!CF66","v":0},{"$f":"'Individual Calculations '!CG66","v":0},{"$f":"'Individual Calculations '!CH66","v":0},{"$f":"'Individual Calculations '!CI66","v":0}]
[55,99,null,{"$f":"'Individual Calculations '!BT67","v":0},{"$f":"'Individual Calculations '!BU67","v":0.4},{"$f":"'Individual Calculations '!BV67","v":0},{"$f":"'Individual Calculations '!BW67","v":0},{"$f":"'Individual Calculations '!BX67","v":0},{"$f":"'Individual Calculations '!BY67","v":0},null,{"$f":"'Individual Calculations '!CA67","v":0},{"$f":"'Individual Calculations '!CB67","v":2.5000000000000001E-2},{"$f":"'Individual Calculations '!CC67","v":0},{"$f":"'Individual Calculations '!CD67","v":0},null,{"$f":"'Individual Calculations '!CF67","v":0},{"$f":"'Individual Calculations '!CG67","v":0},{"$f":"'Individual Calculations '!CH67","v":0},{"$f":"'Individual Calculations '!CI67","v":0}]
[56,100,null,{"$f":"'Individual Calculations '!BT68","v":0},{"$f":"'Individual Calculations '!BU68","v":0.4},{"$f":"'Individual Calculations '!BV68","v":0},{"$f":"'Individual Calculations '!BW68","v":0},{"$f":"'Individual Calculations '!BX68","v":0},{"$f":"'Individual Calculations '!BY68","v":0},null,{"$f":"'Individual Calculations '!CA68","v":0},{"$f":"'Individual Calculations '!CB68","v":2.5000000000000001E-2},{"$f":"'Individual Calculations '!CC68","v":0},{"$f":"'Individual Calculations '!CD68","v":0},null,{"$f":"'Individual Calculations '!CF68","v":0},{"$f":"'Individual Calculations '!CG68","v":0},{"$f":"'Individual Calculations '!CH68","v":0},{"$f":"'Individual Calculations '!CI68","v":0}]
[57,101,null,{"$f":"'Individual Calculations '!BT69","v":0},{"$f":"'Individual Calculations '!BU69","v":0.4},{"$f":"'Individual Calculations '!BV69","v":0},{"$f":"'Individual Calculations '!BW69","v":0},{"$f":"'Individual Calculations '!BX69","v":0},{"$f":"'Individual Calculations '!BY69","v":0},null,{"$f":"'Individual Calculations '!CA69","v":0},{"$f":"'Individual Calculations '!CB69","v":2.5000000000000001E-2},{"$f":"'Individual Calculations '!CC69","v":0},{"$f":"'Individual Calculations '!CD69","v":0},null,{"$f":"'Individual Calculations '!CF69","v":0},{"$f":"'Individual Calculations '!CG69","v":0},{"$f":"'Individual Calculations '!CH69","v":0},{"$f":"'Individual Calculations '!CI69","v":0}]
[58,102,null,{"$f":"'Individual Calculations '!BT70","v":0},{"$f":"'Individual Calculations '!BU70","v":0.4},{"$f":"'Individual Calculations '!BV70","v":0},{"$f":"'Individual Calculations '!BW70","v":0},{"$f":"'Individual Calculations '!BX70","v":0},{"$f":"'Individual Calculations '!BY70","v":0},null,{"$f":"'Individual Calculations '!CA70","v":0},{"$f":"'Individual Calculations '!CB70","v":2.5000000000000001E-2},{"$f":"'Individual Calculations '!CC70","v":0},{"$f":"'Individual Calculations '!CD70","v":0},null,{"$f":"'Individual Calculations '!CF70","v":0},{"$f":"'Individual Calculations '!CG70","v":0},{"$f":"'Individual Calculations '!CH70","v":0},{"$f":"'Individual Calculations '!CI70","v":0}]
[59,103,null,{"$f":"'Individual Calculations '!BT71","v":0},{"$f":"'Individual Calculations '!BU71","v":0.4},{"$f":"'Individual Calculations '!BV71","v":0},{"$f":"'Individual Calculations '!BW71","v":0},{"$f":"'Individual Calculations '!BX71","v":0},{"$f":"'Individual Calculations '!BY71","v":0},null,{"$f":"'Individual Calculations '!CA71","v":0},{"$f":"'Individual Calculations '!CB71","v":2.5000000000000001E-2},{"$f":"'Individual Calculations '!CC71","v":0},{"$f":"'Individual Calculations '!CD71","v":0},null,{"$f":"'Individual Calculations '!CF71","v":0},{"$f":"'Individual Calculations '!CG71","v":0},{"$f":"'Individual Calculations '!CH71","v":0},{"$f":"'Individual Calculations '!CI71","v":0}]
[60,104,null,{"$f":"'Individual Calculations '!BT72","v":0},{"$f":"'Individual Calculations '!BU72","v":0.4},{"$f":"'Individual Calculations '!BV72","v":0},{"$f":"'Individual Calculations '!BW72","v":0},{"$f":"'Individual Calculations '!BX72","v":0},{"$f":"'Individual Calculations '!BY72","v":0},null,{"$f":"'Individual Calculations '!CA72","v":0},{"$f":"'Individual Calculations '!CB72","v":2.5000000000000001E-2},{"$f":"'Individual Calculations '!CC72","v":0},{"$f":"'Individual Calculations '!CD72","v":0},null,{"$f":"'Individual Calculations '!CF72","v":0},{"$f":"'Individual Calculations '!CG72","v":0},{"$f":"'Individual Calculations '!CH72","v":0},{"$f":"'Individual Calculations '!CI72","v":0}]
[61,105,null,{"$f":"'Individual Calculations '!BT73","v":0},{"$f":"'Individual Calculations '!BU73","v":0.4},{"$f":"'Individual Calculations '!BV73","v":0},{"$f":"'Individual Calculations '!BW73","v":0},{"$f":"'Individual Calculations '!BX73","v":0},{"$f":"'Individual Calculations '!BY73","v":0},null,{"$f":"'Individual Calculations '!CA73","v":0},{"$f":"'Individual Calculations '!CB73","v":2.5000000000000001E-2},{"$f":"'Individual Calculations '!CC73","v":0},{"$f":"'Individual Calculations '!CD73","v":0},null,{"$f":"'Individual Calculations '!CF73","v":0},{"$f":"'Individual Calculations '!CG73","v":0},{"$f":"'Individual Calculations '!CH73","v":0},{"$f":"'Individual Calculations '!CI73","v":0}]
[62,106,null,{"$f":"'Individual Calculations '!BT74","v":0},{"$f":"'Individual Calculations '!BU74","v":0.4},{"$f":"'Individual Calculations '!BV74","v":0},{"$f":"'Individual Calculations '!BW74","v":0},{"$f":"'Individual Calculations '!BX74","v":0},{"$f":"'Individual Calculations '!BY74","v":0},null,{"$f":"'Individual Calculations '!CA74","v":0},{"$f":"'Individual Calculations '!CB74","v":2.5000000000000001E-2},{"$f":"'Individual Calculations '!CC74","v":0},{"$f":"'Individual Calculations '!CD74","v":0},null,{"$f":"'Individual Calculations '!CF74","v":0},{"$f":"'Individual Calculations '!CG74","v":0},{"$f":"'Individual Calculations '!CH74","v":0},{"$f":"'Individual Calculations '!CI74","v":0}]
[63,107,null,{"$f":"'Individual Calculations '!BT75","v":0},{"$f":"'Individual Calculations '!BU75","v":0.4},{"$f":"'Individual Calculations '!BV75","v":0},{"$f":"'Individual Calculations '!BW75","v":0},{"$f":"'Individual Calculations '!BX75","v":0},{"$f":"'Individual Calculations '!BY75","v":0},null,{"$f":"'Individual Calculations '!CA75","v":0},{"$f":"'Individual Calculations '!CB75","v":2.5000000000000001E-2},{"$f":"'Individual Calculations '!CC75","v":0},{"$f":"'Individual Calculations '!CD75","v":0},null,{"$f":"'Individual Calculations '!CF75","v":0},{"$f":"'Individual Calculations '!CG75","v":0},{"$f":"'Individual Calculations '!CH75","v":0},{"$f":"'Individual Calculations '!CI75","v":0}]
[64,108,null,{"$f":"'Individual Calculations '!BT76","v":0},{"$f":"'Individual Calculations '!BU76","v":0.4},{"$f":"'Individual Calculations '!BV76","v":0},{"$f":"'Individual Calculations '!BW76","v":0},{"$f":"'Individual Calculations '!BX76","v":0},{"$f":"'Individual Calculations '!BY76","v":0},null,{"$f":"'Individual Calculations '!CA76","v":0},{"$f":"'Individual Calculations '!CB76","v":2.5000000000000001E-2},{"$f":"'Individual Calculations '!CC76","v":0},{"$f":"'Individual Calculations '!CD76","v":0},null,{"$f":"'Individual Calculations '!CF76","v":0},{"$f":"'Individual Calculations '!CG76","v":0},{"$f":"'Individual Calculations '!CH76","v":0},{"$f":"'Individual Calculations '!CI76","v":0}]
[65,109,null,{"$f":"'Individual Calculations '!BT77","v":0},{"$f":"'Individual Calculations '!BU77","v":0.4},{"$f":"'Individual Calculations '!BV77","v":0},{"$f":"'Individual Calculations '!BW77","v":0},{"$f":"'Individual Calculations '!BX77","v":0},{"$f":"'Individual Calculations '!BY77","v":0},null,{"$f":"'Individual Calculations '!CA77","v":0},{"$f":"'Individual Calculations '!CB77","v":2.5000000000000001E-2},{"$f":"'Individual Calculations '!CC77","v":0},{"$f":"'Individual Calculations '!CD77","v":0},null,{"$f":"'Individual Calculations '!CF77","v":0},{"$f":"'Individual Calculations '!CG77","v":0},{"$f":"'Individual Calculations '!CH77","v":0},{"$f":"'Individual Calculations '!CI77","v":0}]
[66,110,null,{"$f":"'Individual Calculations '!BT78","v":0},{"$f":"'Individual Calculations '!BU78","v":0.4},{"$f":"'Individual Calculations '!BV78","v":0},{"$f":"'Individual Calculations '!BW78","v":0},{"$f":"'Individual Calculations '!BX78","v":0},{"$f":"'Individual Calculations '!BY78","v":0},null,{"$f":"'Individual Calculations '!CA78","v":0},{"$f":"'Individual Calculations '!CB78","v":2.5000000000000001E-2},{"$f":"'Individual Calculations '!CC78","v":0},{"$f":"'Individual Calculations '!CD78","v":0},null,{"$f":"'Individual Calculations '!CF78","v":0},{"$f":"'Individual Calculations '!CG78","v":0},{"$f":"'Individual Calculations '!CH78","v":0},{"$f":"'Individual Calculations '!CI78","v":0}]
[{"$f":"A73+1","v":67},{"$f":"IF(A74=\"\",\"\",+B73+1)","v":111},null,{"$f":"'Individual Calculations '!BT79","v":0},{"$f":"'Individual Calculations '!BU79","v":0.4},{"$f":"'Individual Calculations '!BV79","v":0},{"$f":"'Individual Calculations '!BW79","v":0},{"$f":"'Individual Calculations '!BX79","v":0},{"$f":"'Individual Calculations '!BY79","v":0},null,{"$f":"'Individual Calculations '!CA79","v":0},{"$f":"'Individual Calculations '!CB79","v":2.5000000000000001E-2},{"$f":"'Individual Calculations '!CC79","v":0},{"$f":"'Individual Calculations '!CD79","v":0},null,{"$f":"'Individual Calculations '!CF79","v":0},{"$f":"'Individual Calculations '!CG79","v":0},{"$f":"'Individual Calculations '!CH79","v":0},{"$f":"'Individual Calculations '!CI79","v":0}]
[68,112,null,{"$f":"'Individual Calculations '!BT80","v":0},{"$f":"'Individual Calculations '!BU80","v":0.4},{"$f":"'Individual Calculations '!BV80","v":0},{"$f":"'Individual Calculations '!BW80","v":0},{"$f":"'Individual Calculations '!BX80","v":0},{"$f":"'Individual Calculations '!BY80","v":0},null,{"$f":"'Individual Calculations '!CA80","v":0},{"$f":"'Individual Calculations '!CB80","v":2.5000000000000001E-2},{"$f":"'Individual Calculations '!CC80","v":0},{"$f":"'Individual Calculations '!CD80","v":0},null,{"$f":"'Individual Calculations '!CF80","v":0},{"$f":"'Individual Calculations '!CG80","v":0},{"$f":"'Individual Calculations '!CH80","v":0},{"$f":"'Individual Calculations '!CI80","v":0}]
[69,113,null,{"$f":"'Individual Calculations '!BT81","v":0},{"$f":"'Individual Calculations '!BU81","v":0.4},{"$f":"'Individual Calculations '!BV81","v":0},{"$f":"'Individual Calculations '!BW81","v":0},{"$f":"'Individual Calculations '!BX81","v":0},{"$f":"'Individual Calculations '!BY81","v":0},null,{"$f":"'Individual Calculations '!CA81","v":0},{"$f":"'Individual Calculations '!CB81","v":2.5000000000000001E-2},{"$f":"'Individual Calculations '!CC81","v":0},{"$f":"'Individual Calculations '!CD81","v":0},null,{"$f":"'Individual Calculations '!CF81","v":0},{"$f":"'Individual Calculations '!CG81","v":0},{"$f":"'Individual Calculations '!CH81","v":0},{"$f":"'Individual Calculations '!CI81","v":0}]
[70,114,null,{"$f":"'Individual Calculations '!BT82","v":0},{"$f":"'Individual Calculations '!BU82","v":0.4},{"$f":"'Individual Calculations '!BV82","v":0},{"$f":"'Individual Calculations '!BW82","v":0},{"$f":"'Individual Calculations '!BX82","v":0},{"$f":"'Individual Calculations '!BY82","v":0},null,{"$f":"'Individual Calculations '!CA82","v":0},{"$f":"'Individual Calculations '!CB82","v":2.5000000000000001E-2},{"$f":"'Individual Calculations '!CC82","v":0},{"$f":"'Individual Calculations '!CD82","v":0},null,{"$f":"'Individual Calculations '!CF82","v":0},{"$f":"'Individual Calculations '!CG82","v":0},{"$f":"'Individual Calculations '!CH82","v":0},{"$f":"'Individual Calculations '!CI82","v":0}]
[71,115,null,{"$f":"'Individual Calculations '!BT83","v":0},{"$f":"'Individual Calculations '!BU83","v":0.4},{"$f":"'Individual Calculations '!BV83","v":0},{"$f":"'Individual Calculations '!BW83","v":0},{"$f":"'Individual Calculations '!BX83","v":0},{"$f":"'Individual Calculations '!BY83","v":0},null,{"$f":"'Individual Calculations '!CA83","v":0},{"$f":"'Individual Calculations '!CB83","v":2.5000000000000001E-2},{"$f":"'Individual Calculations '!CC83","v":0},{"$f":"'Individual Calculations '!CD83","v":0},null,{"$f":"'Individual Calculations '!CF83","v":0},{"$f":"'Individual Calculations '!CG83","v":0},{"$f":"'Individual Calculations '!CH83","v":0},{"$f":"'Individual Calculations '!CI83","v":0}]
[72,116,null,{"$f":"'Individual Calculations '!BT84","v":0},{"$f":"'Individual Calculations '!BU84","v":0.4},{"$f":"'Individual Calculations '!BV84","v":0},{"$f":"'Individual Calculations '!BW84","v":0},{"$f":"'Individual Calculations '!BX84","v":0},{"$f":"'Individual Calculations '!BY84","v":0},null,{"$f":"'Individual Calculations '!CA84","v":0},{"$f":"'Individual Calculations '!CB84","v":2.5000000000000001E-2},{"$f":"'Individual Calculations '!CC84","v":0},{"$f":"'Individual Calculations '!CD84","v":0},null,{"$f":"'Individual Calculations '!CF84","v":0},{"$f":"'Individual Calculations '!CG84","v":0},{"$f":"'Individual Calculations '!CH84","v":0},{"$f":"'Individual Calculations '!CI84","v":0}]
[73,117,null,{"$f":"'Individual Calculations '!BT85","v":0},{"$f":"'Individual Calculations '!BU85","v":0.4},{"$f":"'Individual Calculations '!BV85","v":0},{"$f":"'Individual Calculations '!BW85","v":0},{"$f":"'Individual Calculations '!BX85","v":0},{"$f":"'Individual Calculations '!BY85","v":0},null,{"$f":"'Individual Calculations '!CA85","v":0},{"$f":"'Individual Calculations '!CB85","v":2.5000000000000001E-2},{"$f":"'Individual Calculations '!CC85","v":0},{"$f":"'Individual Calculations '!CD85","v":0},null,{"$f":"'Individual Calculations '!CF85","v":0},{"$f":"'Individual Calculations '!CG85","v":0},{"$f":"'Individual Calculations '!CH85","v":0},{"$f":"'Individual Calculations '!CI85","v":0}]
[74,118,null,{"$f":"'Individual Calculations '!BT86","v":0},{"$f":"'Individual Calculations '!BU86","v":0.4},{"$f":"'Individual Calculations '!BV86","v":0},{"$f":"'Individual Calculations '!BW86","v":0},{"$f":"'Individual Calculations '!BX86","v":0},{"$f":"'Individual Calculations '!BY86","v":0},null,{"$f":"'Individual Calculations '!CA86","v":0},{"$f":"'Individual Calculations '!CB86","v":2.5000000000000001E-2},{"$f":"'Individual Calculations '!CC86","v":0},{"$f":"'Individual Calculations '!CD86","v":0},null,{"$f":"'Individual Calculations '!CF86","v":0},{"$f":"'Individual Calculations '!CG86","v":0},{"$f":"'Individual Calculations '!CH86","v":0},{"$f":"'Individual Calculations '!CI86","v":0}]
[75,119,null,{"$f":"'Individual Calculations '!BT87","v":0},{"$f":"'Individual Calculations '!BU87","v":0.4},{"$f":"'Individual Calculations '!BV87","v":0},{"$f":"'Individual Calculations '!BW87","v":0},{"$f":"'Individual Calculations '!BX87","v":0},{"$f":"'Individual Calculations '!BY87","v":0},null,{"$f":"'Individual Calculations '!CA87","v":0},{"$f":"'Individual Calculations '!CB87","v":2.5000000000000001E-2},{"$f":"'Individual Calculations '!CC87","v":0},{"$f":"'Individual Calculations '!CD87","v":0},null,{"$f":"'Individual Calculations '!CF87","v":0},{"$f":"'Individual Calculations '!CG87","v":0},{"$f":"'Individual Calculations '!CH87","v":0},{"$f":"'Individual Calculations '!CI87","v":0}]
[]
[null,null,null,null,null,null,null,null,null,null,null,null,null,null,null,{"$f":"SUBTOTAL(9,P8:P82)","v":0},{"$f":"SUBTOTAL(9,Q8:Q82)","v":0}]

{"sheet":"ESP Program Cost","index":12,"n_rows":88,"n_cols":14,"rows_kept":88,"cut":false,"hidden":false,"merged":[[9,3,9,5],[9,7,9,9],[9,11,9,13]]}
["ESP - Evaluation of Program"]
[{"$f":"\"Plan Participant - \"&First_Name&\" \"&Last_Name&\" - Age \"&Age","v":"Plan Participant - John Smith - Age 45"}]
[]
[]
[null,null,null,null,null,"ESP Cost to Hospital",null,null,null,"Exec's\nCompensation",null,null,null,"Exec's\nAdditional\nBenefit"]
[null,null,null,null,{"$f":"\"NPV @ \"&TEXT(CostOfMoney*(1-Corp_Tax_Rate),\"0.00%\")&\":    \"","v":"NPV @ 4.00%:    "},{"$f":"'Individual Calculations '!CR5","v":0},null,null,{"$f":"\"NPV @ \"&TEXT(CostOfMoney*(1-Corp_Tax_Rate),\"0.00%\")&\":    \"","v":"NPV @ 4.00%:    "},{"$f":"'Individual Calculations '!CV5","v":0},null,null,{"$f":"\"NPV @ \"&TEXT(CostOfMoney*(1-Corp_Tax_Rate),\"0.00%\")&\":    \"","v":"NPV @ 4.00%:    "},{"$f":"'Individual Calculations '!CZ5","v":0}]
[]
[null,null,null,null,null,null,null,null,"ESP Cost to Hospital as % of Comp:     ",{"$f":"-F6/J6","v":{"$error":"#DIV/0!"}},null,null,"Ratio:  Addtnl Benefit to Cost:   ",{"$f":"N6/-F6","v":{"$error":"#DIV/0!"}}]
[]
[null,null,null,"ESP Cost to the Hospital",null,null,null,"Exec's Total Compensation",null,null,null,"ESP Incremental Benefit to Exec"]
["Year","Age",null,"Hospital Tax Restoration Loan to Exec","Repayment of the\nLoan","Hospital\nCash Flow",null,"Exec's Total Compensation","Hospital\nTax Rate","After Tax\nCompensation",null,"Exec's After Tax Benefit Before Redirection","Exec's After Tax Benefit After Redirection","Incremental Benefit to Exec"]
[1,{"$f":"Age","v":45},null,{"$f":"'Individual Calculations '!CP13","v":0},{"$f":"'Individual Calculations '!CQ13","v":0},{"$f":"D12+E12","v":0},null,{"$f":"'Individual Calculations '!CT13","v":0},{"$f":"Corp_Tax_Rate","v":0},{"$f":"H12*(1-I12)","v":0},null,{"$f":"'Individual Calculations '!CX13","v":0},{"$f":"'Individual Calculations '!CY13","v":0},{"$f":"'Individual Calculations '!CZ13","v":0}]
[{"$f":"A12+1","v":2},{"$f":"IF(A13=\"\",\"\",+B12+1)","v":46},null,{"$f":"'Individual Calculations '!CP14","v":0},{"$f":"'Individual Calculations '!CQ14","v":0},{"$f":"D13+E13","v":0},null,{"$f":"'Individual Calculations '!CT14","v":0},0,{"$f":"H13*(1-I13)","v":0},null,{"$f":"'Individual Calculations '!CX14","v":0},{"$f":"'Individual Calculations '!CY14","v":0},{"$f":"'Individual Calculations '!CZ14","v":0}]
[{"$f":"A13+1","v":3},{"$f":"IF(A14=\"\",\"\",+B13+1)","v":47},null,{"$f":"'Individual Calculations '!CP15","v":0},{"$f":"'Individual Calculations '!CQ15","v":0},0,null,{"$f":"'Individual Calculations '!CT15","v":0},0,0,null,{"$f":"'Individual Calculations '!CX15","v":0},{"$f":"'Individual Calculations '!CY15","v":0},{"$f":"'Individual Calculations '!CZ15","v":0}]
[4,48,null,{"$f":"'Individual Calculations '!CP16","v":0},{"$f":"'Individual Calculations '!CQ16","v":0},0,null,{"$f":"'Individual Calculations '!CT16","v":0},0,0,null,{"$f":"'Individual Calculations '!CX16","v":0},{"$f":"'Individual Calculations '!CY16","v":0},{"$f":"'Individual Calculations '!CZ16","v":0}]
[5,49,null,{"$f":"'Individual Calculations '!CP17","v":0},{"$f":"'Individual Calculations '!CQ17","v":0},0,null,{"$f":"'Individual Calculations '!CT17","v":0},0,0,null,{"$f":"'Individual Calculations '!CX17","v":0},{"$f":"'Individual Calculations '!CY17","v":0},{"$f":"'Individual Calculations '!CZ17","v":0}]
[6,50,null,{"$f":"'Individual Calculations '!CP18","v":0},{"$f":"'Individual Calculations '!CQ18","v":0},0,null,{"$f":"'Individual Calculations '!CT18","v":0},0,0,null,{"$f":"'Individual Calculations '!CX18","v":0},{"$f":"'Individual Calculations '!CY18","v":0},{"$f":"'Individual Calculations '!CZ18","v":0}]
[7,51,null,{"$f":"'Individual Calculations '!CP19","v":0},{"$f":"'Individual Calculations '!CQ19","v":0},0,null,{"$f":"'Individual Calculations '!CT19","v":0},0,0,null,{"$f":"'Individual Calculations '!CX19","v":0},{"$f":"'Individual Calculations '!CY19","v":0},{"$f":"'Individual Calculations '!CZ19","v":0}]
[8,52,null,{"$f":"'Individual Calculations '!CP20","v":0},{"$f":"'Individual Calculations '!CQ20","v":0},0,null,{"$f":"'Individual Calculations '!CT20","v":0},0,0,null,{"$f":"'Individual Calculations '!CX20","v":0},{"$f":"'Individual Calculations '!CY20","v":0},{"$f":"'Individual Calculations '!CZ20","v":0}]
[9,53,null,{"$f":"'Individual Calculations '!CP21","v":0},{"$f":"'Individual Calculations '!CQ21","v":0},0,null,{"$f":"'Individual Calculations '!CT21","v":0},0,0,null,{"$f":"'Individual Calculations '!CX21","v":0},{"$f":"'Individual Calculations '!CY21","v":0},{"$f":"'Individual Calculations '!CZ21","v":0}]
[10,54,null,{"$f":"'Individual Calculations '!CP22","v":0},{"$f":"'Individual Calculations '!CQ22","v":0},0,null,{"$f":"'Individual Calculations '!CT22","v":0},0,0,null,{"$f":"'Individual Calculations '!CX22","v":0},{"$f":"'Individual Calculations '!CY22","v":0},{"$f":"'Individual Calculations '!CZ22","v":0}]
[11,55,null,{"$f":"'Individual Calculations '!CP23","v":0},{"$f":"'Individual Calculations '!CQ23","v":0},0,null,{"$f":"'Individual Calculations '!CT23","v":0},0,0,null,{"$f":"'Individual Calculations '!CX23","v":0},{"$f":"'Individual Calculations '!CY23","v":0},{"$f":"'Individual Calculations '!CZ23","v":0}]
[12,56,null,{"$f":"'Individual Calculations '!CP24","v":0},{"$f":"'Individual Calculations '!CQ24","v":0},0,null,{"$f":"'Individual Calculations '!CT24","v":0},0,0,null,{"$f":"'Individual Calculations '!CX24","v":0},{"$f":"'Individual Calculations '!CY24","v":0},{"$f":"'Individual Calculations '!CZ24","v":0}]
[13,57,null,{"$f":"'Individual Calculations '!CP25","v":0},{"$f":"'Individual Calculations '!CQ25","v":0},0,null,{"$f":"'Individual Calculations '!CT25","v":0},0,0,null,{"$f":"'Individual Calculations '!CX25","v":0},{"$f":"'Individual Calculations '!CY25","v":0},{"$f":"'Individual Calculations '!CZ25","v":0}]
[14,58,null,{"$f":"'Individual Calculations '!CP26","v":0},{"$f":"'Individual Calculations '!CQ26","v":0},0,null,{"$f":"'Individual Calculations '!CT26","v":0},0,0,null,{"$f":"'Individual Calculations '!CX26","v":0},{"$f":"'Individual Calculations '!CY26","v":0},{"$f":"'Individual Calculations '!CZ26","v":0}]
[15,59,null,{"$f":"'Individual Calculations '!CP27","v":0},{"$f":"'Individual Calculations '!CQ27","v":0},0,null,{"$f":"'Individual Calculations '!CT27","v":0},0,0,null,{"$f":"'Individual Calculations '!CX27","v":0},{"$f":"'Individual Calculations '!CY27","v":0},{"$f":"'Individual Calculations '!CZ27","v":0}]
[16,60,null,{"$f":"'Individual Calculations '!CP28","v":0},{"$f":"'Individual Calculations '!CQ28","v":0},0,null,{"$f":"'Individual Calculations '!CT28","v":0},0,0,null,{"$f":"'Individual Calculations '!CX28","v":0},{"$f":"'Individual Calculations '!CY28","v":0},{"$f":"'Individual Calculations '!CZ28","v":0}]
[17,61,null,{"$f":"'Individual Calculations '!CP29","v":0},{"$f":"'Individual Calculations '!CQ29","v":0},0,null,{"$f":"'Individual Calculations '!CT29","v":0},0,0,null,{"$f":"'Individual Calculations '!CX29","v":0},{"$f":"'Individual Calculations '!CY29","v":0},{"$f":"'Individual Calculations '!CZ29","v":0}]
[18,62,null,{"$f":"'Individual Calculations '!CP30","v":0},{"$f":"'Individual Calculations '!CQ30","v":0},0,null,{"$f":"'Individual Calculations '!CT30","v":0},0,0,null,{"$f":"'Individual Calculations '!CX30","v":0},{"$f":"'Individual Calculations '!CY30","v":0},{"$f":"'Individual Calculations '!CZ30","v":0}]
[19,63,null,{"$f":"'Individual Calculations '!CP31","v":0},{"$f":"'Individual Calculations '!CQ31","v":0},0,null,{"$f":"'Individual Calculations '!CT31","v":0},0,0,null,{"$f":"'Individual Calculations '!CX31","v":0},{"$f":"'Individual Calculations '!CY31","v":0},{"$f":"'Individual Calculations '!CZ31","v":0}]
[20,64,null,{"$f":"'Individual Calculations '!CP32","v":0},{"$f":"'Individual Calculations '!CQ32","v":0},0,null,{"$f":"'Individual Calculations '!CT32","v":0},0,0,null,{"$f":"'Individual Calculations '!CX32","v":0},{"$f":"'Individual Calculations '!CY32","v":0},{"$f":"'Individual Calculations '!CZ32","v":0}]
[21,65,null,{"$f":"'Individual Calculations '!CP33","v":0},{"$f":"'Individual Calculations '!CQ33","v":0},0,null,{"$f":"'Individual Calculations '!CT33","v":0},0,0,null,{"$f":"'Individual Calculations '!CX33","v":0},{"$f":"'Individual Calculations '!CY33","v":0},{"$f":"'Individual Calculations '!CZ33","v":0}]
[22,66,null,{"$f":"'Individual Calculations '!CP34","v":0},{"$f":"'Individual Calculations '!CQ34","v":0},0,null,{"$f":"'Individual Calculations '!CT34","v":0},0,0,null,{"$f":"'Individual Calculations '!CX34","v":0},{"$f":"'Individual Calculations '!CY34","v":0},{"$f":"'Individual Calculations '!CZ34","v":0}]
[23,67,null,{"$f":"'Individual Calculations '!CP35","v":0},{"$f":"'Individual Calculations '!CQ35","v":0},0,null,{"$f":"'Individual Calculations '!CT35","v":0},0,0,null,{"$f":"'Individual Calculations '!CX35","v":0},{"$f":"'Individual Calculations '!CY35","v":0},{"$f":"'Individual Calculations '!CZ35","v":0}]
[24,68,null,{"$f":"'Individual Calculations '!CP36","v":0},{"$f":"'Individual Calculations '!CQ36","v":0},0,null,{"$f":"'Individual Calculations '!CT36","v":0},0,0,null,{"$f":"'Individual Calculations '!CX36","v":0},{"$f":"'Individual Calculations '!CY36","v":0},{"$f":"'Individual Calculations '!CZ36","v":0}]
[25,69,null,{"$f":"'Individual Calculations '!CP37","v":0},{"$f":"'Individual Calculations '!CQ37","v":0},0,null,{"$f":"'Individual Calculations '!CT37","v":0},0,0,null,{"$f":"'Individual Calculations '!CX37","v":0},{"$f":"'Individual Calculations '!CY37","v":0},{"$f":"'Individual Calculations '!CZ37","v":0}]
[26,70,null,{"$f":"'Individual Calculations '!CP38","v":0},{"$f":"'Individual Calculations '!CQ38","v":0},0,null,{"$f":"'Individual Calculations '!CT38","v":0},0,0,null,{"$f":"'Individual Calculations '!CX38","v":0},{"$f":"'Individual Calculations '!CY38","v":0},{"$f":"'Individual Calculations '!CZ38","v":0}]
[27,71,null,{"$f":"'Individual Calculations '!CP39","v":0},{"$f":"'Individual Calculations '!CQ39","v":0},0,null,{"$f":"'Individual Calculations '!CT39","v":0},0,0,null,{"$f":"'Individual Calculations '!CX39","v":0},{"$f":"'Individual Calculations '!CY39","v":0},{"$f":"'Individual Calculations '!CZ39","v":0}]
[28,72,null,{"$f":"'Individual Calculations '!CP40","v":0},{"$f":"'Individual Calculations '!CQ40","v":0},0,null,{"$f":"'Individual Calculations '!CT40","v":0},0,0,null,{"$f":"'Individual Calculations '!CX40","v":0},{"$f":"'Individual Calculations '!CY40","v":0},{"$f":"'Individual Calculations '!CZ40","v":0}]
[29,73,null,{"$f":"'Individual Calculations '!CP41","v":0},{"$f":"'Individual Calculations '!CQ41","v":0},0,null,{"$f":"'Individual Calculations '!CT41","v":0},0,0,null,{"$f":"'Individual Calculations '!CX41","v":0},{"$f":"'Individual Calculations '!CY41","v":0},{"$f":"'Individual Calculations '!CZ41","v":0}]
[30,74,null,{"$f":"'Individual Calculations '!CP42","v":0},{"$f":"'Individual Calculations '!CQ42","v":0},0,null,{"$f":"'Individual Calculations '!CT42","v":0},0,0,null,{"$f":"'Individual Calculations '!CX42","v":0},{"$f":"'Individual Calculations '!CY42","v":0},{"$f":"'Individual Calculations '!CZ42","v":0}]
[31,75,null,{"$f":"'Individual Calculations '!CP43","v":0},{"$f":"'Individual Calculations '!CQ43","v":0},0,null,{"$f":"'Individual Calculations '!CT43","v":0},0,0,null,{"$f":"'Individual Calculations '!CX43","v":0},{"$f":"'Individual Calculations '!CY43","v":0},{"$f":"'Individual Calculations '!CZ43","v":0}]
[32,76,null,{"$f":"'Individual Calculations '!CP44","v":0},{"$f":"'Individual Calculations '!CQ44","v":0},0,null,{"$f":"'Individual Calculations '!CT44","v":0},0,0,null,{"$f":"'Individual Calculations '!CX44","v":0},{"$f":"'Individual Calculations '!CY44","v":0},{"$f":"'Individual Calculations '!CZ44","v":0}]
[33,77,null,{"$f":"'Individual Calculations '!CP45","v":0},{"$f":"'Individual Calculations '!CQ45","v":0},0,null,{"$f":"'Individual Calculations '!CT45","v":0},{"$f":"Corp_Tax_Rate","v":0},0,null,{"$f":"'Individual Calculations '!CX45","v":0},{"$f":"'Individual Calculations '!CY45","v":0},{"$f":"'Individual Calculations '!CZ45","v":0}]
[34,78,null,{"$f":"'Individual Calculations '!CP46","v":0},{"$f":"'Individual Calculations '!CQ46","v":0},0,null,{"$f":"'Individual Calculations '!CT46","v":0},0,0,null,{"$f":"'Individual Calculations '!CX46","v":0},{"$f":"'Individual Calculations '!CY46","v":0},{"$f":"'Individual Calculations '!CZ46","v":0}]
[35,79,null,{"$f":"'Individual Calculations '!CP47","v":0},{"$f":"'Individual Calculations '!CQ47","v":0},0,null,{"$f":"'Individual Calculations '!CT47","v":0},0,0,null,{"$f":"'Individual Calculations '!CX47","v":0},{"$f":"'Individual Calculations '!CY47","v":0},{"$f":"'Individual Calculations '!CZ47","v":0}]
[36,80,null,{"$f":"'Individual Calculations '!CP48","v":0},{"$f":"'Individual Calculations '!CQ48","v":0},0,null,{"$f":"'Individual Calculations '!CT48","v":0},0,0,null,{"$f":"'Individual Calculations '!CX48","v":0},{"$f":"'Individual Calculations '!CY48","v":0},{"$f":"'Individual Calculations '!CZ48","v":0}]
[37,81,null,{"$f":"'Individual Calculations '!CP49","v":0},{"$f":"'Individual Calculations '!CQ49","v":0},0,null,{"$f":"'Individual Calculations '!CT49","v":0},0,0,null,{"$f":"'Individual Calculations '!CX49","v":0},{"$f":"'Individual Calculations '!CY49","v":0},{"$f":"'Individual Calculations '!CZ49","v":0}]
[38,82,null,{"$f":"'Individual Calculations '!CP50","v":0},{"$f":"'Individual Calculations '!CQ50","v":0},0,null,{"$f":"'Individual Calculations '!CT50","v":0},0,0,null,{"$f":"'Individual Calculations '!CX50","v":0},{"$f":"'Individual Calculations '!CY50","v":0},{"$f":"'Individual Calculations '!CZ50","v":0}]
[39,83,null,{"$f":"'Individual Calculations '!CP51","v":0},{"$f":"'Individual Calculations '!CQ51","v":0},0,null,{"$f":"'Individual Calculations '!CT51","v":0},0,0,null,{"$f":"'Individual Calculations '!CX51","v":0},{"$f":"'Individual Calculations '!CY51","v":0},{"$f":"'Individual Calculations '!CZ51","v":0}]
[40,84,null,{"$f":"'Individual Calculations '!CP52","v":0},{"$f":"'Individual Calculations '!CQ52","v":0},0,null,{"$f":"'Individual Calculations '!CT52","v":0},0,0,null,{"$f":"'Individual Calculations '!CX52","v":0},{"$f":"'Individual Calculations '!CY52","v":0},{"$f":"'Individual Calculations '!CZ52","v":0}]
[41,85,null,{"$f":"'Individual Calculations '!CP53","v":0},{"$f":"'Individual Calculations '!CQ53","v":0},0,null,{"$f":"'Individual Calculations '!CT53","v":0},0,0,null,{"$f":"'Individual Calculations '!CX53","v":0},{"$f":"'Individual Calculations '!CY53","v":0},{"$f":"'Individual Calculations '!CZ53","v":0}]
[42,86,null,{"$f":"'Individual Calculations '!CP54","v":0},{"$f":"'Individual Calculations '!CQ54","v":0},0,null,{"$f":"'Individual Calculations '!CT54","v":0},0,0,null,{"$f":"'Individual Calculations '!CX54","v":0},{"$f":"'Individual Calculations '!CY54","v":0},{"$f":"'Individual Calculations '!CZ54","v":0}]
[43,87,null,{"$f":"'Individual Calculations '!CP55","v":0},{"$f":"'Individual Calculations '!CQ55","v":0},0,null,{"$f":"'Individual Calculations '!CT55","v":0},0,0,null,{"$f":"'Individual Calculations '!CX55","v":0},{"$f":"'Individual Calculations '!CY55","v":0},{"$f":"'Individual Calculations '!CZ55","v":0}]
[44,88,null,{"$f":"'Individual Calculations '!CP56","v":0},{"$f":"'Individual Calculations '!CQ56","v":0},0,null,{"$f":"'Individual Calculations '!CT56","v":0},0,0,null,{"$f":"'Individual Calculations '!CX56","v":0},{"$f":"'Individual Calculations '!CY56","v":0},{"$f":"'Individual Calculations '!CZ56","v":0}]
[45,89,null,{"$f":"'Individual Calculations '!CP57","v":0},{"$f":"'Individual Calculations '!CQ57","v":0},0,null,{"$f":"'Individual Calculations '!CT57","v":0},0,0,null,{"$f":"'Individual Calculations '!CX57","v":0},{"$f":"'Individual Calculations '!CY57","v":0},{"$f":"'Individual Calculations '!CZ57","v":0}]
[46,90,null,{"$f":"'Individual Calculations '!CP58","v":0},{"$f":"'Individual Calculations '!CQ58","v":0},0,null,{"$f":"'Individual Calculations '!CT58","v":0},0,0,null,{"$f":"'Individual Calculations '!CX58","v":0},{"$f":"'Individual Calculations '!CY58","v":0},{"$f":"'Individual Calculations '!CZ58","v":0}]
[47,91,null,{"$f":"'Individual Calculations '!CP59","v":0},{"$f":"'Individual Calculations '!CQ59","v":0},0,null,{"$f":"'Individual Calculations '!CT59","v":0},0,0,null,{"$f":"'Individual Calculations '!CX59","v":0},{"$f":"'Individual Calculations '!CY59","v":0},{"$f":"'Individual Calculations '!CZ59","v":0}]
[48,92,null,{"$f":"'Individual Calculations '!CP60","v":0},{"$f":"'Individual Calculations '!CQ60","v":0},0,null,{"$f":"'Individual Calculations '!CT60","v":0},0,0,null,{"$f":"'Individual Calculations '!CX60","v":0},{"$f":"'Individual Calculations '!CY60","v":0},{"$f":"'Individual Calculations '!CZ60","v":0}]
[49,93,null,{"$f":"'Individual Calculations '!CP61","v":0},{"$f":"'Individual Calculations '!CQ61","v":0},0,null,{"$f":"'Individual Calculations '!CT61","v":0},0,0,null,{"$f":"'Individual Calculations '!CX61","v":0},{"$f":"'Individual Calculations '!CY61","v":0},{"$f":"'Individual Calculations '!CZ61","v":0}]
[50,94,null,{"$f":"'Individual Calculations '!CP62","v":0},{"$f":"'Individual Calculations '!CQ62","v":0},0,null,{"$f":"'Individual Calculations '!CT62","v":0},0,0,null,{"$f":"'Individual Calculations '!CX62","v":0},{"$f":"'Individual Calculations '!CY62","v":0},{"$f":"'Individual Calculations '!CZ62","v":0}]
[51,95,null,{"$f":"'Individual Calculations '!CP63","v":0},{"$f":"'Individual Calculations '!CQ63","v":0},0,null,{"$f":"'Individual Calculations '!CT63","v":0},0,0,null,{"$f":"'Individual Calculations '!CX63","v":0},{"$f":"'Individual Calculations '!CY63","v":0},{"$f":"'Individual Calculations '!CZ63","v":0}]
[52,96,null,{"$f":"'Individual Calculations '!CP64","v":0},{"$f":"'Individual Calculations '!CQ64","v":0},0,null,{"$f":"'Individual Calculations '!CT64","v":0},0,0,null,{"$f":"'Individual Calculations '!CX64","v":0},{"$f":"'Individual Calculations '!CY64","v":0},{"$f":"'Individual Calculations '!CZ64","v":0}]
[53,97,null,{"$f":"'Individual Calculations '!CP65","v":0},{"$f":"'Individual Calculations '!CQ65","v":0},0,null,{"$f":"'Individual Calculations '!CT65","v":0},0,0,null,{"$f":"'Individual Calculations '!CX65","v":0},{"$f":"'Individual Calculations '!CY65","v":0},{"$f":"'Individual Calculations '!CZ65","v":0}]
[54,98,null,{"$f":"'Individual Calculations '!CP66","v":0},{"$f":"'Individual Calculations '!CQ66","v":0},0,null,{"$f":"'Individual Calculations '!CT66","v":0},0,0,null,{"$f":"'Individual Calculations '!CX66","v":0},{"$f":"'Individual Calculations '!CY66","v":0},{"$f":"'Individual Calculations '!CZ66","v":0}]
[55,99,null,{"$f":"'Individual Calculations '!CP67","v":0},{"$f":"'Individual Calculations '!CQ67","v":0},0,null,{"$f":"'Individual Calculations '!CT67","v":0},0,0,null,{"$f":"'Individual Calculations '!CX67","v":0},{"$f":"'Individual Calculations '!CY67","v":0},{"$f":"'Individual Calculations '!CZ67","v":0}]
[56,100,null,{"$f":"'Individual Calculations '!CP68","v":0},{"$f":"'Individual Calculations '!CQ68","v":0},0,null,{"$f":"'Individual Calculations '!CT68","v":0},0,0,null,{"$f":"'Individual Calculations '!CX68","v":0},{"$f":"'Individual Calculations '!CY68","v":0},{"$f":"'Individual Calculations '!CZ68","v":0}]
[57,101,null,{"$f":"'Individual Calculations '!CP69","v":0},{"$f":"'Individual Calculations '!CQ69","v":0},0,null,{"$f":"'Individual Calculations '!CT69","v":0},0,0,null,{"$f":"'Individual Calculations '!CX69","v":0},{"$f":"'Individual Calculations '!CY69","v":0},{"$f":"'Individual Calculations '!CZ69","v":0}]
[58,102,null,{"$f":"'Individual Calculations '!CP70","v":0},{"$f":"'Individual Calculations '!CQ70","v":0},0,null,{"$f":"'Individual Calculations '!CT70","v":0},0,0,null,{"$f":"'Individual Calculations '!CX70","v":0},{"$f":"'Individual Calculations '!CY70","v":0},{"$f":"'Individual Calculations '!CZ70","v":0}]
[59,103,null,{"$f":"'Individual Calculations '!CP71","v":0},{"$f":"'Individual Calculations '!CQ71","v":0},0,null,{"$f":"'Individual Calculations '!CT71","v":0},0,0,null,{"$f":"'Individual Calculations '!CX71","v":0},{"$f":"'Individual Calculations '!CY71","v":0},{"$f":"'Individual Calculations '!CZ71","v":0}]
[60,104,null,{"$f":"'Individual Calculations '!CP72","v":0},{"$f":"'Individual Calculations '!CQ72","v":0},0,null,{"$f":"'Individual Calculations '!CT72","v":0},0,0,null,{"$f":"'Individual Calculations '!CX72","v":0},{"$f":"'Individual Calculations '!CY72","v":0},{"$f":"'Individual Calculations '!CZ72","v":0}]
[61,105,null,{"$f":"'Individual Calculations '!CP73","v":0},{"$f":"'Individual Calculations '!CQ73","v":0},0,null,{"$f":"'Individual Calculations '!CT73","v":0},0,0,null,{"$f":"'Individual Calculations '!CX73","v":0},{"$f":"'Individual Calculations '!CY73","v":0},{"$f":"'Individual Calculations '!CZ73","v":0}]
[62,106,null,{"$f":"'Individual Calculations '!CP74","v":0},{"$f":"'Individual Calculations '!CQ74","v":0},0,null,{"$f":"'Individual Calculations '!CT74","v":0},0,0,null,{"$f":"'Individual Calculations '!CX74","v":0},{"$f":"'Individual Calculations '!CY74","v":0},{"$f":"'Individual Calculations '!CZ74","v":0}]
[63,107,null,{"$f":"'Individual Calculations '!CP75","v":0},{"$f":"'Individual Calculations '!CQ75","v":0},0,null,{"$f":"'Individual Calculations '!CT75","v":0},0,0,null,{"$f":"'Individual Calculations '!CX75","v":0},{"$f":"'Individual Calculations '!CY75","v":0},{"$f":"'Individual Calculations '!CZ75","v":0}]
[64,108,null,{"$f":"'Individual Calculations '!CP76","v":0},{"$f":"'Individual Calculations '!CQ76","v":0},0,null,{"$f":"'Individual Calculations '!CT76","v":0},0,0,null,{"$f":"'Individual Calculations '!CX76","v":0},{"$f":"'Individual Calculations '!CY76","v":0},{"$f":"'Individual Calculations '!CZ76","v":0}]
[65,109,null,{"$f":"'Individual Calculations '!CP77","v":0},{"$f":"'Individual Calculations '!CQ77","v":0},0,null,{"$f":"'Individual Calculations '!CT77","v":0},{"$f":"Corp_Tax_Rate","v":0},0,null,{"$f":"'Individual Calculations '!CX77","v":0},{"$f":"'Individual Calculations '!CY77","v":0},{"$f":"'Individual Calculations '!CZ77","v":0}]
[66,110,null,{"$f":"'Individual Calculations '!CP78","v":0},{"$f":"'Individual Calculations '!CQ78","v":0},{"$f":"D77+E77","v":0},null,{"$f":"'Individual Calculations '!CT78","v":0},0,{"$f":"H77*(1-I77)","v":0},null,{"$f":"'Individual Calculations '!CX78","v":0},{"$f":"'Individual Calculations '!CY78","v":0},{"$f":"'Individual Calculations '!CZ78","v":0}]
[{"$f":"A77+1","v":67},{"$f":"IF(A78=\"\",\"\",+B77+1)","v":111},null,{"$f":"'Individual Calculations '!CP79","v":0},{"$f":"'Individual Calculations '!CQ79","v":0},0,null,{"$f":"'Individual Calculations '!CT79","v":0},0,0,null,{"$f":"'Individual Calculations '!CX79","v":0},{"$f":"'Individual Calculations '!CY79","v":0},{"$f":"'Individual Calculations '!CZ79","v":0}]
[68,112,null,{"$f":"'Individual Calculations '!CP80","v":0},{"$f":"'Individual Calculations '!CQ80","v":0},0,null,{"$f":"'Individual Calculations '!CT80","v":0},0,0,null,{"$f":"'Individual Calculations '!CX80","v":0},{"$f":"'Individual Calculations '!CY80","v":0},{"$f":"'Individual Calculations '!CZ80","v":0}]
[69,113,null,{"$f":"'Individual Calculations '!CP81","v":0},{"$f":"'Individual Calculations '!CQ81","v":0},0,null,{"$f":"'Individual Calculations '!CT81","v":0},0,0,null,{"$f":"'Individual Calculations '!CX81","v":0},{"$f":"'Individual Calculations '!CY81","v":0},{"$f":"'Individual Calculations '!CZ81","v":0}]
[70,114,null,{"$f":"'Individual Calculations '!CP82","v":0},{"$f":"'Individual Calculations '!CQ82","v":0},0,null,{"$f":"'Individual Calculations '!CT82","v":0},0,0,null,{"$f":"'Individual Calculations '!CX82","v":0},{"$f":"'Individual Calculations '!CY82","v":0},{"$f":"'Individual Calculations '!CZ82","v":0}]
[71,115,null,{"$f":"'Individual Calculations '!CP83","v":0},{"$f":"'Individual Calculations '!CQ83","v":0},0,null,{"$f":"'Individual Calculations '!CT83","v":0},0,0,null,{"$f":"'Individual Calculations '!CX83","v":0},{"$f":"'Individual Calculations '!CY83","v":0},{"$f":"'Individual Calculations '!CZ83","v":0}]
[72,116,null,{"$f":"'Individual Calculations '!CP84","v":0},{"$f":"'Individual Calculations '!CQ84","v":0},0,null,{"$f":"'Individual Calculations '!CT84","v":0},0,0,null,{"$f":"'Individual Calculations '!CX84","v":0},{"$f":"'Individual Calculations '!CY84","v":0},{"$f":"'Individual Calculations '!CZ84","v":0}]
[73,117,null,{"$f":"'Individual Calculations '!CP85","v":0},{"$f":"'Individual Calculations '!CQ85","v":0},0,null,{"$f":"'Individual Calculations '!CT85","v":0},0,0,null,{"$f":"'Individual Calculations '!CX85","v":0},{"$f":"'Individual Calculations '!CY85","v":0},{"$f":"'Individual Calculations '!CZ85","v":0}]
[74,118,null,{"$f":"'Individual Calculations '!CP86","v":0},{"$f":"'Individual Calculations '!CQ86","v":0},0,null,{"$f":"'Individual Calculations '!CT86","v":0},0,0,null,{"$f":"'Individual Calculations '!CX86","v":0},{"$f":"'Individual Calculations '!CY86","v":0},{"$f":"'Individual Calculations '!CZ86","v":0}]
[75,119,null,{"$f":"'Individual Calculations '!CP87","v":0},{"$f":"'Individual Calculations '!CQ87","v":0},0,null,{"$f":"'Individual Calculations '!CT87","v":0},0,0,null,{"$f":"'Individual Calculations '!CX87","v":0},{"$f":"'Individual Calculations '!CY87","v":0},{"$f":"'Individual Calculations '!CZ87","v":0}]
[]
[null,null,null,{"$f":"SUBTOTAL(9,D12:D86)","v":0},0,{"$f":"SUBTOTAL(9,F12:F86)","v":0},null,null,null,null,null,{"$f":"SUBTOTAL(9,L12:L86)","v":0},{"$f":"SUBTOTAL(9,M12:M86)","v":0},{"$f":"SUBTOTAL(9,N12:N86)","v":0}]

{"sheet":"Current Plans (2)","index":13,"n_rows":84,"n_cols":27,"rows_kept":84,"cut":false,"hidden":true,"merged":[[4,3,4,23],[5,5,5,9],[5,11,5,16],[5,18,5,23],[5,25,5,26]]}
["Retirement Benefit using Current 403(b) Plan, 457(b) Plan, and After Tax Savings"]
[{"$f":"\"Plan Participant - \"&First_Name&\" \"&Last_Name&\" - Age \"&Age","v":"Plan Participant - John Smith - Age 45"}]
[]
[]
[null,null,null,"Combined Accounts"]
[null,null,null,"Compensation",null,"Contributions",null,null,null,null,null,"403(b) and 457(b) Plans",null,null,null,null,null,null,"After Tax Savings (Excluded Target Contributions)",null,null,null,null,null,null,"Retirement Income"]
["Year","Age",null,{"$f":"\"Projected\nBenefit\nComp\n\"&IF(CompDefinition=1,\"(Salary Only)\",\"(Salary+Bonus)\")","v":"Projected\nBenefit\nComp\n(Salary+Bonus)"},null,{"$f":"\"Exec's Target\nContribution\"&IF(TargetMethod1=1,\"\n(\"&TEXT(TargetContribPercent,\"0.0%\")&\")\",IF(TargetMethod2=1,\"\n(\"&TEXT(TargetContribDollarAmt,\"$0,000\")&\")\",\"\n(Max IRS Limit)\"))","v":"Exec's Target\nContribution\n(15.0%)"},null,"Exec's 403(b) & 457(b) Contributions","Employer Match\n403(b) Plan","Excluded\nContributions to After Tax Savings",null,"Annual\nContribution","Pretax\nRetirement\nDistribution","Individual\nTax Rate","After Tax\nRetirement\nDistribution",{"$f":"\"Investment\nEarnings\n@ \"&TEXT(AcctBalGrowth,\"0.00%\")","v":"Investment\nEarnings\n@ 6.00%"},"End of Yr\nAccount\nBalance",null,"Excluded\nContributions","Individual\nTax Rate","After Tax Savings","After Tax\nRetirement\nDistribution",{"$f":"\"Investment Earnings\n@ \"&TEXT(AcctBalGrowth,\"0.00%\")&\n\n\"\n(\"&TEXT(AcctBalGrowth*(1-EEBlendedTaxRate),\"0.00%\")&\n\"\nAfter Tax)\"","v":"Investment Earnings\n@ 6.00%\n(4.20%\nAfter Tax)"},"End of Yr\nAccount\nBalance",null,"After Tax\nRetirement\nDistribution","Pretax\nEquivalent"]
[1,{"$f":"Age","v":45},null,{"$f":"'Individual Calculations '!G13","v":0},null,{"$f":"IF(TargetMethod3=1,\"NA\",'Individual Calculations '!R13)","v":0},null,{"$f":"IF(TargetMethod3=1,'Individual Calculations '!I13+'Individual Calculations '!J13+'Individual Calculations '!O13,'Individual Calculations '!S13+'Individual Calculations '!T13+'Individual Calculations '!W13)","v":0},{"$f":"IF(TargetMethod3=1,'Individual Calculations '!K13,'Individual Calculations '!U13)","v":0},{"$f":"IF(TargetMethod3=1,0,'Individual Calculations '!Y13)","v":0},null,{"$f":"'Individual Calculations '!AA13+'Individual Calculations '!AH13+'Individual Calculations '!AP13","v":0},{"$f":"'Individual Calculations '!AB13+'Individual Calculations '!AI13+'Individual Calculations '!AQ13","v":0},{"$f":"'Individual Calculations '!AC13","v":0.4},{"$f":"'Individual Calculations '!AD13+'Individual Calculations '!AK13+'Individual Calculations '!AS13","v":0},{"$f":"'Individual Calculations '!AE13+'Individual Calculations '!AL13+'Individual Calculations '!AT13","v":0},{"$f":"'Individual Calculations '!AF13+'Individual Calculations '!AM13+'Individual Calculations '!AU13","v":0},null,{"$f":"'Individual Calculations '!AX13","v":0},{"$f":"'Individual Calculations '!AY13","v":0.4},{"$f":"'Individual Calculations '!AZ13","v":0},{"$f":"'Individual Calculations '!BA13","v":0},{"$f":"'Individual Calculations '!BB13","v":0},{"$f":"'Individual Calculations '!BC13","v":0},null,{"$f":"-(O8+V8)","v":0},{"$f":"Z8/(1-T8)","v":0}]
[{"$f":"A8+1","v":2},{"$f":"IF(A9=\"\",\"\",+B8+1)","v":46},null,{"$f":"'Individual Calculations '!G14","v":0},null,{"$f":"IF(TargetMethod3=1,\"NA\",'Individual Calculations '!R14)","v":0},null,{"$f":"IF(TargetMethod3=1,'Individual Calculations '!I14+'Individual Calculations '!J14+'Individual Calculations '!O14,'Individual Calculations '!S14+'Individual Calculations '!T14+'Individual Calculations '!W14)","v":0},{"$f":"IF(TargetMethod3=1,'Individual Calculations '!K14,'Individual Calculations '!U14)","v":0},{"$f":"IF(TargetMethod3=1,0,'Individual Calculations '!Y14)","v":0},null,{"$f":"'Individual Calculations '!AA14+'Individual Calculations '!AH14+'Individual Calculations '!AP14","v":0},{"$f":"'Individual Calculations '!AB14+'Individual Calculations '!AI14+'Individual Calculations '!AQ14","v":0},{"$f":"'Individual Calculations '!AC14","v":0.4},{"$f":"'Individual Calculations '!AD14+'Individual Calculations '!AK14+'Individual Calculations '!AS14","v":0},{"$f":"'Individual Calculations '!AE14+'Individual Calculations '!AL14+'Individual Calculations '!AT14","v":0},{"$f":"'Individual Calculations '!AF14+'Individual Calculations '!AM14+'Individual Calculations '!AU14","v":0},null,{"$f":"'Individual Calculations '!AX14","v":0},{"$f":"'Individual Calculations '!AY14","v":0.4},{"$f":"'Individual Calculations '!AZ14","v":0},{"$f":"'Individual Calculations '!BA14","v":0},{"$f":"'Individual Calculations '!BB14","v":0},{"$f":"'Individual Calculations '!BC14","v":0},null,{"$f":"-(O9+V9)","v":0},{"$f":"Z9/(1-T9)","v":0}]
[{"$f":"A9+1","v":3},{"$f":"IF(A10=\"\",\"\",+B9+1)","v":47},null,{"$f":"'Individual Calculations '!G15","v":0},null,{"$f":"IF(TargetMethod3=1,\"NA\",'Individual Calculations '!R15)","v":0},null,{"$f":"IF(TargetMethod3=1,'Individual Calculations '!I15+'Individual Calculations '!J15+'Individual Calculations '!O15,'Individual Calculations '!S15+'Individual Calculations '!T15+'Individual Calculations '!W15)","v":0},{"$f":"IF(TargetMethod3=1,'Individual Calculations '!K15,'Individual Calculations '!U15)","v":0},{"$f":"IF(TargetMethod3=1,0,'Individual Calculations '!Y15)","v":0},null,{"$f":"'Individual Calculations '!AA15+'Individual Calculations '!AH15+'Individual Calculations '!AP15","v":0},{"$f":"'Individual Calculations '!AB15+'Individual Calculations '!AI15+'Individual Calculations '!AQ15","v":0},{"$f":"'Individual Calculations '!AC15","v":0.4},{"$f":"'Individual Calculations '!AD15+'Individual Calculations '!AK15+'Individual Calculations '!AS15","v":0},{"$f":"'Individual Calculations '!AE15+'Individual Calculations '!AL15+'Individual Calculations '!AT15","v":0},{"$f":"'Individual Calculations '!AF15+'Individual Calculations '!AM15+'Individual Calculations '!AU15","v":0},null,{"$f":"'Individual Calculations '!AX15","v":0},{"$f":"'Individual Calculations '!AY15","v":0.4},{"$f":"'Individual Calculations '!AZ15","v":0},{"$f":"'Individual Calculations '!BA15","v":0},{"$f":"'Individual Calculations '!BB15","v":0},{"$f":"'Individual Calculations '!BC15","v":0},null,0,0]
[4,48,null,{"$f":"'Individual Calculations '!G16","v":0},null,{"$f":"IF(TargetMethod3=1,\"NA\",'Individual Calculations '!R16)","v":0},null,{"$f":"IF(TargetMethod3=1,'Individual Calculations '!I16+'Individual Calculations '!J16+'Individual Calculations '!O16,'Individual Calculations '!S16+'Individual Calculations '!T16+'Individual Calculations '!W16)","v":0},{"$f":"IF(TargetMethod3=1,'Individual Calculations '!K16,'Individual Calculations '!U16)","v":0},{"$f":"IF(TargetMethod3=1,0,'Individual Calculations '!Y16)","v":0},null,{"$f":"'Individual Calculations '!AA16+'Individual Calculations '!AH16+'Individual Calculations '!AP16","v":0},{"$f":"'Individual Calculations '!AB16+'Individual Calculations '!AI16+'Individual Calculations '!AQ16","v":0},{"$f":"'Individual Calculations '!AC16","v":0.4},{"$f":"'Individual Calculations '!AD16+'Individual Calculations '!AK16+'Individual Calculations '!AS16","v":0},{"$f":"'Individual Calculations '!AE16+'Individual Calculations '!AL16+'Individual Calculations '!AT16","v":0},{"$f":"'Individual Calculations '!AF16+'Individual Calculations '!AM16+'Individual Calculations '!AU16","v":0},null,{"$f":"'Individual Calculations '!AX16","v":0},{"$f":"'Individual Calculations '!AY16","v":0.4},{"$f":"'Individual Calculations '!AZ16","v":0},{"$f":"'Individual Calculations '!BA16","v":0},{"$f":"'Individual Calculations '!BB16","v":0},{"$f":"'Individual Calculations '!BC16","v":0},null,0,0]
[5,49,null,{"$f":"'Individual Calculations '!G17","v":0},null,{"$f":"IF(TargetMethod3=1,\"NA\",'Individual Calculations '!R17)","v":0},null,{"$f":"IF(TargetMethod3=1,'Individual Calculations '!I17+'Individual Calculations '!J17+'Individual Calculations '!O17,'Individual Calculations '!S17+'Individual Calculations '!T17+'Individual Calculations '!W17)","v":0},{"$f":"IF(TargetMethod3=1,'Individual Calculations '!K17,'Individual Calculations '!U17)","v":0},{"$f":"IF(TargetMethod3=1,0,'Individual Calculations '!Y17)","v":0},null,{"$f":"'Individual Calculations '!AA17+'Individual Calculations '!AH17+'Individual Calculations '!AP17","v":0},{"$f":"'Individual Calculations '!AB17+'Individual Calculations '!AI17+'Individual Calculations '!AQ17","v":0},{"$f":"'Individual Calculations '!AC17","v":0.4},{"$f":"'Individual Calculations '!AD17+'Individual Calculations '!AK17+'Individual Calculations '!AS17","v":0},{"$f":"'Individual Calculations '!AE17+'Individual Calculations '!AL17+'Individual Calculations '!AT17","v":0},{"$f":"'Individual Calculations '!AF17+'Individual Calculations '!AM17+'Individual Calculations '!AU17","v":0},null,{"$f":"'Individual Calculations '!AX17","v":0},{"$f":"'Individual Calculations '!AY17","v":0.4},{"$f":"'Individual Calculations '!AZ17","v":0},{"$f":"'Individual Calculations '!BA17","v":0},{"$f":"'Individual Calculations '!BB17","v":0},{"$f":"'Individual Calculations '!BC17","v":0},null,0,0]
[6,50,null,{"$f":"'Individual Calculations '!G18","v":0},null,{"$f":"IF(TargetMethod3=1,\"NA\",'Individual Calculations '!R18)","v":0},null,{"$f":"IF(TargetMethod3=1,'Individual Calculations '!I18+'Individual Calculations '!J18+'Individual Calculations '!O18,'Individual Calculations '!S18+'Individual Calculations '!T18+'Individual Calculations '!W18)","v":0},{"$f":"IF(TargetMethod3=1,'Individual Calculations '!K18,'Individual Calculations '!U18)","v":0},{"$f":"IF(TargetMethod3=1,0,'Individual Calculations '!Y18)","v":0},null,{"$f":"'Individual Calculations '!AA18+'Individual Calculations '!AH18+'Individual Calculations '!AP18","v":0},{"$f":"'Individual Calculations '!AB18+'Individual Calculations '!AI18+'Individual Calculations '!AQ18","v":0},{"$f":"'Individual Calculations '!AC18","v":0.4},{"$f":"'Individual Calculations '!AD18+'Individual Calculations '!AK18+'Individual Calculations '!AS18","v":0},{"$f":"'Individual Calculations '!AE18+'Individual Calculations '!AL18+'Individual Calculations '!AT18","v":0},{"$f":"'Individual Calculations '!AF18+'Individual Calculations '!AM18+'Individual Calculations '!AU18","v":0},null,{"$f":"'Individual Calculations '!AX18","v":0},{"$f":"'Individual Calculations '!AY18","v":0.4},{"$f":"'Individual Calculations '!AZ18","v":0},{"$f":"'Individual Calculations '!BA18","v":0},{"$f":"'Individual Calculations '!BB18","v":0},{"$f":"'Individual Calculations '!BC18","v":0},null,0,0]
[7,51,null,{"$f":"'Individual Calculations '!G19","v":0},null,{"$f":"IF(TargetMethod3=1,\"NA\",'Individual Calculations '!R19)","v":0},null,{"$f":"IF(TargetMethod3=1,'Individual Calculations '!I19+'Individual Calculations '!J19+'Individual Calculations '!O19,'Individual Calculations '!S19+'Individual Calculations '!T19+'Individual Calculations '!W19)","v":0},{"$f":"IF(TargetMethod3=1,'Individual Calculations '!K19,'Individual Calculations '!U19)","v":0},{"$f":"IF(TargetMethod3=1,0,'Individual Calculations '!Y19)","v":0},null,{"$f":"'Individual Calculations '!AA19+'Individual Calculations '!AH19+'Individual Calculations '!AP19","v":0},{"$f":"'Individual Calculations '!AB19+'Individual Calculations '!AI19+'Individual Calculations '!AQ19","v":0},{"$f":"'Individual Calculations '!AC19","v":0.4},{"$f":"'Individual Calculations '!AD19+'Individual Calculations '!AK19+'Individual Calculations '!AS19","v":0},{"$f":"'Individual Calculations '!AE19+'Individual Calculations '!AL19+'Individual Calculations '!AT19","v":0},{"$f":"'Individual Calculations '!AF19+'Individual Calculations '!AM19+'Individual Calculations '!AU19","v":0},null,{"$f":"'Individual Calculations '!AX19","v":0},{"$f":"'Individual Calculations '!AY19","v":0.4},{"$f":"'Individual Calculations '!AZ19","v":0},{"$f":"'Individual Calculations '!BA19","v":0},{"$f":"'Individual Calculations '!BB19","v":0},{"$f":"'Individual Calculations '!BC19","v":0},null,0,0]
[8,52,null,{"$f":"'Individual Calculations '!G20","v":0},null,{"$f":"IF(TargetMethod3=1,\"NA\",'Individual Calculations '!R20)","v":0},null,{"$f":"IF(TargetMethod3=1,'Individual Calculations '!I20+'Individual Calculations '!J20+'Individual Calculations '!O20,'Individual Calculations '!S20+'Individual Calculations '!T20+'Individual Calculations '!W20)","v":0},{"$f":"IF(TargetMethod3=1,'Individual Calculations '!K20,'Individual Calculations '!U20)","v":0},{"$f":"IF(TargetMethod3=1,0,'Individual Calculations '!Y20)","v":0},null,{"$f":"'Individual Calculations '!AA20+'Individual Calculations '!AH20+'Individual Calculations '!AP20","v":0},{"$f":"'Individual Calculations '!AB20+'Individual Calculations '!AI20+'Individual Calculations '!AQ20","v":0},{"$f":"'Individual Calculations '!AC20","v":0.4},{"$f":"'Individual Calculations '!AD20+'Individual Calculations '!AK20+'Individual Calculations '!AS20","v":0},{"$f":"'Individual Calculations '!AE20+'Individual Calculations '!AL20+'Individual Calculations '!AT20","v":0},{"$f":"'Individual Calculations '!AF20+'Individual Calculations '!AM20+'Individual Calculations '!AU20","v":0},null,{"$f":"'Individual Calculations '!AX20","v":0},{"$f":"'Individual Calculations '!AY20","v":0.4},{"$f":"'Individual Calculations '!AZ20","v":0},{"$f":"'Individual Calculations '!BA20","v":0},{"$f":"'Individual Calculations '!BB20","v":0},{"$f":"'Individual Calculations '!BC20","v":0},null,0,0]
[9,53,null,{"$f":"'Individual Calculations '!G21","v":0},null,{"$f":"IF(TargetMethod3=1,\"NA\",'Individual Calculations '!R21)","v":0},null,{"$f":"IF(TargetMethod3=1,'Individual Calculations '!I21+'Individual Calculations '!J21+'Individual Calculations '!O21,'Individual Calculations '!S21+'Individual Calculations '!T21+'Individual Calculations '!W21)","v":0},{"$f":"IF(TargetMethod3=1,'Individual Calculations '!K21,'Individual Calculations '!U21)","v":0},{"$f":"IF(TargetMethod3=1,0,'Individual Calculations '!Y21)","v":0},null,{"$f":"'Individual Calculations '!AA21+'Individual Calculations '!AH21+'Individual Calculations '!AP21","v":0},{"$f":"'Individual Calculations '!AB21+'Individual Calculations '!AI21+'Individual Calculations '!AQ21","v":0},{"$f":"'Individual Calculations '!AC21","v":0.4},{"$f":"'Individual Calculations '!AD21+'Individual Calculations '!AK21+'Individual Calculations '!AS21","v":0},{"$f":"'Individual Calculations '!AE21+'Individual Calculations '!AL21+'Individual Calculations '!AT21","v":0},{"$f":"'Individual Calculations '!AF21+'Individual Calculations '!AM21+'Individual Calculations '!AU21","v":0},null,{"$f":"'Individual Calculations '!AX21","v":0},{"$f":"'Individual Calculations '!AY21","v":0.4},{"$f":"'Individual Calculations '!AZ21","v":0},{"$f":"'Individual Calculations '!BA21","v":0},{"$f":"'Individual Calculations '!BB21","v":0},{"$f":"'Individual Calculations '!BC21","v":0},null,0,0]
[10,54,null,{"$f":"'Individual Calculations '!G22","v":0},null,{"$f":"IF(TargetMethod3=1,\"NA\",'Individual Calculations '!R22)","v":0},null,{"$f":"IF(TargetMethod3=1,'Individual Calculations '!I22+'Individual Calculations '!J22+'Individual Calculations '!O22,'Individual Calculations '!S22+'Individual Calculations '!T22+'Individual Calculations '!W22)","v":0},{"$f":"IF(TargetMethod3=1,'Individual Calculations '!K22,'Individual Calculations '!U22)","v":0},{"$f":"IF(TargetMethod3=1,0,'Individual Calculations '!Y22)","v":0},null,{"$f":"'Individual Calculations '!AA22+'Individual Calculations '!AH22+'Individual Calculations '!AP22","v":0},{"$f":"'Individual Calculations '!AB22+'Individual Calculations '!AI22+'Individual Calculations '!AQ22","v":0},{"$f":"'Individual Calculations '!AC22","v":0.4},{"$f":"'Individual Calculations '!AD22+'Individual Calculations '!AK22+'Individual Calculations '!AS22","v":0},{"$f":"'Individual Calculations '!AE22+'Individual Calculations '!AL22+'Individual Calculations '!AT22","v":0},{"$f":"'Individual Calculations '!AF22+'Individual Calculations '!AM22+'Individual Calculations '!AU22","v":0},null,{"$f":"'Individual Calculations '!AX22","v":0},{"$f":"'Individual Calculations '!AY22","v":0.4},{"$f":"'Individual Calculations '!AZ22","v":0},{"$f":"'Individual Calculations '!BA22","v":0},{"$f":"'Individual Calculations '!BB22","v":0},{"$f":"'Individual Calculations '!BC22","v":0},null,0,0]
[11,55,null,{"$f":"'Individual Calculations '!G23","v":0},null,{"$f":"IF(TargetMethod3=1,\"NA\",'Individual Calculations '!R23)","v":0},null,{"$f":"IF(TargetMethod3=1,'Individual Calculations '!I23+'Individual Calculations '!J23+'Individual Calculations '!O23,'Individual Calculations '!S23+'Individual Calculations '!T23+'Individual Calculations '!W23)","v":0},{"$f":"IF(TargetMethod3=1,'Individual Calculations '!K23,'Individual Calculations '!U23)","v":0},{"$f":"IF(TargetMethod3=1,0,'Individual Calculations '!Y23)","v":0},null,{"$f":"'Individual Calculations '!AA23+'Individual Calculations '!AH23+'Individual Calculations '!AP23","v":0},{"$f":"'Individual Calculations '!AB23+'Individual Calculations '!AI23+'Individual Calculations '!AQ23","v":0},{"$f":"'Individual Calculations '!AC23","v":0.4},{"$f":"'Individual Calculations '!AD23+'Individual Calculations '!AK23+'Individual Calculations '!AS23","v":0},{"$f":"'Individual Calculations '!AE23+'Individual Calculations '!AL23+'Individual Calculations '!AT23","v":0},{"$f":"'Individual Calculations '!AF23+'Individual Calculations '!AM23+'Individual Calculations '!AU23","v":0},null,{"$f":"'Individual Calculations '!AX23","v":0},{"$f":"'Individual Calculations '!AY23","v":0.4},{"$f":"'Individual Calculations '!AZ23","v":0},{"$f":"'Individual Calculations '!BA23","v":0},{"$f":"'Individual Calculations '!BB23","v":0},{"$f":"'Individual Calculations '!BC23","v":0},null,0,0]
[12,56,null,{"$f":"'Individual Calculations '!G24","v":0},null,{"$f":"IF(TargetMethod3=1,\"NA\",'Individual Calculations '!R24)","v":0},null,{"$f":"IF(TargetMethod3=1,'Individual Calculations '!I24+'Individual Calculations '!J24+'Individual Calculations '!O24,'Individual Calculations '!S24+'Individual Calculations '!T24+'Individual Calculations '!W24)","v":0},{"$f":"IF(TargetMethod3=1,'Individual Calculations '!K24,'Individual Calculations '!U24)","v":0},{"$f":"IF(TargetMethod3=1,0,'Individual Calculations '!Y24)","v":0},null,{"$f":"'Individual Calculations '!AA24+'Individual Calculations '!AH24+'Individual Calculations '!AP24","v":0},{"$f":"'Individual Calculations '!AB24+'Individual Calculations '!AI24+'Individual Calculations '!AQ24","v":0},{"$f":"'Individual Calculations '!AC24","v":0.4},{"$f":"'Individual Calculations '!AD24+'Individual Calculations '!AK24+'Individual Calculations '!AS24","v":0},{"$f":"'Individual Calculations '!AE24+'Individual Calculations '!AL24+'Individual Calculations '!AT24","v":0},{"$f":"'Individual Calculations '!AF24+'Individual Calculations '!AM24+'Individual Calculations '!AU24","v":0},null,{"$f":"'Individual Calculations '!AX24","v":0},{"$f":"'Individual Calculations '!AY24","v":0.4},{"$f":"'Individual Calculations '!AZ24","v":0},{"$f":"'Individual Calculations '!BA24","v":0},{"$f":"'Individual Calculations '!BB24","v":0},{"$f":"'Individual Calculations '!BC24","v":0},null,0,0]
[13,57,null,{"$f":"'Individual Calculations '!G25","v":0},null,{"$f":"IF(TargetMethod3=1,\"NA\",'Individual Calculations '!R25)","v":0},null,{"$f":"IF(TargetMethod3=1,'Individual Calculations '!I25+'Individual Calculations '!J25+'Individual Calculations '!O25,'Individual Calculations '!S25+'Individual Calculations '!T25+'Individual Calculations '!W25)","v":0},{"$f":"IF(TargetMethod3=1,'Individual Calculations '!K25,'Individual Calculations '!U25)","v":0},{"$f":"IF(TargetMethod3=1,0,'Individual Calculations '!Y25)","v":0},null,{"$f":"'Individual Calculations '!AA25+'Individual Calculations '!AH25+'Individual Calculations '!AP25","v":0},{"$f":"'Individual Calculations '!AB25+'Individual Calculations '!AI25+'Individual Calculations '!AQ25","v":0},{"$f":"'Individual Calculations '!AC25","v":0.4},{"$f":"'Individual Calculations '!AD25+'Individual Calculations '!AK25+'Individual Calculations '!AS25","v":0},{"$f":"'Individual Calculations '!AE25+'Individual Calculations '!AL25+'Individual Calculations '!AT25","v":0},{"$f":"'Individual Calculations '!AF25+'Individual Calculations '!AM25+'Individual Calculations '!AU25","v":0},null,{"$f":"'Individual Calculations '!AX25","v":0},{"$f":"'Individual Calculations '!AY25","v":0.4},{"$f":"'Individual Calculations '!AZ25","v":0},{"$f":"'Individual Calculations '!BA25","v":0},{"$f":"'Individual Calculations '!BB25","v":0},{"$f":"'Individual Calculations '!BC25","v":0},null,0,0]
[14,58,null,{"$f":"'Individual Calculations '!G26","v":0},null,{"$f":"IF(TargetMethod3=1,\"NA\",'Individual Calculations '!R26)","v":0},null,{"$f":"IF(TargetMethod3=1,'Individual Calculations '!I26+'Individual Calculations '!J26+'Individual Calculations '!O26,'Individual Calculations '!S26+'Individual Calculations '!T26+'Individual Calculations '!W26)","v":0},{"$f":"IF(TargetMethod3=1,'Individual Calculations '!K26,'Individual Calculations '!U26)","v":0},{"$f":"IF(TargetMethod3=1,0,'Individual Calculations '!Y26)","v":0},null,{"$f":"'Individual Calculations '!AA26+'Individual Calculations '!AH26+'Individual Calculations '!AP26","v":0},{"$f":"'Individual Calculations '!AB26+'Individual Calculations '!AI26+'Individual Calculations '!AQ26","v":0},{"$f":"'Individual Calculations '!AC26","v":0.4},{"$f":"'Individual Calculations '!AD26+'Individual Calculations '!AK26+'Individual Calculations '!AS26","v":0},{"$f":"'Individual Calculations '!AE26+'Individual Calculations '!AL26+'Individual Calculations '!AT26","v":0},{"$f":"'Individual Calculations '!AF26+'Individual Calculations '!AM26+'Individual Calculations '!AU26","v":0},null,{"$f":"'Individual Calculations '!AX26","v":0},{"$f":"'Individual Calculations '!AY26","v":0.4},{"$f":"'Individual Calculations '!AZ26","v":0},{"$f":"'Individual Calculations '!BA26","v":0},{"$f":"'Individual Calculations '!BB26","v":0},{"$f":"'Individual Calculations '!BC26","v":0},null,0,0]
[15,59,null,{"$f":"'Individual Calculations '!G27","v":0},null,{"$f":"IF(TargetMethod3=1,\"NA\",'Individual Calculations '!R27)","v":0},null,{"$f":"IF(TargetMethod3=1,'Individual Calculations '!I27+'Individual Calculations '!J27+'Individual Calculations '!O27,'Individual Calculations '!S27+'Individual Calculations '!T27+'Individual Calculations '!W27)","v":0},{"$f":"IF(TargetMethod3=1,'Individual Calculations '!K27,'Individual Calculations '!U27)","v":0},{"$f":"IF(TargetMethod3=1,0,'Individual Calculations '!Y27)","v":0},null,{"$f":"'Individual Calculations '!AA27+'Individual Calculations '!AH27+'Individual Calculations '!AP27","v":0},{"$f":"'Individual Calculations '!AB27+'Individual Calculations '!AI27+'Individual Calculations '!AQ27","v":0},{"$f":"'Individual Calculations '!AC27","v":0.4},{"$f":"'Individual Calculations '!AD27+'Individual Calculations '!AK27+'Individual Calculations '!AS27","v":0},{"$f":"'Individual Calculations '!AE27+'Individual Calculations '!AL27+'Individual Calculations '!AT27","v":0},{"$f":"'Individual Calculations '!AF27+'Individual Calculations '!AM27+'Individual Calculations '!AU27","v":0},null,{"$f":"'Individual Calculations '!AX27","v":0},{"$f":"'Individual Calculations '!AY27","v":0.4},{"$f":"'Individual Calculations '!AZ27","v":0},{"$f":"'Individual Calculations '!BA27","v":0},{"$f":"'Individual Calculations '!BB27","v":0},{"$f":"'Individual Calculations '!BC27","v":0},null,0,0]
[16,60,null,{"$f":"'Individual Calculations '!G28","v":0},null,{"$f":"IF(TargetMethod3=1,\"NA\",'Individual Calculations '!R28)","v":0},null,{"$f":"IF(TargetMethod3=1,'Individual Calculations '!I28+'Individual Calculations '!J28+'Individual Calculations '!O28,'Individual Calculations '!S28+'Individual Calculations '!T28+'Individual Calculations '!W28)","v":0},{"$f":"IF(TargetMethod3=1,'Individual Calculations '!K28,'Individual Calculations '!U28)","v":0},{"$f":"IF(TargetMethod3=1,0,'Individual Calculations '!Y28)","v":0},null,{"$f":"'Individual Calculations '!AA28+'Individual Calculations '!AH28+'Individual Calculations '!AP28","v":0},{"$f":"'Individual Calculations '!AB28+'Individual Calculations '!AI28+'Individual Calculations '!AQ28","v":0},{"$f":"'Individual Calculations '!AC28","v":0.4},{"$f":"'Individual Calculations '!AD28+'Individual Calculations '!AK28+'Individual Calculations '!AS28","v":0},{"$f":"'Individual Calculations '!AE28+'Individual Calculations '!AL28+'Individual Calculations '!AT28","v":0},{"$f":"'Individual Calculations '!AF28+'Individual Calculations '!AM28+'Individual Calculations '!AU28","v":0},null,{"$f":"'Individual Calculations '!AX28","v":0},{"$f":"'Individual Calculations '!AY28","v":0.4},{"$f":"'Individual Calculations '!AZ28","v":0},{"$f":"'Individual Calculations '!BA28","v":0},{"$f":"'Individual Calculations '!BB28","v":0},{"$f":"'Individual Calculations '!BC28","v":0},null,0,0]
[17,61,null,{"$f":"'Individual Calculations '!G29","v":0},null,{"$f":"IF(TargetMethod3=1,\"NA\",'Individual Calculations '!R29)","v":0},null,{"$f":"IF(TargetMethod3=1,'Individual Calculations '!I29+'Individual Calculations '!J29+'Individual Calculations '!O29,'Individual Calculations '!S29+'Individual Calculations '!T29+'Individual Calculations '!W29)","v":0},{"$f":"IF(TargetMethod3=1,'Individual Calculations '!K29,'Individual Calculations '!U29)","v":0},{"$f":"IF(TargetMethod3=1,0,'Individual Calculations '!Y29)","v":0},null,{"$f":"'Individual Calculations '!AA29+'Individual Calculations '!AH29+'Individual Calculations '!AP29","v":0},{"$f":"'Individual Calculations '!AB29+'Individual Calculations '!AI29+'Individual Calculations '!AQ29","v":0},{"$f":"'Individual Calculations '!AC29","v":0.4},{"$f":"'Individual Calculations '!AD29+'Individual Calculations '!AK29+'Individual Calculations '!AS29","v":0},{"$f":"'Individual Calculations '!AE29+'Individual Calculations '!AL29+'Individual Calculations '!AT29","v":0},{"$f":"'Individual Calculations '!AF29+'Individual Calculations '!AM29+'Individual Calculations '!AU29","v":0},null,{"$f":"'Individual Calculations '!AX29","v":0},{"$f":"'Individual Calculations '!AY29","v":0.4},{"$f":"'Individual Calculations '!AZ29","v":0},{"$f":"'Individual Calculations '!BA29","v":0},{"$f":"'Individual Calculations '!BB29","v":0},{"$f":"'Individual Calculations '!BC29","v":0},null,0,0]
[18,62,null,{"$f":"'Individual Calculations '!G30","v":0},null,{"$f":"IF(TargetMethod3=1,\"NA\",'Individual Calculations '!R30)","v":0},null,{"$f":"IF(TargetMethod3=1,'Individual Calculations '!I30+'Individual Calculations '!J30+'Individual Calculations '!O30,'Individual Calculations '!S30+'Individual Calculations '!T30+'Individual Calculations '!W30)","v":0},{"$f":"IF(TargetMethod3=1,'Individual Calculations '!K30,'Individual Calculations '!U30)","v":0},{"$f":"IF(TargetMethod3=1,0,'Individual Calculations '!Y30)","v":0},null,{"$f":"'Individual Calculations '!AA30+'Individual Calculations '!AH30+'Individual Calculations '!AP30","v":0},{"$f":"'Individual Calculations '!AB30+'Individual Calculations '!AI30+'Individual Calculations '!AQ30","v":0},{"$f":"'Individual Calculations '!AC30","v":0.4},{"$f":"'Individual Calculations '!AD30+'Individual Calculations '!AK30+'Individual Calculations '!AS30","v":0},{"$f":"'Individual Calculations '!AE30+'Individual Calculations '!AL30+'Individual Calculations '!AT30","v":0},{"$f":"'Individual Calculations '!AF30+'Individual Calculations '!AM30+'Individual Calculations '!AU30","v":0},null,{"$f":"'Individual Calculations '!AX30","v":0},{"$f":"'Individual Calculations '!AY30","v":0.4},{"$f":"'Individual Calculations '!AZ30","v":0},{"$f":"'Individual Calculations '!BA30","v":0},{"$f":"'Individual Calculations '!BB30","v":0},{"$f":"'Individual Calculations '!BC30","v":0},null,0,0]
[19,63,null,{"$f":"'Individual Calculations '!G31","v":0},null,{"$f":"IF(TargetMethod3=1,\"NA\",'Individual Calculations '!R31)","v":0},null,{"$f":"IF(TargetMethod3=1,'Individual Calculations '!I31+'Individual Calculations '!J31+'Individual Calculations '!O31,'Individual Calculations '!S31+'Individual Calculations '!T31+'Individual Calculations '!W31)","v":0},{"$f":"IF(TargetMethod3=1,'Individual Calculations '!K31,'Individual Calculations '!U31)","v":0},{"$f":"IF(TargetMethod3=1,0,'Individual Calculations '!Y31)","v":0},null,{"$f":"'Individual Calculations '!AA31+'Individual Calculations '!AH31+'Individual Calculations '!AP31","v":0},{"$f":"'Individual Calculations '!AB31+'Individual Calculations '!AI31+'Individual Calculations '!AQ31","v":0},{"$f":"'Individual Calculations '!AC31","v":0.4},{"$f":"'Individual Calculations '!AD31+'Individual Calculations '!AK31+'Individual Calculations '!AS31","v":0},{"$f":"'Individual Calculations '!AE31+'Individual Calculations '!AL31+'Individual Calculations '!AT31","v":0},{"$f":"'Individual Calculations '!AF31+'Individual Calculations '!AM31+'Individual Calculations '!AU31","v":0},null,{"$f":"'Individual Calculations '!AX31","v":0},{"$f":"'Individual Calculations '!AY31","v":0.4},{"$f":"'Individual Calculations '!AZ31","v":0},{"$f":"'Individual Calculations '!BA31","v":0},{"$f":"'Individual Calculations '!BB31","v":0},{"$f":"'Individual Calculations '!BC31","v":0},null,0,0]
[20,64,null,{"$f":"'Individual Calculations '!G32","v":0},null,{"$f":"IF(TargetMethod3=1,\"NA\",'Individual Calculations '!R32)","v":0},null,{"$f":"IF(TargetMethod3=1,'Individual Calculations '!I32+'Individual Calculations '!J32+'Individual Calculations '!O32,'Individual Calculations '!S32+'Individual Calculations '!T32+'Individual Calculations '!W32)","v":0},{"$f":"IF(TargetMethod3=1,'Individual Calculations '!K32,'Individual Calculations '!U32)","v":0},{"$f":"IF(TargetMethod3=1,0,'Individual Calculations '!Y32)","v":0},null,{"$f":"'Individual Calculations '!AA32+'Individual Calculations '!AH32+'Individual Calculations '!AP32","v":0},{"$f":"'Individual Calculations '!AB32+'Individual Calculations '!AI32+'Individual Calculations '!AQ32","v":0},{"$f":"'Individual Calculations '!AC32","v":0.4},{"$f":"'Individual Calculations '!AD32+'Individual Calculations '!AK32+'Individual Calculations '!AS32","v":0},{"$f":"'Individual Calculations '!AE32+'Individual Calculations '!AL32+'Individual Calculations '!AT32","v":0},{"$f":"'Individual Calculations '!AF32+'Individual Calculations '!AM32+'Individual Calculations '!AU32","v":0},null,{"$f":"'Individual Calculations '!AX32","v":0},{"$f":"'Individual Calculations '!AY32","v":0.4},{"$f":"'Individual Calculations '!AZ32","v":0},{"$f":"'Individual Calculations '!BA32","v":0},{"$f":"'Individual Calculations '!BB32","v":0},{"$f":"'Individual Calculations '!BC32","v":0},null,0,0]
[21,65,null,{"$f":"'Individual Calculations '!G33","v":0},null,{"$f":"IF(TargetMethod3=1,\"NA\",'Individual Calculations '!R33)","v":0},null,{"$f":"IF(TargetMethod3=1,'Individual Calculations '!I33+'Individual Calculations '!J33+'Individual Calculations '!O33,'Individual Calculations '!S33+'Individual Calculations '!T33+'Individual Calculations '!W33)","v":0},{"$f":"IF(TargetMethod3=1,'Individual Calculations '!K33,'Individual Calculations '!U33)","v":0},{"$f":"IF(TargetMethod3=1,0,'Individual Calculations '!Y33)","v":0},null,{"$f":"'Individual Calculations '!AA33+'Individual Calculations '!AH33+'Individual Calculations '!AP33","v":0},{"$f":"'Individual Calculations '!AB33+'Individual Calculations '!AI33+'Individual Calculations '!AQ33","v":0},{"$f":"'Individual Calculations '!AC33","v":0.4},{"$f":"'Individual Calculations '!AD33+'Individual Calculations '!AK33+'Individual Calculations '!AS33","v":0},{"$f":"'Individual Calculations '!AE33+'Individual Calculations '!AL33+'Individual Calculations '!AT33","v":0},{"$f":"'Individual Calculations '!AF33+'Individual Calculations '!AM33+'Individual Calculations '!AU33","v":0},null,{"$f":"'Individual Calculations '!AX33","v":0},{"$f":"'Individual Calculations '!AY33","v":0.4},{"$f":"'Individual Calculations '!AZ33","v":0},{"$f":"'Individual Calculations '!BA33","v":0},{"$f":"'Individual Calculations '!BB33","v":0},{"$f":"'Individual Calculations '!BC33","v":0},null,0,0]
[22,66,null,{"$f":"'Individual Calculations '!G34","v":0},null,{"$f":"IF(TargetMethod3=1,\"NA\",'Individual Calculations '!R34)","v":0},null,{"$f":"IF(TargetMethod3=1,'Individual Calculations '!I34+'Individual Calculations '!J34+'Individual Calculations '!O34,'Individual Calculations '!S34+'Individual Calculations '!T34+'Individual Calculations '!W34)","v":0},{"$f":"IF(TargetMethod3=1,'Individual Calculations '!K34,'Individual Calculations '!U34)","v":0},{"$f":"IF(TargetMethod3=1,0,'Individual Calculations '!Y34)","v":0},null,{"$f":"'Individual Calculations '!AA34+'Individual Calculations '!AH34+'Individual Calculations '!AP34","v":0},{"$f":"'Individual Calculations '!AB34+'Individual Calculations '!AI34+'Individual Calculations '!AQ34","v":0},{"$f":"'Individual Calculations '!AC34","v":0.4},{"$f":"'Individual Calculations '!AD34+'Individual Calculations '!AK34+'Individual Calculations '!AS34","v":0},{"$f":"'Individual Calculations '!AE34+'Individual Calculations '!AL34+'Individual Calculations '!AT34","v":0},{"$f":"'Individual Calculations '!AF34+'Individual Calculations '!AM34+'Individual Calculations '!AU34","v":0},null,{"$f":"'Individual Calculations '!AX34","v":0},{"$f":"'Individual Calculations '!AY34","v":0.4},{"$f":"'Individual Calculations '!AZ34","v":0},{"$f":"'Individual Calculations '!BA34","v":0},{"$f":"'Individual Calculations '!BB34","v":0},{"$f":"'Individual Calculations '!BC34","v":0},null,0,0]
[23,67,null,{"$f":"'Individual Calculations '!G35","v":0},null,{"$f":"IF(TargetMethod3=1,\"NA\",'Individual Calculations '!R35)","v":0},null,{"$f":"IF(TargetMethod3=1,'Individual Calculations '!I35+'Individual Calculations '!J35+'Individual Calculations '!O35,'Individual Calculations '!S35+'Individual Calculations '!T35+'Individual Calculations '!W35)","v":0},{"$f":"IF(TargetMethod3=1,'Individual Calculations '!K35,'Individual Calculations '!U35)","v":0},{"$f":"IF(TargetMethod3=1,0,'Individual Calculations '!Y35)","v":0},null,{"$f":"'Individual Calculations '!AA35+'Individual Calculations '!AH35+'Individual Calculations '!AP35","v":0},{"$f":"'Individual Calculations '!AB35+'Individual Calculations '!AI35+'Individual Calculations '!AQ35","v":0},{"$f":"'Individual Calculations '!AC35","v":0.4},{"$f":"'Individual Calculations '!AD35+'Individual Calculations '!AK35+'Individual Calculations '!AS35","v":0},{"$f":"'Individual Calculations '!AE35+'Individual Calculations '!AL35+'Individual Calculations '!AT35","v":0},{"$f":"'Individual Calculations '!AF35+'Individual Calculations '!AM35+'Individual Calculations '!AU35","v":0},null,{"$f":"'Individual Calculations '!AX35","v":0},{"$f":"'Individual Calculations '!AY35","v":0.4},{"$f":"'Individual Calculations '!AZ35","v":0},{"$f":"'Individual Calculations '!BA35","v":0},{"$f":"'Individual Calculations '!BB35","v":0},{"$f":"'Individual Calculations '!BC35","v":0},null,0,0]
[24,68,null,{"$f":"'Individual Calculations '!G36","v":0},null,{"$f":"IF(TargetMethod3=1,\"NA\",'Individual Calculations '!R36)","v":0},null,{"$f":"IF(TargetMethod3=1,'Individual Calculations '!I36+'Individual Calculations '!J36+'Individual Calculations '!O36,'Individual Calculations '!S36+'Individual Calculations '!T36+'Individual Calculations '!W36)","v":0},{"$f":"IF(TargetMethod3=1,'Individual Calculations '!K36,'Individual Calculations '!U36)","v":0},{"$f":"IF(TargetMethod3=1,0,'Individual Calculations '!Y36)","v":0},null,{"$f":"'Individual Calculations '!AA36+'Individual Calculations '!AH36+'Individual Calculations '!AP36","v":0},{"$f":"'Individual Calculations '!AB36+'Individual Calculations '!AI36+'Individual Calculations '!AQ36","v":0},{"$f":"'Individual Calculations '!AC36","v":0.4},{"$f":"'Individual Calculations '!AD36+'Individual Calculations '!AK36+'Individual Calculations '!AS36","v":0},{"$f":"'Individual Calculations '!AE36+'Individual Calculations '!AL36+'Individual Calculations '!AT36","v":0},{"$f":"'Individual Calculations '!AF36+'Individual Calculations '!AM36+'Individual Calculations '!AU36","v":0},null,{"$f":"'Individual Calculations '!AX36","v":0},{"$f":"'Individual Calculations '!AY36","v":0.4},{"$f":"'Individual Calculations '!AZ36","v":0},{"$f":"'Individual Calculations '!BA36","v":0},{"$f":"'Individual Calculations '!BB36","v":0},{"$f":"'Individual Calculations '!BC36","v":0},null,0,0]
[25,69,null,{"$f":"'Individual Calculations '!G37","v":0},null,{"$f":"IF(TargetMethod3=1,\"NA\",'Individual Calculations '!R37)","v":0},null,{"$f":"IF(TargetMethod3=1,'Individual Calculations '!I37+'Individual Calculations '!J37+'Individual Calculations '!O37,'Individual Calculations '!S37+'Individual Calculations '!T37+'Individual Calculations '!W37)","v":0},{"$f":"IF(TargetMethod3=1,'Individual Calculations '!K37,'Individual Calculations '!U37)","v":0},{"$f":"IF(TargetMethod3=1,0,'Individual Calculations '!Y37)","v":0},null,{"$f":"'Individual Calculations '!AA37+'Individual Calculations '!AH37+'Individual Calculations '!AP37","v":0},{"$f":"'Individual Calculations '!AB37+'Individual Calculations '!AI37+'Individual Calculations '!AQ37","v":0},{"$f":"'Individual Calculations '!AC37","v":0.4},{"$f":"'Individual Calculations '!AD37+'Individual Calculations '!AK37+'Individual Calculations '!AS37","v":0},{"$f":"'Individual Calculations '!AE37+'Individual Calculations '!AL37+'Individual Calculations '!AT37","v":0},{"$f":"'Individual Calculations '!AF37+'Individual Calculations '!AM37+'Individual Calculations '!AU37","v":0},null,{"$f":"'Individual Calculations '!AX37","v":0},{"$f":"'Individual Calculations '!AY37","v":0.4},{"$f":"'Individual Calculations '!AZ37","v":0},{"$f":"'Individual Calculations '!BA37","v":0},{"$f":"'Individual Calculations '!BB37","v":0},{"$f":"'Individual Calculations '!BC37","v":0},null,0,0]
[26,70,null,{"$f":"'Individual Calculations '!G38","v":0},null,{"$f":"IF(TargetMethod3=1,\"NA\",'Individual Calculations '!R38)","v":0},null,{"$f":"IF(TargetMethod3=1,'Individual Calculations '!I38+'Individual Calculations '!J38+'Individual Calculations '!O38,'Individual Calculations '!S38+'Individual Calculations '!T38+'Individual Calculations '!W38)","v":0},{"$f":"IF(TargetMethod3=1,'Individual Calculations '!K38,'Individual Calculations '!U38)","v":0},{"$f":"IF(TargetMethod3=1,0,'Individual Calculations '!Y38)","v":0},null,{"$f":"'Individual Calculations '!AA38+'Individual Calculations '!AH38+'Individual Calculations '!AP38","v":0},{"$f":"'Individual Calculations '!AB38+'Individual Calculations '!AI38+'Individual Calculations '!AQ38","v":0},{"$f":"'Individual Calculations '!AC38","v":0.4},{"$f":"'Individual Calculations '!AD38+'Individual Calculations '!AK38+'Individual Calculations '!AS38","v":0},{"$f":"'Individual Calculations '!AE38+'Individual Calculations '!AL38+'Individual Calculations '!AT38","v":0},{"$f":"'Individual Calculations '!AF38+'Individual Calculations '!AM38+'Individual Calculations '!AU38","v":0},null,{"$f":"'Individual Calculations '!AX38","v":0},{"$f":"'Individual Calculations '!AY38","v":0.4},{"$f":"'Individual Calculations '!AZ38","v":0},{"$f":"'Individual Calculations '!BA38","v":0},{"$f":"'Individual Calculations '!BB38","v":0},{"$f":"'Individual Calculations '!BC38","v":0},null,0,0]
[27,71,null,{"$f":"'Individual Calculations '!G39","v":0},null,{"$f":"IF(TargetMethod3=1,\"NA\",'Individual Calculations '!R39)","v":0},null,{"$f":"IF(TargetMethod3=1,'Individual Calculations '!I39+'Individual Calculations '!J39+'Individual Calculations '!O39,'Individual Calculations '!S39+'Individual Calculations '!T39+'Individual Calculations '!W39)","v":0},{"$f":"IF(TargetMethod3=1,'Individual Calculations '!K39,'Individual Calculations '!U39)","v":0},{"$f":"IF(TargetMethod3=1,0,'Individual Calculations '!Y39)","v":0},null,{"$f":"'Individual Calculations '!AA39+'Individual Calculations '!AH39+'Individual Calculations '!AP39","v":0},{"$f":"'Individual Calculations '!AB39+'Individual Calculations '!AI39+'Individual Calculations '!AQ39","v":0},{"$f":"'Individual Calculations '!AC39","v":0.4},{"$f":"'Individual Calculations '!AD39+'Individual Calculations '!AK39+'Individual Calculations '!AS39","v":0},{"$f":"'Individual Calculations '!AE39+'Individual Calculations '!AL39+'Individual Calculations '!AT39","v":0},{"$f":"'Individual Calculations '!AF39+'Individual Calculations '!AM39+'Individual Calculations '!AU39","v":0},null,{"$f":"'Individual Calculations '!AX39","v":0},{"$f":"'Individual Calculations '!AY39","v":0.4},{"$f":"'Individual Calculations '!AZ39","v":0},{"$f":"'Individual Calculations '!BA39","v":0},{"$f":"'Individual Calculations '!BB39","v":0},{"$f":"'Individual Calculations '!BC39","v":0},null,0,0]
[28,72,null,{"$f":"'Individual Calculations '!G40","v":0},null,{"$f":"IF(TargetMethod3=1,\"NA\",'Individual Calculations '!R40)","v":0},null,{"$f":"IF(TargetMethod3=1,'Individual Calculations '!I40+'Individual Calculations '!J40+'Individual Calculations '!O40,'Individual Calculations '!S40+'Individual Calculations '!T40+'Individual Calculations '!W40)","v":0},{"$f":"IF(TargetMethod3=1,'Individual Calculations '!K40,'Individual Calculations '!U40)","v":0},{"$f":"IF(TargetMethod3=1,0,'Individual Calculations '!Y40)","v":0},null,{"$f":"'Individual Calculations '!AA40+'Individual Calculations '!AH40+'Individual Calculations '!AP40","v":0},{"$f":"'Individual Calculations '!AB40+'Individual Calculations '!AI40+'Individual Calculations '!AQ40","v":0},{"$f":"'Individual Calculations '!AC40","v":0.4},{"$f":"'Individual Calculations '!AD40+'Individual Calculations '!AK40+'Individual Calculations '!AS40","v":0},{"$f":"'Individual Calculations '!AE40+'Individual Calculations '!AL40+'Individual Calculations '!AT40","v":0},{"$f":"'Individual Calculations '!AF40+'Individual Calculations '!AM40+'Individual Calculations '!AU40","v":0},null,{"$f":"'Individual Calculations '!AX40","v":0},{"$f":"'Individual Calculations '!AY40","v":0.4},{"$f":"'Individual Calculations '!AZ40","v":0},{"$f":"'Individual Calculations '!BA40","v":0},{"$f":"'Individual Calculations '!BB40","v":0},{"$f":"'Individual Calculations '!BC40","v":0},null,0,0]
[29,73,null,{"$f":"'Individual Calculations '!G41","v":0},null,{"$f":"IF(TargetMethod3=1,\"NA\",'Individual Calculations '!R41)","v":0},null,{"$f":"IF(TargetMethod3=1,'Individual Calculations '!I41+'Individual Calculations '!J41+'Individual Calculations '!O41,'Individual Calculations '!S41+'Individual Calculations '!T41+'Individual Calculations '!W41)","v":0},{"$f":"IF(TargetMethod3=1,'Individual Calculations '!K41,'Individual Calculations '!U41)","v":0},{"$f":"IF(TargetMethod3=1,0,'Individual Calculations '!Y41)","v":0},null,{"$f":"'Individual Calculations '!AA41+'Individual Calculations '!AH41+'Individual Calculations '!AP41","v":0},{"$f":"'Individual Calculations '!AB41+'Individual Calculations '!AI41+'Individual Calculations '!AQ41","v":0},{"$f":"'Individual Calculations '!AC41","v":0.4},{"$f":"'Individual Calculations '!AD41+'Individual Calculations '!AK41+'Individual Calculations '!AS41","v":0},{"$f":"'Individual Calculations '!AE41+'Individual Calculations '!AL41+'Individual Calculations '!AT41","v":0},{"$f":"'Individual Calculations '!AF41+'Individual Calculations '!AM41+'Individual Calculations '!AU41","v":0},null,{"$f":"'Individual Calculations '!AX41","v":0},{"$f":"'Individual Calculations '!AY41","v":0.4},{"$f":"'Individual Calculations '!AZ41","v":0},{"$f":"'Individual Calculations '!BA41","v":0},{"$f":"'Individual Calculations '!BB41","v":0},{"$f":"'Individual Calculations '!BC41","v":0},null,0,0]
[30,74,null,{"$f":"'Individual Calculations '!G42","v":0},null,{"$f":"IF(TargetMethod3=1,\"NA\",'Individual Calculations '!R42)","v":0},null,{"$f":"IF(TargetMethod3=1,'Individual Calculations '!I42+'Individual Calculations '!J42+'Individual Calculations '!O42,'Individual Calculations '!S42+'Individual Calculations '!T42+'Individual Calculations '!W42)","v":0},{"$f":"IF(TargetMethod3=1,'Individual Calculations '!K42,'Individual Calculations '!U42)","v":0},{"$f":"IF(TargetMethod3=1,0,'Individual Calculations '!Y42)","v":0},null,{"$f":"'Individual Calculations '!AA42+'Individual Calculations '!AH42+'Individual Calculations '!AP42","v":0},{"$f":"'Individual Calculations '!AB42+'Individual Calculations '!AI42+'Individual Calculations '!AQ42","v":0},{"$f":"'Individual Calculations '!AC42","v":0.4},{"$f":"'Individual Calculations '!AD42+'Individual Calculations '!AK42+'Individual Calculations '!AS42","v":0},{"$f":"'Individual Calculations '!AE42+'Individual Calculations '!AL42+'Individual Calculations '!AT42","v":0},{"$f":"'Individual Calculations '!AF42+'Individual Calculations '!AM42+'Individual Calculations '!AU42","v":0},null,{"$f":"'Individual Calculations '!AX42","v":0},{"$f":"'Individual Calculations '!AY42","v":0.4},{"$f":"'Individual Calculations '!AZ42","v":0},{"$f":"'Individual Calculations '!BA42","v":0},{"$f":"'Individual Calculations '!BB42","v":0},{"$f":"'Individual Calculations '!BC42","v":0},null,0,0]
[31,75,null,{"$f":"'Individual Calculations '!G43","v":0},null,{"$f":"IF(TargetMethod3=1,\"NA\",'Individual Calculations '!R43)","v":0},null,{"$f":"IF(TargetMethod3=1,'Individual Calculations '!I43+'Individual Calculations '!J43+'Individual Calculations '!O43,'Individual Calculations '!S43+'Individual Calculations '!T43+'Individual Calculations '!W43)","v":0},{"$f":"IF(TargetMethod3=1,'Individual Calculations '!K43,'Individual Calculations '!U43)","v":0},{"$f":"IF(TargetMethod3=1,0,'Individual Calculations '!Y43)","v":0},null,{"$f":"'Individual Calculations '!AA43+'Individual Calculations '!AH43+'Individual Calculations '!AP43","v":0},{"$f":"'Individual Calculations '!AB43+'Individual Calculations '!AI43+'Individual Calculations '!AQ43","v":0},{"$f":"'Individual Calculations '!AC43","v":0.4},{"$f":"'Individual Calculations '!AD43+'Individual Calculations '!AK43+'Individual Calculations '!AS43","v":0},{"$f":"'Individual Calculations '!AE43+'Individual Calculations '!AL43+'Individual Calculations '!AT43","v":0},{"$f":"'Individual Calculations '!AF43+'Individual Calculations '!AM43+'Individual Calculations '!AU43","v":0},null,{"$f":"'Individual Calculations '!AX43","v":0},{"$f":"'Individual Calculations '!AY43","v":0.4},{"$f":"'Individual Calculations '!AZ43","v":0},{"$f":"'Individual Calculations '!BA43","v":0},{"$f":"'Individual Calculations '!BB43","v":0},{"$f":"'Individual Calculations '!BC43","v":0},null,0,0]
[32,76,null,{"$f":"'Individual Calculations '!G44","v":0},null,{"$f":"IF(TargetMethod3=1,\"NA\",'Individual Calculations '!R44)","v":0},null,{"$f":"IF(TargetMethod3=1,'Individual Calculations '!I44+'Individual Calculations '!J44+'Individual Calculations '!O44,'Individual Calculations '!S44+'Individual Calculations '!T44+'Individual Calculations '!W44)","v":0},{"$f":"IF(TargetMethod3=1,'Individual Calculations '!K44,'Individual Calculations '!U44)","v":0},{"$f":"IF(TargetMethod3=1,0,'Individual Calculations '!Y44)","v":0},null,{"$f":"'Individual Calculations '!AA44+'Individual Calculations '!AH44+'Individual Calculations '!AP44","v":0},{"$f":"'Individual Calculations '!AB44+'Individual Calculations '!AI44+'Individual Calculations '!AQ44","v":0},{"$f":"'Individual Calculations '!AC44","v":0.4},{"$f":"'Individual Calculations '!AD44+'Individual Calculations '!AK44+'Individual Calculations '!AS44","v":0},{"$f":"'Individual Calculations '!AE44+'Individual Calculations '!AL44+'Individual Calculations '!AT44","v":0},{"$f":"'Individual Calculations '!AF44+'Individual Calculations '!AM44+'Individual Calculations '!AU44","v":0},null,{"$f":"'Individual Calculations '!AX44","v":0},{"$f":"'Individual Calculations '!AY44","v":0.4},{"$f":"'Individual Calculations '!AZ44","v":0},{"$f":"'Individual Calculations '!BA44","v":0},{"$f":"'Individual Calculations '!BB44","v":0},{"$f":"'Individual Calculations '!BC44","v":0},null,0,0]
[33,77,null,{"$f":"'Individual Calculations '!G45","v":0},null,{"$f":"IF(TargetMethod3=1,\"NA\",'Individual Calculations '!R45)","v":0},null,{"$f":"IF(TargetMethod3=1,'Individual Calculations '!I45+'Individual Calculations '!J45+'Individual Calculations '!O45,'Individual Calculations '!S45+'Individual Calculations '!T45+'Individual Calculations '!W45)","v":0},{"$f":"IF(TargetMethod3=1,'Individual Calculations '!K45,'Individual Calculations '!U45)","v":0},{"$f":"IF(TargetMethod3=1,0,'Individual Calculations '!Y45)","v":0},null,{"$f":"'Individual Calculations '!AA45+'Individual Calculations '!AH45+'Individual Calculations '!AP45","v":0},{"$f":"'Individual Calculations '!AB45+'Individual Calculations '!AI45+'Individual Calculations '!AQ45","v":0},{"$f":"'Individual Calculations '!AC45","v":0.4},{"$f":"'Individual Calculations '!AD45+'Individual Calculations '!AK45+'Individual Calculations '!AS45","v":0},{"$f":"'Individual Calculations '!AE45+'Individual Calculations '!AL45+'Individual Calculations '!AT45","v":0},{"$f":"'Individual Calculations '!AF45+'Individual Calculations '!AM45+'Individual Calculations '!AU45","v":0},null,{"$f":"'Individual Calculations '!AX45","v":0},{"$f":"'Individual Calculations '!AY45","v":0.4},{"$f":"'Individual Calculations '!AZ45","v":0},{"$f":"'Individual Calculations '!BA45","v":0},{"$f":"'Individual Calculations '!BB45","v":0},{"$f":"'Individual Calculations '!BC45","v":0},null,0,0]
[34,78,null,{"$f":"'Individual Calculations '!G46","v":0},null,{"$f":"IF(TargetMethod3=1,\"NA\",'Individual Calculations '!R46)","v":0},null,{"$f":"IF(TargetMethod3=1,'Individual Calculations '!I46+'Individual Calculations '!J46+'Individual Calculations '!O46,'Individual Calculations '!S46+'Individual Calculations '!T46+'Individual Calculations '!W46)","v":0},{"$f":"IF(TargetMethod3=1,'Individual Calculations '!K46,'Individual Calculations '!U46)","v":0},{"$f":"IF(TargetMethod3=1,0,'Individual Calculations '!Y46)","v":0},null,{"$f":"'Individual Calculations '!AA46+'Individual Calculations '!AH46+'Individual Calculations '!AP46","v":0},{"$f":"'Individual Calculations '!AB46+'Individual Calculations '!AI46+'Individual Calculations '!AQ46","v":0},{"$f":"'Individual Calculations '!AC46","v":0.4},{"$f":"'Individual Calculations '!AD46+'Individual Calculations '!AK46+'Individual Calculations '!AS46","v":0},{"$f":"'Individual Calculations '!AE46+'Individual Calculations '!AL46+'Individual Calculations '!AT46","v":0},{"$f":"'Individual Calculations '!AF46+'Individual Calculations '!AM46+'Individual Calculations '!AU46","v":0},null,{"$f":"'Individual Calculations '!AX46","v":0},{"$f":"'Individual Calculations '!AY46","v":0.4},{"$f":"'Individual Calculations '!AZ46","v":0},{"$f":"'Individual Calculations '!BA46","v":0},{"$f":"'Individual Calculations '!BB46","v":0},{"$f":"'Individual Calculations '!BC46","v":0},null,0,0]
[35,79,null,{"$f":"'Individual Calculations '!G47","v":0},null,{"$f":"IF(TargetMethod3=1,\"NA\",'Individual Calculations '!R47)","v":0},null,{"$f":"IF(TargetMethod3=1,'Individual Calculations '!I47+'Individual Calculations '!J47+'Individual Calculations '!O47,'Individual Calculations '!S47+'Individual Calculations '!T47+'Individual Calculations '!W47)","v":0},{"$f":"IF(TargetMethod3=1,'Individual Calculations '!K47,'Individual Calculations '!U47)","v":0},{"$f":"IF(TargetMethod3=1,0,'Individual Calculations '!Y47)","v":0},null,{"$f":"'Individual Calculations '!AA47+'Individual Calculations '!AH47+'Individual Calculations '!AP47","v":0},{"$f":"'Individual Calculations '!AB47+'Individual Calculations '!AI47+'Individual Calculations '!AQ47","v":0},{"$f":"'Individual Calculations '!AC47","v":0.4},{"$f":"'Individual Calculations '!AD47+'Individual Calculations '!AK47+'Individual Calculations '!AS47","v":0},{"$f":"'Individual Calculations '!AE47+'Individual Calculations '!AL47+'Individual Calculations '!AT47","v":0},{"$f":"'Individual Calculations '!AF47+'Individual Calculations '!AM47+'Individual Calculations '!AU47","v":0},null,{"$f":"'Individual Calculations '!AX47","v":0},{"$f":"'Individual Calculations '!AY47","v":0.4},{"$f":"'Individual Calculations '!AZ47","v":0},{"$f":"'Individual Calculations '!BA47","v":0},{"$f":"'Individual Calculations '!BB47","v":0},{"$f":"'Individual Calculations '!BC47","v":0},null,0,0]
[36,80,null,{"$f":"'Individual Calculations '!G48","v":0},null,{"$f":"IF(TargetMethod3=1,\"NA\",'Individual Calculations '!R48)","v":0},null,{"$f":"IF(TargetMethod3=1,'Individual Calculations '!I48+'Individual Calculations '!J48+'Individual Calculations '!O48,'Individual Calculations '!S48+'Individual Calculations '!T48+'Individual Calculations '!W48)","v":0},{"$f":"IF(TargetMethod3=1,'Individual Calculations '!K48,'Individual Calculations '!U48)","v":0},{"$f":"IF(TargetMethod3=1,0,'Individual Calculations '!Y48)","v":0},null,{"$f":"'Individual Calculations '!AA48+'Individual Calculations '!AH48+'Individual Calculations '!AP48","v":0},{"$f":"'Individual Calculations '!AB48+'Individual Calculations '!AI48+'Individual Calculations '!AQ48","v":0},{"$f":"'Individual Calculations '!AC48","v":0.4},{"$f":"'Individual Calculations '!AD48+'Individual Calculations '!AK48+'Individual Calculations '!AS48","v":0},{"$f":"'Individual Calculations '!AE48+'Individual Calculations '!AL48+'Individual Calculations '!AT48","v":0},{"$f":"'Individual Calculations '!AF48+'Individual Calculations '!AM48+'Individual Calculations '!AU48","v":0},null,{"$f":"'Individual Calculations '!AX48","v":0},{"$f":"'Individual Calculations '!AY48","v":0.4},{"$f":"'Individual Calculations '!AZ48","v":0},{"$f":"'Individual Calculations '!BA48","v":0},{"$f":"'Individual Calculations '!BB48","v":0},{"$f":"'Individual Calculations '!BC48","v":0},null,0,0]
[37,81,null,{"$f":"'Individual Calculations '!G49","v":0},null,{"$f":"IF(TargetMethod3=1,\"NA\",'Individual Calculations '!R49)","v":0},null,{"$f":"IF(TargetMethod3=1,'Individual Calculations '!I49+'Individual Calculations '!J49+'Individual Calculations '!O49,'Individual Calculations '!S49+'Individual Calculations '!T49+'Individual Calculations '!W49)","v":0},{"$f":"IF(TargetMethod3=1,'Individual Calculations '!K49,'Individual Calculations '!U49)","v":0},{"$f":"IF(TargetMethod3=1,0,'Individual Calculations '!Y49)","v":0},null,{"$f":"'Individual Calculations '!AA49+'Individual Calculations '!AH49+'Individual Calculations '!AP49","v":0},{"$f":"'Individual Calculations '!AB49+'Individual Calculations '!AI49+'Individual Calculations '!AQ49","v":0},{"$f":"'Individual Calculations '!AC49","v":0.4},{"$f":"'Individual Calculations '!AD49+'Individual Calculations '!AK49+'Individual Calculations '!AS49","v":0},{"$f":"'Individual Calculations '!AE49+'Individual Calculations '!AL49+'Individual Calculations '!AT49","v":0},{"$f":"'Individual Calculations '!AF49+'Individual Calculations '!AM49+'Individual Calculations '!AU49","v":0},null,{"$f":"'Individual Calculations '!AX49","v":0},{"$f":"'Individual Calculations '!AY49","v":0.4},{"$f":"'Individual Calculations '!AZ49","v":0},{"$f":"'Individual Calculations '!BA49","v":0},{"$f":"'Individual Calculations '!BB49","v":0},{"$f":"'Individual Calculations '!BC49","v":0},null,0,0]
[38,82,null,{"$f":"'Individual Calculations '!G50","v":0},null,{"$f":"IF(TargetMethod3=1,\"NA\",'Individual Calculations '!R50)","v":0},null,{"$f":"IF(TargetMethod3=1,'Individual Calculations '!I50+'Individual Calculations '!J50+'Individual Calculations '!O50,'Individual Calculations '!S50+'Individual Calculations '!T50+'Individual Calculations '!W50)","v":0},{"$f":"IF(TargetMethod3=1,'Individual Calculations '!K50,'Individual Calculations '!U50)","v":0},{"$f":"IF(TargetMethod3=1,0,'Individual Calculations '!Y50)","v":0},null,{"$f":"'Individual Calculations '!AA50+'Individual Calculations '!AH50+'Individual Calculations '!AP50","v":0},{"$f":"'Individual Calculations '!AB50+'Individual Calculations '!AI50+'Individual Calculations '!AQ50","v":0},{"$f":"'Individual Calculations '!AC50","v":0.4},{"$f":"'Individual Calculations '!AD50+'Individual Calculations '!AK50+'Individual Calculations '!AS50","v":0},{"$f":"'Individual Calculations '!AE50+'Individual Calculations '!AL50+'Individual Calculations '!AT50","v":0},{"$f":"'Individual Calculations '!AF50+'Individual Calculations '!AM50+'Individual Calculations '!AU50","v":0},null,{"$f":"'Individual Calculations '!AX50","v":0},{"$f":"'Individual Calculations '!AY50","v":0.4},{"$f":"'Individual Calculations '!AZ50","v":0},{"$f":"'Individual Calculations '!BA50","v":0},{"$f":"'Individual Calculations '!BB50","v":0},{"$f":"'Individual Calculations '!BC50","v":0},null,0,0]
[39,83,null,{"$f":"'Individual Calculations '!G51","v":0},null,{"$f":"IF(TargetMethod3=1,\"NA\",'Individual Calculations '!R51)","v":0},null,{"$f":"IF(TargetMethod3=1,'Individual Calculations '!I51+'Individual Calculations '!J51+'Individual Calculations '!O51,'Individual Calculations '!S51+'Individual Calculations '!T51+'Individual Calculations '!W51)","v":0},{"$f":"IF(TargetMethod3=1,'Individual Calculations '!K51,'Individual Calculations '!U51)","v":0},{"$f":"IF(TargetMethod3=1,0,'Individual Calculations '!Y51)","v":0},null,{"$f":"'Individual Calculations '!AA51+'Individual Calculations '!AH51+'Individual Calculations '!AP51","v":0},{"$f":"'Individual Calculations '!AB51+'Individual Calculations '!AI51+'Individual Calculations '!AQ51","v":0},{"$f":"'Individual Calculations '!AC51","v":0.4},{"$f":"'Individual Calculations '!AD51+'Individual Calculations '!AK51+'Individual Calculations '!AS51","v":0},{"$f":"'Individual Calculations '!AE51+'Individual Calculations '!AL51+'Individual Calculations '!AT51","v":0},{"$f":"'Individual Calculations '!AF51+'Individual Calculations '!AM51+'Individual Calculations '!AU51","v":0},null,{"$f":"'Individual Calculations '!AX51","v":0},{"$f":"'Individual Calculations '!AY51","v":0.4},{"$f":"'Individual Calculations '!AZ51","v":0},{"$f":"'Individual Calculations '!BA51","v":0},{"$f":"'Individual Calculations '!BB51","v":0},{"$f":"'Individual Calculations '!BC51","v":0},null,0,0]
[40,84,null,{"$f":"'Individual Calculations '!G52","v":0},null,{"$f":"IF(TargetMethod3=1,\"NA\",'Individual Calculations '!R52)","v":0},null,{"$f":"IF(TargetMethod3=1,'Individual Calculations '!I52+'Individual Calculations '!J52+'Individual Calculations '!O52,'Individual Calculations '!S52+'Individual Calculations '!T52+'Individual Calculations '!W52)","v":0},{"$f":"IF(TargetMethod3=1,'Individual Calculations '!K52,'Individual Calculations '!U52)","v":0},{"$f":"IF(TargetMethod3=1,0,'Individual Calculations '!Y52)","v":0},null,{"$f":"'Individual Calculations '!AA52+'Individual Calculations '!AH52+'Individual Calculations '!AP52","v":0},{"$f":"'Individual Calculations '!AB52+'Individual Calculations '!AI52+'Individual Calculations '!AQ52","v":0},{"$f":"'Individual Calculations '!AC52","v":0.4},{"$f":"'Individual Calculations '!AD52+'Individual Calculations '!AK52+'Individual Calculations '!AS52","v":0},{"$f":"'Individual Calculations '!AE52+'Individual Calculations '!AL52+'Individual Calculations '!AT52","v":0},{"$f":"'Individual Calculations '!AF52+'Individual Calculations '!AM52+'Individual Calculations '!AU52","v":0},null,{"$f":"'Individual Calculations '!AX52","v":0},{"$f":"'Individual Calculations '!AY52","v":0.4},{"$f":"'Individual Calculations '!AZ52","v":0},{"$f":"'Individual Calculations '!BA52","v":0},{"$f":"'Individual Calculations '!BB52","v":0},{"$f":"'Individual Calculations '!BC52","v":0},null,0,0]
[41,85,null,{"$f":"'Individual Calculations '!G53","v":0},null,{"$f":"IF(TargetMethod3=1,\"NA\",'Individual Calculations '!R53)","v":0},null,{"$f":"IF(TargetMethod3=1,'Individual Calculations '!I53+'Individual Calculations '!J53+'Individual Calculations '!O53,'Individual Calculations '!S53+'Individual Calculations '!T53+'Individual Calculations '!W53)","v":0},{"$f":"IF(TargetMethod3=1,'Individual Calculations '!K53,'Individual Calculations '!U53)","v":0},{"$f":"IF(TargetMethod3=1,0,'Individual Calculations '!Y53)","v":0},null,{"$f":"'Individual Calculations '!AA53+'Individual Calculations '!AH53+'Individual Calculations '!AP53","v":0},{"$f":"'Individual Calculations '!AB53+'Individual Calculations '!AI53+'Individual Calculations '!AQ53","v":0},{"$f":"'Individual Calculations '!AC53","v":0.4},{"$f":"'Individual Calculations '!AD53+'Individual Calculations '!AK53+'Individual Calculations '!AS53","v":0},{"$f":"'Individual Calculations '!AE53+'Individual Calculations '!AL53+'Individual Calculations '!AT53","v":0},{"$f":"'Individual Calculations '!AF53+'Individual Calculations '!AM53+'Individual Calculations '!AU53","v":0},null,{"$f":"'Individual Calculations '!AX53","v":0},{"$f":"'Individual Calculations '!AY53","v":0.4},{"$f":"'Individual Calculations '!AZ53","v":0},{"$f":"'Individual Calculations '!BA53","v":0},{"$f":"'Individual Calculations '!BB53","v":0},{"$f":"'Individual Calculations '!BC53","v":0},null,0,0]
[42,86,null,{"$f":"'Individual Calculations '!G54","v":0},null,{"$f":"IF(TargetMethod3=1,\"NA\",'Individual Calculations '!R54)","v":0},null,{"$f":"IF(TargetMethod3=1,'Individual Calculations '!I54+'Individual Calculations '!J54+'Individual Calculations '!O54,'Individual Calculations '!S54+'Individual Calculations '!T54+'Individual Calculations '!W54)","v":0},{"$f":"IF(TargetMethod3=1,'Individual Calculations '!K54,'Individual Calculations '!U54)","v":0},{"$f":"IF(TargetMethod3=1,0,'Individual Calculations '!Y54)","v":0},null,{"$f":"'Individual Calculations '!AA54+'Individual Calculations '!AH54+'Individual Calculations '!AP54","v":0},{"$f":"'Individual Calculations '!AB54+'Individual Calculations '!AI54+'Individual Calculations '!AQ54","v":0},{"$f":"'Individual Calculations '!AC54","v":0.4},{"$f":"'Individual Calculations '!AD54+'Individual Calculations '!AK54+'Individual Calculations '!AS54","v":0},{"$f":"'Individual Calculations '!AE54+'Individual Calculations '!AL54+'Individual Calculations '!AT54","v":0},{"$f":"'Individual Calculations '!AF54+'Individual Calculations '!AM54+'Individual Calculations '!AU54","v":0},null,{"$f":"'Individual Calculations '!AX54","v":0},{"$f":"'Individual Calculations '!AY54","v":0.4},{"$f":"'Individual Calculations '!AZ54","v":0},{"$f":"'Individual Calculations '!BA54","v":0},{"$f":"'Individual Calculations '!BB54","v":0},{"$f":"'Individual Calculations '!BC54","v":0},null,0,0]
[43,87,null,{"$f":"'Individual Calculations '!G55","v":0},null,{"$f":"IF(TargetMethod3=1,\"NA\",'Individual Calculations '!R55)","v":0},null,{"$f":"IF(TargetMethod3=1,'Individual Calculations '!I55+'Individual Calculations '!J55+'Individual Calculations '!O55,'Individual Calculations '!S55+'Individual Calculations '!T55+'Individual Calculations '!W55)","v":0},{"$f":"IF(TargetMethod3=1,'Individual Calculations '!K55,'Individual Calculations '!U55)","v":0},{"$f":"IF(TargetMethod3=1,0,'Individual Calculations '!Y55)","v":0},null,{"$f":"'Individual Calculations '!AA55+'Individual Calculations '!AH55+'Individual Calculations '!AP55","v":0},{"$f":"'Individual Calculations '!AB55+'Individual Calculations '!AI55+'Individual Calculations '!AQ55","v":0},{"$f":"'Individual Calculations '!AC55","v":0.4},{"$f":"'Individual Calculations '!AD55+'Individual Calculations '!AK55+'Individual Calculations '!AS55","v":0},{"$f":"'Individual Calculations '!AE55+'Individual Calculations '!AL55+'Individual Calculations '!AT55","v":0},{"$f":"'Individual Calculations '!AF55+'Individual Calculations '!AM55+'Individual Calculations '!AU55","v":0},null,{"$f":"'Individual Calculations '!AX55","v":0},{"$f":"'Individual Calculations '!AY55","v":0.4},{"$f":"'Individual Calculations '!AZ55","v":0},{"$f":"'Individual Calculations '!BA55","v":0},{"$f":"'Individual Calculations '!BB55","v":0},{"$f":"'Individual Calculations '!BC55","v":0},null,0,0]
[44,88,null,{"$f":"'Individual Calculations '!G56","v":0},null,{"$f":"IF(TargetMethod3=1,\"NA\",'Individual Calculations '!R56)","v":0},null,{"$f":"IF(TargetMethod3=1,'Individual Calculations '!I56+'Individual Calculations '!J56+'Individual Calculations '!O56,'Individual Calculations '!S56+'Individual Calculations '!T56+'Individual Calculations '!W56)","v":0},{"$f":"IF(TargetMethod3=1,'Individual Calculations '!K56,'Individual Calculations '!U56)","v":0},{"$f":"IF(TargetMethod3=1,0,'Individual Calculations '!Y56)","v":0},null,{"$f":"'Individual Calculations '!AA56+'Individual Calculations '!AH56+'Individual Calculations '!AP56","v":0},{"$f":"'Individual Calculations '!AB56+'Individual Calculations '!AI56+'Individual Calculations '!AQ56","v":0},{"$f":"'Individual Calculations '!AC56","v":0.4},{"$f":"'Individual Calculations '!AD56+'Individual Calculations '!AK56+'Individual Calculations '!AS56","v":0},{"$f":"'Individual Calculations '!AE56+'Individual Calculations '!AL56+'Individual Calculations '!AT56","v":0},{"$f":"'Individual Calculations '!AF56+'Individual Calculations '!AM56+'Individual Calculations '!AU56","v":0},null,{"$f":"'Individual Calculations '!AX56","v":0},{"$f":"'Individual Calculations '!AY56","v":0.4},{"$f":"'Individual Calculations '!AZ56","v":0},{"$f":"'Individual Calculations '!BA56","v":0},{"$f":"'Individual Calculations '!BB56","v":0},{"$f":"'Individual Calculations '!BC56","v":0},null,0,0]
[45,89,null,{"$f":"'Individual Calculations '!G57","v":0},null,{"$f":"IF(TargetMethod3=1,\"NA\",'Individual Calculations '!R57)","v":0},null,{"$f":"IF(TargetMethod3=1,'Individual Calculations '!I57+'Individual Calculations '!J57+'Individual Calculations '!O57,'Individual Calculations '!S57+'Individual Calculations '!T57+'Individual Calculations '!W57)","v":0},{"$f":"IF(TargetMethod3=1,'Individual Calculations '!K57,'Individual Calculations '!U57)","v":0},{"$f":"IF(TargetMethod3=1,0,'Individual Calculations '!Y57)","v":0},null,{"$f":"'Individual Calculations '!AA57+'Individual Calculations '!AH57+'Individual Calculations '!AP57","v":0},{"$f":"'Individual Calculations '!AB57+'Individual Calculations '!AI57+'Individual Calculations '!AQ57","v":0},{"$f":"'Individual Calculations '!AC57","v":0.4},{"$f":"'Individual Calculations '!AD57+'Individual Calculations '!AK57+'Individual Calculations '!AS57","v":0},{"$f":"'Individual Calculations '!AE57+'Individual Calculations '!AL57+'Individual Calculations '!AT57","v":0},{"$f":"'Individual Calculations '!AF57+'Individual Calculations '!AM57+'Individual Calculations '!AU57","v":0},null,{"$f":"'Individual Calculations '!AX57","v":0},{"$f":"'Individual Calculations '!AY57","v":0.4},{"$f":"'Individual Calculations '!AZ57","v":0},{"$f":"'Individual Calculations '!BA57","v":0},{"$f":"'Individual Calculations '!BB57","v":0},{"$f":"'Individual Calculations '!BC57","v":0},null,0,0]
[46,90,null,{"$f":"'Individual Calculations '!G58","v":0},null,{"$f":"IF(TargetMethod3=1,\"NA\",'Individual Calculations '!R58)","v":0},null,{"$f":"IF(TargetMethod3=1,'Individual Calculations '!I58+'Individual Calculations '!J58+'Individual Calculations '!O58,'Individual Calculations '!S58+'Individual Calculations '!T58+'Individual Calculations '!W58)","v":0},{"$f":"IF(TargetMethod3=1,'Individual Calculations '!K58,'Individual Calculations '!U58)","v":0},{"$f":"IF(TargetMethod3=1,0,'Individual Calculations '!Y58)","v":0},null,{"$f":"'Individual Calculations '!AA58+'Individual Calculations '!AH58+'Individual Calculations '!AP58","v":0},{"$f":"'Individual Calculations '!AB58+'Individual Calculations '!AI58+'Individual Calculations '!AQ58","v":0},{"$f":"'Individual Calculations '!AC58","v":0.4},{"$f":"'Individual Calculations '!AD58+'Individual Calculations '!AK58+'Individual Calculations '!AS58","v":0},{"$f":"'Individual Calculations '!AE58+'Individual Calculations '!AL58+'Individual Calculations '!AT58","v":0},{"$f":"'Individual Calculations '!AF58+'Individual Calculations '!AM58+'Individual Calculations '!AU58","v":0},null,{"$f":"'Individual Calculations '!AX58","v":0},{"$f":"'Individual Calculations '!AY58","v":0.4},{"$f":"'Individual Calculations '!AZ58","v":0},{"$f":"'Individual Calculations '!BA58","v":0},{"$f":"'Individual Calculations '!BB58","v":0},{"$f":"'Individual Calculations '!BC58","v":0},null,0,0]
[47,91,null,{"$f":"'Individual Calculations '!G59","v":0},null,{"$f":"IF(TargetMethod3=1,\"NA\",'Individual Calculations '!R59)","v":0},null,{"$f":"IF(TargetMethod3=1,'Individual Calculations '!I59+'Individual Calculations '!J59+'Individual Calculations '!O59,'Individual Calculations '!S59+'Individual Calculations '!T59+'Individual Calculations '!W59)","v":0},{"$f":"IF(TargetMethod3=1,'Individual Calculations '!K59,'Individual Calculations '!U59)","v":0},{"$f":"IF(TargetMethod3=1,0,'Individual Calculations '!Y59)","v":0},null,{"$f":"'Individual Calculations '!AA59+'Individual Calculations '!AH59+'Individual Calculations '!AP59","v":0},{"$f":"'Individual Calculations '!AB59+'Individual Calculations '!AI59+'Individual Calculations '!AQ59","v":0},{"$f":"'Individual Calculations '!AC59","v":0.4},{"$f":"'Individual Calculations '!AD59+'Individual Calculations '!AK59+'Individual Calculations '!AS59","v":0},{"$f":"'Individual Calculations '!AE59+'Individual Calculations '!AL59+'Individual Calculations '!AT59","v":0},{"$f":"'Individual Calculations '!AF59+'Individual Calculations '!AM59+'Individual Calculations '!AU59","v":0},null,{"$f":"'Individual Calculations '!AX59","v":0},{"$f":"'Individual Calculations '!AY59","v":0.4},{"$f":"'Individual Calculations '!AZ59","v":0},{"$f":"'Individual Calculations '!BA59","v":0},{"$f":"'Individual Calculations '!BB59","v":0},{"$f":"'Individual Calculations '!BC59","v":0},null,0,0]
[48,92,null,{"$f":"'Individual Calculations '!G60","v":0},null,{"$f":"IF(TargetMethod3=1,\"NA\",'Individual Calculations '!R60)","v":0},null,{"$f":"IF(TargetMethod3=1,'Individual Calculations '!I60+'Individual Calculations '!J60+'Individual Calculations '!O60,'Individual Calculations '!S60+'Individual Calculations '!T60+'Individual Calculations '!W60)","v":0},{"$f":"IF(TargetMethod3=1,'Individual Calculations '!K60,'Individual Calculations '!U60)","v":0},{"$f":"IF(TargetMethod3=1,0,'Individual Calculations '!Y60)","v":0},null,{"$f":"'Individual Calculations '!AA60+'Individual Calculations '!AH60+'Individual Calculations '!AP60","v":0},{"$f":"'Individual Calculations '!AB60+'Individual Calculations '!AI60+'Individual Calculations '!AQ60","v":0},{"$f":"'Individual Calculations '!AC60","v":0.4},{"$f":"'Individual Calculations '!AD60+'Individual Calculations '!AK60+'Individual Calculations '!AS60","v":0},{"$f":"'Individual Calculations '!AE60+'Individual Calculations '!AL60+'Individual Calculations '!AT60","v":0},{"$f":"'Individual Calculations '!AF60+'Individual Calculations '!AM60+'Individual Calculations '!AU60","v":0},null,{"$f":"'Individual Calculations '!AX60","v":0},{"$f":"'Individual Calculations '!AY60","v":0.4},{"$f":"'Individual Calculations '!AZ60","v":0},{"$f":"'Individual Calculations '!BA60","v":0},{"$f":"'Individual Calculations '!BB60","v":0},{"$f":"'Individual Calculations '!BC60","v":0},null,0,0]
[49,93,null,{"$f":"'Individual Calculations '!G61","v":0},null,{"$f":"IF(TargetMethod3=1,\"NA\",'Individual Calculations '!R61)","v":0},null,{"$f":"IF(TargetMethod3=1,'Individual Calculations '!I61+'Individual Calculations '!J61+'Individual Calculations '!O61,'Individual Calculations '!S61+'Individual Calculations '!T61+'Individual Calculations '!W61)","v":0},{"$f":"IF(TargetMethod3=1,'Individual Calculations '!K61,'Individual Calculations '!U61)","v":0},{"$f":"IF(TargetMethod3=1,0,'Individual Calculations '!Y61)","v":0},null,{"$f":"'Individual Calculations '!AA61+'Individual Calculations '!AH61+'Individual Calculations '!AP61","v":0},{"$f":"'Individual Calculations '!AB61+'Individual Calculations '!AI61+'Individual Calculations '!AQ61","v":0},{"$f":"'Individual Calculations '!AC61","v":0.4},{"$f":"'Individual Calculations '!AD61+'Individual Calculations '!AK61+'Individual Calculations '!AS61","v":0},{"$f":"'Individual Calculations '!AE61+'Individual Calculations '!AL61+'Individual Calculations '!AT61","v":0},{"$f":"'Individual Calculations '!AF61+'Individual Calculations '!AM61+'Individual Calculations '!AU61","v":0},null,{"$f":"'Individual Calculations '!AX61","v":0},{"$f":"'Individual Calculations '!AY61","v":0.4},{"$f":"'Individual Calculations '!AZ61","v":0},{"$f":"'Individual Calculations '!BA61","v":0},{"$f":"'Individual Calculations '!BB61","v":0},{"$f":"'Individual Calculations '!BC61","v":0},null,0,0]
[50,94,null,{"$f":"'Individual Calculations '!G62","v":0},null,{"$f":"IF(TargetMethod3=1,\"NA\",'Individual Calculations '!R62)","v":0},null,{"$f":"IF(TargetMethod3=1,'Individual Calculations '!I62+'Individual Calculations '!J62+'Individual Calculations '!O62,'Individual Calculations '!S62+'Individual Calculations '!T62+'Individual Calculations '!W62)","v":0},{"$f":"IF(TargetMethod3=1,'Individual Calculations '!K62,'Individual Calculations '!U62)","v":0},{"$f":"IF(TargetMethod3=1,0,'Individual Calculations '!Y62)","v":0},null,{"$f":"'Individual Calculations '!AA62+'Individual Calculations '!AH62+'Individual Calculations '!AP62","v":0},{"$f":"'Individual Calculations '!AB62+'Individual Calculations '!AI62+'Individual Calculations '!AQ62","v":0},{"$f":"'Individual Calculations '!AC62","v":0.4},{"$f":"'Individual Calculations '!AD62+'Individual Calculations '!AK62+'Individual Calculations '!AS62","v":0},{"$f":"'Individual Calculations '!AE62+'Individual Calculations '!AL62+'Individual Calculations '!AT62","v":0},{"$f":"'Individual Calculations '!AF62+'Individual Calculations '!AM62+'Individual Calculations '!AU62","v":0},null,{"$f":"'Individual Calculations '!AX62","v":0},{"$f":"'Individual Calculations '!AY62","v":0.4},{"$f":"'Individual Calculations '!AZ62","v":0},{"$f":"'Individual Calculations '!BA62","v":0},{"$f":"'Individual Calculations '!BB62","v":0},{"$f":"'Individual Calculations '!BC62","v":0},null,0,0]
[51,95,null,{"$f":"'Individual Calculations '!G63","v":0},null,{"$f":"IF(TargetMethod3=1,\"NA\",'Individual Calculations '!R63)","v":0},null,{"$f":"IF(TargetMethod3=1,'Individual Calculations '!I63+'Individual Calculations '!J63+'Individual Calculations '!O63,'Individual Calculations '!S63+'Individual Calculations '!T63+'Individual Calculations '!W63)","v":0},{"$f":"IF(TargetMethod3=1,'Individual Calculations '!K63,'Individual Calculations '!U63)","v":0},{"$f":"IF(TargetMethod3=1,0,'Individual Calculations '!Y63)","v":0},null,{"$f":"'Individual Calculations '!AA63+'Individual Calculations '!AH63+'Individual Calculations '!AP63","v":0},{"$f":"'Individual Calculations '!AB63+'Individual Calculations '!AI63+'Individual Calculations '!AQ63","v":0},{"$f":"'Individual Calculations '!AC63","v":0.4},{"$f":"'Individual Calculations '!AD63+'Individual Calculations '!AK63+'Individual Calculations '!AS63","v":0},{"$f":"'Individual Calculations '!AE63+'Individual Calculations '!AL63+'Individual Calculations '!AT63","v":0},{"$f":"'Individual Calculations '!AF63+'Individual Calculations '!AM63+'Individual Calculations '!AU63","v":0},null,{"$f":"'Individual Calculations '!AX63","v":0},{"$f":"'Individual Calculations '!AY63","v":0.4},{"$f":"'Individual Calculations '!AZ63","v":0},{"$f":"'Individual Calculations '!BA63","v":0},{"$f":"'Individual Calculations '!BB63","v":0},{"$f":"'Individual Calculations '!BC63","v":0},null,0,0]
[52,96,null,{"$f":"'Individual Calculations '!G64","v":0},null,{"$f":"IF(TargetMethod3=1,\"NA\",'Individual Calculations '!R64)","v":0},null,{"$f":"IF(TargetMethod3=1,'Individual Calculations '!I64+'Individual Calculations '!J64+'Individual Calculations '!O64,'Individual Calculations '!S64+'Individual Calculations '!T64+'Individual Calculations '!W64)","v":0},{"$f":"IF(TargetMethod3=1,'Individual Calculations '!K64,'Individual Calculations '!U64)","v":0},{"$f":"IF(TargetMethod3=1,0,'Individual Calculations '!Y64)","v":0},null,{"$f":"'Individual Calculations '!AA64+'Individual Calculations '!AH64+'Individual Calculations '!AP64","v":0},{"$f":"'Individual Calculations '!AB64+'Individual Calculations '!AI64+'Individual Calculations '!AQ64","v":0},{"$f":"'Individual Calculations '!AC64","v":0.4},{"$f":"'Individual Calculations '!AD64+'Individual Calculations '!AK64+'Individual Calculations '!AS64","v":0},{"$f":"'Individual Calculations '!AE64+'Individual Calculations '!AL64+'Individual Calculations '!AT64","v":0},{"$f":"'Individual Calculations '!AF64+'Individual Calculations '!AM64+'Individual Calculations '!AU64","v":0},null,{"$f":"'Individual Calculations '!AX64","v":0},{"$f":"'Individual Calculations '!AY64","v":0.4},{"$f":"'Individual Calculations '!AZ64","v":0},{"$f":"'Individual Calculations '!BA64","v":0},{"$f":"'Individual Calculations '!BB64","v":0},{"$f":"'Individual Calculations '!BC64","v":0},null,0,0]
[53,97,null,{"$f":"'Individual Calculations '!G65","v":0},null,{"$f":"IF(TargetMethod3=1,\"NA\",'Individual Calculations '!R65)","v":0},null,{"$f":"IF(TargetMethod3=1,'Individual Calculations '!I65+'Individual Calculations '!J65+'Individual Calculations '!O65,'Individual Calculations '!S65+'Individual Calculations '!T65+'Individual Calculations '!W65)","v":0},{"$f":"IF(TargetMethod3=1,'Individual Calculations '!K65,'Individual Calculations '!U65)","v":0},{"$f":"IF(TargetMethod3=1,0,'Individual Calculations '!Y65)","v":0},null,{"$f":"'Individual Calculations '!AA65+'Individual Calculations '!AH65+'Individual Calculations '!AP65","v":0},{"$f":"'Individual Calculations '!AB65+'Individual Calculations '!AI65+'Individual Calculations '!AQ65","v":0},{"$f":"'Individual Calculations '!AC65","v":0.4},{"$f":"'Individual Calculations '!AD65+'Individual Calculations '!AK65+'Individual Calculations '!AS65","v":0},{"$f":"'Individual Calculations '!AE65+'Individual Calculations '!AL65+'Individual Calculations '!AT65","v":0},{"$f":"'Individual Calculations '!AF65+'Individual Calculations '!AM65+'Individual Calculations '!AU65","v":0},null,{"$f":"'Individual Calculations '!AX65","v":0},{"$f":"'Individual Calculations '!AY65","v":0.4},{"$f":"'Individual Calculations '!AZ65","v":0},{"$f":"'Individual Calculations '!BA65","v":0},{"$f":"'Individual Calculations '!BB65","v":0},{"$f":"'Individual Calculations '!BC65","v":0},null,0,0]
[54,98,null,{"$f":"'Individual Calculations '!G66","v":0},null,{"$f":"IF(TargetMethod3=1,\"NA\",'Individual Calculations '!R66)","v":0},null,{"$f":"IF(TargetMethod3=1,'Individual Calculations '!I66+'Individual Calculations '!J66+'Individual Calculations '!O66,'Individual Calculations '!S66+'Individual Calculations '!T66+'Individual Calculations '!W66)","v":0},{"$f":"IF(TargetMethod3=1,'Individual Calculations '!K66,'Individual Calculations '!U66)","v":0},{"$f":"IF(TargetMethod3=1,0,'Individual Calculations '!Y66)","v":0},null,{"$f":"'Individual Calculations '!AA66+'Individual Calculations '!AH66+'Individual Calculations '!AP66","v":0},{"$f":"'Individual Calculations '!AB66+'Individual Calculations '!AI66+'Individual Calculations '!AQ66","v":0},{"$f":"'Individual Calculations '!AC66","v":0.4},{"$f":"'Individual Calculations '!AD66+'Individual Calculations '!AK66+'Individual Calculations '!AS66","v":0},{"$f":"'Individual Calculations '!AE66+'Individual Calculations '!AL66+'Individual Calculations '!AT66","v":0},{"$f":"'Individual Calculations '!AF66+'Individual Calculations '!AM66+'Individual Calculations '!AU66","v":0},null,{"$f":"'Individual Calculations '!AX66","v":0},{"$f":"'Individual Calculations '!AY66","v":0.4},{"$f":"'Individual Calculations '!AZ66","v":0},{"$f":"'Individual Calculations '!BA66","v":0},{"$f":"'Individual Calculations '!BB66","v":0},{"$f":"'Individual Calculations '!BC66","v":0},null,0,0]
[55,99,null,{"$f":"'Individual Calculations '!G67","v":0},null,{"$f":"IF(TargetMethod3=1,\"NA\",'Individual Calculations '!R67)","v":0},null,{"$f":"IF(TargetMethod3=1,'Individual Calculations '!I67+'Individual Calculations '!J67+'Individual Calculations '!O67,'Individual Calculations '!S67+'Individual Calculations '!T67+'Individual Calculations '!W67)","v":0},{"$f":"IF(TargetMethod3=1,'Individual Calculations '!K67,'Individual Calculations '!U67)","v":0},{"$f":"IF(TargetMethod3=1,0,'Individual Calculations '!Y67)","v":0},null,{"$f":"'Individual Calculations '!AA67+'Individual Calculations '!AH67+'Individual Calculations '!AP67","v":0},{"$f":"'Individual Calculations '!AB67+'Individual Calculations '!AI67+'Individual Calculations '!AQ67","v":0},{"$f":"'Individual Calculations '!AC67","v":0.4},{"$f":"'Individual Calculations '!AD67+'Individual Calculations '!AK67+'Individual Calculations '!AS67","v":0},{"$f":"'Individual Calculations '!AE67+'Individual Calculations '!AL67+'Individual Calculations '!AT67","v":0},{"$f":"'Individual Calculations '!AF67+'Individual Calculations '!AM67+'Individual Calculations '!AU67","v":0},null,{"$f":"'Individual Calculations '!AX67","v":0},{"$f":"'Individual Calculations '!AY67","v":0.4},{"$f":"'Individual Calculations '!AZ67","v":0},{"$f":"'Individual Calculations '!BA67","v":0},{"$f":"'Individual Calculations '!BB67","v":0},{"$f":"'Individual Calculations '!BC67","v":0},null,0,0]
[56,100,null,{"$f":"'Individual Calculations '!G68","v":0},null,{"$f":"IF(TargetMethod3=1,\"NA\",'Individual Calculations '!R68)","v":0},null,{"$f":"IF(TargetMethod3=1,'Individual Calculations '!I68+'Individual Calculations '!J68+'Individual Calculations '!O68,'Individual Calculations '!S68+'Individual Calculations '!T68+'Individual Calculations '!W68)","v":0},{"$f":"IF(TargetMethod3=1,'Individual Calculations '!K68,'Individual Calculations '!U68)","v":0},{"$f":"IF(TargetMethod3=1,0,'Individual Calculations '!Y68)","v":0},null,{"$f":"'Individual Calculations '!AA68+'Individual Calculations '!AH68+'Individual Calculations '!AP68","v":0},{"$f":"'Individual Calculations '!AB68+'Individual Calculations '!AI68+'Individual Calculations '!AQ68","v":0},{"$f":"'Individual Calculations '!AC68","v":0.4},{"$f":"'Individual Calculations '!AD68+'Individual Calculations '!AK68+'Individual Calculations '!AS68","v":0},{"$f":"'Individual Calculations '!AE68+'Individual Calculations '!AL68+'Individual Calculations '!AT68","v":0},{"$f":"'Individual Calculations '!AF68+'Individual Calculations '!AM68+'Individual Calculations '!AU68","v":0},null,{"$f":"'Individual Calculations '!AX68","v":0},{"$f":"'Individual Calculations '!AY68","v":0.4},{"$f":"'Individual Calculations '!AZ68","v":0},{"$f":"'Individual Calculations '!BA68","v":0},{"$f":"'Individual Calculations '!BB68","v":0},{"$f":"'Individual Calculations '!BC68","v":0},null,0,0]
[57,101,null,{"$f":"'Individual Calculations '!G69","v":0},null,{"$f":"IF(TargetMethod3=1,\"NA\",'Individual Calculations '!R69)","v":0},null,{"$f":"IF(TargetMethod3=1,'Individual Calculations '!I69+'Individual Calculations '!J69+'Individual Calculations '!O69,'Individual Calculations '!S69+'Individual Calculations '!T69+'Individual Calculations '!W69)","v":0},{"$f":"IF(TargetMethod3=1,'Individual Calculations '!K69,'Individual Calculations '!U69)","v":0},{"$f":"IF(TargetMethod3=1,0,'Individual Calculations '!Y69)","v":0},null,{"$f":"'Individual Calculations '!AA69+'Individual Calculations '!AH69+'Individual Calculations '!AP69","v":0},{"$f":"'Individual Calculations '!AB69+'Individual Calculations '!AI69+'Individual Calculations '!AQ69","v":0},{"$f":"'Individual Calculations '!AC69","v":0.4},{"$f":"'Individual Calculations '!AD69+'Individual Calculations '!AK69+'Individual Calculations '!AS69","v":0},{"$f":"'Individual Calculations '!AE69+'Individual Calculations '!AL69+'Individual Calculations '!AT69","v":0},{"$f":"'Individual Calculations '!AF69+'Individual Calculations '!AM69+'Individual Calculations '!AU69","v":0},null,{"$f":"'Individual Calculations '!AX69","v":0},{"$f":"'Individual Calculations '!AY69","v":0.4},{"$f":"'Individual Calculations '!AZ69","v":0},{"$f":"'Individual Calculations '!BA69","v":0},{"$f":"'Individual Calculations '!BB69","v":0},{"$f":"'Individual Calculations '!BC69","v":0},null,0,0]
[58,102,null,{"$f":"'Individual Calculations '!G70","v":0},null,{"$f":"IF(TargetMethod3=1,\"NA\",'Individual Calculations '!R70)","v":0},null,{"$f":"IF(TargetMethod3=1,'Individual Calculations '!I70+'Individual Calculations '!J70+'Individual Calculations '!O70,'Individual Calculations '!S70+'Individual Calculations '!T70+'Individual Calculations '!W70)","v":0},{"$f":"IF(TargetMethod3=1,'Individual Calculations '!K70,'Individual Calculations '!U70)","v":0},{"$f":"IF(TargetMethod3=1,0,'Individual Calculations '!Y70)","v":0},null,{"$f":"'Individual Calculations '!AA70+'Individual Calculations '!AH70+'Individual Calculations '!AP70","v":0},{"$f":"'Individual Calculations '!AB70+'Individual Calculations '!AI70+'Individual Calculations '!AQ70","v":0},{"$f":"'Individual Calculations '!AC70","v":0.4},{"$f":"'Individual Calculations '!AD70+'Individual Calculations '!AK70+'Individual Calculations '!AS70","v":0},{"$f":"'Individual Calculations '!AE70+'Individual Calculations '!AL70+'Individual Calculations '!AT70","v":0},{"$f":"'Individual Calculations '!AF70+'Individual Calculations '!AM70+'Individual Calculations '!AU70","v":0},null,{"$f":"'Individual Calculations '!AX70","v":0},{"$f":"'Individual Calculations '!AY70","v":0.4},{"$f":"'Individual Calculations '!AZ70","v":0},{"$f":"'Individual Calculations '!BA70","v":0},{"$f":"'Individual Calculations '!BB70","v":0},{"$f":"'Individual Calculations '!BC70","v":0},null,0,0]
[59,103,null,{"$f":"'Individual Calculations '!G71","v":0},null,{"$f":"IF(TargetMethod3=1,\"NA\",'Individual Calculations '!R71)","v":0},null,{"$f":"IF(TargetMethod3=1,'Individual Calculations '!I71+'Individual Calculations '!J71+'Individual Calculations '!O71,'Individual Calculations '!S71+'Individual Calculations '!T71+'Individual Calculations '!W71)","v":0},{"$f":"IF(TargetMethod3=1,'Individual Calculations '!K71,'Individual Calculations '!U71)","v":0},{"$f":"IF(TargetMethod3=1,0,'Individual Calculations '!Y71)","v":0},null,{"$f":"'Individual Calculations '!AA71+'Individual Calculations '!AH71+'Individual Calculations '!AP71","v":0},{"$f":"'Individual Calculations '!AB71+'Individual Calculations '!AI71+'Individual Calculations '!AQ71","v":0},{"$f":"'Individual Calculations '!AC71","v":0.4},{"$f":"'Individual Calculations '!AD71+'Individual Calculations '!AK71+'Individual Calculations '!AS71","v":0},{"$f":"'Individual Calculations '!AE71+'Individual Calculations '!AL71+'Individual Calculations '!AT71","v":0},{"$f":"'Individual Calculations '!AF71+'Individual Calculations '!AM71+'Individual Calculations '!AU71","v":0},null,{"$f":"'Individual Calculations '!AX71","v":0},{"$f":"'Individual Calculations '!AY71","v":0.4},{"$f":"'Individual Calculations '!AZ71","v":0},{"$f":"'Individual Calculations '!BA71","v":0},{"$f":"'Individual Calculations '!BB71","v":0},{"$f":"'Individual Calculations '!BC71","v":0},null,0,0]
[60,104,null,{"$f":"'Individual Calculations '!G72","v":0},null,{"$f":"IF(TargetMethod3=1,\"NA\",'Individual Calculations '!R72)","v":0},null,{"$f":"IF(TargetMethod3=1,'Individual Calculations '!I72+'Individual Calculations '!J72+'Individual Calculations '!O72,'Individual Calculations '!S72+'Individual Calculations '!T72+'Individual Calculations '!W72)","v":0},{"$f":"IF(TargetMethod3=1,'Individual Calculations '!K72,'Individual Calculations '!U72)","v":0},{"$f":"IF(TargetMethod3=1,0,'Individual Calculations '!Y72)","v":0},null,{"$f":"'Individual Calculations '!AA72+'Individual Calculations '!AH72+'Individual Calculations '!AP72","v":0},{"$f":"'Individual Calculations '!AB72+'Individual Calculations '!AI72+'Individual Calculations '!AQ72","v":0},{"$f":"'Individual Calculations '!AC72","v":0.4},{"$f":"'Individual Calculations '!AD72+'Individual Calculations '!AK72+'Individual Calculations '!AS72","v":0},{"$f":"'Individual Calculations '!AE72+'Individual Calculations '!AL72+'Individual Calculations '!AT72","v":0},{"$f":"'Individual Calculations '!AF72+'Individual Calculations '!AM72+'Individual Calculations '!AU72","v":0},null,{"$f":"'Individual Calculations '!AX72","v":0},{"$f":"'Individual Calculations '!AY72","v":0.4},{"$f":"'Individual Calculations '!AZ72","v":0},{"$f":"'Individual Calculations '!BA72","v":0},{"$f":"'Individual Calculations '!BB72","v":0},{"$f":"'Individual Calculations '!BC72","v":0},null,0,0]
[61,105,null,{"$f":"'Individual Calculations '!G73","v":0},null,{"$f":"IF(TargetMethod3=1,\"NA\",'Individual Calculations '!R73)","v":0},null,{"$f":"IF(TargetMethod3=1,'Individual Calculations '!I73+'Individual Calculations '!J73+'Individual Calculations '!O73,'Individual Calculations '!S73+'Individual Calculations '!T73+'Individual Calculations '!W73)","v":0},{"$f":"IF(TargetMethod3=1,'Individual Calculations '!K73,'Individual Calculations '!U73)","v":0},{"$f":"IF(TargetMethod3=1,0,'Individual Calculations '!Y73)","v":0},null,{"$f":"'Individual Calculations '!AA73+'Individual Calculations '!AH73+'Individual Calculations '!AP73","v":0},{"$f":"'Individual Calculations '!AB73+'Individual Calculations '!AI73+'Individual Calculations '!AQ73","v":0},{"$f":"'Individual Calculations '!AC73","v":0.4},{"$f":"'Individual Calculations '!AD73+'Individual Calculations '!AK73+'Individual Calculations '!AS73","v":0},{"$f":"'Individual Calculations '!AE73+'Individual Calculations '!AL73+'Individual Calculations '!AT73","v":0},{"$f":"'Individual Calculations '!AF73+'Individual Calculations '!AM73+'Individual Calculations '!AU73","v":0},null,{"$f":"'Individual Calculations '!AX73","v":0},{"$f":"'Individual Calculations '!AY73","v":0.4},{"$f":"'Individual Calculations '!AZ73","v":0},{"$f":"'Individual Calculations '!BA73","v":0},{"$f":"'Individual Calculations '!BB73","v":0},{"$f":"'Individual Calculations '!BC73","v":0},null,0,0]
[62,106,null,{"$f":"'Individual Calculations '!G74","v":0},null,{"$f":"IF(TargetMethod3=1,\"NA\",'Individual Calculations '!R74)","v":0},null,{"$f":"IF(TargetMethod3=1,'Individual Calculations '!I74+'Individual Calculations '!J74+'Individual Calculations '!O74,'Individual Calculations '!S74+'Individual Calculations '!T74+'Individual Calculations '!W74)","v":0},{"$f":"IF(TargetMethod3=1,'Individual Calculations '!K74,'Individual Calculations '!U74)","v":0},{"$f":"IF(TargetMethod3=1,0,'Individual Calculations '!Y74)","v":0},null,{"$f":"'Individual Calculations '!AA74+'Individual Calculations '!AH74+'Individual Calculations '!AP74","v":0},{"$f":"'Individual Calculations '!AB74+'Individual Calculations '!AI74+'Individual Calculations '!AQ74","v":0},{"$f":"'Individual Calculations '!AC74","v":0.4},{"$f":"'Individual Calculations '!AD74+'Individual Calculations '!AK74+'Individual Calculations '!AS74","v":0},{"$f":"'Individual Calculations '!AE74+'Individual Calculations '!AL74+'Individual Calculations '!AT74","v":0},{"$f":"'Individual Calculations '!AF74+'Individual Calculations '!AM74+'Individual Calculations '!AU74","v":0},null,{"$f":"'Individual Calculations '!AX74","v":0},{"$f":"'Individual Calculations '!AY74","v":0.4},{"$f":"'Individual Calculations '!AZ74","v":0},{"$f":"'Individual Calculations '!BA74","v":0},{"$f":"'Individual Calculations '!BB74","v":0},{"$f":"'Individual Calculations '!BC74","v":0},null,0,0]
[63,107,null,{"$f":"'Individual Calculations '!G75","v":0},null,{"$f":"IF(TargetMethod3=1,\"NA\",'Individual Calculations '!R75)","v":0},null,{"$f":"IF(TargetMethod3=1,'Individual Calculations '!I75+'Individual Calculations '!J75+'Individual Calculations '!O75,'Individual Calculations '!S75+'Individual Calculations '!T75+'Individual Calculations '!W75)","v":0},{"$f":"IF(TargetMethod3=1,'Individual Calculations '!K75,'Individual Calculations '!U75)","v":0},{"$f":"IF(TargetMethod3=1,0,'Individual Calculations '!Y75)","v":0},null,{"$f":"'Individual Calculations '!AA75+'Individual Calculations '!AH75+'Individual Calculations '!AP75","v":0},{"$f":"'Individual Calculations '!AB75+'Individual Calculations '!AI75+'Individual Calculations '!AQ75","v":0},{"$f":"'Individual Calculations '!AC75","v":0.4},{"$f":"'Individual Calculations '!AD75+'Individual Calculations '!AK75+'Individual Calculations '!AS75","v":0},{"$f":"'Individual Calculations '!AE75+'Individual Calculations '!AL75+'Individual Calculations '!AT75","v":0},{"$f":"'Individual Calculations '!AF75+'Individual Calculations '!AM75+'Individual Calculations '!AU75","v":0},null,{"$f":"'Individual Calculations '!AX75","v":0},{"$f":"'Individual Calculations '!AY75","v":0.4},{"$f":"'Individual Calculations '!AZ75","v":0},{"$f":"'Individual Calculations '!BA75","v":0},{"$f":"'Individual Calculations '!BB75","v":0},{"$f":"'Individual Calculations '!BC75","v":0},null,0,0]
[64,108,null,{"$f":"'Individual Calculations '!G76","v":0},null,{"$f":"IF(TargetMethod3=1,\"NA\",'Individual Calculations '!R76)","v":0},null,{"$f":"IF(TargetMethod3=1,'Individual Calculations '!I76+'Individual Calculations '!J76+'Individual Calculations '!O76,'Individual Calculations '!S76+'Individual Calculations '!T76+'Individual Calculations '!W76)","v":0},{"$f":"IF(TargetMethod3=1,'Individual Calculations '!K76,'Individual Calculations '!U76)","v":0},{"$f":"IF(TargetMethod3=1,0,'Individual Calculations '!Y76)","v":0},null,{"$f":"'Individual Calculations '!AA76+'Individual Calculations '!AH76+'Individual Calculations '!AP76","v":0},{"$f":"'Individual Calculations '!AB76+'Individual Calculations '!AI76+'Individual Calculations '!AQ76","v":0},{"$f":"'Individual Calculations '!AC76","v":0.4},{"$f":"'Individual Calculations '!AD76+'Individual Calculations '!AK76+'Individual Calculations '!AS76","v":0},{"$f":"'Individual Calculations '!AE76+'Individual Calculations '!AL76+'Individual Calculations '!AT76","v":0},{"$f":"'Individual Calculations '!AF76+'Individual Calculations '!AM76+'Individual Calculations '!AU76","v":0},null,{"$f":"'Individual Calculations '!AX76","v":0},{"$f":"'Individual Calculations '!AY76","v":0.4},{"$f":"'Individual Calculations '!AZ76","v":0},{"$f":"'Individual Calculations '!BA76","v":0},{"$f":"'Individual Calculations '!BB76","v":0},{"$f":"'Individual Calculations '!BC76","v":0},null,0,0]
[65,109,null,{"$f":"'Individual Calculations '!G77","v":0},null,{"$f":"IF(TargetMethod3=1,\"NA\",'Individual Calculations '!R77)","v":0},null,{"$f":"IF(TargetMethod3=1,'Individual Calculations '!I77+'Individual Calculations '!J77+'Individual Calculations '!O77,'Individual Calculations '!S77+'Individual Calculations '!T77+'Individual Calculations '!W77)","v":0},{"$f":"IF(TargetMethod3=1,'Individual Calculations '!K77,'Individual Calculations '!U77)","v":0},{"$f":"IF(TargetMethod3=1,0,'Individual Calculations '!Y77)","v":0},null,{"$f":"'Individual Calculations '!AA77+'Individual Calculations '!AH77+'Individual Calculations '!AP77","v":0},{"$f":"'Individual Calculations '!AB77+'Individual Calculations '!AI77+'Individual Calculations '!AQ77","v":0},{"$f":"'Individual Calculations '!AC77","v":0.4},{"$f":"'Individual Calculations '!AD77+'Individual Calculations '!AK77+'Individual Calculations '!AS77","v":0},{"$f":"'Individual Calculations '!AE77+'Individual Calculations '!AL77+'Individual Calculations '!AT77","v":0},{"$f":"'Individual Calculations '!AF77+'Individual Calculations '!AM77+'Individual Calculations '!AU77","v":0},null,{"$f":"'Individual Calculations '!AX77","v":0},{"$f":"'Individual Calculations '!AY77","v":0.4},{"$f":"'Individual Calculations '!AZ77","v":0},{"$f":"'Individual Calculations '!BA77","v":0},{"$f":"'Individual Calculations '!BB77","v":0},{"$f":"'Individual Calculations '!BC77","v":0},null,0,0]
[66,110,null,{"$f":"'Individual Calculations '!G78","v":0},null,{"$f":"IF(TargetMethod3=1,\"NA\",'Individual Calculations '!R78)","v":0},null,{"$f":"IF(TargetMethod3=1,'Individual Calculations '!I78+'Individual Calculations '!J78+'Individual Calculations '!O78,'Individual Calculations '!S78+'Individual Calculations '!T78+'Individual Calculations '!W78)","v":0},{"$f":"IF(TargetMethod3=1,'Individual Calculations '!K78,'Individual Calculations '!U78)","v":0},{"$f":"IF(TargetMethod3=1,0,'Individual Calculations '!Y78)","v":0},null,{"$f":"'Individual Calculations '!AA78+'Individual Calculations '!AH78+'Individual Calculations '!AP78","v":0},{"$f":"'Individual Calculations '!AB78+'Individual Calculations '!AI78+'Individual Calculations '!AQ78","v":0},{"$f":"'Individual Calculations '!AC78","v":0.4},{"$f":"'Individual Calculations '!AD78+'Individual Calculations '!AK78+'Individual Calculations '!AS78","v":0},{"$f":"'Individual Calculations '!AE78+'Individual Calculations '!AL78+'Individual Calculations '!AT78","v":0},{"$f":"'Individual Calculations '!AF78+'Individual Calculations '!AM78+'Individual Calculations '!AU78","v":0},null,{"$f":"'Individual Calculations '!AX78","v":0},{"$f":"'Individual Calculations '!AY78","v":0.4},{"$f":"'Individual Calculations '!AZ78","v":0},{"$f":"'Individual Calculations '!BA78","v":0},{"$f":"'Individual Calculations '!BB78","v":0},{"$f":"'Individual Calculations '!BC78","v":0},null,{"$f":"-(O73+V73)","v":0},{"$f":"Z73/(1-T73)","v":0}]
[{"$f":"A73+1","v":67},{"$f":"IF(A74=\"\",\"\",+B73+1)","v":111},null,{"$f":"'Individual Calculations '!G79","v":0},null,{"$f":"IF(TargetMethod3=1,\"NA\",'Individual Calculations '!R79)","v":0},null,{"$f":"IF(TargetMethod3=1,'Individual Calculations '!I79+'Individual Calculations '!J79+'Individual Calculations '!O79,'Individual Calculations '!S79+'Individual Calculations '!T79+'Individual Calculations '!W79)","v":0},{"$f":"IF(TargetMethod3=1,'Individual Calculations '!K79,'Individual Calculations '!U79)","v":0},{"$f":"IF(TargetMethod3=1,0,'Individual Calculations '!Y79)","v":0},null,{"$f":"'Individual Calculations '!AA79+'Individual Calculations '!AH79+'Individual Calculations '!AP79","v":0},{"$f":"'Individual Calculations '!AB79+'Individual Calculations '!AI79+'Individual Calculations '!AQ79","v":0},{"$f":"'Individual Calculations '!AC79","v":0.4},{"$f":"'Individual Calculations '!AD79+'Individual Calculations '!AK79+'Individual Calculations '!AS79","v":0},{"$f":"'Individual Calculations '!AE79+'Individual Calculations '!AL79+'Individual Calculations '!AT79","v":0},{"$f":"'Individual Calculations '!AF79+'Individual Calculations '!AM79+'Individual Calculations '!AU79","v":0},null,{"$f":"'Individual Calculations '!AX79","v":0},{"$f":"'Individual Calculations '!AY79","v":0.4},{"$f":"'Individual Calculations '!AZ79","v":0},{"$f":"'Individual Calculations '!BA79","v":0},{"$f":"'Individual Calculations '!BB79","v":0},{"$f":"'Individual Calculations '!BC79","v":0},null,0,0]
[68,112,null,{"$f":"'Individual Calculations '!G80","v":0},null,{"$f":"IF(TargetMethod3=1,\"NA\",'Individual Calculations '!R80)","v":0},null,{"$f":"IF(TargetMethod3=1,'Individual Calculations '!I80+'Individual Calculations '!J80+'Individual Calculations '!O80,'Individual Calculations '!S80+'Individual Calculations '!T80+'Individual Calculations '!W80)","v":0},{"$f":"IF(TargetMethod3=1,'Individual Calculations '!K80,'Individual Calculations '!U80)","v":0},{"$f":"IF(TargetMethod3=1,0,'Individual Calculations '!Y80)","v":0},null,{"$f":"'Individual Calculations '!AA80+'Individual Calculations '!AH80+'Individual Calculations '!AP80","v":0},{"$f":"'Individual Calculations '!AB80+'Individual Calculations '!AI80+'Individual Calculations '!AQ80","v":0},{"$f":"'Individual Calculations '!AC80","v":0.4},{"$f":"'Individual Calculations '!AD80+'Individual Calculations '!AK80+'Individual Calculations '!AS80","v":0},{"$f":"'Individual Calculations '!AE80+'Individual Calculations '!AL80+'Individual Calculations '!AT80","v":0},{"$f":"'Individual Calculations '!AF80+'Individual Calculations '!AM80+'Individual Calculations '!AU80","v":0},null,{"$f":"'Individual Calculations '!AX80","v":0},{"$f":"'Individual Calculations '!AY80","v":0.4},{"$f":"'Individual Calculations '!AZ80","v":0},{"$f":"'Individual Calculations '!BA80","v":0},{"$f":"'Individual Calculations '!BB80","v":0},{"$f":"'Individual Calculations '!BC80","v":0},null,0,0]
[69,113,null,{"$f":"'Individual Calculations '!G81","v":0},null,{"$f":"IF(TargetMethod3=1,\"NA\",'Individual Calculations '!R81)","v":0},null,{"$f":"IF(TargetMethod3=1,'Individual Calculations '!I81+'Individual Calculations '!J81+'Individual Calculations '!O81,'Individual Calculations '!S81+'Individual Calculations '!T81+'Individual Calculations '!W81)","v":0},{"$f":"IF(TargetMethod3=1,'Individual Calculations '!K81,'Individual Calculations '!U81)","v":0},{"$f":"IF(TargetMethod3=1,0,'Individual Calculations '!Y81)","v":0},null,{"$f":"'Individual Calculations '!AA81+'Individual Calculations '!AH81+'Individual Calculations '!AP81","v":0},{"$f":"'Individual Calculations '!AB81+'Individual Calculations '!AI81+'Individual Calculations '!AQ81","v":0},{"$f":"'Individual Calculations '!AC81","v":0.4},{"$f":"'Individual Calculations '!AD81+'Individual Calculations '!AK81+'Individual Calculations '!AS81","v":0},{"$f":"'Individual Calculations '!AE81+'Individual Calculations '!AL81+'Individual Calculations '!AT81","v":0},{"$f":"'Individual Calculations '!AF81+'Individual Calculations '!AM81+'Individual Calculations '!AU81","v":0},null,{"$f":"'Individual Calculations '!AX81","v":0},{"$f":"'Individual Calculations '!AY81","v":0.4},{"$f":"'Individual Calculations '!AZ81","v":0},{"$f":"'Individual Calculations '!BA81","v":0},{"$f":"'Individual Calculations '!BB81","v":0},{"$f":"'Individual Calculations '!BC81","v":0},null,0,0]
[70,114,null,{"$f":"'Individual Calculations '!G82","v":0},null,{"$f":"IF(TargetMethod3=1,\"NA\",'Individual Calculations '!R82)","v":0},null,{"$f":"IF(TargetMethod3=1,'Individual Calculations '!I82+'Individual Calculations '!J82+'Individual Calculations '!O82,'Individual Calculations '!S82+'Individual Calculations '!T82+'Individual Calculations '!W82)","v":0},{"$f":"IF(TargetMethod3=1,'Individual Calculations '!K82,'Individual Calculations '!U82)","v":0},{"$f":"IF(TargetMethod3=1,0,'Individual Calculations '!Y82)","v":0},null,{"$f":"'Individual Calculations '!AA82+'Individual Calculations '!AH82+'Individual Calculations '!AP82","v":0},{"$f":"'Individual Calculations '!AB82+'Individual Calculations '!AI82+'Individual Calculations '!AQ82","v":0},{"$f":"'Individual Calculations '!AC82","v":0.4},{"$f":"'Individual Calculations '!AD82+'Individual Calculations '!AK82+'Individual Calculations '!AS82","v":0},{"$f":"'Individual Calculations '!AE82+'Individual Calculations '!AL82+'Individual Calculations '!AT82","v":0},{"$f":"'Individual Calculations '!AF82+'Individual Calculations '!AM82+'Individual Calculations '!AU82","v":0},null,{"$f":"'Individual Calculations '!AX82","v":0},{"$f":"'Individual Calculations '!AY82","v":0.4},{"$f":"'Individual Calculations '!AZ82","v":0},{"$f":"'Individual Calculations '!BA82","v":0},{"$f":"'Individual Calculations '!BB82","v":0},{"$f":"'Individual Calculations '!BC82","v":0},null,0,0]
[71,115,null,{"$f":"'Individual Calculations '!G83","v":0},null,{"$f":"IF(TargetMethod3=1,\"NA\",'Individual Calculations '!R83)","v":0},null,{"$f":"IF(TargetMethod3=1,'Individual Calculations '!I83+'Individual Calculations '!J83+'Individual Calculations '!O83,'Individual Calculations '!S83+'Individual Calculations '!T83+'Individual Calculations '!W83)","v":0},{"$f":"IF(TargetMethod3=1,'Individual Calculations '!K83,'Individual Calculations '!U83)","v":0},{"$f":"IF(TargetMethod3=1,0,'Individual Calculations '!Y83)","v":0},null,{"$f":"'Individual Calculations '!AA83+'Individual Calculations '!AH83+'Individual Calculations '!AP83","v":0},{"$f":"'Individual Calculations '!AB83+'Individual Calculations '!AI83+'Individual Calculations '!AQ83","v":0},{"$f":"'Individual Calculations '!AC83","v":0.4},{"$f":"'Individual Calculations '!AD83+'Individual Calculations '!AK83+'Individual Calculations '!AS83","v":0},{"$f":"'Individual Calculations '!AE83+'Individual Calculations '!AL83+'Individual Calculations '!AT83","v":0},{"$f":"'Individual Calculations '!AF83+'Individual Calculations '!AM83+'Individual Calculations '!AU83","v":0},null,{"$f":"'Individual Calculations '!AX83","v":0},{"$f":"'Individual Calculations '!AY83","v":0.4},{"$f":"'Individual Calculations '!AZ83","v":0},{"$f":"'Individual Calculations '!BA83","v":0},{"$f":"'Individual Calculations '!BB83","v":0},{"$f":"'Individual Calculations '!BC83","v":0},null,0,0]
[72,116,null,{"$f":"'Individual Calculations '!G84","v":0},null,{"$f":"IF(TargetMethod3=1,\"NA\",'Individual Calculations '!R84)","v":0},null,{"$f":"IF(TargetMethod3=1,'Individual Calculations '!I84+'Individual Calculations '!J84+'Individual Calculations '!O84,'Individual Calculations '!S84+'Individual Calculations '!T84+'Individual Calculations '!W84)","v":0},{"$f":"IF(TargetMethod3=1,'Individual Calculations '!K84,'Individual Calculations '!U84)","v":0},{"$f":"IF(TargetMethod3=1,0,'Individual Calculations '!Y84)","v":0},null,{"$f":"'Individual Calculations '!AA84+'Individual Calculations '!AH84+'Individual Calculations '!AP84","v":0},{"$f":"'Individual Calculations '!AB84+'Individual Calculations '!AI84+'Individual Calculations '!AQ84","v":0},{"$f":"'Individual Calculations '!AC84","v":0.4},{"$f":"'Individual Calculations '!AD84+'Individual Calculations '!AK84+'Individual Calculations '!AS84","v":0},{"$f":"'Individual Calculations '!AE84+'Individual Calculations '!AL84+'Individual Calculations '!AT84","v":0},{"$f":"'Individual Calculations '!AF84+'Individual Calculations '!AM84+'Individual Calculations '!AU84","v":0},null,{"$f":"'Individual Calculations '!AX84","v":0},{"$f":"'Individual Calculations '!AY84","v":0.4},{"$f":"'Individual Calculations '!AZ84","v":0},{"$f":"'Individual Calculations '!BA84","v":0},{"$f":"'Individual Calculations '!BB84","v":0},{"$f":"'Individual Calculations '!BC84","v":0},null,0,0]
[73,117,null,{"$f":"'Individual Calculations '!G85","v":0},null,{"$f":"IF(TargetMethod3=1,\"NA\",'Individual Calculations '!R85)","v":0},null,{"$f":"IF(TargetMethod3=1,'Individual Calculations '!I85+'Individual Calculations '!J85+'Individual Calculations '!O85,'Individual Calculations '!S85+'Individual Calculations '!T85+'Individual Calculations '!W85)","v":0},{"$f":"IF(TargetMethod3=1,'Individual Calculations '!K85,'Individual Calculations '!U85)","v":0},{"$f":"IF(TargetMethod3=1,0,'Individual Calculations '!Y85)","v":0},null,{"$f":"'Individual Calculations '!AA85+'Individual Calculations '!AH85+'Individual Calculations '!AP85","v":0},{"$f":"'Individual Calculations '!AB85+'Individual Calculations '!AI85+'Individual Calculations '!AQ85","v":0},{"$f":"'Individual Calculations '!AC85","v":0.4},{"$f":"'Individual Calculations '!AD85+'Individual Calculations '!AK85+'Individual Calculations '!AS85","v":0},{"$f":"'Individual Calculations '!AE85+'Individual Calculations '!AL85+'Individual Calculations '!AT85","v":0},{"$f":"'Individual Calculations '!AF85+'Individual Calculations '!AM85+'Individual Calculations '!AU85","v":0},null,{"$f":"'Individual Calculations '!AX85","v":0},{"$f":"'Individual Calculations '!AY85","v":0.4},{"$f":"'Individual Calculations '!AZ85","v":0},{"$f":"'Individual Calculations '!BA85","v":0},{"$f":"'Individual Calculations '!BB85","v":0},{"$f":"'Individual Calculations '!BC85","v":0},null,0,0]
[74,118,null,{"$f":"'Individual Calculations '!G86","v":0},null,{"$f":"IF(TargetMethod3=1,\"NA\",'Individual Calculations '!R86)","v":0},null,{"$f":"IF(TargetMethod3=1,'Individual Calculations '!I86+'Individual Calculations '!J86+'Individual Calculations '!O86,'Individual Calculations '!S86+'Individual Calculations '!T86+'Individual Calculations '!W86)","v":0},{"$f":"IF(TargetMethod3=1,'Individual Calculations '!K86,'Individual Calculations '!U86)","v":0},{"$f":"IF(TargetMethod3=1,0,'Individual Calculations '!Y86)","v":0},null,{"$f":"'Individual Calculations '!AA86+'Individual Calculations '!AH86+'Individual Calculations '!AP86","v":0},{"$f":"'Individual Calculations '!AB86+'Individual Calculations '!AI86+'Individual Calculations '!AQ86","v":0},{"$f":"'Individual Calculations '!AC86","v":0.4},{"$f":"'Individual Calculations '!AD86+'Individual Calculations '!AK86+'Individual Calculations '!AS86","v":0},{"$f":"'Individual Calculations '!AE86+'Individual Calculations '!AL86+'Individual Calculations '!AT86","v":0},{"$f":"'Individual Calculations '!AF86+'Individual Calculations '!AM86+'Individual Calculations '!AU86","v":0},null,{"$f":"'Individual Calculations '!AX86","v":0},{"$f":"'Individual Calculations '!AY86","v":0.4},{"$f":"'Individual Calculations '!AZ86","v":0},{"$f":"'Individual Calculations '!BA86","v":0},{"$f":"'Individual Calculations '!BB86","v":0},{"$f":"'Individual Calculations '!BC86","v":0},null,0,0]
[75,119,null,{"$f":"'Individual Calculations '!G87","v":0},null,{"$f":"IF(TargetMethod3=1,\"NA\",'Individual Calculations '!R87)","v":0},null,{"$f":"IF(TargetMethod3=1,'Individual Calculations '!I87+'Individual Calculations '!J87+'Individual Calculations '!O87,'Individual Calculations '!S87+'Individual Calculations '!T87+'Individual Calculations '!W87)","v":0},{"$f":"IF(TargetMethod3=1,'Individual Calculations '!K87,'Individual Calculations '!U87)","v":0},{"$f":"IF(TargetMethod3=1,0,'Individual Calculations '!Y87)","v":0},null,{"$f":"'Individual Calculations '!AA87+'Individual Calculations '!AH87+'Individual Calculations '!AP87","v":0},{"$f":"'Individual Calculations '!AB87+'Individual Calculations '!AI87+'Individual Calculations '!AQ87","v":0},{"$f":"'Individual Calculations '!AC87","v":0.4},{"$f":"'Individual Calculations '!AD87+'Individual Calculations '!AK87+'Individual Calculations '!AS87","v":0},{"$f":"'Individual Calculations '!AE87+'Individual Calculations '!AL87+'Individual Calculations '!AT87","v":0},{"$f":"'Individual Calculations '!AF87+'Individual Calculations '!AM87+'Individual Calculations '!AU87","v":0},null,{"$f":"'Individual Calculations '!AX87","v":0},{"$f":"'Individual Calculations '!AY87","v":0.4},{"$f":"'Individual Calculations '!AZ87","v":0},{"$f":"'Individual Calculations '!BA87","v":0},{"$f":"'Individual Calculations '!BB87","v":0},{"$f":"'Individual Calculations '!BC87","v":0},null,0,0]
[]
[null,null,null,null,null,{"$f":"SUBTOTAL(9,F8:F82)","v":0},null,{"$f":"SUBTOTAL(9,H8:H82)","v":0},{"$f":"SUBTOTAL(9,I8:I82)","v":0},{"$f":"SUBTOTAL(9,J8:J82)","v":0},null,{"$f":"SUBTOTAL(9,L8:L82)","v":0},{"$f":"-SUBTOTAL(9,M8:M82)","v":0},null,{"$f":"-SUBTOTAL(9,O8:O82)","v":0},null,null,null,{"$f":"SUBTOTAL(9,S8:S82)","v":0},null,{"$f":"SUBTOTAL(9,U8:U82)","v":0},{"$f":"-SUBTOTAL(9,V8:V82)","v":0},null,null,null,{"$f":"SUBTOTAL(9,Z8:Z82)","v":0},{"$f":"SUBTOTAL(9,AA8:AA82)","v":0}]

{"sheet":"Notes","index":14,"n_rows":22,"n_cols":3,"rows_kept":22,"cut":false,"hidden":true,"merged":[]}
["Notes"]
[null,"403(b) Plans"]
[null,"For a participant who is 50 or older, the user can illustrate two catch-up options,"]
[null,"- Age 50 catch-up contributios are based on the IRS Code - section 414(v)(2)(B)(i)."]
[null,">","For 2011, the amount is $5,500 and adjusted for cost living thereafter."]
[null,"- Special catch-up - 15 Yr. Rule, allows a participant with at 15 years of service to contribute additional amount based on the following:"]
[null,">"," the lesser of $3,000, "]
[null,">"," $5,000 (an assumed average contribution) times years of service minus the total"]
[null,null," contributions including prior Age 50 and 15 Yr. Rule contribitions made into the plan."]
[null,">","Capped at $15,000 for life"]
[null,"It's assumed that both catch-up options are allowed by the employer.  Therefore, the 15 Yr. catch-up is used first."]
[]
[null,"457(b) Plans"]
[null,"For a participant who is 50 or older, the user can illustrate one catch-up option,"]
[null,"- Special catch-up - allows a participant with 3 years prior to retirement to contribute additional amount based on the following:"]
[null,">","Normal basic annual limit (adjusted for the cost of living) plus"]
[null,">","the underuntilized amounts from prior years or"]
[null,">","2 times the annual limit for the year"]
[]
[null,"Note that the Age 50 catch-up is not illustrated as it's only available to governmental plans."]
[null,"In addition, a participant is not permitted to use the Age 50 and Special catch-up simultaneously,"]
[null,"but may utilize whichever is greater."]

{"sheet":"Tables","index":15,"n_rows":131,"n_cols":27,"rows_kept":131,"cut":false,"hidden":true,"merged":[[3,18,3,19],[6,18,6,19],[51,25,51,26],[6,16,6,17],[3,2,3,5],[3,6,3,9],[3,10,3,13],[3,16,3,17],[3,14,3,15]]}
["Col#"]
[{"$f":"COLUMN()","v":1},{"$f":"COLUMN()","v":2},{"$f":"COLUMN()","v":3},{"$f":"COLUMN()","v":4},{"$f":"COLUMN()","v":5},{"$f":"COLUMN()","v":6},{"$f":"COLUMN()","v":7},{"$f":"COLUMN()","v":8},{"$f":"COLUMN()","v":9},{"$f":"COLUMN()","v":10},{"$f":"COLUMN()","v":11},{"$f":"COLUMN()","v":12},{"$f":"COLUMN()","v":13},{"$f":"COLUMN()","v":14},{"$f":"COLUMN()","v":15},{"$f":"COLUMN()","v":16},{"$f":"COLUMN()","v":17},{"$f":"COLUMN()","v":18},{"$f":"COLUMN()","v":19},{"$f":"COLUMN()","v":20},{"$f":"COLUMN()","v":21},{"$f":"COLUMN()","v":22},{"$f":"COLUMN()","v":23}]
["Rounding Rule ==>",null,null,null,null,null,null,5000,null,null,null,5000,null,null,null,1000,null,500,null,500]
[null,null,"SSBenGrowth",null,null,null,"Section415LimitGrowth",null,null,null,"IRSCompLimitGrowth",null,null,null,"Defined Contrib Plan Limit",null,"Annual Contrib",null,"Age 50+ Catch-up Contrib"]
[null,null,{"$f":"SSBenGrowth","v":0.03},null,null,null,{"$f":"Section415LimitGrowth","v":0.03},null,null,null,{"$f":"IRSCompLimitGrowth","v":0.03},null,null,null,{"$f":"IRS401kLimitGrowth","v":0.03},null,{"$f":"IRS401kLimitGrowth","v":0.03}]
[null,{"$f":"COUNTBLANK(B10:B126)","v":45},null,null,null,null,null,null,null,null,null,null,null,null,null,null,null,null,null,null,"35 Yr Avg"]
[null,null,"Social",null,"3 Yr Avg","5 Yr Avg","Section",null,"3 Yr Avg","5 Yr Avg","IRS",null,"3 Yr Avg","5 Yr Avg","Defined","Defined","IRS 401(k), 403(b) & 457(b) (402(g)(1))",null,"Age 50+ Catch-up","Age 50+","Social","4 Yr Avg","4 Yr Avg"]
[null,null,"Security","With","Soc Security","Soc Security","415 Limit","Section","Section","Section","Comp Limit","IRS","IRS","IRS","Contrib Plan","Contrib Plan","Contrib Limit",null,"Deferrals","Catch-up","Security","Section","IRS"]
["Year","Age","Wage Base","Rounding","Wage Base","Wage Base","Index","415 Limit","415 Limit","415 Limit","Index","Comp Limit","Comp Limit","Comp Limit","Limit Index","Limit","Index","Contrib Limit","Index","Deferrals","Wage Base","415 Limit","Comp Limit"]
[1970,{"$f":"IF(A10<StartYr,\"\",IF(A10=StartYr,Age,B9+1))","v":""},7800,{"$f":"INT(C10/100)*100","v":7800}]
[{"$f":"A10+1","v":1971},"",7800,7800]
[1972,"",9000,9000,{"$f":"SUM(D10:D12)/3","v":8200}]
[1973,"",10800,10800,9200]
[1974,"",13200,13200,11000,{"$f":"SUM(D10:D14)/5","v":9720}]
[1975,"",14100,14100,12700,10980]
[1976,"",15300,15300,14200,12480]
[1977,"",16500,16500,15300,13980]
[1978,"",17700,17700,16500,15360]
[1979,"",22900,22900,19033.333333333332,17300]
[1980,"",25900,25900,22166.666666666668,19660]
[1981,"",29700,29700,26166.666666666668,22540]
[1982,"",32400,32400,29333.333333333332,25720]
[1983,"",35700,35700,32600,29320]
[1984,"",37800,37800,35300,32300]
[1985,"",39600,39600,37700,35040]
[1986,"",42000,42000,39800,37500]
[1987,"",43800,43800,41800,39780]
[1988,"",45000,45000,43600,41640]
[1989,"",48000,48000,45600,43680,null,null,null,null,null,null,null,null,null,null,7627]
[1990,"",51300,51300,48100,46020,null,null,null,null,null,null,null,null,null,null,7979]
[1991,"",53400,53400,50900,48300,null,null,null,null,null,null,null,null,null,null,8475]
[1992,"",55500,55500,53400,50640,null,null,null,null,null,null,null,null,null,null,8728]
[1993,"",57600,57600,55500,53160,null,null,null,null,null,null,null,null,null,null,8994]
[1994,"",60600,60600,57900,55680,null,null,null,null,null,null,null,null,null,null,9240]
[1995,"",61200,61200,59800,57660,null,null,null,null,null,null,null,null,null,null,9240]
[1996,"",62700,62700,61500,59520,120000,120000,null,null,150000,150000,null,null,null,null,9500,9500]
[1997,"",65400,65400,63100,61500,125000,125000,null,null,160000,160000,null,null,null,null,9500,9500]
[1998,"",68400,68400,65500,63660,130000,130000,{"$f":"SUM(H36:H38)/3","v":125000},null,160000,160000,{"$f":"SUM(L36:L38)/3","v":156666.66666666666},null,null,null,10000,10000]
[1999,"",72600,72600,68800,66060,130000,130000,128333.33333333333,null,160000,160000,160000,null,null,null,10000,10000,null,null,null,{"$f":"SUM(H36:H39)/4","v":126250},{"$f":"SUM(L36:L39)/4","v":157500}]
[2000,"",76200,76200,72400,69060,135000,135000,131666.66666666666,{"$f":"SUM(H36:H40)/5","v":128000},170000,170000,163333.33333333334,{"$f":"SUM(L36:L40)/5","v":160000},30000,30000,10500,10500,null,null,null,130000,{"$f":"SUM(L37:L40)/4","v":162500}]
[2001,"",80400,80400,76400,72600,140000,140000,135000,132000,170000,170000,166666.66666666666,164000,35000,35000,10500,10500,null,null,null,133750,165000]
[2002,{"$f":"IF(A42<StartYr,\"\",IF(A42=StartYr,Age,B41+1))","v":""},84900,84900,80500,76500,160000,160000,145000,139000,200000,200000,180000,172000,40000,40000,11000,11000,1000,1000,null,141250,175000]
[2003,"",87000,87000,84100,80220,160000,160000,153333.33333333334,145000,200000,200000,190000,180000,40000,40000,12000,12000,2000,2000,null,148750,185000]
[2004,"",87900,87900,86600,83280,165000,165000,161666.66666666666,152000,205000,205000,201666.66666666666,189000,41000,41000,13000,13000,3000,3000,null,156250,193750]
[2005,"",90000,90000,88300,86040,170000,170000,165000,159000,210000,210000,205000,197000,42000,42000,14000,14000,4000,{"$f":"INT(S45/500)*500","v":4000},{"$f":"SUM(D11:D45)/35","v":46351.428571428572},163750,203750]
[2006,"",94200,94200,90700,88800,175000,175000,170000,166000,220000,220000,211666.66666666666,207000,44000,44000,15000,15000,5000,{"$f":"INT(S46/500)*500","v":5000},{"$f":"SUM(D12:D46)/35","v":48820},167500,208750]
[2007,"",97500,97500,93900,91320,180000,180000,175000,170000,225000,225000,218333.33333333334,212000,45000,45000,15500,15500,5000,5000,{"$f":"SUM(D13:D47)/35","v":51348.571428571428},172500,215000]
[2008,"",102000,102000,97900,94320,185000,185000,180000,175000,230000,230000,225000,218000,46000,46000,15500,15500,5000,5000,53954.285714285717,177500,221250]
[2009,"",106000,106000,101833.33333333333,97940,195000,195000,186666.66666666666,181000,245000,245000,233333.33333333334,226000,49000,49000,16500,16500,5500,5500,56605.714285714283,183750,230000]
[2010,"",106000,106000,104666.66666666667,101140,195000,195000,191666.66666666666,186000,245000,245000,240000,233000,49000,49000,16500,16500,5500,5500,59231.428571428572,188750,236250]
[2011,"",106000,106000,106000,103500,195000,195000,195000,190000,245000,245000,245000,238000,49000,49000,16500,16500,5500,5500,61822.857142857145,192500,241250]
[2012,"",{"$f":"C51*(1+SSBenGrowth)","v":109180},111100,107700,106220,{"$f":"G51*(1+Section415LimitGrowth)","v":200850},{"$f":"INT(G52/$H$3)*$H$3","v":200000},196666.66666666666,194000,{"$f":"K51*(1+IRSCompLimitGrowth)","v":252350},{"$f":"INT(K52/$L$3)*$L$3","v":250000},246666.66666666666,243000,{"$f":"O51*(1+IRS401kLimitGrowth)","v":50470},{"$f":"INT(O52/$P$3)*$P$3","v":50000},17000,{"$f":"INT(Q52/$R$3)*$R$3","v":17000},{"$f":"S51*(1+IRS401kLimitGrowth)","v":5665},{"$f":"INT(S52/$T$3)*$T$3","v":5500},64525.714285714283,196250,246250,null,null,"Tax Rate Table"]
[2013,"",113700,113700,110266.66666666667,108560,206875.5,{"$f":"INT(G53/$H$3)*$H$3","v":205000},200000,198000,259920.5,{"$f":"INT(K53/$L$3)*$L$3","v":255000},250000,248000,51000,{"$f":"INT(O53/$P$3)*$P$3","v":51000},{"$f":"Q52*(1+IRS401kLimitGrowth)","v":17510},{"$f":"INT(Q53/$R$3)*$R$3","v":17500},5834.95,{"$f":"INT(S53/$T$3)*$T$3","v":5500},67268.571428571435,198750,248750,null,null,1,2]
[2014,"",117000,117000,113933.33333333333,110760,213081.76500000001,210000,205000,201000,260000,260000,255000,251000,52000,52000,17500,17500,5500,5500,69957.142857142855,202500,252500,null,null,"Flat Rate","Fluctating"]
[2015,45,118500,118500,116400,113260,210000,210000,208333.33333333334,204000,267800,265000,260000,255000,53000,53000,18000,18000,6000,6000,72602.857142857145,206250,257500,null,"Year",{"$f":"Ind_Tax_Rate","v":0.4}]
[2016,46,122055,122000,119166.66666666667,116460,216300,215000,211666.66666666666,208000,275834,275000,266666.66666666669,261000,54590,54000,18540,18500,6180,6000,75240,210000,263750,null,1,{"$f":"Z55","v":0.4},0.4]
[2017,47,125716.65000000001,125700,122066.66666666667,119380,222789,220000,215000,212000,284109.02,280000,273333.33333333331,267000,56227.700000000004,56000,19096.2,19000,6365.4000000000005,6000,77905.71428571429,213750,270000,null,{"$f":"+Y56+1","v":2},0.4,{"$f":"AA56","v":0.4}]
[2018,48,129488.14950000001,129400,125700,122520,229472.67,225000,220000,216000,292632.29060000001,290000,281666.66666666669,274000,57914.531000000003,57000,19669.086000000003,19500,6556.362000000001,6500,80582.857142857145,217500,277500,null,3,0.4,{"$f":"AA57","v":0.4}]
[2019,49,133372.79398500003,133300,129466.66666666667,125780,236356.85010000001,235000,226666.66666666666,221000,301411.259318,300000,290000,282000,59651.966930000002,59000,20259.158580000003,20000,6753.0528600000016,6500,83311.428571428565,223750,286250,null,4,0.4,{"$f":"AA58","v":0.4}]
[2020,50,137373.97780455003,137300,133333.33333333334,129540,243447.55560300002,240000,233333.33333333334,227000,310453.59709753998,310000,300000,291000,61441.525937900005,61000,20866.933337400005,20500,6955.6444458000014,6500,86102.857142857145,230000,295000,null,5,0.4,0.45]
[2021,51,141495.19713868652,141400,137333.33333333334,133420,250750.98227109003,250000,241666.66666666666,234000,319767.20501046622,315000,308333.33333333331,299000,63284.771716037008,63000,21492.941337522007,21000,7164.3137791740019,7000,88942.857142857145,237500,303750,null,6,0.4,0.45]
[2022,52,145740.05305284713,145700,141466.66666666666,137420,258273.51173922274,255000,248333.33333333334,241000,329360.22116078023,325000,316666.66666666669,308000,65183.314867518122,65000,22137.729577647668,22000,7379.2431925492219,7000,91854.28571428571,245000,312500,null,7,0.4,0.45]
[2023,53,150112.25464443254,150100,145733.33333333334,141560,266021.71709139942,265000,256666.66666666666,249000,339241.02779560367,335000,325000,317000,67138.814313543669,67000,22801.861464977097,22500,7600.6204883256987,7500,94857.142857142855,252500,321250,null,8,0.4,0.45]
[2024,54,154615.62228376552,154600,150133.33333333334,145820,274002.3686041414,270000,263333.33333333331,256000,349418.25862947182,345000,335000,326000,69152.978742949985,69000,23485.917308926411,23000,7828.6391029754695,7500,97902.857142857145,260000,330000,null,9,0.4,0.45]
[2025,55,159254.09095227849,159200,154633.33333333334,150200,282222.43966226565,280000,271666.66666666669,264000,359900.80638835597,355000,345000,335000,71227.56810523849,71000,24190.494828194205,24000,8063.4982760647335,8000,100985.71428571429,267500,340000,null,10,0.4,0.5]
[2026,56,164031.71368084685,164000,159266.66666666666,154720,290689.11285213364,290000,280000,272000,370697.83058000664,370000,356666.66666666669,346000,73364.395148395648,73000,24916.209673040034,24500,8305.4032243466754,8000,104145.71428571429,276250,351250,null,11,0.4,0.5]
[2027,57,168952.66509127227,168900,164033.33333333334,159360,299409.78623769764,295000,288333.33333333331,280000,381818.76549740683,380000,368333.33333333331,357000,75565.327002847524,75000,25663.695963231236,25500,8554.5653210770761,8500,107385.71428571429,283750,362500,null,12,0.4,0.5]
[2028,58,174021.24504401043,174000,168966.66666666666,164140,308392.0798248286,305000,296666.66666666669,288000,393273.32846232905,390000,380000,368000,77832.286812932958,77000,26433.606842128174,26000,8811.202280709389,8500,110711.42857142857,292500,373750,null,13,0.4,0.5]
[2029,59,179241.88239533076,179200,174033.33333333334,169060,317643.84221957345,315000,305000,297000,405071.52831619891,405000,391666.66666666669,380000,80167.25541732095,80000,27226.615047392021,27000,9075.5383491306711,9000,114100,301250,386250,null,14,0.4,0.5]
[2030,60,184619.13886719069,184600,179266.66666666666,174140,327173.15748616064,325000,315000,306000,417223.6741656849,415000,403333.33333333331,392000,82572.273079840583,82000,28043.413498813781,28000,9347.8044996045919,9000,117625.71428571429,310000,397500,null,15,0.4,0.5]
[2031,61,190157.71303320641,190100,184633.33333333334,179360,336988.35221074545,335000,325000,315000,429740.38439065544,425000,415000,403000,85049.441272235796,85000,28884.715903778197,28500,9628.2386345927298,9500,121265.71428571429,320000,408750,null,16,0.4,0.5]
[2032,62,195862.44442420261,195800,190166.66666666666,184740,347098.00277706783,345000,335000,325000,442632.5959223751,440000,426666.66666666669,415000,87600.924510402867,87000,29751.257380891544,29500,9917.0857936305129,9500,124991.42857142857,330000,421250,null,17,0.4,0.5]
[2033,63,201738.31775692868,201700,195866.66666666666,190280,357510.94286037987,355000,345000,335000,455911.57380004635,455000,440000,428000,90228.952245714958,90000,30643.79510231829,30500,10214.598367439428,10000,128800,340000,433750,null,18,0.4,0.5]
[2034,{"$f":"IF(A74<StartYr,\"\",IF(A74=StartYr,Age,B73+1))","v":64},207790.46728963655,{"$f":"INT(C74/100)*100","v":207700},201733.33333333334,195980,368236.27114619128,365000,355000,345000,469588.92101404775,465000,453333.33333333331,440000,92935.820813086408,92000,31563.108955387841,31500,10521.036318462611,10500,132660,350000,446250,null,19,0.4,0.5]
[{"$f":"A74+1","v":2035},65,214024.18130832564,214000,207800,201860,379283.35928057705,375000,365000,355000,483676.58864446922,480000,466666.66666666669,453000,95723.895437479005,95000,32510.002224049476,32500,10836.66740801649,10500,136597.14285714287,360000,460000,null,20,0.4,0.5]
[2036,66,220444.90674757541,220400,{"$f":"SUM(D74:D76)/3","v":214033.33333333334},207920,390661.86005899438,390000,376666.66666666669,366000,498186.8863038033,495000,480000,467000,98595.612300603374,98000,33485.30229077096,33000,11161.767430256985,11000,140597.14285714287,371250,473750,null,21,0.4,0.5]
[2037,67,227058.25395000269,227000,220466.66666666666,214160,402381.7158607642,400000,388333.33333333331,377000,513132.49289291742,510000,495000,481000,101553.48066962148,101000,34489.861359494091,34000,11496.620453164694,11000,144657.14285714287,382500,487500,null,22,0.4,0.5]
[2038,68,233870.00156850278,233800,227066.66666666666,{"$f":"SUM(D74:D78)/5","v":220580},414453.16733658715,410000,400000,388000,528526.46767970501,525000,510000,495000,104600.08508971013,104000,35524.557200278912,35500,11841.519066759636,11500,148851.42857142858,393750,502500,null,23,0.4,0.5]
[2039,69,{"$f":"C78*(1+SSBenGrowth)","v":240886.10161555785},240800,233866.66666666666,227200,{"$f":"G78*(1+Section415LimitGrowth)","v":426886.76235668478},425000,411666.66666666669,400000,{"$f":"K78*(1+IRSCompLimitGrowth)","v":544382.26171009615},540000,525000,510000,{"$f":"O78*(1+IRS401kLimitGrowth)","v":107738.08764240144},107000,{"$f":"Q78*(1+IRS401kLimitGrowth)","v":36590.293916287279},36500,{"$f":"S78*(1+IRS401kLimitGrowth)","v":12196.764638762426},12000,153220,406250,517500,null,24,0.4,0.5]
[2040,70,248112.68466402459,248100,240900,234020,439693.36522738531,435000,423333.33333333331,412000,560713.72956139909,560000,541666.66666666663,526000,110970.23027167348,110000,37688.002733775895,37500,12562.6675779253,12500,157737.14285714287,417500,533750,null,25,0.4,0.5]
[2041,71,255556.06520394533,255500,248133.33333333334,241040,452884.1661842069,450000,436666.66666666669,424000,577535.14144824108,575000,558333.33333333337,542000,114299.33717982369,114000,38818.642815789171,38500,12939.54760526306,12500,162345.71428571429,430000,550000,null,26,0.4,0.5]
[2042,72,263222.74716006371,263200,255600,248280,466470.69116973312,465000,450000,437000,594861.19569168834,590000,575000,558000,117728.31729521841,117000,39983.202100262846,39500,13327.734033420953,13000,167080,443750,566250,null,27,0.4,0.5]
[2043,73,271119.42957486561,271100,263266.66666666669,255740,480464.81190482515,480000,465000,451000,612707.03156243905,610000,591666.66666666663,575000,121260.16681407497,121000,41182.698163270732,41000,13727.566054423582,13500,171911.42857142858,457500,583750,null,28,0.4,0.5]
[2044,74,279253.0124621116,279200,271166.66666666669,263420,494878.75626196992,490000,478333.33333333331,464000,631088.24250931223,630000,610000,593000,124897.97181849722,124000,42418.179108168857,42000,14139.39303605629,14000,176860,471250,601250,null,29,0.4,0.5]
[2045,75,287630.60283597495,287600,279300,271320,509725.11894982902,505000,491666.66666666669,478000,650020.88978459162,650000,630000,611000,128644.91097305213,128000,43690.724481413927,43500,14563.57482713798,14500,182048.57142857142,485000,620000,null,30,0.4,0.5]
[2046,76,296259.52092105418,296200,287666.66666666669,279460,525016.87251832394,525000,506666.66666666669,493000,669521.51647812943,665000,648333.33333333337,629000,132504.25830224369,132000,45001.446215856347,45000,15000.482071952119,15000,187482.85714285713,500000,638750,null,31,0.4,0.5]
[2047,77,305147.30654868582,305100,296300,287840,540767.37869387364,540000,523333.33333333331,508000,689607.16197247338,685000,666666.66666666663,648000,136479.38605131101,136000,46351.48960233204,46000,15450.496534110684,15000,193025.71428571429,515000,657500,null,32,0.4,0.5]
[2048,78,314301.7257451464,314300,305200,296480,556990.40005468985,555000,540000,523000,710295.37683164759,710000,686666.66666666663,668000,140573.76763285036,140000,47742.034290402,47500,15914.011430134004,15500,198757.14285714287,531250,677500,null,33,{"$f":"Z87","v":0.4},0.5]
[2049,79,323730.7775175008,323700,314366.66666666669,305380,573700.11205633054,570000,555000,539000,731604.23813659709,730000,708333.33333333337,688000,144790.98066183587,144000,49174.295319114062,49000,16391.431773038024,16000,204662.85714285713,547500,697500,null,{"$f":"+Y88+1","v":34},0.4,0.5]
[2050,80,333442.70084302581,333400,323800,314540,590911.11541802052,590000,571666.66666666663,556000,753552.36528069503,750000,730000,708000,149134.71008169095,149000,50649.524178687483,50500,16883.174726229165,16500,210802.85714285713,563750,718750,null,35,0.4,0.5]
[2051,81,343445.98186831659,343400,333500,323980,608638.44888056116,605000,588333.33333333337,572000,776158.93623911589,775000,751666.66666666663,730000,153608.75138414168,153000,52169.009904048107,52000,17389.669968016042,17000,217128.57142857142,580000,741250,null,36,0.4,0.5]
[2052,82,353749.36132436612,353700,343500,333700,626897.60234697803,625000,606666.66666666663,589000,799443.70432628936,795000,773333.33333333337,752000,158217.01392566593,158000,53734.080201169549,53500,17911.360067056525,17500,223642.85714285713,597500,762500,null,37,0.4,0.5]
[2053,83,364361.84216409712,364300,353800,343700,645704.53041738737,645000,625000,607000,823427.01545607811,820000,796666.66666666663,774000,162963.52434343591,162000,55346.102607204637,55000,18448.70086906822,18000,230354.28571428571,616250,785000,null,38,0.4,0.5]
[2054,84,375292.69742902002,375200,364400,354000,665075.666329909,665000,645000,626000,848129.82591976051,845000,820000,797000,167852.430073739,167000,57006.485685420776,57000,19002.161895140267,19000,237265.71428571429,635000,808750,null,39,0.4,0.5]
[2055,85,386551.47835189063,386500,375333.33333333331,364620,685027.93631980626,685000,665000,645000,873573.72069735336,870000,845000,821000,172888.00297595118,172000,58716.680255983403,58500,19572.226751994476,19500,244385.71428571429,655000,832500,null,40,0.4,0.5]
[2056,86,398148.02270244737,398100,386600,375560,705578.77440940042,705000,685000,665000,899780.93231827393,895000,870000,845000,178074.64306522973,178000,60478.180663662904,60000,20159.39355455431,20000,251720,675000,857500,null,41,0.4,0.5]
[2057,87,410092.46338352078,410000,398200,386820,726746.13764168241,725000,705000,685000,926774.3602878222,925000,896666.66666666663,871000,183416.88235718664,183000,62292.526083572797,62000,20764.175361190941,20500,259271.42857142858,695000,883750,null,42,0.4,0.5]
[2058,88,422395.23728502641,422300,410133.33333333331,398420,748548.52177093294,745000,725000,705000,954577.59109645686,950000,923333.33333333337,897000,188919.38882790224,188000,64161.301866079979,64000,21387.100622026668,21000,267048.57142857142,715000,910000,null,43,0.4,0.5]
[2059,89,435067.09440357721,435000,422433.33333333331,410380,771004.97742406093,770000,746666.66666666663,726000,983214.91882935062,980000,951666.66666666663,924000,194586.97049273932,194000,66086.140922062375,66000,22028.713640687467,22000,275060,736250,937500,null,44,0.4,0.5]
[2060,90,448119.10723568453,448100,435133.33333333331,422700,794135.1267467828,790000,768333.33333333337,747000,1012711.3663942312,1010000,980000,952000,200424.5796075215,200000,68068.725149724254,68000,22689.575049908093,22500,283314.28571428574,757500,966250,null,45,0.4,0.5]
[2061,91,461562.68045275507,461500,448200,435380,817959.18054918631,815000,791666.66666666663,769000,1043092.7073860582,1040000,1010000,981000,206437.31699574715,206000,70110.786904215987,70000,23370.262301405335,23000,291814.28571428574,780000,995000,null,46,0.4,0.5]
[2062,92,475409.56086633774,475400,461666.66666666669,448460,842497.95596566191,840000,{"$f":"SUM(H100:H102)/3","v":815000},792000,1074385.4886076399,1070000,{"$f":"SUM(L100:L102)/3","v":1040000},1010000,212630.43650561958,212000,72214.110511342471,72000,24071.370170447495,24000,300571.42857142858,803750,1025000,null,47,0.4,0.5]
[2063,93,489671.84769232786,489600,475500,461920,867772.89464463177,865000,840000,816000,1106617.0532658692,1105000,1071666.6666666667,1041000,219009.34960078818,219000,74380.533826682746,74000,24793.511275560919,24500,309588.57142857142,{"$f":"SUM(H100:H103)/4","v":827500},1056250,null,48,0.4,0.5]
[2064,94,504362.0031230977,504300,489766.66666666669,475780,893806.08148397075,890000,865000,{"$f":"SUM(H100:H104)/5","v":840000},1139815.5648638452,1135000,1103333.3333333333,{"$f":"SUM(L100:L104)/5","v":1072000},225579.63008881183,225000,76611.949841483234,76500,25537.316613827748,25500,318877.14285714284,852500,{"$f":"SUM(L101:L104)/4","v":1087500},null,49,0.4,0.5]
[2065,95,519492.86321679066,519400,504433.33333333331,490040,920620.26392848988,920000,891666.66666666663,866000,1174010.0318097607,1170000,1136666.6666666667,1104000,232347.01899147619,232000,78910.308336727729,78500,26303.43611224258,26000,328442.85714285716,878750,1120000,null,50,0.4,0.5]
[2066,{"$f":"IF(A106<StartYr,\"\",IF(A106=StartYr,Age,B105+1))","v":96},535077.64911329444,535000,519566.66666666669,504740,948238.87184634455,945000,918333.33333333337,892000,1209230.3327640535,1205000,1170000,1137000,239317.42956122049,239000,81277.617586829569,81000,27092.539195609857,27000,338297.14285714284,905000,1153750,null,51,0.4,0.5]
[2067,97,551129.97858669329,551100,535166.66666666663,519880,976686.03800173488,975000,946666.66666666663,919000,1245507.242746975,1245000,1206666.6666666667,1172000,246496.9524480571,246000,83715.946114434453,83500,27905.315371478155,27500,348448.57142857142,932500,1188750,null,52,0.4,0.5]
[2068,98,567663.87794429413,567600,551233.33333333337,535480,1005986.6191417869,1005000,975000,947000,1282872.4600293844,1280000,1243333.3333333333,1207000,253891.86102149883,253000,86227.424497867483,86000,28742.474832622502,28500,358902.85714285716,961250,1225000,null,53,0.4,0.5]
[2069,99,584693.79428262298,584600,567766.66666666663,551540,1036166.2177160406,1035000,1005000,976000,1321358.6338302658,1320000,1281666.6666666667,1244000,261508.61685214381,261000,88814.247232803507,88500,29604.749077601176,29500,369671.42857142858,990000,1262500,null,54,0.4,0.5]
[2070,100,602234.60811110167,602200,584800,568100,1067251.2042475217,1065000,1035000,1005000,1360999.3928451738,1360000,1320000,1282000,269353.87535770814,269000,91478.674649787616,91000,30492.891549929212,30000,380762.85714285716,1020000,1301250,null,55,0.4,0.5]
[2071,101,{"$f":"C110*(1+SSBenGrowth)","v":620301.64635443478},620300,602366.66666666663,585160,{"$f":"G110*(1+Section415LimitGrowth)","v":1099268.7403749474},1095000,1065000,1035000,{"$f":"K110*(1+IRSCompLimitGrowth)","v":1401829.374630529},1400000,1360000,1321000,{"$f":"O110*(1+IRS401kLimitGrowth)","v":277434.49161843938},277000,{"$f":"Q110*(1+IRS401kLimitGrowth)","v":94223.034889281247},94000,{"$f":"S110*(1+IRS401kLimitGrowth)","v":31407.67829642709},31000,{"$f":"SUM(D77:D111)/35","v":392188.57142857142},1050000,1340000,null,56,0.4,0.5]
[2072,102,638910.69574506779,638900,620466.66666666663,602720,1132246.802586196,1130000,1096666.6666666667,1066000,1443884.2558694449,1440000,1400000,1360000,285757.52636699256,285000,97049.725935959694,97000,32349.908645319902,32000,403957.14285714284,1081250,1380000,null,57,0.4,0.5]
[2073,103,658078.01661741978,658000,639066.66666666663,620800,1166214.206663782,1165000,1130000,1098000,1487200.7835455283,1485000,1441666.6666666667,1401000,294330.25215800235,294000,99961.217714038488,99500,33320.405904679501,33000,416077.14285714284,1113750,1421250,null,58,0.4,0.5]
[2074,104,677820.3571159424,677800,658233.33333333337,639440,1201200.6328636955,1200000,1165000,1131000,1531816.8070518943,1530000,1485000,1443000,303160.15972274245,303000,102960.05424545964,102500,34320.018081819886,34000,428562.85714285716,1147500,1463750,null,59,0.4,0.5]
[2075,105,698154.9678294207,698100,677966.66666666663,658620,1237236.6518496063,1235000,1200000,1165000,1577771.3112634511,1575000,1530000,1486000,312254.96451442473,312000,106048.85587282343,106000,35349.618624274481,35000,441420,1182500,1507500,null,60,0.4,0.5]
[2076,106,719099.61686430336,719000,698300,678360,1274353.7514050945,1270000,1235000,1200000,1625104.4506013547,1625000,1576666.6666666667,1531000,321622.61344985751,321000,109230.32154900813,109000,36410.107183002714,36000,454662.85714285716,1217500,1553750,null,61,0.4,0.5]
[2077,107,740672.60537023249,740600,719233.33333333337,698700,1312584.3639472474,{"$f":"INT(G117/$H$3)*$H$3","v":1310000},1271666.6666666667,1236000,1673857.5841193954,{"$f":"INT(K117/$L$3)*$L$3","v":1670000},1623333.3333333333,1577000,331271.29185335326,{"$f":"INT(O117/$P$3)*$P$3","v":331000},112507.23119547838,{"$f":"INT(Q117/$R$3)*$R$3","v":112500},37502.410398492793,{"$f":"INT(S117/$T$3)*$T$3","v":37500},468302.85714285716,1253750,1600000,null,62,0.4,0.5]
[2078,108,762892.78353133949,762800,740800,719660,1351961.8948656649,1350000,1310000,1273000,1724073.3116429772,1720000,1671666.6666666667,1624000,341209.43060895387,341000,115882.44813134274,115500,38627.482710447577,38500,482351.42857142858,1291250,1647500,null,63,0.4,0.5]
[2079,109,785779.56703727972,785700,763033.33333333337,741240,1392520.7517116349,1390000,1350000,1311000,1775795.5109922665,1775000,1721666.6666666667,1673000,351445.71352722251,351000,119358.92157528302,119000,39786.307191761007,39500,496822.85714285716,1330000,1697500,null,64,0.4,0.5]
[2080,110,809352.95404839818,809300,785933.33333333337,763480,1434296.3742629839,1430000,1390000,1350000,1829069.3763220345,1825000,1773333.3333333333,1723000,361989.08493303921,361000,122939.68922254152,122500,40979.896407513836,40500,511728.57142857142,1370000,1747500,null,65,{"$f":"Z119","v":0.4},0.5]
[2081,111,833633.54266985017,833600,809533.33333333337,786400,1477325.2654908735,1475000,1431666.6666666667,1391000,1883941.4576116956,1880000,1826666.6666666667,1774000,372848.75748103042,372000,126627.87989921778,126500,42209.293299739249,42000,527082.85714285716,1411250,1800000,null,{"$f":"+Y120+1","v":66},0.4,0.5]
[2082,112,858642.54894994572,858600,833833.33333333337,810000,1521645.0234555998,1520000,1475000,1433000,1940459.7013400465,1940000,1881666.6666666667,1828000,384034.22020546132,384000,130426.71629619431,130000,43475.572098731427,43000,542897.14285714284,1453750,1855000,null,67,0.4,0.5]
[2083,113,884401.82541844412,884400,858866.66666666663,834320,1567294.3741592679,1565000,1520000,1476000,1998673.4923802479,1995000,1938333.3333333333,1883000,395555.24681162514,395000,134339.51778508016,134000,44779.839261693371,44500,559185.71428571432,1497500,1910000,null,68,0.4,0.5]
[2084,114,910933.88018099742,910900,884633.33333333337,859360,1614313.2053840458,1610000,1565000,1520000,2058633.6971516553,2055000,1996666.6666666667,1939000,407421.90421597392,407000,138369.70331863256,138000,46123.234439544176,46000,575962.85714285716,1542500,1967500,null,69,0.4,0.5]
[2085,115,938261.89658642735,938200,911166.66666666663,885140,1662742.6015455672,1660000,1611666.6666666667,1566000,2120392.708066205,2120000,2056666.6666666667,1998000,419644.56134245312,419000,142520.79441819154,142500,47506.931472730503,47500,593242.85714285716,1588750,2027500,null,70,0.4,0.5]
[2086,116,966409.75348402024,966400,938500,911700,1712624.8795919342,1710000,1660000,1613000,2184004.4893081915,2180000,2118333.3333333335,2058000,432233.8981827267,432000,146796.41825073728,146500,48932.139416912418,48500,611042.85714285716,1636250,2087500,null,71,0.4,0.5]
[null,null,null,null,null,null,null,null,null,null,null,null,null,null,null,null,null,null,null,null,null,null,null,null,72,0.4,0.5]
[null,null,null,null,null,null,null,null,null,null,null,null,null,null,null,null,null,null,null,null,null,null,null,null,73,0.4,0.5]
[null,null,null,null,null,null,null,null,null,null,null,null,null,null,null,null,null,null,null,null,null,null,null,null,74,0.4,0.5]
[null,null,null,null,null,null,null,null,null,null,null,null,null,null,null,null,null,null,null,null,null,null,null,null,75,0.4,0.5]
[null,null,null,null,null,null,null,null,null,null,null,null,null,null,null,null,null,null,null,null,null,null,null,null,76,0.4,0.5]

{"sheet":"Illustrations","index":16,"n_rows":110,"n_cols":190,"rows_kept":110,"cut":false,"hidden":true,"merged":[]}
[{"$f":"IllusUsed","v":1},"<==Select Illustration #",null,null,null,null,null,null,{"$f":"IllusUsed2","v":2},"<==Select Illustration #",null,null,null,null,null,null,"Illustration #1",null,null,null,null,null,null,null,null,null,null,null,null,null,null,null,null,null,null,null,null,null,null,null,null,null,null,null,null,null,null,null,null,null,null,null,null,null,null,null,null,null,null,null,"Illustration #2",null,null,null,null,null,null,null,null,null,null,null,null,null,null,null,null,null,null,null,null,null,null,null,null,null,null,null,null,null,null,null,null,null,null,null,null,null,null,null,null,null,null,null,"Illustration #3",null,null,null,null,null,null,null,null,null,null,null,null,null,null,null,null,null,null,null,null,null,null,null,null,null,null,null,null,null,null,null,null,null,null,null,null,null,null,null,null,null,null,null,"Illustration #4"]
[null,null,null,null,null,null,null,null,null,null,null,null,null,null,null,null,"45 - Lincoln - Taxes - PSP Contributions tax at a flat rate - 40%",null,null,null,null,null,null,null,null,null,null,null,null,null,null,null,null,null,null,null,null,null,null,null,null,null,null,null,null,null,null,null,null,null,null,null,null,null,null,null,null,null,null,null,"45 - Lincoln - Taxes -ESD Contributions = Plan ",null,null,null,null,null,null,null,null,null,null,null,null,null,null,null,null,null,null,null,null,null,null,null,null,null,null,null,null,null,null,null,null,null,null,null,null,null,null,null,null,null,null,null,"45 - Lincoln - PSP Contributions 30k",null,null,null,null,null,null,null,null,null,null,null,null,null,null,null,null,null,null,null,null,null,null,null,null,null,null,null,null,null,null,null,null,null,null,null,null,null,null,null,null,null,null,null,"45 - Lincoln - Taxes -ESD Contributions = Plan based on 30k"]
[null,null,null,null,null,null,null,null,null,null,null,null,null,null,null,null,"Lincoln National - Variable UL",null,null,null,null,null,null,null,null,null,null,null,null,null,null,null,null,null,null,null,null,null,null,null,null,null,null,null,null,null,null,null,null,null,null,null,null,null,null,null,null,null,null,null,"Lincoln National - Variable UL",null,null,null,null,null,null,null,null,null,null,null,null,null,null,null,null,null,null,null,null,null,null,null,null,null,null,null,null,null,null,null,null,null,null,null,null,null,null,null,null,null,null,null,"Lincoln National - Variable UL",null,null,null,null,null,null,null,null,null,null,null,null,null,null,null,null,null,null,null,null,null,null,null,null,null,null,null,null,null,null,null,null,null,null,null,null,null,null,null,null,null,null,null,"Lincoln National - Variable UL"]
[]
[]
[]
[]
["Current Illustration",null,null,null,null,null,null,null,"Current Illustration",null,null,null,null,null,null,null,"Definition of Life Insurance: GPT",null,null,null,null,null,null,null,null,null,null,null,null,null,null,null,null,null,null,null,null,null,null,null,null,null,null,null,null,null,null,null,null,null,null,null,null,null,null,null,null,null,null,null,"Definition of Life Insurance: GPT",null,null,null,null,null,null,null,null,null,null,null,null,null,null,null,null,null,null,null,null,null,null,null,null,null,null,null,null,null,null,null,null,null,null,null,null,null,null,null,null,null,null,null,"Definition of Life Insurance: GPT",null,null,null,null,null,null,null,null,null,null,null,null,null,null,null,null,null,null,null,null,null,null,null,null,null,null,null,null,null,null,null,null,null,null,null,null,null,null,null,null,null,null,null,"Definition of Life Insurance: GPT"]
[null,null,null,null,null,null,null,null,null,null,null,null,null,null,null,null,"The Lincoln National Life Insurance Company ",null,null,null,null,null,null,null,null,null,null,null,null,null,null,null,null,null,null,null,null,null,null,null,null,null,null,null,null,null,null,null,null,null,null,null,null,null,null,null,null,null,null,null,"The Lincoln National Life Insurance Company ",null,null,null,null,null,null,null,null,null,null,null,null,null,null,null,null,null,null,null,null,null,null,null,null,null,null,null,null,null,null,null,null,null,null,null,null,null,null,null,null,null,null,null,"The Lincoln National Life Insurance Company ",null,null,null,null,null,null,null,null,null,null,null,null,null,null,null,null,null,null,null,null,null,null,null,null,null,null,null,null,null,null,null,null,null,null,null,null,null,null,null,null,null,null,null,"The Lincoln National Life Insurance Company "]
[null,null,null,null,null,null,null,null,null,null,null,null,null,null,null,null,"Initial Death Benefit Option: Increasing",null,null,null,null,null,null,null,null,null,null,null,null,null,null,null,null,null,null,null,null,null,null,null,null,null,null,null,null,null,null,null,null,null,null,null,null,null,null,null,null,null,null,null,"Initial Death Benefit Option: Increasing",null,null,null,null,null,null,null,null,null,null,null,null,null,null,null,null,null,null,null,null,null,null,null,null,null,null,null,null,null,null,null,null,null,null,null,null,null,null,null,null,null,null,null,"Initial Death Benefit Option: Increasing",null,null,null,null,null,null,null,null,null,null,null,null,null,null,null,null,null,null,null,null,null,null,null,null,null,null,null,null,null,null,null,null,null,null,null,null,null,null,null,null,null,null,null,"Initial Death Benefit Option: Increasing"]
[{"$f":"CHOOSE(IllusToUse,Q3,BI3,DA3,ES3)","v":"Lincoln National - Variable UL"},null,null,null,null,null,null,null,{"$f":"CHOOSE(IllusToUse,Y3,BQ3,DI3,FA3)","v":0},null,null,null,null,null,null,null,"Payment Mode: Annually",null,null,null,null,null,null,null,null,null,null,null,null,null,null,null,null,null,null,null,null,null,null,null,null,null,null,null,null,null,null,null,null,null,null,null,null,null,null,null,null,null,null,null,"Payment Mode: Annually",null,null,null,null,null,null,null,null,null,null,null,null,null,null,null,null,null,null,null,null,null,null,null,null,null,null,null,null,null,null,null,null,null,null,null,null,null,null,null,null,null,null,null,"Payment Mode: Annually",null,null,null,null,null,null,null,null,null,null,null,null,null,null,null,null,null,null,null,null,null,null,null,null,null,null,null,null,null,null,null,null,null,null,null,null,null,null,null,null,null,null,null,"Payment Mode: Annually"]
[null,null,null,null,"Net","Net Cash",null,null,null,null,null,null,"Net","Net Cash",null,null,"LCCVUL (Band 2)",null,null,null,null,null,null,null,null,null,null,null,null,null,null,null,null,null,null,null,null,null,null,null,null,null,null,null,null,null,null,null,null,null,null,null,null,null,null,null,null,null,null,null,"LCCVUL (Band 2)",null,null,null,null,null,null,null,null,null,null,null,null,null,null,null,null,null,null,null,null,null,null,null,null,null,null,null,null,null,null,null,null,null,null,null,null,null,null,null,null,null,null,null,"LCCVUL (Band 2)",null,null,null,null,null,null,null,null,null,null,null,null,null,null,null,null,null,null,null,null,null,null,null,null,null,null,null,null,null,null,null,null,null,null,null,null,null,null,null,null,null,null,null,"LCCVUL (Band 2)"]
[null,null,"Premium","Net","Accumulated","Surrender","Death",null,null,null,"Premium","Net","Accumulated","Surrender","Death",null,"Initial Basic Policy Specified Amount: $806,768.00",null,null,null,null,null,null,null,null,null,null,null,null,null,null,null,null,null,null,null,null,null,null,null,null,null,null,null,null,null,null,null,null,null,null,null,null,null,null,null,null,null,null,null,"Initial Basic Policy Specified Amount: $1,345,119.00",null,null,null,null,null,null,null,null,null,null,null,null,null,null,null,null,null,null,null,null,null,null,null,null,null,null,null,null,null,null,null,null,null,null,null,null,null,null,null,null,null,null,null,"Initial Basic Policy Specified Amount: $634,674.00",null,null,null,null,null,null,null,null,null,null,null,null,null,null,null,null,null,null,null,null,null,null,null,null,null,null,null,null,null,null,null,null,null,null,null,null,null,null,null,null,null,null,null,"Initial Basic Policy Specified Amount: $1,058,883.00"]
["Yr","Age","Outlay","Outlay","Value","Value","Benefit",null,"Yr","Age","Outlay","Outlay","Value","Value","Benefit",null,"Annual Premium: $24,750.00",null,null,null,null,null,null,null,null,null,null,null,null,null,null,null,null,null,null,null,null,null,null,null,null,null,null,null,null,null,null,null,null,null,null,null,null,null,null,null,null,null,null,null,"Annual Premium: $41,250.00",null,null,null,null,null,null,null,null,null,null,null,null,null,null,null,null,null,null,null,null,null,null,null,null,null,null,null,null,null,null,null,null,null,null,null,null,null,null,null,null,null,null,null,"Annual Premium: $30,000.00",null,null,null,null,null,null,null,null,null,null,null,null,null,null,null,null,null,null,null,null,null,null,null,null,null,null,null,null,null,null,null,null,null,null,null,null,null,null,null,null,null,null,null,"Annual Premium: $50,000.00"]
[1,{"$f":"CHOOSE(IllusToUse,R40,BJ40,DB40,ET40)","v":45},{"$f":"CHOOSE(IllusToUse,IF(BC40<0,-BC40,0),IF(CU40<0,-CU40,0),IF(EM40<0,-EM40,0),IF(GE40<0,-GE40,0))","v":24750},{"$f":"CHOOSE(IllusToUse,BC40,CU40,EM40,GE40)","v":-24750},{"$f":"CHOOSE(IllusToUse,AH40,BZ40,DR40,FJ40)","v":23129.02},{"$f":"CHOOSE(IllusToUse,AI40,CA40,DS40,FK40)","v":26482.5},{"$f":"CHOOSE(IllusToUse,BD40,CV40,EN40,GF40)","v":833254.79},null,1,{"$f":"CHOOSE(IllusToUse2,R40,BJ40,DB40,ET40)","v":45},{"$f":"CHOOSE(IllusToUse2,IF(BC40<0,-BC40,0),IF(CU40<0,-CU40,0),IF(EM40<0,-EM40,0),IF(GE40<0,-GE40,0))","v":41250},{"$f":"CHOOSE(IllusToUse2,BC40,CU40,EM40,GE40)","v":-41250},{"$f":"CHOOSE(IllusToUse2,AH40,BZ40,DR40,FJ40)","v":38597.19},{"$f":"CHOOSE(IllusToUse2,AI40,CA40,DS40,FK40)","v":44137.5},{"$f":"CHOOSE(IllusToUse2,BD40,CV40,EN40,GF40)","v":1389263.66},null,"Flexible Premium Adjustable Life Insurance",null,null,null,null,null,null,null,null,null,null,null,null,null,null,null,null,null,null,null,null,null,null,null,null,null,null,null,null,null,null,null,null,null,null,null,null,null,null,null,null,null,null,null,"Flexible Premium Adjustable Life Insurance",null,null,null,null,null,null,null,null,null,null,null,null,null,null,null,null,null,null,null,null,null,null,null,null,null,null,null,null,null,null,null,null,null,null,null,null,null,null,null,null,null,null,null,"Flexible Premium Adjustable Life Insurance",null,null,null,null,null,null,null,null,null,null,null,null,null,null,null,null,null,null,null,null,null,null,null,null,null,null,null,null,null,null,null,null,null,null,null,null,null,null,null,null,null,null,null,"Flexible Premium Adjustable Life Insurance"]
[2,{"$f":"CHOOSE(IllusToUse,R41,BJ41,DB41,ET41)","v":46},{"$f":"CHOOSE(IllusToUse,IF(BC41<0,-BC41,0),IF(CU41<0,-CU41,0),IF(EM41<0,-EM41,0),IF(GE41<0,-GE41,0))","v":24750},{"$f":"CHOOSE(IllusToUse,BC41,CU41,EM41,GE41)","v":-24750},{"$f":"CHOOSE(IllusToUse,AH41,BZ41,DR41,FJ41)","v":47722.04},{"$f":"CHOOSE(IllusToUse,AI41,CA41,DS41,FK41)","v":54818.77},{"$f":"CHOOSE(IllusToUse,BD41,CV41,EN41,GF41)","v":861851.41},null,2,46,41250,-41250,79637.48,91364.63,1436925.26,null,"Tax Bracket:  40.0000% (ee)/  40.0000% (er)",null,null,null,null,null,null,null,null,null,null,null,null,null,null,null,null,null,null,null,null,null,null,null,null,null,null,null,null,null,null,null,null,null,null,null,null,null,null,null,null,null,null,null,"Tax Bracket:  40.0000% (ee)/  40.0000% (er)",null,null,null,null,null,null,null,null,null,null,null,null,null,null,null,null,null,null,null,null,null,null,null,null,null,null,null,null,null,null,null,null,null,null,null,null,null,null,null,null,null,null,null,"Tax Bracket:  40.0000% (ee)/  40.0000% (er)",null,null,null,null,null,null,null,null,null,null,null,null,null,null,null,null,null,null,null,null,null,null,null,null,null,null,null,null,null,null,null,null,null,null,null,null,null,null,null,null,null,null,null,"Tax Bracket:  40.0000% (ee)/  40.0000% (er)"]
[3,47,26250,-26250,75520.84,86743.59,893651.34,null,3,47,43750,-43750,126024.09,144572.65,1490080.59]
[4,48,27000,-27000,105717.46,118047.46,924815.46,null,4,48,45000,-45000,176410.65,196960.65,1542079.65,null,"Prepared For: Md MdSc3",null,null,null,null,null,null,null,null,null,null,null,null,null,null,null,null,null,null,null,null,null,null,null,null,null,null,null,null,null,null,null,null,null,null,null,null,null,null,null,null,null,null,null,"Prepared For: Md MdSc3",null,null,null,null,null,null,null,null,null,null,null,null,null,null,null,null,null,null,null,null,null,null,null,null,null,null,null,null,null,null,null,null,null,null,null,null,null,null,null,null,null,null,null,"Prepared For: Md MdSc3",null,null,null,null,null,null,null,null,null,null,null,null,null,null,null,null,null,null,null,null,null,null,null,null,null,null,null,null,null,null,null,null,null,null,null,null,null,null,null,null,null,null,null,"Prepared For: Md MdSc3"]
[5,49,27750,-27750,138613.22,150358.22,957126.22,null,5,49,46250,-46250,231299.65,250874.65,1595993.65,null,"Illustration Rate Basis(%):   7.8100%",null,null,null,null,null,null,null,null,null,null,null,null,null,null,null,null,null,null,null,null,null,null,null,null,null,null,null,null,null,null,null,null,null,null,null,null,null,null,null,null,null,null,null,"Illustration Rate Basis(%):   7.8100%",null,null,null,null,null,null,null,null,null,null,null,null,null,null,null,null,null,null,null,null,null,null,null,null,null,null,null,null,null,null,null,null,null,null,null,null,null,null,null,null,null,null,null,"Illustration Rate Basis(%):   7.8100%",null,null,null,null,null,null,null,null,null,null,null,null,null,null,null,null,null,null,null,null,null,null,null,null,null,null,null,null,null,null,null,null,null,null,null,null,null,null,null,null,null,null,null,"Illustration Rate Basis(%):   7.8100%"]
[6,50,33900,-33900,179756.94,191264.94,998032.94,null,6,50,56500,-56500,299939.07,319119.07,1664238.07]
[7,51,35100,-35100,225010.96,234985.96,1041753.96,null,7,51,58500,-58500,375433.69,392058.69,1737177.69,null,"Male, Age 45, Unisex, Nonsmoker / Guaranteed Issue",null,null,null,null,null,null,null,null,null,null,null,null,null,null,null,null,null,null,null,null,null,null,null,null,null,null,null,null,null,null,null,null,null,null,null,null,null,null,null,null,null,null,null,"Male, Age 45, Unisex, Nonsmoker / Guaranteed Issue",null,null,null,null,null,null,null,null,null,null,null,null,null,null,null,null,null,null,null,null,null,null,null,null,null,null,null,null,null,null,null,null,null,null,null,null,null,null,null,null,null,null,null,"Male, Age 45, Unisex, Nonsmoker / Guaranteed Issue",null,null,null,null,null,null,null,null,null,null,null,null,null,null,null,null,null,null,null,null,null,null,null,null,null,null,null,null,null,null,null,null,null,null,null,null,null,null,null,null,null,null,null,"Male, Age 45, Unisex, Nonsmoker / Guaranteed Issue"]
[8,52,35850,-35850,273945.09999999998,281005.59999999998,1087773.6000000001,null,8,52,59750,-59750,457066.45,468833.95,1813952.95]
[9,53,36600,-36600,326620.52,331756.63,1138827.52,null,9,53,61000,-61000,544939.56999999995,552927.72,1899123.57,null,"Prepared by RCG Boston",null,null,null,null,null,null,null,null,null,null,null,null,null,null,null,null,null,null,null,null,null,null,null,null,null,null,null,null,null,null,null,null,null,null,null,null,null,null,null,null,null,null,null,"Prepared by RCG Boston",null,null,null,null,null,null,null,null,null,null,null,null,null,null,null,null,null,null,null,null,null,null,null,null,null,null,null,null,null,null,null,null,null,null,null,null,null,null,null,null,null,null,null,"Prepared by RCG Boston",null,null,null,null,null,null,null,null,null,null,null,null,null,null,null,null,null,null,null,null,null,null,null,null,null,null,null,null,null,null,null,null,null,null,null,null,null,null,null,null,null,null,null,"Prepared by RCG Boston"]
[10,54,38550,-38550,384333.27,384333.27,1191101.27,null,10,54,64250,-64250,641213.19999999995,641213.19999999995,1986332.2,null,"Mortality Age - Values projected beyond mortality age are for illustrative purposes only and assume no death has occurred.  This illustration assumes that the currently illustrated non-guaranteed elements will continue unchanged for all years shown.  This is not likely to occur, and actual results may be more or less favorable than those shown and are subject to change by the company.",null,null,null,null,null,null,null,null,null,null,null,null,null,null,null,null,null,null,null,null,null,null,null,null,null,null,null,null,null,null,null,null,null,null,null,null,null,null,null,null,null,null,null,"Mortality Age - Values projected beyond mortality age are for illustrative purposes only and assume no death has occurred.  This illustration assumes that the currently illustrated non-guaranteed elements will continue unchanged for all years shown.  This is not likely to occur, and actual results may be more or less favorable than those shown and are subject to change by the company.",null,null,null,null,null,null,null,null,null,null,null,null,null,null,null,null,null,null,null,null,null,null,null,null,null,null,null,null,null,null,null,null,null,null,null,null,null,null,null,null,null,null,null,"Mortality Age - Values projected beyond mortality age are for illustrative purposes only and assume no death has occurred.  This illustration assumes that the currently illustrated non-guaranteed elements will continue unchanged for all years shown.  This is not likely to occur, and actual results may be more or less favorable than those shown and are subject to change by the company.",null,null,null,null,null,null,null,null,null,null,null,null,null,null,null,null,null,null,null,null,null,null,null,null,null,null,null,null,null,null,null,null,null,null,null,null,null,null,null,null,null,null,null,"Mortality Age - Values projected beyond mortality age are for illustrative purposes only and assume no death has occurred.  This illustration assumes that the currently illustrated non-guaranteed elements will continue unchanged for all years shown.  This is not likely to occur, and actual results may be more or less favorable than those shown and are subject to change by the company."]
[11,55,39300,-39300,447254.98,447254.98,1254022.98,null,11,55,65500,-65500,746175.25,746175.25,2091294.25,null,"Genesis Health",null,null,null,null,null,null,null,null,null,null,null,null,null,null,null,null,null,null,null,null,null,null,null,null,null,null,null,null,null,null,null,null,null,null,null,null,null,null,null,null,null,null,null,"Genesis Health",null,null,null,null,null,null,null,null,null,null,null,null,null,null,null,null,null,null,null,null,null,null,null,null,null,null,null,null,null,null,null,null,null,null,null,null,null,null,null,null,null,null,null,"Genesis Health",null,null,null,null,null,null,null,null,null,null,null,null,null,null,null,null,null,null,null,null,null,null,null,null,null,null,null,null,null,null,null,null,null,null,null,null,null,null,null,null,null,null,null,"Genesis Health"]
[12,56,40500,-40500,515379.5,515379.5,1322147.5,null,12,56,67500,-67500,859814.64,859814.64,2204933.64]
[13,57,42000,-42000,589501.91,589501.91,1396269.91,null,13,57,70000,-70000,983457.34,983457.34,2328576.34,null,"This policy is projected to be a non-modified endowment contract in all years",null,null,null,null,null,null,null,null,null,null,null,null,null,null,null,null,null,null,null,null,null,null,null,null,null,null,null,null,null,null,null,null,null,null,null,null,null,null,null,null,null,null,null,"This policy is projected to be a non-modified endowment contract in all years",null,null,null,null,null,null,null,null,null,null,null,null,null,null,null,null,null,null,null,null,null,null,null,null,null,null,null,null,null,null,null,null,null,null,null,null,null,null,null,null,null,null,null,"This policy is projected to be a non-modified endowment contract in all years",null,null,null,null,null,null,null,null,null,null,null,null,null,null,null,null,null,null,null,null,null,null,null,null,null,null,null,null,null,null,null,null,null,null,null,null,null,null,null,null,null,null,null,"This policy is projected to be a non-modified endowment contract in all years"]
[14,58,43200,-43200,669608.63,669608.63,1476376.63,null,14,58,72000,-72000,1117080.8799999999,1117080.8799999999,2462199.88,null,"RCG Custom Report - ALR Loan, Detail Charges, Stand Ledger",null,null,null,null,null,null,null,null,null,null,null,null,null,null,null,null,null,null,null,null,null,null,null,null,null,null,null,null,null,null,null,null,null,null,null,null,null,null,null,null,null,null,null,"RCG Custom Report - ALR Loan, Detail Charges, Stand Ledger",null,null,null,null,null,null,null,null,null,null,null,null,null,null,null,null,null,null,null,null,null,null,null,null,null,null,null,null,null,null,null,null,null,null,null,null,null,null,null,null,null,null,null,"RCG Custom Report - ALR Loan, Detail Charges, Stand Ledger",null,null,null,null,null,null,null,null,null,null,null,null,null,null,null,null,null,null,null,null,null,null,null,null,null,null,null,null,null,null,null,null,null,null,null,null,null,null,null,null,null,null,null,"RCG Custom Report - ALR Loan, Detail Charges, Stand Ledger"]
[15,59,43950,-43950,755708.01,755708.01,1562476.01,null,15,59,73250,-73250,1260699.67,1260699.67,2605818.67]
[16,60,45900,-45900,849412.39,849412.39,1656180.39,null,16,60,76500,-76500,1417001.36,1417001.36,2762120.36]
[17,61,46650,-46650,950108.62,950108.62,1756876.62,null,17,61,77750,-77750,1584964.93,1584964.93,2930083.93]
[18,62,48600,-48600,1059036.81,1059036.81,1865804.81,null,18,62,81000,-81000,1766657.25,1766657.25,3111776.25]
[19,63,50100,-50100,1176444.8700000001,1176444.8700000001,1983212.87,null,19,63,83500,-83500,1962492.35,1962492.35,3307611.35]
[20,64,51300,-51300,1302622.3600000001,1302622.3600000001,2109390.36,null,20,64,85500,-85500,2172953.46,2172953.46,3518072.46]
[21,65,0,124056.71,1257749.3600000001,1257749.3600000001,1509299.24,null,21,65,0,665088.62,1608629.29,1608629.29,1942938.9]
[22,66,0,124056.71,1209649.08,1209649.08,1439482.41,null,22,66,0,157088.62,1548663.94,1548663.94,1842910.09]
[23,67,0,124056.71,1158340.3999999999,1158340.3999999999,1366841.68,null,23,67,0,157088.62,1484835.23,1484835.23,1752105.58]
[24,68,0,124056.71,1103615.6200000001,1103615.6200000001,1291230.28,null,24,68,0,157088.62,1416770.34,1416770.34,1657621.3]
[25,69,0,124056.71,1045454.46,1045454.46,1212727.18,null,25,69,0,157088.62,1368556.83,1344290.93,1563260.03,null,"Beginning of Period Year Month","Ending Age/Mortality","Premium","Withdrawal","Standard Loan Amount for the Period","Cumulative Standard Loan","Standard Loan Interest","Standard Loan Interest Paid","Alternative Loan Amount for the Period","Cumulative Alternative Loan","Alternative Loan Interest","Alternative Loan Interest Paid","Maximum Alternative Loan","Maximum Alternative Loan Available","Target Premium","Net Death Benefit Paid","Gross Death Benefit End of Period","Total Gross Cash Value End of Period","Total Net Cash Value End of Period","Cash Value Enhancement Rider","Cumulative IRR on Cash Value","Premium Load","Policy Fee","Per 1000 Charges","Premium Tax","DAC","M&E Charges","COI","Cash Value Interest","Term Death Benefit","Base Face Amount","Net Amount at Risk","Target Premium","Periodic Commission","Asset Based Commission","Corporate Net Cash Value Retired at Death","Total Loan Interest Change","Total Loan Amount Change","Net After-Tax Insurance Outlay","Net Death Benefit End of Period","Total Net Cash Value Change","Target Premium",null,null,"Beginning of Period Year Month","Ending Age/Mortality","Premium","Withdrawal","Standard Loan Amount for the Period","Cumulative Standard Loan","Standard Loan Interest","Standard Loan Interest Paid","Alternative Loan Amount for the Period","Cumulative Alternative Loan","Alternative Loan Interest","Alternative Loan Interest Paid","Maximum Alternative Loan","Maximum Alternative Loan Available","Target Premium","Net Death Benefit Paid","Gross Death Benefit End of Period","Total Gross Cash Value End of Period","Total Net Cash Value End of Period","Cash Value Enhancement Rider","Cumulative IRR on Cash Value","Premium Load","Policy Fee","Per 1000 Charges","Premium Tax","DAC","M&E Charges","COI","Cash Value Interest","Term Death Benefit","Base Face Amount","Net Amount at Risk","Target Premium","Periodic Commission","Asset Based Commission","Corporate Net Cash Value Retired at Death","Total Loan Interest Change","Total Loan Amount Change","Net After-Tax Insurance Outlay","Net Death Benefit End of Period","Total Net Cash Value Change","Target Premium",null,null,"Beginning of Period Year Month","Ending Age/Mortality","Premium","Withdrawal","Standard Loan Amount for the Period","Cumulative Standard Loan","Standard Loan Interest","Standard Loan Interest Paid","Alternative Loan Amount for the Period","Cumulative Alternative Loan","Alternative Loan Interest","Alternative Loan Interest Paid","Maximum Alternative Loan","Maximum Alternative Loan Available","Target Premium","Net Death Benefit Paid","Gross Death Benefit End of Period","Total Gross Cash Value End of Period","Total Net Cash Value End of Period","Cash Value Enhancement Rider","Cumulative IRR on Cash Value","Premium Load","Policy Fee","Per 1000 Charges","Premium Tax","DAC","M&E Charges","COI","Cash Value Interest","Term Death Benefit","Base Face Amount","Net Amount at Risk","Target Premium","Periodic Commission","Asset Based Commission","Corporate Net Cash Value Retired at Death","Total Loan Interest Change","Total Loan Amount Change","Net After-Tax Insurance Outlay","Net Death Benefit End of Period","Total Net Cash Value Change","Target Premium",null,null,"Beginning of Period Year Month","Ending Age/Mortality","Premium","Withdrawal","Standard Loan Amount for the Period","Cumulative Standard Loan","Standard Loan Interest","Standard Loan Interest Paid","Alternative Loan Amount for the Period","Cumulative Alternative Loan","Alternative Loan Interest","Alternative Loan Interest Paid","Maximum Alternative Loan","Maximum Alternative Loan Available","Target Premium","Net Death Benefit Paid","Gross Death Benefit End of Period","Total Gross Cash Value End of Period","Total Net Cash Value End of Period","Cash Value Enhancement Rider","Cumulative IRR on Cash Value","Premium Load","Policy Fee","Per 1000 Charges","Premium Tax","DAC","M&E Charges","COI","Cash Value Interest","Term Death Benefit","Base Face Amount","Net Amount at Risk","Target Premium","Periodic Commission","Asset Based Commission","Corporate Net Cash Value Retired at Death","Total Loan Interest Change","Total Loan Amount Change","Net After-Tax Insurance Outlay","Net Death Benefit End of Period","Total Net Cash Value Change","Target Premium"]
[26,70,0,124056.71,983154.87,983154.87,1130628.1100000001,null,26,70,0,157088.62,1453288,1265586.07,1483579.28,null,201111,45,24750,0,0,0,0,0,0,0,0,0,20816.12,20816.12,38721.06,0,833254.79,23129.02,26482.5,3353.48,7,866.25,72,0,495,247.5,69.38,1431.72,1560.87,0,833254.79,806768,38721.06,8952.4599999999991,42.46,0,0,0,-24750,833254.79,26482.5,38721.06,null,null,201111,45,41250,0,0,0,0,0,0,0,0,0,34737.47,34737.47,64559.37,0,1389263.66,38597.19,44137.5,5540.31,7,1443.75,72,0,825,412.5,115.74,2387.04,2603.2199999999998,0,1389263.66,1345119,64559.37,14920.73,70.73,0,0,0,-41250,1389263.66,44137.5,64559.37,null,null,201111,45,30000,0,0,0,0,0,0,0,0,0,25813.84,25813.84,30461.360000000001,0,666779.31000000006,28682.04,32100,3417.96,7,1050,72,0,600,300,85,1126.32,1915.36,0,666779.31000000006,634674,30461.360000000001,10851.99,51.99,0,0,0,-30000,666779.31000000006,32100,30461.360000000001,null,null,201111,45,50000,0,0,0,0,0,0,0,0,0,43066.04,43066.04,50821.39,0,1112391.8700000001,47851.16,53500,5648.84,7,1750,72,0,1000,500,141.76,1879.08,3194,0,1112391.8700000001,1058883,50821.39,18086.71,86.71,0,0,0,-50000,1112391.8700000001,53500,50821.39]
[27,71,0,124056.71,1026182.46,916061.6,1049465.32,null,27,71,0,157088.62,1537485.44,1180627.22,1380500.33,null,201211,46,24750,0,0,0,0,0,0,0,0,0,42949.84,42949.84,38721.06,0,861851.41,47722.04,54818.77,7096.73,6.9932619999999996,742.5,72,0,495,247.5,140.99,1632.84,3173.85,0,861851.41,806768,38721.06,1698.88,90.13,0,0,0,-24750,861851.41,28336.27,38721.06,null,null,201211,46,41250,0,0,0,0,0,0,0,0,0,71673.73,71673.73,64559.37,0,1436925.26,79637.48,91364.63,11727.15,6.9932619999999996,1237.5,72,0,825,412.5,235.19,2722.44,5294.92,0,1436925.26,1345119,64559.37,2831.59,150.34,0,0,0,-41250,1436925.26,47227.13,64559.37,null,null,201211,46,30000,0,0,0,0,0,0,0,0,0,53343.37,53343.37,30461.360000000001,0,701449.68,59270.41,66447,7176.59,6.9932619999999996,900,72,0,600,300,173.89,1284.5999999999999,3918.86,0,701449.68,634674,30461.360000000001,2061.2199999999998,111.22,0,0,0,-30000,701449.68,34347,30461.360000000001,null,null,201211,46,50000,0,0,0,0,0,0,0,0,0,88994.16,88994.16,50821.39,0,1170176.3500000001,98882.4,110745,11862.6,6.9932619999999996,1500,72,0,1000,500,290.04000000000002,2143.1999999999998,6536.48,0,1170176.3500000001,1058883,50821.39,3435.52,185.52,0,0,0,-50000,1170176.3500000001,57245,50821.39]
[28,72,0,124056.71,1086162.8,843789.02,963266.93,null,28,72,0,157088.62,1621038.25,1089103.27,1267417.48,null,201311,47,26250,0,0,0,0,0,0,0,0,0,67968.759999999995,67968.759999999995,38721.06,0,893651.34,75520.84,86743.59,11222.75,6.9965820000000001,525,72,0,525,262.5,221.88,1845.96,5001.1400000000003,0,893651.34,806768,38721.06,1850.01,143.76,0,0,0,-26250,893651.34,31924.82,38721.06,null,null,201311,47,43750,0,0,0,0,0,0,0,0,0,113421.68,113421.68,64559.37,0,1490080.59,126024.09,144572.65,18548.560000000001,6.9965820000000001,875,72,0,875,437.5,370.15,3077.76,8344.02,0,1490080.59,1345119,64559.37,3083.61,239.86,0,0,0,-43750,1490080.59,53208.02,64559.37,null,null,201311,47,30000,0,0,0,0,0,0,0,0,0,82843.399999999994,82843.399999999994,30461.360000000001,0,738382.76,92048.22,103198.29,11150.07,6.9965820000000001,600,72,0,600,300,269.14999999999998,1452.24,6071.2,0,738382.76,634674,30461.360000000001,2124.69,174.69,0,0,0,-30000,738382.76,36751.29,30461.360000000001,null,null,201311,47,50000,0,0,0,0,0,0,0,0,0,138209.32999999999,138209.32999999999,50821.39,0,1231731.77,153565.92000000001,171997.15,18431.23,6.9965820000000001,1000,72,0,1000,500,448.92,2422.8000000000002,10127.24,0,1231731.77,1058883,50821.39,3541.37,291.37,0,0,0,-50000,1231731.77,61252.15,50821.39]
[29,73,0,124056.71,1145370.8999999999,766079.6,869162.99,null,29,73,0,157088.62,1703887.66,990681.02,1144030.9099999999,null,201411,48,27000,0,0,0,0,0,0,0,0,0,95145.71,95145.71,38721.06,0,924815.46,105717.46,118047.46,12330,5.7190709999999996,540,72,0,540,270,309.72000000000003,2057.2800000000002,6985.62,0,924815.46,806768,38721.06,1957.2,202.2,0,0,0,-27000,924815.46,31303.87,38721.06,null,null,201411,48,45000,0,0,0,0,0,0,0,0,0,158769.59,158769.59,64559.37,0,1542079.65,176410.65,196960.65,20550,5.7646379999999997,900,72,0,900,450,516.72,3430.08,11655.36,0,1542079.65,1345119,64559.37,3262.36,337.36,0,0,0,-45000,1542079.65,52388,64559.37,null,null,201411,48,30000,0,0,0,0,0,0,0,0,0,114158.91,114158.91,30461.360000000001,0,775917.23,126843.23,141190.19,14346.96,6.6096680000000001,600,72,0,600,300,370.23,1618.44,8355.68,0,775917.23,634674,30461.360000000001,2192.06,242.06,0,0,0,-30000,775917.23,37991.9,30461.360000000001,null,null,201411,48,50000,0,0,0,0,0,0,0,0,0,190453.26,190453.26,50821.39,0,1294497.73,211614.73,235316.98,23702.25,6.6096680000000001,1000,72,0,1000,500,617.54,2700.12,13938.47,0,1294497.73,1058883,50821.39,3653.79,403.79,0,0,0,-50000,1294497.73,63319.83,50821.39]
[30,74,0,124056.71,1203323.75,682358.56,766591.23,null,30,74,0,157088.62,1785403.46,884647.87,1009626.12,null,201511,49,27750,0,0,0,0,0,0,0,0,0,124751.9,124751.9,38721.06,0,957126.22,138613.22,150358.22,11745,4.8553990000000002,416.25,72,0,555,277.5,405.4,2300.2800000000002,9172.19,0,957126.22,806768,38721.06,820.81,265.81,0,0,0,-27750,957126.22,32310.76,38721.06,null,null,201511,49,46250,0,0,0,0,0,0,0,0,0,208169.69,208169.69,64559.37,0,1595993.65,231299.65,250874.65,19575,4.8936419999999998,693.75,72,0,925,462.5,676.35,3835.2,15303.8,0,1595993.65,1345119,64559.37,1368.56,443.56,0,0,0,-46250,1595993.65,53914,64559.37,null,null,201511,49,30000,0,0,0,0,0,0,0,0,0,147559.45000000001,147559.45000000001,30461.360000000001,0,812128.94,163954.94,177454.94,13500,5.6498049999999997,450,72,0,600,300,478.01,1809.6,10821.32,0,812128.94,634674,30461.360000000001,913.91,313.91000000000003,0,0,0,-30000,812128.94,36264.75,30461.360000000001,null,null,201511,49,50000,0,0,0,0,0,0,0,0,0,246175.32,246175.32,50821.39,0,1354911.13,273528.13,296028.13,22500,5.6807619999999996,750,72,0,1000,500,797.4,3019.08,18051.88,0,1354911.13,1058883,50821.39,1523.66,523.66,0,0,0,-50000,1354911.13,60711.15,50821.39]
[31,75,0,124056.71,1260012.52,592414.85,655415.48,null,31,75,0,157088.62,1865622.01,770753.25,864034.36,null,201611,50,33900,0,0,0,0,0,0,0,0,0,161781.25,161781.25,38721.06,0,998032.94,179756.94,191264.94,11508,4.5511020000000002,508.5,72,0,678,339,524.9,2481.36,11847.48,0,998032.94,806768,38721.06,1022.54,344.54,0,0,0,-33900,998032.94,40906.720000000001,38721.06,null,null,201611,50,56500,0,0,0,0,0,0,0,0,0,269945.15999999997,269945.15999999997,64559.37,0,1664238.07,299939.07,319119.07,19180,4.5836810000000003,847.5,72,0,1130,565,875.78,4137.24,19766.939999999999,0,1664238.07,1345119,64559.37,1704.84,574.84,0,0,0,-56500,1664238.07,68244.42,64559.37,null,null,201611,50,30000,0,0,0,0,0,0,0,0,0,183074.63,183074.63,30461.360000000001,0,850690.26,203416.26,216016.26,12600,5.2311519999999998,450,72,0,600,300,592.54999999999995,1904.64,13380.51,0,850690.26,634674,30461.360000000001,990.25,390.25,0,0,0,-30000,850690.26,38561.32,30461.360000000001,null,null,201611,50,50000,0,0,0,0,0,0,0,0,0,305424.87,305424.87,50821.39,0,1419243.97,339360.97,360360.97,21000,5.2578610000000001,750,72,0,1000,500,988.46,3178.08,22321.38,0,1419243.97,1058883,50821.39,1651.02,651.02,0,0,0,-50000,1419243.97,64332.84,50821.39]
[32,76,0,124056.71,1314737.29,495375.01,561111.88,null,32,76,0,157088.62,1943574.8,647798.91,744977.65,null,201711,51,35100,0,0,0,0,0,0,0,0,0,202509.86,202509.86,38721.06,0,1041753.96,225010.96,234985.96,9975,4.3614540000000002,526.5,72,0,702,351,655.83,2346.48,14807.83,0,1041753.96,806768,38721.06,1133.6099999999999,431.61,0,0,0,-35100,1041753.96,43721.02,38721.06,null,null,201711,51,58500,0,0,0,0,0,0,0,0,0,337890.32,337890.32,64559.37,0,1737177.69,375433.69,392058.69,16625,4.3896870000000003,877.5,72,0,1170,585,1094.1600000000001,3912.24,24705.52,0,1737177.69,1345119,64559.37,1890.12,720.12,0,0,0,-58500,1737177.69,72939.62,64559.37,null,null,201711,51,30000,0,0,0,0,0,0,0,0,0,221061.06,221061.06,30461.360000000001,0,890797.4,245623.4,256123.4,10500,4.9627929999999996,450,72,0,600,300,714.67,1798.56,16142.37,0,890797.4,634674,30461.360000000001,1071.67,471.67,0,0,0,-30000,890797.4,40107.14,30461.360000000001,null,null,201711,51,50000,0,0,0,0,0,0,0,0,0,368797.28,368797.28,50821.39,0,1486157.76,409774.76,427274.76,17500,4.9863770000000001,750,72,0,1000,500,1192.2,3000.96,26928.95,0,1486157.76,1058883,50821.39,1786.83,786.83,0,0,0,-50000,1486157.76,66913.789999999994,50821.39]
[33,{"$f":"CHOOSE(IllusToUse,R72,BJ72,DB72,ET72)","v":77},{"$f":"CHOOSE(IllusToUse,IF(BC72<0,-BC72,0),IF(CU72<0,-CU72,0),IF(EM72<0,-EM72,0),IF(GE72<0,-GE72,0))","v":0},{"$f":"CHOOSE(IllusToUse,BC72,CU72,EM72,GE72)","v":124056.71},{"$f":"CHOOSE(IllusToUse,AH72,BZ72,DR72,FJ72)","v":1367283.24},{"$f":"CHOOSE(IllusToUse,AI72,CA72,DS72,FK72)","v":390752.55},{"$f":"CHOOSE(IllusToUse,BD72,CV72,EN72,GF72)","v":459116.72},null,33,{"$f":"CHOOSE(IllusToUse2,R72,BJ72,DB72,ET72)","v":77},{"$f":"CHOOSE(IllusToUse2,IF(BC72<0,-BC72,0),IF(CU72<0,-CU72,0),IF(EM72<0,-EM72,0),IF(GE72<0,-GE72,0))","v":0},{"$f":"CHOOSE(IllusToUse2,BC72,CU72,EM72,GE72)","v":157088.62},{"$f":"CHOOSE(IllusToUse2,AH72,BZ72,DR72,FJ72)","v":2019012.29},{"$f":"CHOOSE(IllusToUse2,AI72,CA72,DS72,FK72)","v":515155.79},{"$f":"CHOOSE(IllusToUse2,BD72,CV72,EN72,GF72)","v":616106.41},null,201811,52,35850,0,0,0,0,0,0,0,0,0,246550.59,246550.59,38721.06,0,1087773.6000000001,273945.09999999998,281005.59999999998,7060.5,4.223319,358.5,72,0,717,358.5,798.08,2633.88,18022.099999999999,0,1087773.6000000001,806768,38721.06,1243.3,526.29999999999995,0,0,0,-35850,1087773.6000000001,46019.64,38721.06,null,null,201811,52,59750,0,0,0,0,0,0,0,0,0,411359.81,411359.81,64559.37,0,1813952.95,457066.45,468833.95,11767.5,4.248183,597.5,72,0,1195,597.5,1331.43,4391.3999999999996,30067.59,0,1813952.95,1345119,64559.37,2073.0500000000002,878.05,0,0,0,-59750,1813952.95,76775.259999999995,64559.37,null,null,201811,52,30000,0,0,0,0,0,0,0,0,0,261518,261518,30461.360000000001,0,932449.55,290575.55,297775.55,7200,4.774756,300,72,0,600,300,845.25,2024.64,19094.04,0,932449.55,634674,30461.360000000001,1158.72,558.72,0,0,0,-30000,932449.55,41652.15,30461.360000000001,null,null,201811,52,50000,0,0,0,0,0,0,0,0,0,436290.84,436290.84,50821.39,0,1555650.6,484767.6,496767.6,12000,4.7958980000000002,500,72,0,1000,500,1410.09,3378.24,31853.17,0,1555650.6,1058883,50821.39,1932.07,932.07,0,0,0,-50000,1555650.6,69492.84,50821.39]
[34,78,0,124056.71,1416960.71,277852.75,348700.79,null,34,78,0,157088.62,2091008.39,371930.19,476480.61,null,201911,53,36600,0,0,0,0,0,0,0,0,0,293958.46999999997,293958.46999999997,38721.06,0,1138827.52,326620.52,331756.63,5136.1099999999997,4.2682900000000004,366,72,0,732,366,951.17,2977.68,21540.27,0,1138827.52,806768,38721.06,1360.26,628.26,0,0,0,-36600,1138827.52,50751.03,38721.06,null,null,201911,53,61000,0,0,0,0,0,0,0,0,0,490445.61,490445.61,64559.37,0,1899123.57,544939.56999999995,552927.72,7988.15,4.2683,610,72,0,1220,610,1586.86,4964.6400000000003,35936.620000000003,0,1899123.57,1345119,64559.37,2268.14,1048.1400000000001,0,0,0,-61000,1899123.57,84093.77,64559.37,null,null,201911,53,30000,0,0,0,0,0,0,0,0,0,304481.74,304481.74,30461.360000000001,0,973065.26,338313.04,338313.04,0,4.4764650000000001,300,72,0,600,300,983.97,2295.12,22288.58,0,973065.26,634674,30461.360000000001,1251.17,651.16999999999996,0,0,0,-30000,973065.26,40537.49,30461.360000000001,null,null,201911,53,50000,0,0,0,0,0,0,0,0,0,507966.53,507966.53,50821.39,0,1623290.26,564407.26,564407.26,0,4.4957520000000004,500,72,0,1000,500,1641.47,3829.44,37182.57,0,1623290.26,1058883,50821.39,2086.31,1086.31,0,0,0,-50000,1623290.26,67639.66,50821.39]
[35,79,0,124056.71,1463484.77,156109.34,229283.58,null,35,79,0,157088.62,2159222.88,217390.22,325351.37,null,202011,54,38550,0,0,0,0,0,0,0,0,0,345899.94,345899.94,38721.06,0,1191101.27,384333.27,384333.27,0,4.1788850000000002,385.5,72,0,771,385.5,1119.08,3379.92,25275.75,0,1191101.27,806768,38721.06,1510.89,739.89,0,0,0,-38550,1191101.27,52576.639999999999,38721.06,null,null,202011,54,64250,0,0,0,0,0,0,0,0,0,577091.88,577091.88,64559.37,0,1986332.2,641213.19999999995,641213.19999999995,0,4.1987199999999998,642.5,72,0,1285,642.5,1866.98,5635.32,42167.93,0,1986332.2,1345119,64559.37,2519.38,1234.3800000000001,0,0,0,-64250,1986332.2,88285.48,64559.37,null,null,202011,54,30000,0,0,0,0,0,0,0,0,0,349963.35,349963.35,30461.360000000001,0,1023522.17,388848.17,388848.17,0,4.6627929999999997,300,72,0,600,300,1130.95,2611.56,25549.64,0,1023522.17,634674,30461.360000000001,1349.17,749.17,0,0,0,-30000,1023522.17,50535.13,30461.360000000001,null,null,202011,54,50000,0,0,0,0,0,0,0,0,0,583842.78,583842.78,50821.39,0,1707597.2,648714.19999999995,648714.19999999995,0,4.6801760000000003,500,72,0,1000,500,1886.69,4357.32,42622.95,0,1707597.2,1058883,50821.39,2249.79,1249.79,0,0,0,-50000,1707597.2,84306.94,50821.39]
[36,80,0,0,1511197.61,158064.04,233623.93,null,36,80,0,0,2229150.63,219353.83,330811.37,null,202111,55,39300,0,0,0,0,0,0,0,0,0,402529.48,402529.48,38721.06,0,1254022.98,447254.98,447254.98,0,4.4147249999999998,393,72,0,786,393,650.25,3464.28,29380.240000000002,0,1254022.98,806768,38721.06,1210.54,430.33,0,0,0,-39300,1254022.98,62921.71,38721.06,null,null,202111,55,65500,0,0,0,0,0,0,0,0,0,671557.73,671557.73,64559.37,0,2091294.25,746175.25,746175.25,0,4.4325089999999996,655,72,0,1310,655,1084.79,5775.96,49014.8,0,2091294.25,1345119,64559.37,2018.54,717.94,0,0,0,-65500,2091294.25,104962.05,64559.37,null,null,202111,55,30000,0,0,0,0,0,0,0,0,0,398977.13,398977.13,30461.360000000001,0,1077981.92,443307.92,443307.92,0,4.8439449999999997,300,72,0,600,300,643.94000000000005,2725.32,29101.01,0,1077981.92,634674,30461.360000000001,1026.9000000000001,426.9,0,0,0,-30000,1077981.92,54459.75,30461.360000000001,null,null,202111,55,50000,0,0,0,0,0,0,0,0,0,665611.93000000005,665611.93000000005,50821.39,0,1798451.81,739568.81,739568.81,0,4.8597659999999996,500,72,0,1000,500,1074.24,4546.8,48547.65,0,1798451.81,1058883,50821.39,1712.17,712.17,0,0,0,-50000,1798451.81,90854.61,50821.39]
[37,81,0,0,1560259.47,159634.22,237647.2,null,37,81,0,0,2301018.08,220682.33,335733.24,null,202211,56,40500,0,0,0,0,0,0,0,0,0,463841.55,463841.55,38721.06,0,1322147.5,515379.5,515379.5,0,4.6081820000000002,405,72,0,810,405,749.12,3783.84,33849.480000000003,0,1322147.5,806768,38721.06,1288.3900000000001,496.18,0,0,0,-40500,1322147.5,68124.52,38721.06,null,null,202211,56,67500,0,0,0,0,0,0,0,0,0,773833.18,773833.18,64559.37,0,2204933.64,859814.64,859814.64,0,4.6242570000000001,675,72,0,1350,675,1249.71,6308.88,56469.98,0,2204933.64,1345119,64559.37,2148.34,827.74,0,0,0,-67500,2204933.64,113639.39,64559.37,null,null,202211,56,30000,0,0,0,0,0,0,0,0,0,451108.64,451108.64,30461.360000000001,0,1135905.82,501231.82,501231.82,0,4.992578,300,72,0,600,300,727.99,2976.72,32900.61,0,1135905.82,634674,30461.360000000001,1082.92,482.92,0,0,0,-30000,1135905.82,57923.9,30461.360000000001,null,null,202211,56,50000,0,0,0,0,0,0,0,0,0,752582.24,752582.24,50821.39,0,1895085.49,836202.49,836202.49,0,5.0070309999999996,500,72,0,1000,500,1214.46,4966.32,54886.46,0,1895085.49,1058883,50821.39,1805.64,805.64,0,0,0,-50000,1895085.49,96633.68,50821.39]
[38,82,0,0,1610392.46,160745.32999999999,241264.96,null,38,82,0,0,2374414.58,221267.08,339987.81,null,202311,57,42000,0,0,0,0,0,0,0,0,0,530551.72,530551.72,38721.06,0,1396269.91,589501.91,589501.91,0,4.7714150000000002,420,72,0,840,420,856.6,4082.4,38813.410000000003,0,1396269.91,806768,38721.06,1374.92,567.71,0,0,0,-42000,1396269.91,74122.41,38721.06,null,null,202311,57,70000,0,0,0,0,0,0,0,0,0,885111.61,885111.61,64559.37,0,2328576.34,983457.34,983457.34,0,4.7860250000000004,700,72,0,1400,700,1429.04,6806.52,64750.26,0,2328576.34,1345119,64559.37,2292.66,947.06,0,0,0,-70000,2328576.34,123642.7,64559.37,null,null,202311,57,30000,0,0,0,0,0,0,0,0,0,506680.87,506680.87,30461.360000000001,0,1197652.74,562978.74,562978.74,0,5.1180659999999998,300,72,0,600,300,817.52,3211.56,37048,0,1197652.74,634674,30461.360000000001,1142.5999999999999,542.6,0,0,0,-30000,1197652.74,61746.92,30461.360000000001,null,null,202311,57,50000,0,0,0,0,0,0,0,0,0,845292.66,845292.66,50821.39,0,1998097.07,939214.07,939214.07,0,5.1313959999999996,500,72,0,1000,500,1363.82,5358.12,61805.52,0,1998097.07,1058883,50821.39,1905.22,905.22,0,0,0,-50000,1998097.07,103011.58,50821.39]
[39,83,0,0,1661729.33,161344.54999999999,244431.02,null,39,83,0,0,2449530.42,221022.76,343499.29,null,202411,58,43200,0,0,0,0,0,0,0,0,0,602647.77,602647.77,38721.06,0,1476376.63,669608.63,669608.63,0,4.9122349999999999,432,72,0,864,432,972.77,4281.3599999999997,43960.85,0,1476376.63,806768,38721.06,1464.26,645.04999999999995,0,0,0,-43200,1476376.63,80106.720000000001,38721.06,null,null,202411,58,72000,0,0,0,0,0,0,0,0,0,1005372.79,1005372.79,64559.37,0,2462199.88,1117080.8799999999,1117080.8799999999,0,4.9255760000000004,720,72,0,1440,720,1622.78,7138.2,73336.52,0,2462199.88,1345119,64559.37,2441.6999999999998,1076.0999999999999,0,0,0,-72000,2462199.88,133623.54,64559.37,null,null,202411,58,30000,0,0,0,0,0,0,0,0,0,565813.81000000006,565813.81000000006,30461.360000000001,0,1263356.01,628682.01,628682.01,0,5.2262209999999998,300,72,0,600,300,912.82,3368.04,41256.129999999997,0,1263356.01,634674,30461.360000000001,1206.1099999999999,606.11,0,0,0,-30000,1263356.01,65703.27,30461.360000000001,null,null,202411,58,50000,0,0,0,0,0,0,0,0,0,943943.33,943943.33,50821.39,0,2107708.92,1048825.92,1048825.92,0,5.2385250000000001,500,72,0,1000,500,1522.78,5619.24,68825.87,0,2107708.92,1058883,50821.39,2011.18,1011.18,0,0,0,-50000,2107708.92,109611.85,50821.39]
[40,84,0,0,1714216.64,161318.39000000001,247029.23,null,40,84,0,0,2526282.64,219777.21,346091.35,null,202511,59,43950,0,0,0,0,0,0,0,0,0,680137.21,680137.21,38721.06,0,1562476.01,755708.01,755708.01,0,5.0350380000000001,439.5,72,0,879,439.5,1097.5899999999999,4527.72,49604.69,0,1562476.01,806768,38721.06,1554.92,728.21,0,0,0,-43950,1562476.01,86099.38,38721.06,null,null,202511,59,73250,0,0,0,0,0,0,0,0,0,1134629.7,1134629.7,64559.37,0,2605818.67,1260699.67,1260699.67,0,5.0473039999999996,732.5,72,0,1465,732.5,1831.02,7548.96,82750.77,0,2605818.67,1345119,64559.37,2592.91,1214.81,0,0,0,-73250,2605818.67,143618.79,64559.37,null,null,202511,59,30000,0,0,0,0,0,0,0,0,0,628810.38,628810.38,30461.360000000001,0,1333352.2,698678.2,698678.2,0,5.3203129999999996,300,72,0,600,300,1014.28,3561.84,45844.31,0,1333352.2,634674,30461.360000000001,1273.77,673.77,0,0,0,-30000,1333352.2,69996.19,30461.360000000001,null,null,202511,59,50000,0,0,0,0,0,0,0,0,0,1049039.54,1049039.54,50821.39,0,2224482.4900000002,1165599.49,1165599.49,0,5.3317870000000003,500,72,0,1000,500,1692.06,5942.64,76480.27,0,2224482.4900000002,1058883,50821.39,2124.04,1124.04,0,0,0,-50000,2224482.4900000002,116773.57,50821.39]
[41,85,0,0,1767941.47,160540.29,248937.37,null,41,85,0,0,2604792.9300000002,217334.8,347574.45,null,202611,60,45900,0,0,0,0,0,0,0,0,0,764471.15,764471.15,38721.06,0,1656180.39,849412.39,849412.39,0,5.1423129999999997,459,72,0,918,459,1233.45,4800.72,55746.55,0,1656180.39,806768,38721.06,1664.86,818.65,0,0,0,-45900,1656180.39,93704.38,38721.06,null,null,202611,60,76500,0,0,0,0,0,0,0,0,0,1275301.22,1275301.22,64559.37,0,2762120.36,1417001.36,1417001.36,0,5.1536030000000004,765,72,0,1530,765,2057.63,8004.24,92995.56,0,2762120.36,1345119,64559.37,2776.23,1365.63,0,0,0,-76500,2762120.36,156301.69,64559.37,null,null,202611,60,30000,0,0,0,0,0,0,0,0,0,695914.83,695914.83,30461.360000000001,0,1407912.7,773238.7,773238.7,0,5.4027830000000003,300,72,0,600,300,1122.3800000000001,3776.64,50731.519999999997,0,1407912.7,634674,30461.360000000001,1345.83,745.83,0,0,0,-30000,1407912.7,74560.5,30461.360000000001,null,null,202611,60,50000,0,0,0,0,0,0,0,0,0,1160988.8700000001,1160988.8700000001,50821.39,0,2348870.63,1289987.6299999999,1289987.6299999999,0,5.4134770000000003,500,72,0,1000,500,1872.43,6300.96,84633.53,0,2348870.63,1058883,50821.39,2244.27,1244.27,0,0,0,-50000,2348870.63,124388.14,50821.39]
[42,86,0,0,1822477.43,158817.21,249941.09,null,42,86,0,0,2684432.15,213412.99,347634.6,null,202711,61,46650,0,0,0,0,0,0,0,0,0,855097.76,855097.76,38721.06,0,1756876.62,950108.62,950108.62,0,5.2369909999999997,466.5,72,0,933,466.5,1379.41,5151.24,62514.879999999997,0,1756876.62,806768,38721.06,1769.58,915.87,0,0,0,-46650,1756876.62,100696.23,38721.06,null,null,202711,61,77750,0,0,0,0,0,0,0,0,0,1426468.44,1426468.44,64559.37,0,2930083.93,1584964.93,1584964.93,0,5.2474999999999996,777.5,72,0,1555,777.5,2301.1,8588.64,104285.31,0,2930083.93,1345119,64559.37,2950.94,1527.84,0,0,0,-77750,2930083.93,167963.57,64559.37,null,null,202711,61,30000,0,0,0,0,0,0,0,0,0,767494.71,767494.71,30461.360000000001,0,1487445.9,852771.9,852771.9,0,5.4754880000000004,300,72,0,600,300,1237.6500000000001,4052.4,56095.25,0,1487445.9,634674,30461.360000000001,1422.69,822.69,0,0,0,-30000,1487445.9,79533.2,30461.360000000001,null,null,202711,61,50000,0,0,0,0,0,0,0,0,0,1280404.46,1280404.46,50821.39,0,2481554.62,1422671.62,1422671.62,0,5.4854979999999998,500,72,0,1000,500,2064.7199999999998,6761.04,93581.75,0,2481554.62,1058883,50821.39,2372.48,1372.48,0,0,0,-50000,2481554.62,132683.99,50821.39]
[43,87,0,0,1877914.14,156025.81,249921.52,null,43,87,0,0,2765325.55,207820.72,346087,null,202811,62,48600,0,0,0,0,0,0,0,0,0,953133.13,953133.13,38721.06,0,1865804.81,1059036.81,1059036.81,0,5.3189729999999997,486,72,0,972,486,1537.55,5612.52,69494.259999999995,0,1865804.81,806768,38721.06,1894.35,1021.14,0,0,0,-48600,1865804.81,108928.19,38721.06,null,null,202811,62,81000,0,0,0,0,0,0,0,0,0,1589991.53,1589991.53,64559.37,0,3111776.25,1766657.25,1766657.25,0,5.3287009999999997,810,72,0,1620,810,2564.86,9357.7199999999993,115926.9,0,3111776.25,1345119,64559.37,3159.02,1703.42,0,0,0,-81000,3111776.25,181692.32,64559.37,null,null,202811,62,30000,0,0,0,0,0,0,0,0,0,843489.1,843489.1,30461.360000000001,0,1571884.11,937210.11,937210.11,0,5.5385739999999997,300,72,0,600,300,1360.25,4415.28,61485.74,0,1571884.11,634674,30461.360000000001,1504.45,904.45,0,0,0,-30000,1571884.11,84438.21,30461.360000000001,null,null,202811,62,50000,0,0,0,0,0,0,0,0,0,1407184.74,1407184.74,50821.39,0,2622421.6,1563538.6,1563538.6,0,5.547949,500,72,0,1000,500,2269.2199999999998,7366.44,102574.64,0,2622421.6,1058883,50821.39,2508.83,1508.83,0,0,0,-50000,2622421.6,140866.98000000001,50821.39]
[44,88,0,0,1934201.94,152047.51999999999,248757.62,null,44,88,0,0,2847394.77,200377.27,342747.01,null,202911,63,50100,0,0,0,0,0,0,0,0,0,1058800.3799999999,1058800.3799999999,38721.06,0,1983212.87,1176444.8700000001,1176444.8700000001,0,5.3911899999999999,501,72,0,1002,501,1707.9,6103.2,77195.16,0,1983212.87,806768,38721.06,2022.8,1134.5899999999999,0,0,0,-50100,1983212.87,117408.06,38721.06,null,null,202911,63,83500,0,0,0,0,0,0,0,0,0,1766243.12,1766243.12,64559.37,0,3307611.35,1962492.35,1962492.35,0,5.4002340000000002,835,72,0,1670,835,2848.99,10175.76,128771.85,0,3307611.35,1345119,64559.37,3373.26,1892.66,0,0,0,-83500,3307611.35,195835.1,64559.37,null,null,202911,63,30000,0,0,0,0,0,0,0,0,0,924321.11,924321.11,30461.360000000001,0,1661697.45,1027023.45,1027023.45,0,5.5940430000000001,300,72,0,600,300,1490.55,4801.32,67377.210000000006,0,1661697.45,634674,30461.360000000001,1591.33,991.33,0,0,0,-30000,1661697.45,89813.34,30461.360000000001,null,null,202911,63,50000,0,0,0,0,0,0,0,0,0,1542035.48,1542035.48,50821.39,0,2772255.75,1713372.75,1713372.75,0,5.602881,500,72,0,1000,500,2486.64,8010.48,112403.27,0,2772255.75,1058883,50821.39,2653.75,1653.75,0,0,0,-50000,2772255.75,149834.15,50821.39]
[45,89,0,0,1991481,146777.32,246351.37,null,45,89,0,0,2930837.69,190916.35,337458.24,null,203011,64,51300,0,0,0,0,0,0,0,0,0,1172360.1200000001,1172360.1200000001,38721.06,0,2109390.36,1302622.3600000001,1302622.3600000001,0,5.455692,513,72,0,1026,513,1890.92,6577.2,85469.61,0,2109390.36,806768,38721.06,2156.7199999999998,1256.51,0,0,0,-51300,2109390.36,126177.49,38721.06,null,null,203011,64,85500,0,0,0,0,0,0,0,0,0,1955658.11,1955658.11,64559.37,0,3518072.46,2172953.46,2172953.46,0,5.4641500000000001,855,72,0,1710,855,3154.27,10966.08,142573.46,0,3518072.46,1345119,64559.37,3596.59,2095.9899999999998,0,0,0,-85500,3518072.46,210461.11,64559.37,null,null,203011,64,30000,0,0,0,0,0,0,0,0,0,1010333.84,1010333.84,30461.360000000001,0,1757267.15,1122593.1499999999,1122593.1499999999,0,5.6435060000000004,300,72,0,600,300,1629.21,5174.16,73645.070000000007,0,1757267.15,634674,30461.360000000001,1683.74,1083.74,0,0,0,-30000,1757267.15,95569.7,30461.360000000001,null,null,203011,64,50000,0,0,0,0,0,0,0,0,0,1685529.07,1685529.07,50821.39,0,2931693.08,1872810.08,1872810.08,0,5.6518550000000003,500,72,0,1000,500,2717.93,8632.56,122859.82,0,2931693.08,1058883,50821.39,2807.95,1807.95,0,0,0,-50000,2931693.08,159437.32999999999,50821.39]
[46,90,0,0,2049340.96,140072.65,242539.7,null,46,90,0,0,3015049.34,179230.75,329983.21999999997,null,203111,65,0,124056.71,0,0,0,0,0,0,0,0,1131974.42,1131974.42,38721.06,0,1509299.24,1257749.3600000001,1257749.3600000001,0,5.5502719999999997,0,72,0,0,0,1214.55,2158.65,82628.91,0,1509299.24,250191.29,38721.06,612.46,612.46,0,0,0,124056.71,1509299.24,-44873,38721.06,null,null,203111,65,0,665088.62,0,0,0,0,0,0,0,0,1447766.36,1447766.36,64559.37,0,1942938.9,1608629.29,1608629.29,0,5.535488,0,72,0,0,0,1553.65,3398.47,105788.57,0,1942938.9,342980.9,64559.37,804.55,804.55,0,0,0,665088.62,1942938.9,-564324.17000000004,64559.37,null,null,203111,65,0,106311.81,0,0,0,0,0,0,0,0,976096.55,976096.55,30461.360000000001,0,1301462.07,1084551.72,1084551.72,0,5.7156250000000002,0,72,0,0,0,1047.31,1861.03,71250.720000000001,0,1301462.07,215738.84,30461.360000000001,528.08000000000004,528.08000000000004,0,0,0,106311.81,1301462.07,-38041.43,30461.360000000001,null,null,203111,65,0,538200.07999999996,0,0,0,0,0,0,0,0,1281482.6599999999,1281482.6599999999,50821.39,0,1709588.62,1423869.62,1423869.62,0,5.707471,0,72,0,0,0,1375.17,2919.59,93626.38,0,1709588.62,293401.75,50821.39,710.01,710.01,0,0,0,538200.07999999996,1709588.62,-448940.46,50821.39]
[47,91,0,0,2109451.6,133358.9,217736.97,null,47,91,0,0,3102477.18,167404.94,291504.03000000003,null,203211,66,0,124056.71,0,0,0,0,0,0,0,0,1088684.17,1088684.17,38721.06,0,1439482.41,1209649.08,1209649.08,0,5.623856,0,72,0,0,0,1168.19,2063.2800000000002,79259.899999999994,0,1439482.41,228592.15,38721.06,589.26,589.26,0,0,0,124056.71,1439482.41,-48100.28,38721.06,null,null,203211,66,0,157088.62,0,0,0,0,0,0,0,0,1393797.55,1393797.55,64559.37,0,1842910.09,1548663.94,1548663.94,0,5.5943259999999997,0,72,0,0,0,1495.62,2782.95,101473.84,0,1842910.09,292657.13,64559.37,754.33,754.33,0,0,0,157088.62,1842910.09,-59965.35,64559.37,null,null,203211,66,0,106311.81,0,0,0,0,0,0,0,0,939393.91,939393.91,30461.360000000001,0,1242087.51,1043771.01,1043771.01,0,5.7726069999999998,0,72,0,0,0,1008,1780.12,68391.22,0,1242087.51,197245.52,30461.360000000001,508.44,508.44,0,0,0,106311.81,1242087.51,-40780.71,30461.360000000001,null,null,203211,66,0,138200.07999999999,0,0,0,0,0,0,0,0,1234563.7,1234563.7,50821.39,0,1632367.56,1371737.44,1371737.44,0,5.753857,0,72,0,0,0,1324.72,2415.75,89880.37,0,1632367.56,259222.63,50821.39,668.12,668.12,0,0,0,138200.07999999999,1632367.56,-52132.18,50821.39]
[48,92,0,0,2172163.09,126907.15,192072.05,null,48,92,0,0,3193628.03,155828.26,251637.11,null,203311,67,0,124056.71,0,0,0,0,0,0,0,0,1042506.36,1042506.36,38721.06,0,1366841.68,1158340.3999999999,1158340.3999999999,0,5.6823030000000001,0,72,0,0,0,1118.6400000000001,1960.08,75898.75,0,1366841.68,207375.08,38721.06,564.48,564.48,0,0,0,124056.71,1366841.68,-51308.68,38721.06,null,null,203311,67,0,157088.62,0,0,0,0,0,0,0,0,1336351.71,1336351.71,64559.37,0,1752105.58,1484835.23,1484835.23,0,5.6428120000000002,0,72,0,0,0,1433.92,2525.15,97290.98,0,1752105.58,265826.71000000002,64559.37,723.51,723.51,0,0,0,157088.62,1752105.58,-63828.71,64559.37,null,null,203311,67,0,106311.81,0,0,0,0,0,0,0,0,900243.4,900243.4,30461.360000000001,0,1180319.1200000001,1000270.44,1000270.44,0,5.8185549999999999,0,72,0,0,0,965.98,1692.34,65541.56,0,1180319.1200000001,179076.17,30461.360000000001,487.42,487.42,0,0,0,106311.81,1180319.1200000001,-43500.57,30461.360000000001,null,null,203311,67,0,138200.07999999999,0,0,0,0,0,0,0,0,1184581.67,1184581.67,50821.39,0,1553118.19,1316201.8500000001,1316201.8500000001,0,5.7923830000000001,0,72,0,0,0,1271.06,2234.0700000000002,86241.62,0,1553118.19,235636.66,50821.39,641.29,641.29,0,0,0,138200.07999999999,1553118.19,-55535.59,50821.39]
[49,93,0,0,2238062.92,121023.5,165784.76,null,49,93,0,0,3289352.68,144933.57,210720.63,null,203411,68,0,124056.71,0,0,0,0,0,0,0,0,993254.06,993254.06,38721.06,0,1291230.28,1103615.6200000001,1103615.6200000001,0,5.7296180000000003,0,72,0,0,0,1065.76,1843.76,72313.45,0,1291230.28,186600.91,38721.06,538.04999999999995,538.04999999999995,0,0,0,124056.71,1291230.28,-54724.78,38721.06,null,null,203411,68,0,157088.62,0,0,0,0,0,0,0,0,1275093.31,1275093.31,64559.37,0,1657621.3,1416770.34,1416770.34,0,5.6829000000000001,0,72,0,0,0,1368.17,2367.71,92831.61,0,1657621.3,239549.56,64559.37,690.65,690.65,0,0,0,157088.62,1657621.3,-68064.89,64559.37,null,null,203411,68,0,106311.81,0,0,0,0,0,0,0,0,858486.62,858486.62,30461.360000000001,0,1116032.6100000001,953874.02,953874.02,0,5.8560059999999998,0,72,0,0,0,921.17,1593.33,62501.89,0,1116032.6100000001,161282.39000000001,30461.360000000001,465.01,465.01,0,0,0,106311.81,1116032.6100000001,-46396.42,30461.360000000001,null,null,203411,68,0,138200.07999999999,0,0,0,0,0,0,0,0,1131279.68,1131279.68,50821.39,0,1470663.59,1256977.42,1256977.42,0,5.824414,0,72,0,0,0,1213.8900000000001,2099.9299999999998,82361.47,0,1470663.59,212531.55,50821.39,612.70000000000005,612.70000000000005,0,0,0,138200.07999999999,1470663.59,-59224.43,50821.39]
[50,94,0,0,2307385.34,116249.54,139323.4,null,50,94,0,0,3389991.47,135517.69,169417.61,null,203511,69,0,124056.71,0,0,0,0,0,0,0,0,940909.01,940909.01,38721.06,0,1212727.18,1045454.46,1045454.46,0,5.7683869999999997,0,72,0,0,0,1009.52,1706.94,68684.009999999995,0,1212727.18,166368.32999999999,38721.06,509.94,509.94,0,0,0,124056.71,1212727.18,-58161.16,38721.06,null,null,203511,69,0,133645.51999999999,23443.1,23443.1,822.8,0,0,0,0,0,1206869.04,1206869.04,64559.37,0,1587525.93,1368556.83,1344290.93,0,5.7161520000000001,0,72,0,0,0,1298.24,2227.73,89029.98,0,1587525.93,217796.94,64559.37,666.39,666.39,0,0,23443.1,157088.62,1563260.03,-72479.41,64559.37,null,null,203511,69,0,106311.81,0,0,0,0,0,0,0,0,814111.52,814111.52,30461.360000000001,0,1049299.3,904568.36,904568.36,0,5.8870120000000004,0,72,0,0,0,873.47,1476.59,59428.21,0,1049299.3,143948.43,30461.360000000001,441.17,441.17,0,0,0,106311.81,1049299.3,-49305.66,30461.360000000001,null,null,203511,69,0,47199.68,91000.4,91000.4,3193.89,0,0,0,0,0,1062488.28,1062488.28,50821.39,0,1493668.14,1287644.94,1193450.6499999999,0,5.8497560000000002,0,72,0,0,0,1152.94,2086.1999999999998,81178.34,0,1493668.14,204954.87,50821.39,623.91999999999996,623.91999999999996,0,0,91000.4,138200.07999999999,1399473.85,-63526.77,50821.39]
[51,95,0,0,2381059.9300000002,113234.38,113234.38,null,51,95,0,0,3496895.44,128515.08,128515.08,null,203611,70,0,124056.71,0,0,0,0,0,0,0,0,884839.38,884839.38,38721.06,0,1130628.1100000001,983154.87,983154.87,0,5.7998810000000001,0,72,0,0,0,949.45,1644.53,64423.1,0,1130628.1100000001,146676.35999999999,38721.06,479.89,479.89,0,0,0,124056.71,1130628.1100000001,-62299.59,38721.06,null,null,203611,70,0,0,157911.42000000001,181354.52,6347.41,822.8,0,0,0,0,1115890.67,1115890.67,64559.37,0,1671281.21,1453288,1265586.07,0,5.7410050000000004,0,72,0,0,0,1223.22,2412.1,88438.49,0,1671281.21,216900.42,64559.37,702.26,702.26,0,822.8,157911.42000000001,157088.62,1483579.28,-78704.86,64559.37,null,null,203611,70,0,68440.95,37870.86,37870.86,1325.48,0,0,0,0,0,761521.81,761521.81,30461.360000000001,0,1024305.01,890700,851503.66,0,5.9114750000000003,0,72,0,0,0,822.54,1479.87,56947,0,1024305.01,132900.85,30461.360000000001,433.05,433.05,0,0,37870.86,106311.81,985108.67,-53064.7,30461.360000000001,null,null,203611,70,0,0,141393.97,232394.37,8133.8,3193.89,0,0,0,0,982338.41,982338.41,50821.39,0,1569701.57,1364957.88,1124429.71,0,5.8683589999999999,0,72,0,0,0,1087.19,2267.62,80739.75,0,1569701.57,203746.46,50821.39,659.67,659.67,0,3193.89,141393.97,138200.07999999999,1329173.3999999999,-69020.94,50821.39]
[52,96,0,0,2456827.5099999998,109628.07,109628.07,null,52,96,0,0,3606733.93,120460.26,120460.26,null,203711,71,0,17659.740000000002,106396.97,106396.97,3723.89,0,0,0,0,0,810881.56,810881.56,38721.06,0,1159586.18,1026182.46,916061.6,0,5.8237579999999998,0,72,0,0,0,885.23,1613.43,63257.99,0,1159586.18,132725.18,38721.06,496.55,496.55,0,0,106396.97,124056.71,1049465.32,-67093.27,38721.06,null,null,203711,71,0,0,163436.03,344790.55,12067.67,6347.41,0,0,0,0,1018576.93,1018576.93,64559.37,0,1737358.55,1537485.44,1180627.22,0,5.7595109999999998,0,72,0,0,0,1142.04,2423.38,87834.86,0,1737358.55,198931.91,64559.37,743.19,743.19,0,6347.41,163436.03,157088.62,1380500.33,-84958.85,64559.37,null,null,203711,71,0,0,107637.29,145508.15,5092.79,1325.48,0,0,0,0,696248.43,696248.43,30461.360000000001,0,1067665.26,944836.51,794235.57,0,5.929297,0,72,0,0,0,767.8,1487.11,56463.42,0,1067665.26,122223.35,30461.360000000001,456.62,456.62,0,1325.48,107637.29,106311.81,917064.32,-57268.09,30461.360000000001,null,null,203711,71,0,0,146333.88,378728.25,13255.49,8133.8,0,0,0,0,896603.85,896603.85,50821.39,0,1629342.58,1441896.08,1049912.3400000001,0,5.8816889999999997,0,72,0,0,0,1016.02,2274.5,80300.72,0,1629342.58,186586.34,50821.39,697.07,697.07,0,8133.8,146333.88,138200.07999999999,1237358.8400000001,-74517.37,50821.39]
[53,97,0,0,2534945.2599999998,105364.86,105364.86,null,53,97,0,0,3719868.73,111235.38,111235.38,null,203811,72,0,0,127780.6,234177.57,8196.2099999999991,3723.89,0,0,0,0,729534.28,729534.28,38721.06,0,1205640.71,1086162.8,843789.02,0,5.8411900000000001,0,72,0,0,0,816.06,1532.16,62400.56,0,1205640.71,118910.36,38721.06,524.98,524.98,0,3723.89,127780.6,124056.71,963266.93,-72272.58,38721.06,null,null,203811,72,0,0,169156.29,513946.84,17988.14,12067.67,0,0,0,0,914624.81,914624.81,64559.37,0,1799352.46,1621038.25,1089103.27,0,5.7727440000000003,0,72,0,0,0,1054.48,2291.4,86970.69,0,1799352.46,177523.8,64559.37,783.78,783.78,0,12067.67,169156.29,157088.62,1267417.48,-91523.95,64559.37,null,null,203811,72,0,0,111404.6,256912.75,8991.9500000000007,5092.79,0,0,0,0,626512.68000000005,626512.68000000005,30461.360000000001,0,1108277.32,998448.03,732543.33,0,5.941846,0,72,0,0,0,708.78,1409.64,55801.94,0,1108277.32,109321.91,30461.360000000001,482.67,482.67,0,5092.79,111404.6,106311.81,842372.62,-61692.24,30461.360000000001,null,null,203811,72,0,0,151455.57,530183.81999999995,18556.43,13255.49,0,0,0,0,805029.85,805029.85,50821.39,0,1685394.01,1518372.98,969632.73,0,5.8907230000000004,0,72,0,0,0,939.21,2147.73,79635.839999999997,0,1685394.01,166297.47,50821.39,734.24,734.24,0,13255.49,151455.57,138200.07999999999,1136653.76,-80279.61,50821.39]
[54,98,0,0,2615023.19,100407.48,100407.48,null,54,98,0,0,3835724.06,100788.54,100788.54,null,203911,73,0,0,132252.92000000001,366430.49,12860.81,8196.2099999999991,0,0,0,0,642692.31000000006,642692.31000000006,38721.06,0,1248454.29,1145370.8999999999,766079.6,0,5.8530550000000003,0,72,0,0,0,741.65,1465.8,61487.55,0,1248454.29,102626.2,38721.06,553.75,553.75,0,8196.2099999999991,132252.92000000001,124056.71,869162.99,-77709.42,38721.06,null,null,203911,73,0,0,175076.76,689023.6,24183.040000000001,17988.14,0,0,0,0,803650.64,803650.64,64559.37,0,1857237.55,1703887.66,990681.02,0,5.7814839999999998,0,72,0,0,0,960.27,2184.35,86066.03,0,1857237.55,152710.32,64559.37,824.02,824.02,0,17988.14,175076.76,157088.62,1144030.9099999999,-98422.25,64559.37,null,null,203911,73,0,0,115303.76,372216.51,13063.89,8991.9500000000007,0,0,0,0,552067.64,552067.64,30461.360000000001,0,1146120.44,1051486.6399999999,666206.24,0,5.95,0,72,0,0,0,645.27,1346.61,55102.49,0,1146120.44,94224.19,30461.360000000001,508.43,508.43,0,8991.9500000000007,115303.76,106311.81,760840.04,-66337.09,30461.360000000001,null,null,203911,73,0,0,156756.51,686940.33,24109.93,18556.43,0,0,0,0,707271.02,707271.02,50821.39,0,1737838.56,1594347.3,883297.04,0,5.8961430000000004,0,72,0,0,0,856.6,2045.03,78947.95,0,1737838.56,142904.70000000001,50821.39,771.12,771.12,0,18556.43,156756.51,138200.07999999999,1026788.3,-86335.69,50821.39]
[55,99,0,0,0,0,0,null,55,99,0,0,0,0,0,null,204011,74,0,0,136917.51999999999,503348.01,17617.18,12860.81,0,0,0,0,549906.75,549906.75,38721.06,0,1287556.42,1203323.75,682358.56,0,5.860233,0,72,0,0,0,661.47,1304.94,59991.26,0,1287556.42,83883.600000000006,38721.06,581.95000000000005,581.95000000000005,0,12860.81,136917.51999999999,124056.71,766591.23,-83721.039999999994,38721.06,null,null,204011,74,0,0,181271.66,870295.26,30460.33,24183.040000000001,0,0,0,0,685152.85,685152.85,64559.37,0,1910381.71,1785403.46,884647.87,0,5.786416,0,72,0,0,0,858.75,1938.94,84385.49,0,1910381.71,124487.37,64559.37,863.66,863.66,0,24183.040000000001,181271.66,157088.62,1009626.12,-106033.15,64559.37,null,null,204011,74,0,0,119375.7,491592.21,17205.73,13063.89,0,0,0,0,472545.91,472545.91,30461.360000000001,0,1180780.96,1103533.6000000001,594735.66,0,5.9542479999999998,0,72,0,0,0,576.84,1197.4000000000001,53893.2,0,1180780.96,76933.81,30461.360000000001,533.75,533.75,0,13063.89,119375.7,106311.81,671983.02,-71470.58,30461.360000000001,null,null,204011,74,0,0,162310.01,849250.34,29723.759999999998,24109.93,0,0,0,0,602910.06999999995,602910.06999999995,50821.39,0,1786105.98,1669257.92,790283.82,0,5.8984379999999996,0,72,0,0,0,767.55,1813.6,77563.77,0,1786105.98,116396.91,50821.39,807.54,807.54,0,24109.93,162310.01,138200.07999999999,907131.88,-93013.22,50821.39]
[56,0,0,0,0,0,0,null,56,0,0,0,0,0,0,null,204111,75,0,0,141673.89000000001,645021.9,22575.77,17617.18,0,0,0,0,450882.98,450882.98,38721.06,0,1323013.1499999999,1260012.52,592414.85,0,5.8636999999999997,0,72,0,0,0,575.26,1057.51,58393.54,0,1323013.1499999999,62756.68,38721.06,609.5,609.5,0,17617.18,141673.89000000001,124056.71,655415.48,-89943.71,38721.06,null,null,204111,75,0,0,187548.95,1057844.21,37024.550000000003,30460.33,0,0,0,0,558720.64,558720.64,64559.37,0,1958903.12,1865622.01,770753.25,0,5.7882220000000002,0,72,0,0,0,749.59,1567.56,82607.7,0,1958903.12,92935.99,64559.37,902.64,902.64,0,30460.33,187548.95,157088.62,864034.36,-113894.62,64559.37,null,null,204111,75,0,0,123517.54,615109.75,21528.84,17205.73,0,0,0,0,387687.45,387687.45,30461.360000000001,0,1212325.8500000001,1154596.04,517957.45,0,5.9554689999999999,0,72,0,0,0,503.24,969.44,52607.12,0,1212325.8500000001,57510.03,30461.360000000001,558.55999999999995,558.55999999999995,0,17205.73,123517.54,106311.81,575687.26,-76778.210000000006,30461.360000000001,null,null,204111,75,0,0,167923.84,1017174.18,35601.1,29723.759999999998,0,0,0,0,491574.17,491574.17,50821.39,0,1830314.06,1743156.24,690380.96,0,5.898193,0,72,0,0,0,671.78,1465.15,76107.25,0,1830314.06,86839.86,50821.39,843.42,843.42,0,29723.759999999998,167923.84,138200.07999999999,777538.78,-99902.86,50821.39]
[57,0,0,0,0,0,0,null,57,0,0,0,0,0,0,null,204211,76,0,0,146632.48000000001,791654.38,27707.9,22575.77,0,0,0,0,344840.09,344840.09,38721.06,0,1380474.16,1314737.29,495375.01,0,5.8626740000000002,0,72,0,0,0,482.44,1215.01,56494.22,0,1380474.16,65501.35,38721.06,636.22,636.22,0,22575.77,146632.48000000001,124056.71,561111.88,-97039.84,38721.06,null,null,204211,76,0,0,194113.17,1251957.3799999999,43818.51,37024.550000000003,0,0,0,0,423297.23,423297.23,64559.37,0,2040753.54,1943574.8,647798.91,0,5.7861229999999999,0,72,0,0,0,632.04,1797.66,80454.490000000005,0,2040753.54,96843.36,64559.37,940.65,940.65,0,37024.550000000003,194113.17,157088.62,744977.65,-122954.34,64559.37,null,null,204211,76,0,0,127840.65,742950.40000000002,26003.26,21528.84,0,0,0,0,296805.18,296805.18,30461.360000000001,0,1264255.25,1204052.6100000001,435098.95,0,5.9528809999999996,0,72,0,0,0,424.01,1113.05,51065.63,0,1264255.25,59989.75,30461.360000000001,582.69000000000005,582.69000000000005,0,21528.84,127840.65,106311.81,495301.59,-82858.5,30461.360000000001,null,null,204211,76,0,0,173801.18,1190975.3600000001,41684.14,35601.1,0,0,0,0,372308.96,372308.96,50821.39,0,1905918.41,1815160.39,582500.89,0,5.8945309999999997,0,72,0,0,0,568.69000000000005,1679.29,74324.13,0,1905918.41,90448.2,50821.39,878.56,878.56,0,35601.1,173801.18,138200.07999999999,673258.91,-107880.07,50821.39]
[58,0,0,0,0,0,0,null,58,0,0,0,0,0,0,null,204311,77,0,0,151764.60999999999,943418.99,33111.699999999997,27707.9,0,0,0,0,231238.34,231238.34,38721.06,0,1435647.41,1367283.24,390752.55,0,5.8575470000000003,0,72,0,0,0,382.31,1403.17,54403.43,0,1435647.41,68138.63,38721.06,661.88,661.88,0,27707.9,151764.60999999999,124056.71,459116.72,-104622.46,38721.06,null,null,204311,77,0,0,200907.13,1452864.51,50991.99,43818.51,0,0,0,0,278164.31,278164.31,64559.37,0,2119962.91,2019012.29,515155.79,0,5.7804099999999998,0,72,0,0,0,505.14,2073.23,78087.86,0,2119962.91,100626.93,64559.37,977.43,977.43,0,43818.51,200907.13,157088.62,616106.41,-132643.12,64559.37,null,null,204311,77,0,0,132315.07,875265.47,30719.68,26003.26,0,0,0,0,199429.55,199429.55,30461.360000000001,0,1314313.6100000001,1251727.24,345742.09,0,5.9466799999999997,0,72,0,0,0,338.51,1284.83,49369.97,0,1314313.6100000001,62381.7,30461.360000000001,605.95000000000005,605.95000000000005,0,26003.26,132315.07,106311.81,408328.46,-89356.86,30461.360000000001,null,null,204311,77,0,0,179884.22,1370859.58,48113.82,41684.14,0,0,0,0,244471.97,244471.97,50821.39,0,1979314.17,1885061.11,466087.71,0,5.887842,0,72,0,0,0,457.34,1936.01,72366.070000000007,0,1979314.17,93953.1,50821.39,912.62,912.62,0,41684.14,179884.22,138200.07999999999,560340.77,-116413.18,50821.39]
[59,0,0,0,0,0,0,null,59,0,0,0,0,0,0,null,204411,78,0,0,157168.41,1100587.3999999999,38520.559999999998,33111.699999999997,0,0,0,0,109657.12,109657.12,38721.06,0,1487808.75,1416960.71,277852.75,0,5.8485139999999998,0,72,0,0,0,274.29000000000002,1615.09,51638.85,0,1487808.75,70634.2,38721.06,686.26,686.26,0,33111.699999999997,157168.41,124056.71,348700.79,-112899.8,38721.06,null,null,204411,78,0,0,208080.61,1660945.12,58133.08,50991.99,0,0,0,0,122837.69,122837.69,64559.37,0,2195558.81,2091008.39,371930.19,0,5.7712789999999998,0,72,0,0,0,368.17,2384.2199999999998,74820.490000000005,0,2195558.81,104240.62,64559.37,1012.72,1012.72,0,50991.99,208080.61,157088.62,476480.61,-143225.60000000001,64559.37,null,null,204411,78,0,0,137031.49,1012296.96,35430.39,30719.68,0,0,0,0,95212.11,95212.11,30461.360000000001,0,1361865.4,1297014.6599999999,249287.31,0,5.9372559999999996,0,72,0,0,0,246.22,1478.47,47084.11,0,1361865.4,64655.76,30461.360000000001,628.15,628.15,0,30719.68,137031.49,106311.81,314138.05,-96454.78,30461.360000000001,null,null,204411,78,0,0,186313.9,1557173.48,54501.07,48113.82,0,0,0,0,107654.08,107654.08,50821.39,0,2049625.34,1952024.13,340349.58,0,5.8781249999999998,0,72,0,0,0,337.12,2225.88,69598.02,0,2049625.34,97313.03,50821.39,945.44,945.44,0,48113.82,186313.9,138200.07999999999,437950.79,-125738.13,50821.39]
[60,0,0,0,0,0,0,null,60,0,0,0,0,0,0,null,204511,79,0,0,162577.26999999999,1263164.67,44210.76,38520.559999999998,0,0,0,0,0,0,38721.06,0,1536659.01,1463484.77,156109.34,0,5.8357700000000001,0,72,0,0,0,157.72999999999999,1854.92,48608.71,0,1536659.01,72973.94,38721.06,709.09,709.09,0,38520.559999999998,162577.26999999999,124056.71,229283.58,-121743.41,38721.06,null,null,204511,79,0,0,215221.7,1876166.82,65665.84,58133.08,0,0,0,0,0,0,64559.37,0,2267184.0299999998,2159222.88,217390.22,0,5.7587299999999999,0,72,0,0,0,220.28,2737.06,71243.83,0,2267184.0299999998,107667.58,64559.37,1046.1500000000001,1046.1500000000001,0,58133.08,215221.7,157088.62,325351.37,-154539.97,64559.37,null,null,204511,79,0,0,141742.20000000001,1154039.1599999999,40391.370000000003,35430.39,0,0,0,0,0,0,30461.360000000001,0,1406662.11,1339678.2,145247.67000000001,0,5.924512,0,72,0,0,0,146.63,1697.96,44580.13,0,1406662.11,66800.2,30461.360000000001,649.08000000000004,649.08000000000004,0,35430.39,141742.20000000001,106311.81,212231.58,-104039.64,30461.360000000001,null,null,204511,79,0,0,192701.15,1749874.63,61245.61,54501.07,0,0,0,0,0,0,50821.39,0,2116547.73,2015759.74,204639.5,0,5.8655759999999999,0,72,0,0,0,207.27,2555.17,66570.05,0,2116547.73,100513.67,50821.39,976.6,976.6,0,54501.07,192701.15,138200.07999999999,305427.49,-135710.07999999999,50821.39]
[61,0,0,0,0,0,0,null,61,0,0,0,0,0,0,null,204611,80,0,0,44210.76,1307375.43,45758.14,44210.76,0,0,0,0,0,0,38721.06,0,1586757.5,1511197.61,158064.04,0,5.8229280000000001,0,72,0,0,0,160,2117.8000000000002,50062.64,0,1586757.5,75354.38,38721.06,732.08,732.08,0,44210.76,44210.76,0,233623.93,1954.7,38721.06,null,null,204611,80,0,0,65665.84,1941832.66,67964.14,65665.84,0,0,0,0,0,0,64559.37,0,2340608.17,2229150.63,219353.83,0,5.7460839999999997,0,72,0,0,0,222.71,3124.32,73346.78,0,2340608.17,111156.49,64559.37,1079.93,1079.93,0,65665.84,65665.84,0,330811.37,1963.61,64559.37,null,null,204611,80,0,0,40391.370000000003,1194430.53,41805.07,40391.370000000003,0,0,0,0,0,0,30461.360000000001,0,1452611.54,1383439.56,147203.96,0,5.91167,0,72,0,0,0,148.85,1938.71,45920.92,0,1452611.54,68983.47,30461.360000000001,670.21,670.21,0,40391.370000000003,40391.370000000003,0,216375.94,1956.29,30461.360000000001,null,null,204611,80,0,0,61245.61,1811120.24,63389.21,61245.61,0,0,0,0,0,0,50821.39,0,2185157.4,2081102.28,206592.83,0,5.8529299999999997,0,72,0,0,0,209.65,2916.77,68540.960000000006,0,2185157.4,103773.79,50821.39,1008.2,1008.2,0,61245.61,61245.61,0,310647.95,1953.33,50821.39]
[62,0,0,0,0,0,0,null,62,0,0,0,0,0,0,null,204711,81,0,0,45758.14,1353133.57,47491.68,45758.14,0,0,0,0,0,0,38721.06,0,1638272.45,1560259.47,159634.22,0,5.8097940000000001,0,72,0,0,0,161.87,2409.6,51705.33,0,1638272.45,77802.28,38721.06,755.88,755.88,0,45758.14,45758.14,0,237647.2,1570.18,38721.06,null,null,204711,81,0,0,67964.14,2009796.8,70538.95,67964.14,0,0,0,0,0,0,64559.37,0,2416068.9900000002,2301018.08,220682.33,0,5.7332419999999997,0,72,0,0,0,224.56,3554.01,75718.02,0,2416068.9900000002,114742.41,64559.37,1114.78,1114.78,0,67964.14,67964.14,0,335733.24,1328.5,64559.37,null,null,204711,81,0,0,41805.07,1236235.6000000001,43388.85,41805.07,0,0,0,0,0,0,30461.360000000001,0,1499867.28,1428445.02,148820.57,0,5.8987299999999996,0,72,0,0,0,150.77000000000001,2205.9499999999998,47434.18,0,1499867.28,71228.95,30461.360000000001,692,692,0,41805.07,41805.07,0,220242.83,1616.61,30461.360000000001,null,null,204711,81,0,0,63389.21,1874509.45,65790.7,63389.21,0,0,0,0,0,0,50821.39,0,2255675.31,2148262.2000000002,207962.05,0,5.8399900000000002,0,72,0,0,0,211.52,3318.02,70761.460000000006,0,2255675.31,107124.8,50821.39,1040.74,1040.74,0,63389.21,63389.21,0,315375.15999999997,1369.22,50821.39]
[63,0,0,0,0,0,0,null,63,0,0,0,0,0,0,null,204811,82,0,0,47491.68,1400625.25,49021.88,47491.68,0,0,0,0,0,0,38721.06,0,1690912.09,1610392.46,160745.32999999999,0,5.796659,0,72,0,0,0,163.34,2716.16,53084.49,0,1690912.09,80303.740000000005,38721.06,780.29,780.29,0,47491.68,47491.68,0,241264.96,1111.1099999999999,38721.06,null,null,204811,82,0,0,70538.95,2080335.75,72811.75,70538.95,0,0,0,0,0,0,64559.37,0,2493135.31,2374414.58,221267.08,0,5.720205,0,72,0,0,0,225.68,4005.29,77699.47,0,2493135.31,118404.8,64559.37,1150.49,1150.49,0,70538.95,70538.95,0,339987.81,584.75,64559.37,null,null,204811,82,0,0,43388.85,1279624.45,44786.86,43388.85,0,0,0,0,0,0,30461.360000000001,0,1548162.38,1474440.36,150029.04999999999,0,5.8855959999999996,0,72,0,0,0,152.27000000000001,2486.77,48706.38,0,1548162.38,73523.929999999993,30461.360000000001,714.39,714.39,0,43388.85,43388.85,0,223751.07,1208.48,30461.360000000001,null,null,204811,82,0,0,65790.7,1940300.15,67910.509999999995,65790.7,0,0,0,0,0,0,50821.39,0,2327699.1,2216856.2799999998,208645.62,0,5.8269529999999996,0,72,0,0,0,212.69,3739.45,72618.22,0,2327699.1,110547.54,50821.39,1074.1400000000001,1074.1400000000001,0,65790.7,65790.7,0,319488.44,683.57,50821.39]
[64,0,0,0,0,0,0,null,64,0,0,0,0,0,0,null,204911,83,0,0,49021.88,1449647.13,50737.65,49021.88,0,0,0,0,0,0,38721.06,0,1744815.8,1661729.33,161344.54999999999,0,5.7833290000000002,0,72,0,0,0,164.31,3047.42,54620.6,0,1744815.8,82865.42,38721.06,805.23,805.23,0,49021.88,49021.88,0,244431.02,599.22,38721.06,null,null,204911,83,0,0,72811.75,2153147.5,75360.160000000003,72811.75,0,0,0,0,0,0,64559.37,0,2572006.9500000002,2449530.42,221022.76,0,5.7069720000000004,0,72,0,0,0,226.06,4492.72,79906.62,0,2572006.9500000002,122153.21,64559.37,1187.01,1187.01,0,72811.75,72811.75,0,343499.29,-244.32,64559.37,null,null,204911,83,0,0,44786.86,1324411.31,46354.400000000001,44786.86,0,0,0,0,0,0,30461.360000000001,0,1597625.42,1521548.01,150782.29999999999,0,5.872363,0,72,0,0,0,153.38,2790.25,50123.28,0,1597625.42,75874.539999999994,30461.360000000001,737.3,737.3,0,44786.86,44786.86,0,226859.71,753.25,30461.360000000001,null,null,204911,83,0,0,67910.509999999995,2008210.66,70287.37,67910.509999999995,0,0,0,0,0,0,50821.39,0,2401416.0299999998,2287062.88,208564.85,0,5.8138180000000004,0,72,0,0,0,213.21,4194.67,74686.48,0,2401416.0299999998,114050.95,50821.39,1108.26,1108.26,0,67910.509999999995,67910.509999999995,0,322918,-80.77,50821.39]
[65,{"$f":"CHOOSE(IllusToUse,R104,BJ104,DB104,ET104)","v":0},{"$f":"CHOOSE(IllusToUse,IF(BC104<0,-BC104,0),IF(CU104<0,-CU104,0),IF(EM104<0,-EM104,0),IF(GE104<0,-GE104,0))","v":0},{"$f":"CHOOSE(IllusToUse,BC104,CU104,EM104,GE104)","v":0},{"$f":"CHOOSE(IllusToUse,AH104,BZ104,DR104,FJ104)","v":0},{"$f":"CHOOSE(IllusToUse,AI104,CA104,DS104,FK104)","v":0},{"$f":"CHOOSE(IllusToUse,BD104,CV104,EN104,GF104)","v":0},null,65,{"$f":"CHOOSE(IllusToUse2,R104,BJ104,DB104,ET104)","v":0},{"$f":"CHOOSE(IllusToUse2,IF(BC104<0,-BC104,0),IF(CU104<0,-CU104,0),IF(EM104<0,-EM104,0),IF(GE104<0,-GE104,0))","v":0},{"$f":"CHOOSE(IllusToUse2,BC104,CU104,EM104,GE104)","v":0},{"$f":"CHOOSE(IllusToUse2,AH104,BZ104,DR104,FJ104)","v":0},{"$f":"CHOOSE(IllusToUse2,AI104,CA104,DS104,FK104)","v":0},{"$f":"CHOOSE(IllusToUse2,BD104,CV104,EN104,GF104)","v":0},null,205011,84,0,0,50737.65,1500384.78,52513.47,50737.65,0,0,0,0,0,0,38721.06,0,1799927.48,1714216.64,161318.39000000001,0,5.7697060000000002,0,72,0,0,0,164.76,3445.79,56169.86,0,1799927.48,85484.85,38721.06,830.75,830.75,0,50737.65,50737.65,0,247029.23,-26.16,38721.06,null,null,205011,84,0,0,75360.160000000003,2228507.66,77997.77,75360.160000000003,0,0,0,0,0,0,64559.37,0,2652596.7799999998,2526282.64,219777.21,0,5.6935440000000002,0,72,0,0,0,225.53,5078.83,82128.58,0,2652596.7799999998,125983.81,64559.37,1224.33,1224.33,0,75360.160000000003,75360.160000000003,0,346091.35,-1245.55,64559.37,null,null,205011,84,0,0,46354.400000000001,1370765.71,47976.800000000003,46354.400000000001,0,0,0,0,0,0,30461.360000000001,0,1648205.88,1569719.88,150977.37,0,5.8589359999999999,0,72,0,0,0,153.97,3155.2,51553.04,0,1648205.88,78278.570000000007,30461.360000000001,760.72,760.72,0,46354.400000000001,46354.400000000001,0,229463.37,195.07,30461.360000000001,null,null,205011,84,0,0,70287.37,2078498.03,72747.429999999993,70287.37,0,0,0,0,0,0,50821.39,0,2476745.44,2358805.1800000002,207559.72,0,5.8003910000000003,0,72,0,0,0,212.83,4742.03,76769.16,0,2476745.44,117631.48,50821.39,1143.1600000000001,1143.1600000000001,0,70287.37,70287.37,0,325499.98,-1005.13,50821.39]
[66,0,0,0,0,0,0,null,66,0,0,0,0,0,0,null,205111,85,0,0,52513.47,1552898.25,54502.93,52513.47,0,0,0,0,0,0,38721.06,0,1856338.55,1767941.47,160540.29,0,5.7557900000000002,0,72,0,0,0,164.51,3925.56,57886.9,0,1856338.55,88166.46,38721.06,856.82,856.82,0,52513.47,52513.47,0,248937.37,-778.1,38721.06,null,null,205111,85,0,0,77997.77,2306505.4300000002,80952.7,77997.77,0,0,0,0,0,0,64559.37,0,2735032.58,2604792.9300000002,217334.8,0,5.6797259999999996,0,72,0,0,0,223.95,5784.52,84590.76,0,2735032.58,129902.77,64559.37,1262.45,1262.45,0,77997.77,77997.77,0,347574.45,-2442.41,64559.37,null,null,205111,85,0,0,47976.800000000003,1418742.51,49794.39,47976.800000000003,0,0,0,0,0,0,30461.360000000001,0,1699988.69,1619036.84,150499.94,0,5.8452149999999996,0,72,0,0,0,153.99,3594.77,53137.72,0,1699988.69,80740.12,30461.360000000001,784.67,784.67,0,47976.800000000003,47976.800000000003,0,231451.79,-477.43,30461.360000000001,null,null,205111,85,0,0,72747.429999999993,2151245.46,75503.45,72747.429999999993,0,0,0,0,0,0,50821.39,0,2553807.37,2432197.4900000002,205448.58,0,5.78667,0,72,0,0,0,211.53,5401.13,79076.97,0,2553807.37,121294.94,50821.39,1178.77,1178.77,0,72747.429999999993,72747.429999999993,0,327058.46000000002,-2111.14,50821.39]
[67,0,0,0,0,0,0,null,67,0,0,0,0,0,0,null,205211,86,0,0,54502.93,1607401.18,56259.040000000001,54502.93,0,0,0,0,0,0,38721.06,0,1913601.31,1822477.43,158817.21,0,5.7413850000000002,0,72,0,0,0,163.41999999999999,4513.0600000000004,59284.44,0,1913601.31,90889.12,38721.06,883.47,883.47,0,54502.93,54502.93,0,249941.09,-1723.08,38721.06,null,null,205211,86,0,0,80952.7,2387458.13,83561.03,80952.7,0,0,0,0,0,0,64559.37,0,2818653.76,2684432.15,213412.99,0,5.665419,0,72,0,0,0,220.99,6648.5,86580.71,0,2818653.76,133878.93,64559.37,1301.33,1301.33,0,80952.7,80952.7,0,347634.6,-3921.81,64559.37,null,null,205211,86,0,0,49794.39,1468536.9,51398.79,49794.39,0,0,0,0,0,0,30461.360000000001,0,1752564.03,1669108.6,149172.91,0,5.8311039999999998,0,72,0,0,0,153.24,4133.1000000000004,54430.1,0,1752564.03,83239.87,30461.360000000001,809.1,809.1,0,49794.39,49794.39,0,232628.34,-1327.03,30461.360000000001,null,null,205211,86,0,0,75503.45,2226748.91,77936.210000000006,75503.45,0,0,0,0,0,0,50821.39,0,2631985.31,2506652.67,201967.55,0,5.7725590000000002,0,72,0,0,0,208.93,6208.07,80944.179999999993,0,2631985.31,125012.24,50821.39,1215.1600000000001,1215.1600000000001,0,75503.45,75503.45,0,327300.19,-3481.03,50821.39]
[68,0,0,0,0,0,0,null,68,0,0,0,0,0,0,null,205311,87,0,0,56259.040000000001,1663660.22,58228.11,56259.040000000001,0,0,0,0,0,0,38721.06,0,1971809.85,1877914.14,156025.81,0,5.7265899999999998,0,72,0,0,0,161.33000000000001,5157.6000000000004,60827.64,0,1971809.85,93657.11,38721.06,910.51,910.51,0,56259.040000000001,56259.040000000001,0,249921.52,-2791.4,38721.06,null,null,205311,87,0,0,83561.03,2471019.16,86485.67,83561.03,0,0,0,0,0,0,64559.37,0,2903591.83,2765325.55,207820.72,0,5.650722,0,72,0,0,0,216.52,7595.97,88777.89,0,2903591.83,137918.24,64559.37,1340.78,1340.78,0,83561.03,83561.03,0,346087,-5592.27,64559.37,null,null,205311,87,0,0,51398.79,1519935.69,53197.75,51398.79,0,0,0,0,0,0,30461.360000000001,0,1806019.38,1720018.45,146885.01,0,5.8165040000000001,0,72,0,0,0,151.6,4723.74,55857.19,0,1806019.38,85781.78,30461.360000000001,833.93,833.93,0,51398.79,51398.79,0,232885.94,-2287.9,30461.360000000001,null,null,205311,87,0,0,77936.210000000006,2304685.12,80663.98,77936.210000000006,0,0,0,0,0,0,50821.39,0,2711402.82,2582288.4,196939.3,0,5.7579589999999996,0,72,0,0,0,204.94,7093.03,83005.7,0,2711402.82,128788.98,50821.39,1252.03,1252.03,0,77936.210000000006,77936.210000000006,0,326053.71999999997,-5028.25,50821.39]
[69,0,0,0,0,0,0,null,69,0,0,0,0,0,0,null,205411,88,0,0,58228.11,1721888.33,60266.09,58228.11,0,0,0,0,0,0,38721.06,0,2030912.04,1934201.94,152047.51999999999,0,5.7114050000000001,0,72,0,0,0,158.16,5835.98,62353.94,0,2030912.04,96467.86,38721.06,937.94,937.94,0,58228.11,58228.11,0,248757.62,-3978.29,38721.06,null,null,205411,88,0,0,86485.67,2557504.83,89512.67,86485.67,0,0,0,0,0,0,64559.37,0,2989764.51,2847394.77,200377.27,0,5.6354389999999999,0,72,0,0,0,210.27,8592.65,90944.14,0,2989764.51,142016.68,64559.37,1380.79,1380.79,0,86485.67,86485.67,0,342747.01,-7443.45,64559.37,null,null,205411,88,0,0,53197.75,1573133.44,55059.67,53197.75,0,0,0,0,0,0,30461.360000000001,0,1860308.09,1771721.99,143528.88,0,5.8015140000000001,0,72,0,0,0,148.94999999999999,5345.48,57269.97,0,1860308.09,88363.57,30461.360000000001,859.14,859.14,0,53197.75,53197.75,0,232114.98,-3356.13,30461.360000000001,null,null,205411,88,0,0,80663.98,2385349.1,83487.22,80663.98,0,0,0,0,0,0,50821.39,0,2791983.86,2659032.2400000002,190195.92,0,5.7429690000000004,0,72,0,0,0,199.31,8024.07,85039.22,0,2791983.86,132621.44,50821.39,1289.45,1289.45,0,80663.98,80663.98,0,323147.53999999998,-6743.38,50821.39]
[70,0,0,0,0,0,0,null,70,0,0,0,0,0,0,null,205511,89,0,0,60266.09,1782154.42,62549.26,60266.09,0,0,0,0,0,0,38721.06,0,2091055.05,1991481,146777.32,0,5.6956329999999999,0,72,0,0,0,153.72999999999999,6531.29,64036.08,0,2091055.05,99328.31,38721.06,965.8,965.8,0,60266.09,60266.09,0,246351.37,-5270.2,38721.06,null,null,205511,89,0,0,89512.67,2647017.5,92903.84,89512.67,0,0,0,0,0,0,64559.37,0,3077379.58,2930837.69,190916.35,0,5.6197650000000001,0,72,0,0,0,202.15,9613.6,93330.67,0,3077379.58,146184.03,64559.37,1421.4,1421.4,0,89512.67,89512.67,0,337458.24,-9460.92,64559.37,null,null,205511,89,0,0,55059.67,1628193.11,57145.599999999999,55059.67,0,0,0,0,0,0,30461.360000000001,0,1915566.41,1824348.96,139010.25,0,5.7861330000000004,0,72,0,0,0,145.21,5982.9,58827.08,0,1915566.41,90991.65,30461.360000000001,884.74,884.74,0,55059.67,55059.67,0,230227.7,-4518.63,30461.360000000001,null,null,205511,89,0,0,83487.22,2468836.3199999998,86650.12,83487.22,0,0,0,0,0,0,50821.39,0,2873923.6,2737070.09,181583.65,0,5.7274900000000004,0,72,0,0,0,191.94,8977.82,87279.61,0,2873923.6,136518.81,50821.39,1327.42,1327.42,0,83487.22,83487.22,0,318437.15999999997,-8612.27,50821.39]
[71,0,0,0,0,0,0,null,71,0,0,0,0,0,0,null,205611,90,0,0,62549.26,1844703.68,64564.63,62549.26,0,0,0,0,0,0,38721.06,0,2151808.0099999998,2049340.96,140072.65,0,5.6794710000000004,0,72,0,0,0,147.94,7258.51,65338.41,0,2151808.0099999998,102218.1,38721.06,994.11,994.11,0,62549.26,62549.26,0,242539.7,-6704.67,38721.06,null,null,205611,90,0,0,92903.84,2739921.34,95897.25,92903.84,0,0,0,0,0,0,64559.37,0,3165801.81,3015049.34,179230.75,0,5.6036029999999997,0,72,0,0,0,191.87,10680.76,95156.28,0,3165801.81,150390.26,64559.37,1462.57,1462.57,0,92903.84,92903.84,0,329983.21999999997,-11685.6,64559.37,null,null,205611,90,0,0,57145.599999999999,1685338.71,58986.85,57145.599999999999,0,0,0,0,0,0,30461.360000000001,0,1971399.91,1877523.72,133198.16,0,5.7703610000000003,0,72,0,0,0,140.22,6649.63,60036.61,0,1971399.91,93647.37,30461.360000000001,910.73,910.73,0,57145.599999999999,57145.599999999999,0,227074.35,-5812.09,30461.360000000001,null,null,205611,90,0,0,86650.12,2555486.44,89442.03,86650.12,0,0,0,0,0,0,50821.39,0,2956628.99,2815837.13,170908.66,0,5.7116210000000001,0,72,0,0,0,182.58,9974.7999999999993,88996.42,0,2956628.99,140453.04999999999,50821.39,1365.93,1365.93,0,86650.12,86650.12,0,311700.52,-10674.99,50821.39]
[72,0,0,0,0,0,0,null,72,0,0,0,0,0,0,null,205711,91,0,0,64564.63,1909268.31,66824.39,64564.63,0,0,0,0,0,0,38721.06,0,2193829.67,2109451.6,133358.9,0,5.6644810000000003,0,72,0,0,0,141.38,6510.33,66834.350000000006,0,2193829.67,84171.13,38721.06,1023.03,1023.03,0,64564.63,64564.63,0,217736.97,-6713.75,38721.06,null,null,205711,91,0,0,95897.25,2835818.59,99253.65,95897.25,0,0,0,0,0,0,64559.37,0,3226576.27,3102477.18,167404.94,0,5.5885150000000001,0,72,0,0,0,180.32,9576.77,97256.93,0,3226576.27,123798.21,64559.37,1504.66,1504.66,0,95897.25,95897.25,0,291504.03000000003,-11825.81,64559.37,null,null,205711,91,0,0,58986.85,1744325.56,61051.39,58986.85,0,0,0,0,0,0,30461.360000000001,0,2010088.81,1932777.7,127400.75,0,5.7556640000000003,0,72,0,0,0,134.52000000000001,5964.76,61425.26,0,2010088.81,77120.87,30461.360000000001,937.31,937.31,0,58986.85,58986.85,0,204711.86,-5797.41,30461.360000000001,null,null,205711,91,0,0,89442.03,2644928.4700000002,92572.5,89442.03,0,0,0,0,0,0,50821.39,0,3013525.03,2897620.22,160119.25,0,5.6968259999999997,0,72,0,0,0,172.05,8944.2199999999993,90971.36,0,3013525.03,115623.34,50821.39,1405.29,1405.29,0,89442.03,89442.03,0,276024.06,-10789.41,50821.39]
[73,0,0,0,0,0,0,null,73,0,0,0,0,0,0,null,205811,92,0,0,66824.39,1976092.7,69163.240000000005,66824.39,0,0,0,0,0,0,38721.06,0,2237327.9900000002,2172163.09,126907.15,0,5.6508580000000004,0,72,0,0,0,134.94,5488.98,68407.41,0,2237327.9900000002,65002.95,38721.06,1053.1300000000001,1053.1300000000001,0,66824.39,66824.39,0,192072.05,-6451.75,38721.06,null,null,205811,92,0,0,99253.65,2935072.24,102727.53,99253.65,0,0,0,0,0,0,64559.37,0,3289436.88,3193628.03,155828.26,0,5.5747939999999998,0,72,0,0,0,168.85,8071.69,99463.39,0,3289436.88,95573.53,64559.37,1548.41,1548.41,0,99253.65,99253.65,0,251637.11,-11576.68,64559.37,null,null,205811,92,0,0,61051.39,1805376.95,63188.19,61051.39,0,0,0,0,0,0,30461.360000000001,0,2050146.3,1990433.3,121868.16,0,5.742432,0,72,0,0,0,129,5029.4799999999996,62886.080000000002,0,2050146.3,59564.1,30461.360000000001,965.01,965.01,0,61051.39,61051.39,0,181581.16,-5532.59,30461.360000000001,null,null,205811,92,0,0,92572.5,2737500.97,95812.53,92572.5,0,0,0,0,0,0,50821.39,0,3072380.81,2982893.99,149580.49,0,5.6833980000000004,0,72,0,0,0,161.57,7538.87,93046.21,0,3072380.81,89266.67,50821.39,1446.23,1446.23,0,92572.5,92572.5,0,239067.31,-10538.76,50821.39]
[74,0,0,0,0,0,0,null,74,0,0,0,0,0,0,null,205911,93,0,0,69163.240000000005,2045255.94,71783.48,69163.240000000005,0,0,0,0,0,0,38721.06,0,2282824.1800000002,2238062.92,121023.5,0,5.6387970000000003,0,72,0,0,0,128.94,4174.74,70275.509999999995,0,2282824.1800000002,44648.11,38721.06,1084.6099999999999,1084.6099999999999,0,69163.240000000005,69163.240000000005,0,165784.76,-5883.65,38721.06,null,null,205911,93,0,0,102727.53,3037799.77,106619.34,102727.53,0,0,0,0,0,0,64559.37,0,3355139.74,3289352.68,144933.57,0,5.5625390000000001,0,72,0,0,0,157.86000000000001,6136.91,102091.42,0,3355139.74,65622.740000000005,64559.37,1594.13,1594.13,0,102727.53,102727.53,0,210720.63,-10894.69,64559.37,null,null,205911,93,0,0,63188.19,1868565.14,65582.070000000007,63188.19,0,0,0,0,0,0,30461.360000000001,0,2092051.72,2051031.09,116883.88,0,5.730664,0,72,0,0,0,123.9,3825.63,64619.32,0,2092051.72,40916.57,30461.360000000001,993.97,993.97,0,63188.19,63188.19,0,157904.51,-4984.28,30461.360000000001,null,null,205911,93,0,0,95812.53,2833313.5,99442.37,95812.53,0,0,0,0,0,0,50821.39,0,3133903.7,3072454.6,139698.73000000001,0,5.6714359999999999,0,72,0,0,0,151.59,5732.08,95516.28,0,3133903.7,61295.360000000001,50821.39,1489.02,1489.02,0,95812.53,95812.53,0,201147.83,-9881.76,50821.39]
[75,0,0,0,0,0,0,null,75,0,0,0,0,0,0,null,206011,94,0,0,71783.48,2117039.42,74096.38,71783.48,0,0,0,0,0,0,38721.06,0,2330459.2000000002,2307385.34,116249.54,0,5.6285920000000003,0,72,0,0,0,123.67,2371.0500000000002,71889.14,0,2330459.2000000002,23014.15,38721.06,1117.76,1117.76,0,71783.48,71783.48,0,139323.4,-4773.96,38721.06,null,null,206011,94,0,0,106619.34,3144419.11,110054.67,106619.34,0,0,0,0,0,0,64559.37,0,3423891.39,3389991.47,135517.69,0,5.552041,0,72,0,0,0,147.81,3484.25,104342.85,0,3423891.39,33813.269999999997,64559.37,1642.31,1642.31,0,106619.34,106619.34,0,169417.61,-9415.8799999999992,64559.37,null,null,206011,94,0,0,65582.070000000007,1934147.21,67695.149999999994,65582.070000000007,0,0,0,0,0,0,30461.360000000001,0,2135934.42,2114786.5499999998,112944.19,0,5.7206539999999997,0,72,0,0,0,119.51,2173.0500000000002,66120.02,0,2135934.42,21092.959999999999,30461.360000000001,1024.5,1024.5,0,65582.070000000007,65582.070000000007,0,134092.06,-3939.69,30461.360000000001,null,null,206011,94,0,0,99442.37,2932755.87,102646.46,99442.37,0,0,0,0,0,0,50821.39,0,3198286.92,3166620.71,131218.38,0,5.6612299999999998,0,72,0,0,0,142.5,3254.58,97635.19,0,3198286.92,31585.13,50821.39,1534.08,1534.08,0,99442.37,99442.37,0,162884.59,-8480.35,50821.39]
[76,0,0,0,0,0,0,null,76,0,0,0,0,0,0,null,206111,95,0,0,74096.38,2191135.7999999998,76689.75,74096.38,0,0,0,0,0,0,38721.06,0,2381059.9300000002,2381059.9300000002,113234.38,0,5.6205360000000004,0,72,0,0,0,119.85,0,73866.44,0,2381059.9300000002,0,38721.06,1152.8599999999999,1152.8599999999999,0,74096.38,74096.38,0,113234.38,-3015.16,38721.06,null,null,206111,95,0,0,110054.67,3254473.78,113906.58,110054.67,0,0,0,0,0,0,64559.37,0,3496895.44,3496895.44,128515.08,0,5.5437890000000003,0,72,0,0,0,139.74,0,107115.71,0,3496895.44,0,64559.37,1693.16,1693.16,0,110054.67,110054.67,0,128515.08,-7002.61,64559.37,null,null,206111,95,0,0,67695.149999999994,2001842.36,70064.479999999996,67695.149999999994,0,0,0,0,0,0,30461.360000000001,0,2182554.36,2182554.36,110647.52,0,5.7128909999999999,0,72,0,0,0,116.45,0,67956.259999999995,0,2182554.36,0,30461.360000000001,1056.73,1056.73,0,67695.149999999994,67695.149999999994,0,110647.52,-2296.67,30461.360000000001,null,null,206111,95,0,0,102646.46,3035402.33,106239.08,102646.46,0,0,0,0,0,0,50821.39,0,3266656.01,3266656.01,125014.6,0,5.6531739999999999,0,72,0,0,0,135.31,0,100242.61,0,3266656.01,0,50821.39,1581.68,1581.68,0,102646.46,102646.46,0,125014.6,-6203.78,50821.39]
[77,0,0,0,0,0,0,null,77,0,0,0,0,0,0,null,206211,96,0,0,76689.75,2267825.5499999998,79373.89,76689.75,0,0,0,0,0,0,38721.06,0,2456827.5099999998,2456827.5099999998,109628.07,0,5.6125769999999999,0,72,0,0,0,116.76,0,75956.34,0,2456827.5099999998,0,38721.06,1189.55,1189.55,0,76689.75,76689.75,0,109628.07,-3606.31,38721.06,null,null,206211,96,0,0,113906.58,3368380.36,117893.31,113906.58,0,0,0,0,0,0,64559.37,0,3606733.93,3606733.93,120460.26,0,5.5356339999999999,0,72,0,0,0,132.5,0,110042.99,0,3606733.93,0,64559.37,1746.37,1746.37,0,113906.58,113906.58,0,120460.26,-8054.82,64559.37,null,null,206211,96,0,0,70064.479999999996,2071906.84,72516.740000000005,70064.479999999996,0,0,0,0,0,0,30461.360000000001,0,2252265.75,2252265.75,107842.17,0,5.7052250000000004,0,72,0,0,0,114.07,0,69897.460000000006,0,2252265.75,0,30461.360000000001,1090.49,1090.49,0,70064.479999999996,70064.479999999996,0,107842.17,-2805.35,30461.360000000001,null,null,206211,96,0,0,106239.08,3141641.41,109957.45,106239.08,0,0,0,0,0,0,50821.39,0,3369450.79,3369450.79,117851.93,0,5.6452150000000003,0,72,0,0,0,128.91999999999999,0,102995.7,0,3369450.79,0,50821.39,1631.51,1631.51,0,106239.08,106239.08,0,117851.93,-7162.67,50821.39]
[78,0,0,0,0,0,0,null,78,0,0,0,0,0,0,null,206311,97,0,0,79373.89,2347199.44,82380.960000000006,79373.89,0,0,0,0,0,0,38721.06,0,2534945.2599999998,2534945.2599999998,105364.86,0,5.6047149999999997,0,72,0,0,0,113.05,0,78302.8,0,2534945.2599999998,0,38721.06,1227.28,1227.28,0,79373.89,79373.89,0,105364.86,-4263.21,38721.06,null,null,206311,97,0,0,117893.31,3486273.67,122359.67999999999,117893.31,0,0,0,0,0,0,64559.37,0,3719868.73,3719868.73,111235.38,0,5.5273820000000002,0,72,0,0,0,124.22,0,113331.02,0,3719868.73,0,64559.37,1801.05,1801.05,0,117893.31,117893.31,0,111235.38,-9224.8799999999992,64559.37,null,null,206311,97,0,0,72516.740000000005,2144423.58,75264.02,72516.740000000005,0,0,0,0,0,0,30461.360000000001,0,2324159.5699999998,2324159.5699999998,104471.97,0,5.697559,0,72,0,0,0,111.21,0,72077.03,0,2324159.5699999998,0,30461.360000000001,1125.23,1125.23,0,72516.740000000005,72516.740000000005,0,104471.97,-3370.2,30461.360000000001,null,null,206311,97,0,0,109957.45,3251598.86,114123.17,109957.45,0,0,0,0,0,0,50821.39,0,3475345.43,3475345.43,109623.4,0,5.6372559999999998,0,72,0,0,0,121.52,0,106088.16,0,3475345.43,0,50821.39,1682.63,1682.63,0,109957.45,109957.45,0,109623.4,-8228.5300000000007,50821.39]
[79,0,0,0,0,0,0,null,79,0,0,0,0,0,0,null,206411,98,0,0,82380.960000000006,2429580.4,85035.31,82380.960000000006,0,0,0,0,0,0,38721.06,0,2615023.19,2615023.19,100407.48,0,5.5968540000000004,0,72,0,0,0,108.63,0,80258.559999999998,0,2615023.19,0,38721.06,1266.18,1266.18,0,82380.960000000006,82380.960000000006,0,100407.48,-4957.38,38721.06,null,null,206411,98,0,0,122359.67999999999,3608633.35,126302.17,122359.67999999999,0,0,0,0,0,0,64559.37,0,3835724.06,3835724.06,100788.54,0,5.5193260000000004,0,72,0,0,0,114.68,0,116042.01,0,3835724.06,0,64559.37,1857.29,1857.29,0,122359.67999999999,122359.67999999999,0,100788.54,-10446.84,64559.37,null,null,206411,98,0,0,75264.02,2219687.6,77689.070000000007,75264.02,0,0,0,0,0,0,30461.360000000001,0,2397878.96,2397878.96,100502.29,0,5.6900880000000003,0,72,0,0,0,107.72,0,73899.11,0,2397878.96,0,30461.360000000001,1161.01,1161.01,0,75264.02,75264.02,0,100502.29,-3969.68,30461.360000000001,null,null,206411,98,0,0,114123.17,3365722.03,117800.27,114123.17,0,0,0,0,0,0,50821.39,0,3583802.08,3583802.08,100279.78,0,5.6293949999999997,0,72,0,0,0,113.03,0,108641.68,0,3583802.08,0,50821.39,1735.3,1735.3,0,114123.17,114123.17,0,100279.78,-9343.6200000000008,50821.39]
[80,0,0,0,0,0,0,null,80,0,0,0,0,0,0,null,206511,99,0,0,85035.31,0,88011.55,85035.31,0,0,0,0,0,0,38721.06,94683.3,0,0,0,0,5.5890899999999997,0,72,0,0,0,103.51,0,82462.880000000005,0,0,0,38721.06,1306.03,1306.03,94683.3,85035.31,85035.31,0,0,-100407.48,38721.06,null,null,206511,99,0,0,126302.17,0,130722.74,126302.17,0,0,0,0,0,0,64559.37,88990.09,0,0,0,0,5.511171,0,72,0,0,0,103.91,0,119100.2,0,0,0,64559.37,1914.91,1914.91,88990.09,126302.17,126302.17,0,0,-100788.54,64559.37,null,null,206511,99,0,0,77689.070000000007,0,80408.179999999993,77689.070000000007,0,0,0,0,0,0,30461.360000000001,95870.73,0,0,0,0,5.6825200000000002,0,72,0,0,0,103.62,0,75952.240000000005,0,0,0,30461.360000000001,1197.72,1197.72,95870.73,77689.070000000007,77689.070000000007,0,0,-100502.29,30461.360000000001,null,null,206511,99,0,0,117800.27,0,121923.28,117800.27,0,0,0,0,0,0,50821.39,89703.03,0,0,0,0,5.6215330000000003,0,72,0,0,0,103.38,0,111521.91,0,0,0,50821.39,1789.25,1789.25,89703.03,117800.27,117800.27,0,0,-100279.78,50821.39]
[81,0,0,0,0,0,0,null,81,0,0,0,0,0,0]
[82,0,0,0,0,0,0,null,82,0,0,0,0,0,0]
[83,0,0,0,0,0,0,null,83,0,0,0,0,0,0]
[84,0,0,0,0,0,0,null,84,0,0,0,0,0,0]
[85,0,0,0,0,0,0,null,85,0,0,0,0,0,0]
[86,0,0,0,0,0,0,null,86,0,0,0,0,0,0]
[87,0,0,0,0,0,0,null,87,0,0,0,0,0,0]
[88,0,0,0,0,0,0,null,88,0,0,0,0,0,0]
[89,0,0,0,0,0,0,null,89,0,0,0,0,0,0]
[90,0,0,0,0,0,0,null,90,0,0,0,0,0,0]
[91,0,0,0,0,0,0,null,91,0,0,0,0,0,0]
[92,0,0,0,0,0,0,null,92,0,0,0,0,0,0]
[93,0,0,0,0,0,0,null,93,0,0,0,0,0,0]
[94,0,0,0,0,0,0,null,94,0,0,0,0,0,0]
[95,0,0,0,0,0,0,null,95,0,0,0,0,0,0]
[96,0,0,0,0,0,0,null,96,0,0,0,0,0,0]